{"text_format":"1","workbook":"xlsx","n_sheets":65,"sheets":["START","Instructions","Template names","Lookup and lists","Org structure","Contacts","A1-Sum","A2-FinPerf SC","A2A","A3-FinPerf V","A3A","A4-FinPerf RE","A5-Capex","A5A","Chart1","A6-FinPos","A7-CFlow","A8-ResRecon","A9-Asset","A10-SerDel","SA1","SA2","SA3","SA4","SA5","SA6","SA7","SA8","SA9","SA10","SA11","SA12a","SA12b","SA13a","SA13b","SA14","SA15","SA16","SA17","SA18","SA19","SA20","SA21","SA22","SA23","SA24","SA25","SA26","SA27","SA28","SA29","SA30","SA31","SA32","SA33","SA34a","SA34b","SA34c","SA34d","SA34e","SA35","SA36","SA37","SA38","LGDB_EXPORT"],"not_rendered":{"charts":2,"images":17,"macros":1,"external_links":2,"defined_names":1970,"comments":0,"pivot_tables":0},"unopened":[{"sheet":"Chart1","index":14,"reason":"not_a_worksheet"}],"bounds":{"document_bytes":16777216,"sheet_cells":100000,"rows_first":2000,"rows_last":500,"rows_between":2000,"halvings":0,"cell_chars":16384,"cell_head_chars":4096},"cells_cut":0,"cells_raw":0,"read":"whole","date_system":"1900"}

{"sheet":"START","index":0,"n_rows":0,"n_cols":0,"rows_kept":0,"cut":false,"hidden":false,"merged":[]}

{"sheet":"Instructions","index":1,"n_rows":36,"n_cols":24,"rows_kept":36,"cut":false,"hidden":false,"merged":[]}
[]
[null,null,null,2020]
[]
[null,null,null,null,null,null,null,null,null,null,null,null,null,null,null,null,null,null,null,null,null,null,null,"Yes"]
[null,null,null,null,null,null,null,null,null,null,null,null,null,null,null,null,null,null,null,null,null,null,null,"No"]
[]
[null,null,null,null,null,null,null,null,null,null,null,null,null,null,null,null,null,null,null,null,null,null,"Type of Entities Range:"]
[null,null,null,null,null,null,null,null,null,null,null,null,null,null,null,null,null,null,null,null,null,null,null,"Parent Municipality"]
[null,null,null,null,null,null,null,null,null,null,null,null,null,null,null,null,null,null,null,null,null,null,null,"Consolidated Information"]
[]
[]
[]
[]
[]
[]
[]
[null,null,null,null,null,null,null,null,null,null,null,null,null,null,null,null,null,null,null,null,null,null,"MTREF Range:",2008]
[null,null,null,null,null,null,null,null,null,null,null,null,null,null,null,null,null,null,null,null,null,null,null,2009]
[null,null,null,null,null,null,null,null,null,null,null,null,null,null,null,null,null,null,null,null,null,null,null,2010]
[null,null,null,null,null,null,null,null,null,null,null,null,null,null,null,null,null,null,null,null,null,null,null,2011]
[null,null,null,null,null,null,null,null,null,null,null,null,null,null,null,null,null,null,null,null,null,null,null,2012]
[null,null,null,null,null,null,null,null,null,null,null,null,null,null,null,null,null,null,null,null,null,null,null,2013]
[null,null,null,null,null,null,null,null,null,null,null,null,null,null,null,null,null,null,null,null,null,null,null,2014]
[null,null,null,null,null,null,null,null,null,null,null,null,null,null,null,null,null,null,null,null,null,null,null,2015]
[null,null,null,null,null,null,null,null,null,null,null,null,null,null,null,null,null,null,null,null,null,null,null,2016]
[null,null,null,null,null,null,null,null,null,null,null,null,null,null,null,null,null,null,null,null,null,null,null,2017]
[null,null,null,null,null,null,null,null,null,null,null,null,null,null,null,null,null,null,null,null,null,null,null,2018]
[null,null,null,null,null,null,null,null,null,null,null,null,null,null,null,null,null,null,null,null,null,null,null,2019]
[null,null,null,null,null,null,null,null,null,null,null,null,null,null,null,null,null,null,null,null,null,null,null,2020]
[null,null,null,null,null,null,null,null,null,null,null,null,null,null,null,null,null,null,null,null,null,null,null,2021]
[null,null,null,null,null,null,null,null,null,null,null,null,null,null,null,null,null,null,null,null,null,null,null,2022]
[]
[null,null,null,null,null,null,null,null,null,null,null,null,null,null,null,null,null,null,null,null,null,null,"MTREF Linked:",13]
[null,null,null,null,null,null,null,null,null,null,null,null,null,null,null,null,null,null,null,null,null,null,"MTREF:",{"$f":"INDEX(X17:X31,X33,1)","v":2020}]
[]
[null,null,null,null,null,null,null,null,null,null,null,null,null,null,null,null,null,null,null,null,null,null,"Fin Year:",{"$f":"MTREF&\"/\"&RIGHT(MTREF,2)+1","v":"2020/21"}]

{"sheet":"Template names","index":2,"n_rows":179,"n_cols":6,"rows_kept":179,"cut":false,"hidden":true,"merged":[[0,0,0,3],[86,0,86,1],[109,0,109,1],[98,0,98,1],[91,0,91,3]]}
["Common sheet headings"]
["Head1",{"$f":"HLOOKUP(MTREF,Headings,2)","v":"2018/19"},"Prior year -1"]
["Head1A",{"$f":"HLOOKUP(MTREF,Headings,3)","v":"2017/18"},"Prior year -2"]
["Head1B",{"$f":"HLOOKUP(MTREF,Headings,4)","v":"2016/17"},"Prior year -3"]
["Head2",{"$f":"HLOOKUP(MTREF,Headings,5)","v":"Current Year 2019/20"},"Year in which budget is being prepared"]
["Head2A",{"$f":"HLOOKUP(MTREF,Headings,6)","v":"2019/20"},"Year in which budget is being prepared"]
["Head3",{"$f":"HLOOKUP(MTREF,Headings,7)","v":"2020/21 Medium Term Revenue & Expenditure Framework"},"MTREF name"]
["Head4","LTFS","Long term financial strategy"]
["Head5","Audited Outcome"]
["Head5A","Outcome"]
["Head5B","Pre-audit outcome"]
["Head6","Original Budget"]
["Head7","Adjusted Budget"]
["Head8","Full Year Forecast"]
["Head9",{"$f":"HLOOKUP(MTREF,Headings,8)","v":"Budget Year 2020/21"},"1st year of MTREF","Year1"]
["Head10",{"$f":"HLOOKUP(MTREF,Headings,9)","v":"Budget Year +1 2021/22"},"2nd year of MTREF","Year2"]
["Head11",{"$f":"HLOOKUP(MTREF,Headings,10)","v":"Budget Year +2 2022/23"},"3rd year of MTREF","Year3"]
["Head12",{"$f":"HLOOKUP(MTREF,Headings,11)","v":"Forecast 2023/24"},"1st yr of long term forecast","Year4"]
["Head13",{"$f":"HLOOKUP(MTREF,Headings,12)","v":"Forecast 2024/25"},"Next yr of long term forecast","Year5"]
["Head14",{"$f":"HLOOKUP(MTREF,Headings,13)","v":"Forecast 2025/26"},"Next yr of long term forecast","Year6"]
["Head15",{"$f":"HLOOKUP(MTREF,Headings,14)","v":"Forecast 2026/27"},"Next yr of long term forecast","Year7"]
["Head16",{"$f":"HLOOKUP(MTREF,Headings,15)","v":"Forecast 2027/28"},"Next yr of long term forecast","Year8"]
["Head17",{"$f":"HLOOKUP(MTREF,Headings,16)","v":"Forecast 2028/29"},"Next yr of long term forecast","Year9"]
["Head18",{"$f":"HLOOKUP(MTREF,Headings,17)","v":"Forecast 2029/30"},"Next yr of long term forecast","Year10"]
["Head19",{"$f":"HLOOKUP(MTREF,Headings,18)","v":"Forecast 2030/31"},"Next yr of long term forecast","Year11"]
["Head20",{"$f":"HLOOKUP(MTREF,Headings,19)","v":"Forecast 2031/32"},"Next yr of long term forecast","Year12"]
["Head21",{"$f":"HLOOKUP(MTREF,Headings,20)","v":"Forecast 2032/33"},"Next yr of long term forecast","Year13"]
["Head22",{"$f":"HLOOKUP(MTREF,Headings,21)","v":"Forecast 2033/34"},"Next yr of long term forecast","Year14"]
["Head23",{"$f":"HLOOKUP(MTREF,Headings,22)","v":"Forecast 2034/35"},"Next yr of long term forecast","Year15"]
["Head24","Description"]
["Head25"]
["Head26","Vote Description"]
["Head27","Ref"]
["Head27a","References"]
["Head28","Surplus/(Deficit) for the year",null,"Result"]
["Head29",{"$f":"HLOOKUP(MTREF,Headings,23)","v":"Annual target 2020/21"}]
["Head30",{"$f":"HLOOKUP(MTREF,Headings,24)","v":"Revised target 2020/21"}]
["Head31","Quarter ended 30 September"]
["Head32","Quarter ended 31 December"]
["Head33","Quarter ended 31 March"]
["Head34","Quarter ended 30 June"]
["Head35","Variance explanation"]
["Head36","YTD  Actual 31 Dec"]
["Head37","YTD  Budget 31 Dec"]
["Head38","Monthly actual"]
["Head39","YTD actual"]
["Head40","YTD budget"]
["Head41","YTD variance"]
["Head42","Surplus/ (Deficit) for the yr/period"]
["Head43",{"$f":"Head3&\" Summary\"","v":"2020/21 Medium Term Revenue & Expenditure Framework Summary"}]
["Head44","2001 Census"]
["Head45","2011 Census"]
["Head46"," - Adjustments Budget - January 2007"]
["Head47","Previous target year to complete"]
["Head48","Present value"]
["Head49"]
["Head50","Other Adjusts."]
["Head51","Accum. Funds"]
["Head52","Multi-year capital"]
["Head53","Unfore. Unavoid."]
["Head54","Prior Adjusted"]
["Head55","Nat. or Prov. Govt"]
["Head56","Total Adjusts."]
["SFPerf1","Budgeted Financial Performance"]
["SFPerf2","Forecast Financial Performance"]
["SFPos1","Budgeted Financial Position"]
["SFPos2","Forecast Financial Position"]
["Cash1","Budget Cash Flow"]
["Cash2","Forecast Cash Flow"]
["RandM","Expenditure includes repairs & maintenance of R'000"]
["Depart1","Department 1 - ",null,"DEP1"]
["Depart2","Department 2 - ",null,"DEP2"]
["Depart3","Department 3 - ",null,"DEP3"]
["Depart4","Department 4 - ",null,"DEP4"]
["Depart5","Department 5 - ",null,"DEP5"]
["Depart6","Department 6 - ",null,"DEP6"]
["Depart7","Department 7 - ",null,"DEP7"]
["Depart8","Department 8 - ",null,"DEP8"]
["Depart9","Department 9 - ",null,"DEP9"]
["Depart10","Department 10 - ",null,"DEP10"]
["Depart11","Department 11 - ",null,"DEP11"]
["Depart12","Department 12 - ",null,"DEP12"]
["Depart13","Department 13 - ",null,"DEP13"]
["Depart14","Department 14 - ",null,"DEP14"]
[]
[]
["Base year of forecast column selection names"]
["Choose","ACT"]
[null,"APP"]
[null,"ADJ"]
[]
["Standard nomenclature"]
["Muni",{"$f":"'Lookup and lists'!B28","v":"KZN434 Ubuhlebezwe"}]
["Municipal Entities",2,"Type of report:",2]
[{"$f":"IF((MuniEntities=1)*(MuniType=2),\"YES\",\"NO\")","v":"NO"},"Does this municipality have entities (consolidated budget and entity budgets required)? YES/NO"]
["Entity 1","(Pty) Ltd Example 1 - Municipal entity - ",null,"Ent1"]
["Entity 2","(Pty) Ltd Example 2 - Municipal entity - ",null,"Ent2"]
["Entity 3","Municipal Entity Example 3",null,"Ent3"]
["Budget approval tables",null,"Chart x-ref","Sch/Tab/Ch","Alternative for municipalities without entities","Alternative for municipalities without entities"]
[null,{"$f":"IF(Consolques=\"YES\",E100,F100)","v":"Table A1 Budget Summary"},null,"Table A1 ",{"$f":"D100&\"Consolidated Budget Summary\"","v":"Table A1 Consolidated Budget Summary"},{"$f":"D100&\"Budget Summary\"","v":"Table A1 Budget Summary"}]
[null,"Table A2 Budgeted Financial Performance (revenue and expenditure by functional classification)","Charts 5, 6","Table A2 ",{"$f":"D101&\"Consolidated Budgeted Financial Performance (revenue and expenditure by functional classification)\"","v":"Table A2 Consolidated Budgeted Financial Performance (revenue and expenditure by functional classification)"},{"$f":"D101&\"Budgeted Financial Performance (revenue and expenditure by functional classification)\"","v":"Table A2 Budgeted Financial Performance (revenue and expenditure by functional classification)"}]
[null,"Table A3 Budgeted Financial Performance (revenue and expenditure by municipal vote)",null,"Table A3 ",{"$f":"D102&\"Consolidated Budgeted Financial Performance (revenue and expenditure by municipal vote)\"","v":"Table A3 Consolidated Budgeted Financial Performance (revenue and expenditure by municipal vote)"},{"$f":"D102&\"Budgeted Financial Performance (revenue and expenditure by municipal vote)\"","v":"Table A3 Budgeted Financial Performance (revenue and expenditure by municipal vote)"}]
[null,"Table A4 Budgeted Financial Performance (revenue and expenditure)","Charts 1, 2, 3, 4","Table A4 ",{"$f":"D103&\"Consolidated Budgeted Financial Performance (revenue and expenditure)\"","v":"Table A4 Consolidated Budgeted Financial Performance (revenue and expenditure)"},{"$f":"D103&\"Budgeted Financial Performance (revenue and expenditure)\"","v":"Table A4 Budgeted Financial Performance (revenue and expenditure)"}]
[null,"Table A5 Budgeted Capital Expenditure by vote, functional classification and funding","Charts 7, 8, 9, 10, 20","Table A5 ",{"$f":"D104&\"Consolidated Budgeted Capital Expenditure by vote, functional classification and funding\"","v":"Table A5 Consolidated Budgeted Capital Expenditure by vote, functional classification and funding"},{"$f":"D104&\"Budgeted Capital Expenditure by vote, functional classification and funding\"","v":"Table A5 Budgeted Capital Expenditure by vote, functional classification and funding"}]
[null,"Table A6 Budgeted Financial Position",null,"Table A6 ",{"$f":"D105&\"Consolidated Budgeted Financial Position\"","v":"Table A6 Consolidated Budgeted Financial Position"},{"$f":"D105&\"Budgeted Financial Position\"","v":"Table A6 Budgeted Financial Position"}]
[null,"Table A7 Budgeted Cash Flows",null,"Table A7 ",{"$f":"D106&\"Consolidated Budgeted Cash Flows\"","v":"Table A7 Consolidated Budgeted Cash Flows"},{"$f":"D106&\"Budgeted Cash Flows\"","v":"Table A7 Budgeted Cash Flows"}]
[null,"Table A8 Cash backed reserves/accumulated surplus reconciliation",null,"Table A8 ",{"$f":"D107&\"Consolidated Cash backed reserves/accumulated surplus reconciliation\"","v":"Table A8 Consolidated Cash backed reserves/accumulated surplus reconciliation"},{"$f":"D107&\"Cash backed reserves/accumulated surplus reconciliation\"","v":"Table A8 Cash backed reserves/accumulated surplus reconciliation"}]
[null,"Table A9 Asset Management",null,"Table A9 ",{"$f":"D108&\"Consolidated Asset Management\"","v":"Table A9 Consolidated Asset Management"},{"$f":"D108&\"Asset Management\"","v":"Table A9 Asset Management"}]
[null,"Table A10 Basic service delivery measurement",null,"Table A10 ",{"$f":"D109&\"Consolidated basic service delivery measurement\"","v":"Table A10 Consolidated basic service delivery measurement"},{"$f":"D109&\"Basic service delivery measurement\"","v":"Table A10 Basic service delivery measurement"}]
["Supportinging Tables to the Budget Approval Tables",null,{"$f":"$C$99","v":"Chart x-ref"},{"$f":"$D$99","v":"Sch/Tab/Ch"}]
["Supporting Table SA1",{"$f":"A111&\" Supportinging detail to 'Budgeted Financial Performance'\"","v":"Supporting Table SA1 Supportinging detail to 'Budgeted Financial Performance'"}]
["Supporting Table SA2 ",{"$f":"IF(Consolques=\"YES\",E112,F112)","v":"Supporting Table SA2 Matrix Financial Performance Budget (revenue source/expenditure type and dept.)"},null,null,{"$f":"A112&\"Consolidated Matrix Financial Performance Budget (revenue source/expenditure type & dept.)\"","v":"Supporting Table SA2 Consolidated Matrix Financial Performance Budget (revenue source/expenditure type & dept.)"},{"$f":"A112&\"Matrix Financial Performance Budget (revenue source/expenditure type and dept.)\"","v":"Supporting Table SA2 Matrix Financial Performance Budget (revenue source/expenditure type and dept.)"}]
["Supporting Table SA3 ",{"$f":"A113&\"Supportinging detail to 'Budgeted Financial Position'\"","v":"Supporting Table SA3 Supportinging detail to 'Budgeted Financial Position'"}]
["Supporting Table SA4 ",{"$f":"A114&\"Reconciliation of IDP strategic objectives and budget (revenue)\"","v":"Supporting Table SA4 Reconciliation of IDP strategic objectives and budget (revenue)"},"Chart 11"]
["Supporting Table SA5 ",{"$f":"A115&\"Reconciliation of IDP strategic objectives and budget (operating expenditure)\"","v":"Supporting Table SA5 Reconciliation of IDP strategic objectives and budget (operating expenditure)"},"Chart 12"]
["Supporting Table SA6 ",{"$f":"A116&\"Reconciliation of IDP strategic objectives and budget (capital expenditure)\"","v":"Supporting Table SA6 Reconciliation of IDP strategic objectives and budget (capital expenditure)"},"Chart 13"]
["Supporting Table SA7",{"$f":"A117&\" Measureable performance objectives\"","v":"Supporting Table SA7 Measureable performance objectives"}]
["Supporting Table SA8",{"$f":"A118&\" Performance indicators and benchmarks\"","v":"Supporting Table SA8 Performance indicators and benchmarks"},"Chts 15-19"]
["Supporting Table SA9",{"$f":"A119&\" Social, economic and demographic statistics and assumptions\"","v":"Supporting Table SA9 Social, economic and demographic statistics and assumptions"}]
["Supporting Table SA10",{"$f":"A120&\" Funding measurement\"","v":"Supporting Table SA10 Funding measurement"},"Chart 14"]
["Supporting Table SA11",{"$f":"A121&\" Property rates summary\"","v":"Supporting Table SA11 Property rates summary"}]
["Supporting Table SA12a",{"$f":"A122&\" Property rates by category (current year)\"","v":"Supporting Table SA12a Property rates by category (current year)"}]
["Supporting Table SA12b",{"$f":"A123&\" Property rates by category (budget year)\"","v":"Supporting Table SA12b Property rates by category (budget year)"}]
["Supporting Table SA13a",{"$f":"A124&\" Service Tariffs by category\"","v":"Supporting Table SA13a Service Tariffs by category"}]
["Supporting Table SA13b",{"$f":"A125&\" Service Tariffs by category - explanatory\"","v":"Supporting Table SA13b Service Tariffs by category - explanatory"}]
["Supporting Table SA14",{"$f":"A126&\" Household bills\"","v":"Supporting Table SA14 Household bills"}]
["Supporting Table SA15",{"$f":"A127&\" Investment particulars by type\"","v":"Supporting Table SA15 Investment particulars by type"}]
["Supporting Table SA16",{"$f":"A128&\" Investment particulars by maturity\"","v":"Supporting Table SA16 Investment particulars by maturity"}]
["Supporting Table SA17",{"$f":"A129&\" Borrowing\"","v":"Supporting Table SA17 Borrowing"}]
["Supporting Table SA18",{"$f":"A130&\" Transfers and grant receipts\"","v":"Supporting Table SA18 Transfers and grant receipts"}]
["Supporting Table SA19",{"$f":"A131&\" Expenditure on transfers and grant programme\"","v":"Supporting Table SA19 Expenditure on transfers and grant programme"}]
["Supporting Table SA20",{"$f":"A132&\" Reconciliation of transfers, grant receipts and unspent funds\"","v":"Supporting Table SA20 Reconciliation of transfers, grant receipts and unspent funds"}]
["Supporting Table SA21",{"$f":"A133&\" Transfers and grants made by the municipality\"","v":"Supporting Table SA21 Transfers and grants made by the municipality"}]
["Supporting Table SA22",{"$f":"A134&\" Summary councillor and staff benefits\"","v":"Supporting Table SA22 Summary councillor and staff benefits"}]
["Supporting Table SA23",{"$f":"A135&\" Salaries, allowances & benefits (political office bearers/councillors/senior managers)\"","v":"Supporting Table SA23 Salaries, allowances & benefits (political office bearers/councillors/senior managers)"}]
["Supporting Table SA24",{"$f":"A136&\" Summary of personnel numbers\"","v":"Supporting Table SA24 Summary of personnel numbers"}]
["Supporting Table SA25",{"$f":"IF(Consolques=\"YES\",E137,F137)","v":"Supporting Table SA25 Budgeted monthly revenue and expenditure"},null,null,{"$f":"A137&\" Consolidated budgeted monthly revenue and expenditure\"","v":"Supporting Table SA25 Consolidated budgeted monthly revenue and expenditure"},{"$f":"A137&\" Budgeted monthly revenue and expenditure\"","v":"Supporting Table SA25 Budgeted monthly revenue and expenditure"}]
["Supporting Table SA26","Supporting Table SA26 Budgeted monthly revenue and expenditure (municipal vote)",null,null,{"$f":"A138&\" Consolidated budgeted monthly revenue and expenditure (municipal vote)\"","v":"Supporting Table SA26 Consolidated budgeted monthly revenue and expenditure (municipal vote)"},{"$f":"A138&\" Budgeted monthly revenue and expenditure (municipal vote)\"","v":"Supporting Table SA26 Budgeted monthly revenue and expenditure (municipal vote)"}]
["Supporting Table SA27","Supporting Table SA27 Budgeted monthly revenue and expenditure (functional classification)",null,null,{"$f":"A139&\" Consolidated budgeted monthly revenue and expenditure (functional classification)\"","v":"Supporting Table SA27 Consolidated budgeted monthly revenue and expenditure (functional classification)"},{"$f":"A139&\" Budgeted monthly revenue and expenditure (functional classification)\"","v":"Supporting Table SA27 Budgeted monthly revenue and expenditure (functional classification)"}]
["Supporting Table SA28","Supporting Table SA28 Budgeted monthly capital expenditure (municipal vote)",null,null,{"$f":"A140&\" Consolidated budgeted monthly capital expenditure (municipal vote)\"","v":"Supporting Table SA28 Consolidated budgeted monthly capital expenditure (municipal vote)"},{"$f":"A140&\" Budgeted monthly capital expenditure (municipal vote)\"","v":"Supporting Table SA28 Budgeted monthly capital expenditure (municipal vote)"}]
["Supporting Table SA29","Supporting Table SA29 Budgeted monthly capital expenditure (functional classification)",null,null,{"$f":"A141&\" Consolidated budgeted monthly capital expenditure (functional classification)\"","v":"Supporting Table SA29 Consolidated budgeted monthly capital expenditure (functional classification)"},{"$f":"A141&\" Budgeted monthly capital expenditure (functional classification)\"","v":"Supporting Table SA29 Budgeted monthly capital expenditure (functional classification)"}]
["Supporting Table SA30","Supporting Table SA30 Budgeted monthly cash flow",null,null,{"$f":"A142&\" Consolidated budgeted monthly cash flow\"","v":"Supporting Table SA30 Consolidated budgeted monthly cash flow"},{"$f":"A142&\" Budgeted monthly cash flow\"","v":"Supporting Table SA30 Budgeted monthly cash flow"}]
["Supporting Table SA31","NOT REQUIRED - municipality does not have entities",null,null,{"$f":"A143&\" Aggregated entity budget\"","v":"Supporting Table SA31 Aggregated entity budget"},"NOT REQUIRED - municipality does not have entities"]
["Supporting Table SA32",{"$f":"A144&\" List of external mechanisms\"","v":"Supporting Table SA32 List of external mechanisms"}]
["Supporting Table SA33",{"$f":"A145&\" Contracts having future budgetary implications\"","v":"Supporting Table SA33 Contracts having future budgetary implications"}]
["Supporting Table SA34a",{"$f":"IF(Consolques=\"YES\",E146,F146)","v":"Supporting Table SA34a Capital expenditure on new assets by asset class"},null,null,{"$f":"A146&\" Consolidated capital expenditure on new assets by asset class\"","v":"Supporting Table SA34a Consolidated capital expenditure on new assets by asset class"},{"$f":"A146&\" Capital expenditure on new assets by asset class\"","v":"Supporting Table SA34a Capital expenditure on new assets by asset class"}]
["Supporting Table SA34b","Supporting Table SA34b Capital expenditure on the renewal of existing assets by asset class",null,null,{"$f":"A147&\" Consolidated capital expenditure on the renewal of existing assets by asset class\"","v":"Supporting Table SA34b Consolidated capital expenditure on the renewal of existing assets by asset class"},{"$f":"A147&\" Capital expenditure on the renewal of existing assets by asset class\"","v":"Supporting Table SA34b Capital expenditure on the renewal of existing assets by asset class"}]
["Supporting Table SA34c","Supporting Table SA34c Repairs and maintenance expenditure by asset class",null,null,{"$f":"A148&\" Consolidated repairs and maintenance by asset class\"","v":"Supporting Table SA34c Consolidated repairs and maintenance by asset class"},{"$f":"A148&\" Repairs and maintenance expenditure by asset class\"","v":"Supporting Table SA34c Repairs and maintenance expenditure by asset class"}]
["Supporting Table SA34d",{"$f":"IF(Consolques=\"YES\",E149,F149)","v":"Supporting Table SA34d Depreciation by asset class"},null,null,{"$f":"A149&\" Consolidated Depreciation by asset class\"","v":"Supporting Table SA34d Consolidated Depreciation by asset class"},{"$f":"A149&\" Depreciation by asset class\"","v":"Supporting Table SA34d Depreciation by asset class"}]
["Supporting Table SA34e",{"$f":"IF(Consolques=\"YES\",E150,F150)","v":"Supporting Table SA34e Capital expenditure on the upgrading of existing assets by asset class"},null,null,{"$f":"A150&\" Consolidated capital expenditure on the upgrading of existing assets by asset class\"","v":"Supporting Table SA34e Consolidated capital expenditure on the upgrading of existing assets by asset class"},{"$f":"A150&\" Capital expenditure on the upgrading of existing assets by asset class\"","v":"Supporting Table SA34e Capital expenditure on the upgrading of existing assets by asset class"}]
["Supporting Table SA35","Supporting Table SA35 Future financial implications of the capital budget",null,null,{"$f":"A151&\" Consolidated future financial implications of the capital budget\"","v":"Supporting Table SA35 Consolidated future financial implications of the capital budget"},{"$f":"A151& \" Future financial implications of the capital budget\"","v":"Supporting Table SA35 Future financial implications of the capital budget"}]
["Supporting Table SA36","Supporting Table SA36 Detailed capital budget",null,null,{"$f":"A152&\" Consolidated detailed capital budget\"","v":"Supporting Table SA36 Consolidated detailed capital budget"},{"$f":"A152& \" Detailed capital budget\"","v":"Supporting Table SA36 Detailed capital budget"}]
["Supporting Table SA37","Supporting Table SA37 Projects delayed from previous financial year/s",null,null,{"$f":"A153&\" Consolidated projects delayed from previous financial year/s\"","v":"Supporting Table SA37 Consolidated projects delayed from previous financial year/s"},{"$f":"A153& \" Projects delayed from previous financial year/s\"","v":"Supporting Table SA37 Projects delayed from previous financial year/s"}]
["Supporting Table SA38",{"$f":"IF(Consolques=\"YES\",E154,F154)","v":"Supporting Table SA38 Detailed operational projects"},null,null,{"$f":"A154&\" Consolidated detailed operational projects\"","v":"Supporting Table SA38 Consolidated detailed operational projects"},{"$f":"A154& \" Detailed operational projects\"","v":"Supporting Table SA38 Detailed operational projects"}]
[]
["Budget Charts","Charts","Cross reference"]
["Chart A1 ",{"$f":"A157&\"Revenue by Municipal Vote\"","v":"Chart A1 Revenue by Municipal Vote"}]
["Chart A2 ",{"$f":"A158&\"Expenditure by Municipal Vote\"","v":"Chart A2 Expenditure by Municipal Vote"}]
["Chart A3 ",{"$f":"A159&\"Revenue by Standard Classification\"","v":"Chart A3 Revenue by Standard Classification"},"A2"]
["Chart A4 ",{"$f":"A160&\"Expenditure by Standard Classification\"","v":"Chart A4 Expenditure by Standard Classification"},"A2"]
["Chart A5 ",{"$f":"A161&\"Revenue by Major Source (refer 'Minor' source for 'Other Revenue' allocation\"","v":"Chart A5 Revenue by Major Source (refer 'Minor' source for 'Other Revenue' allocation"},"A3"]
["Chart A6 ",{"$f":"A162&\"Revenue by Minor Source (Other)\"","v":"Chart A6 Revenue by Minor Source (Other)"},"A3"]
["Chart A7 ",{"$f":"A163&\"Expenditure by Major Type\"","v":"Chart A7 Expenditure by Major Type"},"A3"]
["Chart A8 ",{"$f":"A164&\"Expenditure by Minor Type (Other)\"","v":"Chart A8 Expenditure by Minor Type (Other)"},"A3"]
["Chart A9 ",{"$f":"A165&\"Capital Expenditure by Municipal Vote/Appropriation (Major)\"","v":"Chart A9 Capital Expenditure by Municipal Vote/Appropriation (Major)"},"A5"]
["Chart A10 ",{"$f":"A166&\"Capital Expenditure by Municipal Vote/Appropriation (Minor)\"","v":"Chart A10 Capital Expenditure by Municipal Vote/Appropriation (Minor)"},"A5"]
["Chart A11 ",{"$f":"A166&\"Capital Expenditure by Standard Classification\"","v":"Chart A10 Capital Expenditure by Standard Classification"},"A5"]
["Chart A12 ",{"$f":"A168&\"Capital expenditure performance trend\"","v":"Chart A12 Capital expenditure performance trend"},"A5"]
["Chart A13 ",{"$f":"A169&\"Capital funding by Source\"","v":"Chart A13 Capital funding by Source"},"A5"]
["Chart A14 ",{"$f":"A170&\"Cash flow trend\"","v":"Chart A14 Cash flow trend"},"A7"]
["Chart A15 ",{"$f":"A171&\"IDP Strategic Objective - Revenue\"","v":"Chart A15 IDP Strategic Objective - Revenue"},"Table A4"]
["Chart A16 ",{"$f":"A172&\"IDP Strategic Objective - Expenditure\"","v":"Chart A16 IDP Strategic Objective - Expenditure"},"Table A5"]
["Chart A17 ",{"$f":"A173&\"IDP Strategic Objective - Capital Expenditure\"","v":"Chart A17 IDP Strategic Objective - Capital Expenditure"},"Table A6"]
["Chart A18 ",{"$f":"A174&\"Debt (borrowing to Total Revenue)\"","v":"Chart A18 Debt (borrowing to Total Revenue)"},"Table A8"]
["Chart A19 ",{"$f":"A175&\"Debtors' trend analysis\"","v":"Chart A19 Debtors' trend analysis"},"Table A8"]
["Chart A20 ",{"$f":"A176&\"Distribution losses\"","v":"Chart A20 Distribution losses"},"Table A8"]
["Chart A21 ",{"$f":"A177&\"Borrowed funding of capital expenditure\"","v":"Chart A21 Borrowed funding of capital expenditure"},"Table A8"]
["Chart A22 ",{"$f":"A178&\"Expenditure analysis (% of Revenue)\"","v":"Chart A22 Expenditure analysis (% of Revenue)"},"Table A8"]
["Chart A23 ",{"$f":"A179&\"Increases in service charges\"","v":"Chart A23 Increases in service charges"},"Table A10"]

{"sheet":"Lookup and lists","index":3,"n_rows":308,"n_cols":30,"rows_kept":308,"cut":false,"hidden":true,"merged":[]}
["Description",2007,2008,2009,2010,2011,2012,2013,2014,2015,2016,2017,2018,2019,2020,null,"Lists",null,null,null,null,null,null,null,"Grants:","National - opex","Provincial - opex","National - capex","Provincial - capex"]
[{"$f":"'Template names'!C2","v":"Prior year -1"},"2005/06","2006/07","2007/08",{"$f":"E1-2&\"/\"&RIGHT(E1,2)-1","v":"2008/9"},"2009/10","2010/11","2011/12","2012/13","2013/14","2014/15","2015/16","2016/17","2017/18","2018/19",null,"Yes","<1","<4","Market","Land & impr.","Yes","Uniform","Yrs",null,"Local Government Equitable Share","Health subsidy"," Municipal Infrastructure Grant (MIG)","Agriculture"]
[{"$f":"'Template names'!C3","v":"Prior year -2"},"2004/05","2005/06","2006/07",{"$f":"E1-3&\"/\"&RIGHT(E1,2)-2","v":"2007/8"},"2008/9","2009/10","2010/11","2011/12","2012/13","2013/14","2014/15","2015/16","2016/17","2017/18",null,"No",1,4,"Dep.Replace","Land only","No","Variable","Mths",null,"RSC Levy Replacement ","Ambulance subsidy"," Public Transport and Systems","Education"]
[{"$f":"'Template names'!C4","v":"Prior year -3"},"2003/04","2004/05","2005/06",{"$f":"E1-4&\"/\"&RIGHT(E1,2)-3","v":"2006/7"},"2007/8","2008/9","2009/10","2010/11","2011/12","2012/13","2013/14","2014/15","2015/16","2016/17",null,null,2,5,"Other","Other",null,null,null,null,"Finance Management ","Housing","Rural Transport Services and Infrastructure","Health"]
[{"$f":"'Template names'!C5","v":"Year in which budget is being prepared"},"Current Year 2006/07","Current Year 2007/08","Current Year 2008/09",{"$f":"\"Current Year \"& E1-1&\"/\"&RIGHT(E1,2)","v":"Current Year 2009/10"},"Current Year 2010/11","Current Year 2011/12","Current Year 2012/13","Current Year 2013/14","Current Year 2014/15","Current Year 2015/16","Current Year 2016/17","Current Year 2017/18","Current Year 2018/19","Current Year 2019/20",null,null,3,6,null,null,null,null,null,null,"Municipal Systems Improvement","Sport and Recreation","Regional Bulk Infrastructure","Housing and Local Government "]
[{"$f":"'Template names'!C6","v":"Year in which budget is being prepared"},"2006/07","2007/08","2008/09",{"$f":"E1-1&\"/\"&RIGHT(E1,2)","v":"2009/10"},"2010/11","2011/12","2012/13","2013/14","2014/15","2015/16","2016/17","2017/18","2018/19","2019/20",null,null,4,"6-10",null,null,null,null,null,null,"Water Services Operating Subsidy ",null,"Rural Households Infrastructure ","Other Departments"]
[{"$f":"'Template names'!C7","v":"MTREF name"},"2007/08 Medium Term Revenue & Expenditure Framework","2008/09 Medium Term Revenue & Expenditure Framework","2009/10 Medium Term Revenue & Expenditure Framework",{"$f":"E1&\"/\"&RIGHT(E1,2)+1&\" Medium Term Revenue & Expenditure Framework\"","v":"2010/11 Medium Term Revenue & Expenditure Framework"},"2011/12 Medium Term Revenue & Expenditure Framework","2012/13 Medium Term Revenue & Expenditure Framework","2013/14 Medium Term Revenue & Expenditure Framework","2014/15 Medium Term Revenue & Expenditure Framework","2015/16 Medium Term Revenue & Expenditure Framework","2016/17 Medium Term Revenue & Expenditure Framework","2017/18 Medium Term Revenue & Expenditure Framework","2018/19 Medium Term Revenue & Expenditure Framework","2019/20 Medium Term Revenue & Expenditure Framework","2020/21 Medium Term Revenue & Expenditure Framework",null,null,5,">10",null,null,null,null,null,null,"Energy Efficiency  and Demand Management",null,"Neighbourhood Development Partnership","Public Works, Roads, Transport "]
[{"$f":"'Template names'!C15","v":"1st year of MTREF"},"Budget Year 2007/08","Budget Year 2008/09","Budget Year 2009/10",{"$f":"\"Budget Year \"&E1&\"/\"&RIGHT(E1,2)+1","v":"Budget Year 2010/11"},"Budget Year 2011/12","Budget Year 2012/13","Budget Year 2013/14","Budget Year 2014/15","Budget Year 2015/16","Budget Year 2016/17","Budget Year 2017/18","Budget Year 2018/19","Budget Year 2019/20","Budget Year 2020/21",null,null,">5",null,null,null,null,null,null,null,"Integrated National Electrification Programme",null,"2010 FIFA World Cup Stadiums Development","Sport and Recreation"]
[{"$f":"'Template names'!C16","v":"2nd year of MTREF"},"Budget Year +1 2008/09","Budget Year +1 2009/10","Budget Year +1 2010/11",{"$f":"\"Budget Year +1 \"&E1+1&\"/\"&RIGHT(E1,2)+2","v":"Budget Year +1 2011/12"},"Budget Year +1 2012/13","Budget Year +1 2013/14","Budget Year +1 2014/15","Budget Year +1 2015/16","Budget Year +1 2016/17","Budget Year +1 2017/18","Budget Year +1 2018/19","Budget Year +1 2019/20","Budget Year +1 2020/21","Budget Year +1 2021/22",null,null,null,null,null,null,null,null,null,null,"Municipal Drought Relief "]
[{"$f":"'Template names'!C17","v":"3rd year of MTREF"},"Budget Year +2 2009/10","Budget Year +2 2010/11","Budget Year +2 2011/12",{"$f":"\"Budget Year +2 \"&E1+2&\"/\"&RIGHT(E1,2)+3","v":"Budget Year +2 2012/13"},"Budget Year +2 2013/14","Budget Year +2 2014/15","Budget Year +2 2015/16","Budget Year +2 2016/17","Budget Year +2 2017/18","Budget Year +2 2018/19","Budget Year +2 2019/20","Budget Year +2 2020/21","Budget Year +2 2021/22","Budget Year +2 2022/23",null,null,null,null,null,null,null,null,null,null,"2010 FIFA World Cup Operating"]
[{"$f":"'Template names'!C18","v":"1st yr of long term forecast"},"Forecast 2010/11","Forecast 2011/12","Forecast 2012/13",{"$f":"\"Forecast \"&E1+3&\"/\"&RIGHT(E1,2)+4","v":"Forecast 2013/14"},"Forecast 2014/15","Forecast 2015/16","Forecast 2016/17","Forecast 2017/18","Forecast 2018/19","Forecast 2019/20","Forecast 2020/21","Forecast 2021/22","Forecast 2022/23","Forecast 2023/24",null,null,null,null,null,null,null,null,null,null,"Electricity Demand Side Management"]
[{"$f":"'Template names'!C19","v":"Next yr of long term forecast"},"Forecast 2011/12","Forecast 2012/13","Forecast 2013/14",{"$f":"\"Forecast \"&E1+4&\"/\"&RIGHT(E1,2)+5","v":"Forecast 2014/15"},"Forecast 2015/16","Forecast 2016/17","Forecast 2017/18","Forecast 2018/19","Forecast 2019/20","Forecast 2020/21","Forecast 2021/22","Forecast 2022/23","Forecast 2023/24","Forecast 2024/25",null,null,null,null,null,null,null,null,null,null,"EPWP Incentive"]
[{"$f":"'Template names'!C20","v":"Next yr of long term forecast"},"Forecast 2012/13","Forecast 2013/14","Forecast 2014/15",{"$f":"\"Forecast \"&E1+5&\"/\"&RIGHT(E1,2)+6","v":"Forecast 2015/16"},"Forecast 2016/17","Forecast 2017/18","Forecast 2018/19","Forecast 2019/20","Forecast 2020/21","Forecast 2021/22","Forecast 2022/23","Forecast 2023/24","Forecast 2024/25","Forecast 2025/26"]
[{"$f":"'Template names'!C21","v":"Next yr of long term forecast"},"Forecast 2013/14","Forecast 2014/15","Forecast 2015/16",{"$f":"\"Forecast \"&E1+6&\"/\"&RIGHT(E1,2)+7","v":"Forecast 2016/17"},"Forecast 2017/18","Forecast 2018/19","Forecast 2019/20","Forecast 2020/21","Forecast 2021/22","Forecast 2022/23","Forecast 2023/24","Forecast 2024/25","Forecast 2025/26","Forecast 2026/27",null,null,null,null,null,null,null,null,null,null,"Asset Class","Asset sub-class old","Asset sub-class","IUDF","MTSF"]
[{"$f":"'Template names'!C22","v":"Next yr of long term forecast"},"Forecast 2014/15","Forecast 2015/16","Forecast 2016/17",{"$f":"\"Forecast \"&E1+7&\"/\"&RIGHT(E1,2)+8","v":"Forecast 2017/18"},"Forecast 2018/19","Forecast 2019/20","Forecast 2020/21","Forecast 2021/22","Forecast 2022/23","Forecast 2023/24","Forecast 2024/25","Forecast 2025/26","Forecast 2026/27","Forecast 2027/28"]
[{"$f":"'Template names'!C23","v":"Next yr of long term forecast"},"Forecast 2015/16","Forecast 2016/17","Forecast 2017/18",{"$f":"\"Forecast \"&E1+8&\"/\"&RIGHT(E1,2)+9","v":"Forecast 2018/19"},"Forecast 2019/20","Forecast 2020/21","Forecast 2021/22","Forecast 2022/23","Forecast 2023/24","Forecast 2024/25","Forecast 2025/26","Forecast 2026/27","Forecast 2027/28","Forecast 2028/29",null,null,null,null,null,null,null,null,null,null,"Roads Infrastructure","Roads, Pavements & Bridges","Roads","Spatial integration","Quality basic education"]
[{"$f":"'Template names'!C24","v":"Next yr of long term forecast"},"Forecast 2016/17","Forecast 2017/18","Forecast 2018/19",{"$f":"\"Forecast \"&E1+9&\"/\"&RIGHT(E1,2)+10","v":"Forecast 2019/20"},"Forecast 2020/21","Forecast 2021/22","Forecast 2022/23","Forecast 2023/24","Forecast 2024/25","Forecast 2025/26","Forecast 2026/27","Forecast 2027/28","Forecast 2028/29","Forecast 2029/30",null,null,null,null,null,null,null,null,null,null,"Storm water Infrastructure","Storm water","Road Structures","Inclusion and access","A long and healthy life for all South Africans"]
[{"$f":"'Template names'!C25","v":"Next yr of long term forecast"},"Forecast 2017/18","Forecast 2018/19","Forecast 2019/20",{"$f":"\"Forecast \"&E1+10&\"/\"&RIGHT(E1,2)+11","v":"Forecast 2020/21"},"Forecast 2021/22","Forecast 2022/23","Forecast 2023/24","Forecast 2024/25","Forecast 2025/26","Forecast 2026/27","Forecast 2027/28","Forecast 2028/29","Forecast 2029/30","Forecast 2030/31",null,null,null,null,null,null,null,null,null,null,"Electrical Infrastructure","Generation","Road Furniture","Growth","All people in South Africa are and feel safe"]
[{"$f":"'Template names'!C26","v":"Next yr of long term forecast"},"Forecast 2018/19","Forecast 2019/20","Forecast 2020/21",{"$f":"\"Forecast \"&E1+11&\"/\"&RIGHT(E1,2)+12","v":"Forecast 2021/22"},"Forecast 2022/23","Forecast 2023/24","Forecast 2024/25","Forecast 2025/26","Forecast 2026/27","Forecast 2027/28","Forecast 2028/29","Forecast 2029/30","Forecast 2030/31","Forecast 2031/32",null,null,null,null,null,null,null,null,null,null,"Water Supply Infrastructure","Transmission & Reticulation","Capital Spares","Governance","Decent employment through inclusive growth"]
[{"$f":"'Template names'!C27","v":"Next yr of long term forecast"},"Forecast 2019/20","Forecast 2020/21","Forecast 2021/22",{"$f":"\"Forecast \"&E1+12&\"/\"&RIGHT(E1,2)+13","v":"Forecast 2022/23"},"Forecast 2023/24","Forecast 2024/25","Forecast 2025/26","Forecast 2026/27","Forecast 2027/28","Forecast 2028/29","Forecast 2029/30","Forecast 2030/31","Forecast 2031/32","Forecast 2032/33",null,null,null,null,null,null,null,null,null,null,"Sanitation Infrastructure","Street Lighting","Drainage Collection",null,"A skilled and capable workforce to support an inclusive growth path"]
[{"$f":"'Template names'!C28","v":"Next yr of long term forecast"},"Forecast 2020/21","Forecast 2021/22","Forecast 2022/23",{"$f":"\"Forecast \"&E1+13&\"/\"&RIGHT(E1,2)+14","v":"Forecast 2023/24"},"Forecast 2024/25","Forecast 2025/26","Forecast 2026/27","Forecast 2027/28","Forecast 2028/29","Forecast 2029/30","Forecast 2030/31","Forecast 2031/32","Forecast 2032/33","Forecast 2033/34",null,null,null,null,null,null,null,null,null,null,"Solid Waste Infrastructure","Dams & Reservoirs","Storm water Conveyance",null,"An efficient, competitive and responsive economic infrastructure network"]
[{"$f":"'Template names'!C29","v":"Next yr of long term forecast"},"Forecast 2021/22","Forecast 2022/23","Forecast 2023/24",{"$f":"\"Forecast \"&E1+14&\"/\"&RIGHT(E1,2)+15","v":"Forecast 2024/25"},"Forecast 2025/26","Forecast 2026/27","Forecast 2027/28","Forecast 2028/29","Forecast 2029/30","Forecast 2030/31","Forecast 2031/32","Forecast 2032/33","Forecast 2033/34","Forecast 2034/35",null,null,null,null,null,null,null,null,null,null,"Rail Infrastructure","Water purification","Attenuation",null,"Vibrant, equitable, sustainable rural communities contributing towards food security for all"]
["Adjustments Budget","Annual target 2007/08","Annual target 2008/09","Annual target 2009/10",{"$f":"\"Annual target \" & E1&\"/\"&RIGHT(E1,2)+1","v":"Annual target 2010/11"},"Annual target 2011/12","Annual target 2012/13","Annual target 2013/14","Annual target 2014/15","Annual target 2015/16","Annual target 2016/17","Annual target 2017/18","Annual target 2018/19","Annual target 2019/20","Annual target 2020/21",null,null,null,null,null,null,null,null,null,null,"Coastal Infrastructure","Reticulation","Power Plants",null,"Sustainable human settlements and improved quality of household life"]
[{"$f":"A23","v":"Adjustments Budget"},"Revised target 2007/08","Revised target 2008/09","Revised target 2009/10",{"$f":"\"Revised target \"& E1&\"/\"&RIGHT(E1,2)+1","v":"Revised target 2010/11"},"Revised target 2011/12","Revised target 2012/13","Revised target 2013/14","Revised target 2014/15","Revised target 2015/16","Revised target 2016/17","Revised target 2017/18","Revised target 2018/19","Revised target 2019/20","Revised target 2020/21",null,null,null,null,null,null,null,null,null,null,"Information and Communication Infrastructure","Sewerage purification","HV Substations",null,"Responsive, accountable, effective and efficient local government"]
["NOTE: This sheet should not be directly amended - select headings from sheet 'S'",null,null,null,null,null,null,null,null,null,null,null,null,null,null,null,null,null,null,null,null,null,null,null,null,"Community Facilities","Waste Management","HV Switching Station",null,"Protect and enhance our environmental assets and natural resources"]
[null,null,null,null,null,null,null,null,null,null,null,null,null,null,null,null,null,null,null,null,null,null,null,null,null,"Sport and Recreation Facilities","Transportation","HV Transmission Conductors",null,"Create a better South Africa and contribute to a better Africa and a better world"]
["Name link",125,null,null,null,null,null,null,null,null,null,null,null,null,null,null,null,null,null,null,null,null,null,null,null,"Heritage assets","Gas","MV Substations",null,"An efficient, effective and development-oriented public service"]
["Name of Muni",{"$f":"INDEX(B29:B307,B27,1)","v":"KZN434 Ubuhlebezwe"},null,null,null,null,null,null,null,null,null,null,null,null,null,null,null,null,null,null,null,null,null,null,null,"Revenue Generating","Parks & gardens","MV Switching Stations",null,"A comprehensive, responsive and sustainable social protection system"]
[null,"Choose name from list","Set name on 'Instructions' sheet",null,null,null,null,null,null,null,null,null,null,null,null,null,null,null,null,null,null,null,null,null,null,"Non-revenue Generating","Sportsfields & stadia","MV Networks",null,"A diverse, socially cohesive society with a common national identity"]
[null,"BUF Buffalo City","EC EASTERN CAPE",null,null,null,null,null,null,null,null,null,null,null,null,null,null,null,null,null,null,null,null,null,null,"Operational Buildings","Swimming pools","LV Networks"]
[null,"NMA Nelson Mandela Bay","EC EASTERN CAPE",null,null,null,null,null,null,null,null,null,null,null,null,null,null,null,null,null,null,null,null,null,null,"Housing","Community halls","Capital Spares"]
[null,"EC101 Dr Beyers Naude","EC EASTERN CAPE",null,null,null,null,null,null,null,null,null,null,null,null,null,null,null,null,null,null,null,null,null,null,"Biological or Cultivated Assets","Libraries","Dams and Weirs"]
[null,"EC102 Blue Crane Route","EC EASTERN CAPE",null,null,null,null,null,null,null,null,null,null,null,null,null,null,null,null,null,null,null,null,null,null,"Servitudes","Recreational facilities","Boreholes"]
[null,"EC104 Makana","EC EASTERN CAPE",null,null,null,null,null,null,null,null,null,null,null,null,null,null,null,null,null,null,null,null,null,null,"Licences and Rights","Fire, safety & emergency","Reservoirs"]
[null,"EC105 Ndlambe","EC EASTERN CAPE",null,null,null,null,null,null,null,null,null,null,null,null,null,null,null,null,null,null,null,null,null,null,"Computer Equipment","Security and policing","Pump Stations"]
[null,"EC106 Sundays River Valley","EC EASTERN CAPE",null,null,null,null,null,null,null,null,null,null,null,null,null,null,null,null,null,null,null,null,null,null,"Furniture and Office Equipment","Buses","Water Treatment Works"]
[null,"EC108 Kouga","EC EASTERN CAPE",null,null,null,null,null,null,null,null,null,null,null,null,null,null,null,null,null,null,null,null,null,null,"Machinery and Equipment","Clinics","Bulk Mains"]
[null,"EC109 Kou-Kamma","EC EASTERN CAPE",null,null,null,null,null,null,null,null,null,null,null,null,null,null,null,null,null,null,null,null,null,null,"Transport Assets","Museums & Art Galleries","Distribution"]
[null,"DC10 Sarah Baartman","EC EASTERN CAPE",null,null,null,null,null,null,null,null,null,null,null,null,null,null,null,null,null,null,null,null,null,null,"Land","Cemeteries","Distribution Points"]
[null,"EC121 Mbhashe","EC EASTERN CAPE",null,null,null,null,null,null,null,null,null,null,null,null,null,null,null,null,null,null,null,null,null,null,"Zoo's, Marine and Non-biological Animals","Social rental housing","PRV Stations"]
[null,"EC122 Mnquma","EC EASTERN CAPE",null,null,null,null,null,null,null,null,null,null,null,null,null,null,null,null,null,null,null,null,null,null,null,"Buildings","Capital Spares"]
[null,"EC123 Great Kei","EC EASTERN CAPE",null,null,null,null,null,null,null,null,null,null,null,null,null,null,null,null,null,null,null,null,null,null,null,"Housing development","Pump Station"]
[null,"EC124 Amahlathi","EC EASTERN CAPE",null,null,null,null,null,null,null,null,null,null,null,null,null,null,null,null,null,null,null,null,null,null,null,"General vehicles","Reticulation"]
[null,"EC126 Ngqushwa","EC EASTERN CAPE",null,null,null,null,null,null,null,null,null,null,null,null,null,null,null,null,null,null,null,null,null,null,null,"Specialised vehicles - Refuse","Waste Water Treatment Works"]
[null,"EC129 Raymond Mhlaba","EC EASTERN CAPE",null,null,null,null,null,null,null,null,null,null,null,null,null,null,null,null,null,null,null,null,null,null,null,"Specialised vehicles - Fire","Outfall Sewers"]
[null,"DC12 Amathole","EC EASTERN CAPE",null,null,null,null,null,null,null,null,null,null,null,null,null,null,null,null,null,null,null,null,null,null,null,"Specialised vehicles - Conservancy","Toilet Facilities"]
[null,"EC131 Inxuba Yethemba","EC EASTERN CAPE",null,null,null,null,null,null,null,null,null,null,null,null,null,null,null,null,null,null,null,null,null,null,null,"Specialised vehicles - Ambulances","Capital Spares"]
[null,"EC135 Intsika Yethu","EC EASTERN CAPE",null,null,null,null,null,null,null,null,null,null,null,null,null,null,null,null,null,null,null,null,null,null,null,"Plant & equipment","Landfill Sites"]
[null,"EC136 Emalahleni (Ec)","EC EASTERN CAPE",null,null,null,null,null,null,null,null,null,null,null,null,null,null,null,null,null,null,null,null,null,null,null,"Computers - hardware/equipment","Waste Transfer Stations"]
[null,"EC137 Engcobo","EC EASTERN CAPE",null,null,null,null,null,null,null,null,null,null,null,null,null,null,null,null,null,null,null,null,null,null,null,"Furniture and other office equipment","Waste Processing Facilities"]
[null,"EC138 Sakhisizwe","EC EASTERN CAPE",null,null,null,null,null,null,null,null,null,null,null,null,null,null,null,null,null,null,null,null,null,null,null,"Abattoirs","Waste Drop-off Points"]
[null,"EC139 Enoch Mgijima","EC EASTERN CAPE",null,null,null,null,null,null,null,null,null,null,null,null,null,null,null,null,null,null,null,null,null,null,null,"Markets","Waste Separation Facilities"]
[null,"DC13 Chris Hani","EC EASTERN CAPE",null,null,null,null,null,null,null,null,null,null,null,null,null,null,null,null,null,null,null,null,null,null,null,"Civic Land and Buildings","Electricity Generation Facilities"]
[null,"EC141 Elundini","EC EASTERN CAPE",null,null,null,null,null,null,null,null,null,null,null,null,null,null,null,null,null,null,null,null,null,null,null,"Other Buildings","Capital Spares"]
[null,"EC142 Senqu","EC EASTERN CAPE",null,null,null,null,null,null,null,null,null,null,null,null,null,null,null,null,null,null,null,null,null,null,null,"Other Land","Rail Lines"]
[null,"EC145 Walter Sisulu","EC EASTERN CAPE",null,null,null,null,null,null,null,null,null,null,null,null,null,null,null,null,null,null,null,null,null,null,null,"Surplus Assets - (Investment or Inventory)","Rail Structures"]
[null,"DC14 Joe Gqabi","EC EASTERN CAPE",null,null,null,null,null,null,null,null,null,null,null,null,null,null,null,null,null,null,null,null,null,null,null,"Computers - software & programming","Rail Furniture"]
[null,"EC153 Ngquza Hills","EC EASTERN CAPE",null,null,null,null,null,null,null,null,null,null,null,null,null,null,null,null,null,null,null,null,null,null,null,"Other","Drainage Collection"]
[null,"EC154 Port St Johns","EC EASTERN CAPE",null,null,null,null,null,null,null,null,null,null,null,null,null,null,null,null,null,null,null,null,null,null,null,null,"Storm water Conveyance"]
[null,"EC155 Nyandeni","EC EASTERN CAPE",null,null,null,null,null,null,null,null,null,null,null,null,null,null,null,null,null,null,null,null,null,null,"SA16 - Investments",null,"Attenuation"]
[null,"EC156 Mhlontlo","EC EASTERN CAPE",null,null,null,null,null,null,null,null,null,null,null,null,null,null,null,null,null,null,null,null,null,null,"Security","Interest rate","MV Substations"]
[null,"EC157 King Sabata Dalindyebo","EC EASTERN CAPE",null,null,null,null,null,null,null,null,null,null,null,null,null,null,null,null,null,null,null,null,null,null,"Yes","Fixed","LV Networks"]
[null,"DC15 O .R. Tambo","EC EASTERN CAPE",null,null,null,null,null,null,null,null,null,null,null,null,null,null,null,null,null,null,null,null,null,null,"No","Variable","Capital Spares"]
[null,"EC441 Matatiele","EC EASTERN CAPE",null,null,null,null,null,null,null,null,null,null,null,null,null,null,null,null,null,null,null,null,null,null,null,null,"Sand Pumps"]
[null,"EC442 Umzimvubu","EC EASTERN CAPE",null,null,null,null,null,null,null,null,null,null,null,null,null,null,null,null,null,null,null,null,null,null,null,null,"Piers"]
[null,"EC443 Mbizana","EC EASTERN CAPE",null,null,null,null,null,null,null,null,null,null,null,null,null,null,null,null,null,null,null,null,null,null,"SA36, SA37 - Capital projects",null,"Revetments"]
[null,"EC444 Ntabankulu","EC EASTERN CAPE",null,null,null,null,null,null,null,null,null,null,null,null,null,null,null,null,null,null,null,null,null,null,"Yes",null,"Promenades"]
[null,"DC44 Alfred Nzo","EC EASTERN CAPE",null,null,null,null,null,null,null,null,null,null,null,null,null,null,null,null,null,null,null,null,null,null,"No",null,"Capital Spares"]
[null,"MAN Mangaung","FS FREE STATE",null,null,null,null,null,null,null,null,null,null,null,null,null,null,null,null,null,null,null,null,null,null,null,null,"Data Centres"]
[null,"FS161 Letsemeng","FS FREE STATE",null,null,null,null,null,null,null,null,null,null,null,null,null,null,null,null,null,null,null,null,null,null,null,null,"Core Layers"]
[null,"FS162 Kopanong","FS FREE STATE",null,null,null,null,null,null,null,null,null,null,null,null,null,null,null,null,null,null,null,null,null,null,null,null,"Distribution Layers"]
[null,"FS163 Mohokare","FS FREE STATE",null,null,null,null,null,null,null,null,null,null,null,null,null,null,null,null,null,null,null,null,null,null,null,null,"Capital Spares"]
[null,"DC16 Xhariep","FS FREE STATE",null,null,null,null,null,null,null,null,null,null,null,null,null,null,null,null,null,null,null,null,null,null,null,null,"Halls"]
[null,"FS181 Masilonyana","FS FREE STATE",null,null,null,null,null,null,null,null,null,null,null,null,null,null,null,null,null,null,null,null,null,null,null,null,"Centres"]
[null,"FS182 Tokologo","FS FREE STATE",null,null,null,null,null,null,null,null,null,null,null,null,null,null,null,null,null,null,null,null,null,null,null,null,"Crèches"]
[null,"FS183 Tswelopele","FS FREE STATE",null,null,null,null,null,null,null,null,null,null,null,null,null,null,null,null,null,null,null,null,null,null,null,null,"Clinics/Care Centres"]
[null,"FS184 Matjhabeng","FS FREE STATE",null,null,null,null,null,null,null,null,null,null,null,null,null,null,null,null,null,null,null,null,null,null,null,null,"Fire/Ambulance Stations"]
[null,"FS185 Nala","FS FREE STATE",null,null,null,null,null,null,null,null,null,null,null,null,null,null,null,null,null,null,null,null,null,null,null,null,"Testing Stations"]
[null,"DC18 Lejweleputswa","FS FREE STATE",null,null,null,null,null,null,null,null,null,null,null,null,null,null,null,null,null,null,null,null,null,null,null,null,"Museums"]
[null,"FS191 Setsoto","FS FREE STATE",null,null,null,null,null,null,null,null,null,null,null,null,null,null,null,null,null,null,null,null,null,null,null,null,"Galleries"]
[null,"FS192 Dihlabeng","FS FREE STATE",null,null,null,null,null,null,null,null,null,null,null,null,null,null,null,null,null,null,null,null,null,null,null,null,"Theatres"]
[null,"FS193 Nketoana","FS FREE STATE",null,null,null,null,null,null,null,null,null,null,null,null,null,null,null,null,null,null,null,null,null,null,null,null,"Libraries"]
[null,"FS194 Maluti-a-Phofung","FS FREE STATE",null,null,null,null,null,null,null,null,null,null,null,null,null,null,null,null,null,null,null,null,null,null,null,null,"Cemeteries/Crematoria"]
[null,"FS195 Phumelela","FS FREE STATE",null,null,null,null,null,null,null,null,null,null,null,null,null,null,null,null,null,null,null,null,null,null,null,null,"Police"]
[null,"FS196 Mantsopa","FS FREE STATE",null,null,null,null,null,null,null,null,null,null,null,null,null,null,null,null,null,null,null,null,null,null,null,null,"Purls"]
[null,"DC19 Thabo Mofutsanyana","FS FREE STATE",null,null,null,null,null,null,null,null,null,null,null,null,null,null,null,null,null,null,null,null,null,null,null,null,"Public Open Space"]
[null,"FS201 Moqhaka","FS FREE STATE",null,null,null,null,null,null,null,null,null,null,null,null,null,null,null,null,null,null,null,null,null,null,null,null,"Nature Reserves"]
[null,"FS203 Ngwathe","FS FREE STATE",null,null,null,null,null,null,null,null,null,null,null,null,null,null,null,null,null,null,null,null,null,null,null,null,"Public Ablution Facilities"]
[null,"FS204 Metsimaholo","FS FREE STATE",null,null,null,null,null,null,null,null,null,null,null,null,null,null,null,null,null,null,null,null,null,null,null,null,"Markets"]
[null,"FS205 Mafube","FS FREE STATE",null,null,null,null,null,null,null,null,null,null,null,null,null,null,null,null,null,null,null,null,null,null,null,null,"Stalls"]
[null,"DC20 Fezile Dabi","FS FREE STATE",null,null,null,null,null,null,null,null,null,null,null,null,null,null,null,null,null,null,null,null,null,null,null,null,"Abattoirs"]
[null,"EKU City of Ekurhuleni","GT GAUTENG",null,null,null,null,null,null,null,null,null,null,null,null,null,null,null,null,null,null,null,null,null,null,null,null,"Airports"]
[null,"JHB City Of Johannesburg","GT GAUTENG",null,null,null,null,null,null,null,null,null,null,null,null,null,null,null,null,null,null,null,null,null,null,null,null,"Taxi Ranks/Bus Terminals"]
[null,"TSH City Of Tshwane","GT GAUTENG",null,null,null,null,null,null,null,null,null,null,null,null,null,null,null,null,null,null,null,null,null,null,null,null,"Capital Spares"]
[null,"GT421 Emfuleni","GT GAUTENG",null,null,null,null,null,null,null,null,null,null,null,null,null,null,null,null,null,null,null,null,null,null,null,null,"Indoor Facilities"]
[null,"GT422 Midvaal","GT GAUTENG",null,null,null,null,null,null,null,null,null,null,null,null,null,null,null,null,null,null,null,null,null,null,null,null,"Outdoor Facilities"]
[null,"GT423 Lesedi","GT GAUTENG",null,null,null,null,null,null,null,null,null,null,null,null,null,null,null,null,null,null,null,null,null,null,null,null,"Capital Spares"]
[null,"DC42 Sedibeng","GT GAUTENG",null,null,null,null,null,null,null,null,null,null,null,null,null,null,null,null,null,null,null,null,null,null,null,null,"Monuments"]
[null,"GT481 Mogale City","GT GAUTENG",null,null,null,null,null,null,null,null,null,null,null,null,null,null,null,null,null,null,null,null,null,null,null,null,"Historic Buildings"]
[null,"GT484 Merafong City","GT GAUTENG",null,null,null,null,null,null,null,null,null,null,null,null,null,null,null,null,null,null,null,null,null,null,null,null,"Works of Art"]
[null,"GT485 Rand West City","GT GAUTENG",null,null,null,null,null,null,null,null,null,null,null,null,null,null,null,null,null,null,null,null,null,null,null,null,"Conservation Areas"]
[null,"DC48 West Rand","GT GAUTENG",null,null,null,null,null,null,null,null,null,null,null,null,null,null,null,null,null,null,null,null,null,null,null,null,"Other Heritage"]
[null,"ETH eThekwini","KZN KWAZULU-NATAL",null,null,null,null,null,null,null,null,null,null,null,null,null,null,null,null,null,null,null,null,null,null,null,null,"Improved Property"]
[null,"KZN212 Umdoni","KZN KWAZULU-NATAL",null,null,null,null,null,null,null,null,null,null,null,null,null,null,null,null,null,null,null,null,null,null,null,null,"Unimproved Property"]
[null,"KZN213 Umzumbe","KZN KWAZULU-NATAL",null,null,null,null,null,null,null,null,null,null,null,null,null,null,null,null,null,null,null,null,null,null,null,null,"Municipal Offices"]
[null,"KZN214 uMuziwabantu","KZN KWAZULU-NATAL",null,null,null,null,null,null,null,null,null,null,null,null,null,null,null,null,null,null,null,null,null,null,null,null,"Pay/Enquiry Points"]
[null,"KZN216 Ray Nkonyeni","KZN KWAZULU-NATAL",null,null,null,null,null,null,null,null,null,null,null,null,null,null,null,null,null,null,null,null,null,null,null,null,"Building Plan Offices"]
[null,"DC21 Ugu","KZN KWAZULU-NATAL",null,null,null,null,null,null,null,null,null,null,null,null,null,null,null,null,null,null,null,null,null,null,null,null,"Workshops"]
[null,"KZN221 uMshwathi","KZN KWAZULU-NATAL",null,null,null,null,null,null,null,null,null,null,null,null,null,null,null,null,null,null,null,null,null,null,null,null,"Yards"]
[null,"KZN222 uMngeni","KZN KWAZULU-NATAL",null,null,null,null,null,null,null,null,null,null,null,null,null,null,null,null,null,null,null,null,null,null,null,null,"Stores"]
[null,"KZN223 Mpofana","KZN KWAZULU-NATAL",null,null,null,null,null,null,null,null,null,null,null,null,null,null,null,null,null,null,null,null,null,null,null,null,"Laboratories"]
[null,"KZN224 Impendle","KZN KWAZULU-NATAL",null,null,null,null,null,null,null,null,null,null,null,null,null,null,null,null,null,null,null,null,null,null,null,null,"Training Centres"]
[null,"KZN225 Msunduzi","KZN KWAZULU-NATAL",null,null,null,null,null,null,null,null,null,null,null,null,null,null,null,null,null,null,null,null,null,null,null,null,"Manufacturing Plant"]
[null,"KZN226 Mkhambathini","KZN KWAZULU-NATAL",null,null,null,null,null,null,null,null,null,null,null,null,null,null,null,null,null,null,null,null,null,null,null,null,"Depots"]
[null,"KZN227 Richmond","KZN KWAZULU-NATAL",null,null,null,null,null,null,null,null,null,null,null,null,null,null,null,null,null,null,null,null,null,null,null,null,"Capital Spares"]
[null,"DC22 uMgungundlovu","KZN KWAZULU-NATAL",null,null,null,null,null,null,null,null,null,null,null,null,null,null,null,null,null,null,null,null,null,null,null,null,"Staff Housing"]
[null,"KZN235 Okhahlamba","KZN KWAZULU-NATAL",null,null,null,null,null,null,null,null,null,null,null,null,null,null,null,null,null,null,null,null,null,null,null,null,"Social Housing"]
[null,"KZN237 Inkosi Langalibalele","KZN KWAZULU-NATAL",null,null,null,null,null,null,null,null,null,null,null,null,null,null,null,null,null,null,null,null,null,null,null,null,"Capital Spares"]
[null,"KZN238 Alfred Duma","KZN KWAZULU-NATAL",null,null,null,null,null,null,null,null,null,null,null,null,null,null,null,null,null,null,null,null,null,null,null,null,"Water Rights"]
[null,"DC23 Uthukela","KZN KWAZULU-NATAL",null,null,null,null,null,null,null,null,null,null,null,null,null,null,null,null,null,null,null,null,null,null,null,null,"Effluent Licenses"]
[null,"KZN241 Endumeni","KZN KWAZULU-NATAL",null,null,null,null,null,null,null,null,null,null,null,null,null,null,null,null,null,null,null,null,null,null,null,null,"Solid Waste Licenses"]
[null,"KZN242 Nquthu","KZN KWAZULU-NATAL",null,null,null,null,null,null,null,null,null,null,null,null,null,null,null,null,null,null,null,null,null,null,null,null,"Computer Software and Applications"]
[null,"KZN244 Msinga","KZN KWAZULU-NATAL",null,null,null,null,null,null,null,null,null,null,null,null,null,null,null,null,null,null,null,null,null,null,null,null,"Load Settlement Software Applications"]
[null,"KZN245 Umvoti","KZN KWAZULU-NATAL",null,null,null,null,null,null,null,null,null,null,null,null,null,null,null,null,null,null,null,null,null,null,null,null,"Unspecified"]
[null,"DC24 Umzinyathi","KZN KWAZULU-NATAL"]
[null,"KZN252 Newcastle","KZN KWAZULU-NATAL"]
[null,"KZN253 Emadlangeni","KZN KWAZULU-NATAL"]
[null,"KZN254 Dannhauser","KZN KWAZULU-NATAL"]
[null,"DC25 Amajuba","KZN KWAZULU-NATAL"]
[null,"KZN261 eDumbe","KZN KWAZULU-NATAL"]
[null,"KZN262 uPhongolo","KZN KWAZULU-NATAL"]
[null,"KZN263 Abaqulusi","KZN KWAZULU-NATAL"]
[null,"KZN265 Nongoma","KZN KWAZULU-NATAL"]
[null,"KZN266 Ulundi","KZN KWAZULU-NATAL"]
[null,"DC26 Zululand","KZN KWAZULU-NATAL"]
[null,"KZN271 Umhlabuyalingana","KZN KWAZULU-NATAL"]
[null,"KZN272 Jozini","KZN KWAZULU-NATAL"]
[null,"KZN275 Mtubatuba","KZN KWAZULU-NATAL"]
[null,"KZN276 Hlabisa Big Five","KZN KWAZULU-NATAL"]
[null,"DC27 Umkhanyakude","KZN KWAZULU-NATAL"]
[null,"KZN281 Mfolozi","KZN KWAZULU-NATAL"]
[null,"KZN282 uMhlathuze","KZN KWAZULU-NATAL"]
[null,"KZN284 uMlalazi","KZN KWAZULU-NATAL"]
[null,"KZN285 Mthonjaneni","KZN KWAZULU-NATAL"]
[null,"KZN286 Nkandla","KZN KWAZULU-NATAL"]
[null,"DC28 King Cetshwayo","KZN KWAZULU-NATAL"]
[null,"KZN291 Mandeni","KZN KWAZULU-NATAL"]
[null,"KZN292 KwaDukuza","KZN KWAZULU-NATAL"]
[null,"KZN293 Ndwedwe","KZN KWAZULU-NATAL"]
[null,"KZN294 Maphumulo","KZN KWAZULU-NATAL"]
[null,"DC29 iLembe","KZN KWAZULU-NATAL"]
[null,"KZN433 Greater Kokstad","KZN KWAZULU-NATAL"]
[null,"KZN434 Ubuhlebezwe","KZN KWAZULU-NATAL"]
[null,"KZN435 Umzimkhulu","KZN KWAZULU-NATAL"]
[null,"KZN436 Dr Nkosazana Dlamini Zuma","KZN KWAZULU-NATAL"]
[null,"DC43 Harry Gwala","KZN KWAZULU-NATAL"]
[null,"LIM331 Greater Giyani","LIM LIMPOPO"]
[null,"LIM332 Greater Letaba","LIM LIMPOPO"]
[null,"LIM333 Greater Tzaneen","LIM LIMPOPO"]
[null,"LIM334 Ba-Phalaborwa","LIM LIMPOPO"]
[null,"LIM335 Maruleng","LIM LIMPOPO"]
[null,"DC33 Mopani","LIM LIMPOPO"]
[null,"LIM341 Musina","LIM LIMPOPO"]
[null,"LIM343 Thulamela","LIM LIMPOPO"]
[null,"LIM344 Makhado","LIM LIMPOPO"]
[null,"LIM345 Collins Chabane","LIM LIMPOPO"]
[null,"DC34 Vhembe","LIM LIMPOPO"]
[null,"LIM351 Blouberg","LIM LIMPOPO"]
[null,"LIM353 Molemole","LIM LIMPOPO"]
[null,"LIM354 Polokwane","LIM LIMPOPO"]
[null,"LIM355 Lepelle-Nkumpi","LIM LIMPOPO"]
[null,"DC35 Capricorn","LIM LIMPOPO"]
[null,"LIM361 Thabazimbi","LIM LIMPOPO"]
[null,"LIM362 Lephalale","LIM LIMPOPO"]
[null,"LIM366 Bela Bela","LIM LIMPOPO"]
[null,"LIM367 Mogalakwena","LIM LIMPOPO"]
[null,"LIM368 Modimolle-Mookgopong","LIM LIMPOPO"]
[null,"DC36 Waterberg","LIM LIMPOPO"]
[null,"LIM471 Ephraim Mogale","LIM LIMPOPO"]
[null,"LIM472 Elias Motsoaledi","LIM LIMPOPO"]
[null,"LIM473 Makhuduthamaga","LIM LIMPOPO"]
[null,"LIM476 Tubatse Fetakgomo","LIM LIMPOPO"]
[null,"DC47 Sekhukhune","LIM LIMPOPO"]
[null,"MP301 Albert Luthuli","MP MPUMALANGA"]
[null,"MP302 Msukaligwa","MP MPUMALANGA"]
[null,"MP303 Mkhondo","MP MPUMALANGA"]
[null,"MP304 Pixley Ka Seme (MP)","MP MPUMALANGA"]
[null,"MP305 Lekwa","MP MPUMALANGA"]
[null,"MP306 Dipaleseng","MP MPUMALANGA"]
[null,"MP307 Govan Mbeki","MP MPUMALANGA"]
[null,"DC30 Gert Sibande","MP MPUMALANGA"]
[null,"MP311 Victor Khanye","MP MPUMALANGA"]
[null,"MP312 Emalahleni (Mp)","MP MPUMALANGA"]
[null,"MP313 Steve Tshwete","MP MPUMALANGA"]
[null,"MP314 Emakhazeni","MP MPUMALANGA"]
[null,"MP315 Thembisile Hani","MP MPUMALANGA"]
[null,"MP316 Dr J.S. Moroka","MP MPUMALANGA"]
[null,"DC31 Nkangala","MP MPUMALANGA"]
[null,"MP321 Thaba Chweu","MP MPUMALANGA"]
[null,"MP324 Nkomazi","MP MPUMALANGA"]
[null,"MP325 Bushbuckridge","MP MPUMALANGA"]
[null,"MP326 City of Mbombela","MP MPUMALANGA"]
[null,"DC32 Ehlanzeni","MP MPUMALANGA"]
[null,"NC451 Joe Morolong","NC NORTHERN CAPE"]
[null,"NC452 Ga-Segonyana","NC NORTHERN CAPE"]
[null,"NC453 Gamagara","NC NORTHERN CAPE"]
[null,"DC45 John Taolo Gaetsewe","NC NORTHERN CAPE"]
[null,"NC061 Richtersveld","NC NORTHERN CAPE"]
[null,"NC062 Nama Khoi","NC NORTHERN CAPE"]
[null,"NC064 Kamiesberg","NC NORTHERN CAPE"]
[null,"NC065 Hantam","NC NORTHERN CAPE"]
[null,"NC066 Karoo Hoogland","NC NORTHERN CAPE"]
[null,"NC067 Khai-Ma","NC NORTHERN CAPE"]
[null,"DC6 Namakwa","NC NORTHERN CAPE"]
[null,"NC071 Ubuntu","NC NORTHERN CAPE"]
[null,"NC072 Umsobomvu","NC NORTHERN CAPE"]
[null,"NC073 Emthanjeni","NC NORTHERN CAPE"]
[null,"NC074 Kareeberg","NC NORTHERN CAPE"]
[null,"NC075 Renosterberg","NC NORTHERN CAPE"]
[null,"NC076 Thembelihle","NC NORTHERN CAPE"]
[null,"NC077 Siyathemba","NC NORTHERN CAPE"]
[null,"NC078 Siyancuma","NC NORTHERN CAPE"]
[null,"DC7 Pixley Ka Seme (Nc)","NC NORTHERN CAPE"]
[null,"NC082 !Kai! Garib","NC NORTHERN CAPE"]
[null,"NC084 !Kheis","NC NORTHERN CAPE"]
[null,"NC085 Tsantsabane","NC NORTHERN CAPE"]
[null,"NC086 Kgatelopele","NC NORTHERN CAPE"]
[null,"NC087 Dawid Kruiper","NC NORTHERN CAPE"]
[null,"DC8 Z F Mgcawu","NC NORTHERN CAPE"]
[null,"NC091 Sol Plaatje","NC NORTHERN CAPE"]
[null,"NC092 Dikgatlong","NC NORTHERN CAPE"]
[null,"NC093 Magareng","NC NORTHERN CAPE"]
[null,"NC094 Phokwane","NC NORTHERN CAPE"]
[null,"DC9 Frances Baard","NC NORTHERN CAPE"]
[null,"NW371 Moretele","NW NORTH WEST"]
[null,"NW372 Madibeng","NW NORTH WEST"]
[null,"NW373 Rustenburg","NW NORTH WEST"]
[null,"NW374 Kgetlengrivier","NW NORTH WEST"]
[null,"NW375 Moses Kotane","NW NORTH WEST"]
[null,"DC37 Bojanala Platinum","NW NORTH WEST"]
[null,"NW381 Ratlou","NW NORTH WEST"]
[null,"NW382 Tswaing","NW NORTH WEST"]
[null,"NW383 Mafikeng","NW NORTH WEST"]
[null,"NW384 Ditsobotla","NW NORTH WEST"]
[null,"NW385 Ramotshere Moiloa","NW NORTH WEST"]
[null,"DC38 Ngaka Modiri Molema","NW NORTH WEST"]
[null,"NW392 Naledi (Nw)","NW NORTH WEST"]
[null,"NW393 Mamusa","NW NORTH WEST"]
[null,"NW394 Greater Taung","NW NORTH WEST"]
[null,"NW396 Lekwa-Teemane","NW NORTH WEST"]
[null,"NW397 Kagisano-Molopo","NW NORTH WEST"]
[null,"DC39 Dr Ruth Segomotsi Mompati","NW NORTH WEST"]
[null,"NW403 City Of Matlosana","NW NORTH WEST"]
[null,"NW404 Maquassi Hills","NW NORTH WEST"]
[null,"NW405 J B Marks","NW NORTH WEST"]
[null,"DC40 Dr Kenneth Kaunda","NW NORTH WEST"]
[null,"CPT Cape Town","WC WESTERN CAPE"]
[null,"WC011 Matzikama","WC WESTERN CAPE"]
[null,"WC012 Cederberg","WC WESTERN CAPE"]
[null,"WC013 Bergrivier","WC WESTERN CAPE"]
[null,"WC014 Saldanha Bay","WC WESTERN CAPE"]
[null,"WC015 Swartland","WC WESTERN CAPE"]
[null,"DC1 West Coast","WC WESTERN CAPE"]
[null,"WC022 Witzenberg","WC WESTERN CAPE"]
[null,"WC023 Drakenstein","WC WESTERN CAPE"]
[null,"WC024 Stellenbosch","WC WESTERN CAPE"]
[null,"WC025 Breede Valley","WC WESTERN CAPE"]
[null,"WC026 Langeberg","WC WESTERN CAPE"]
[null,"DC2 Cape Winelands DM","WC WESTERN CAPE"]
[null,"WC031 Theewaterskloof","WC WESTERN CAPE"]
[null,"WC032 Overstrand","WC WESTERN CAPE"]
[null,"WC033 Cape Agulhas","WC WESTERN CAPE"]
[null,"WC034 Swellendam","WC WESTERN CAPE"]
[null,"DC3 Overberg","WC WESTERN CAPE"]
[null,"WC041 Kannaland","WC WESTERN CAPE"]
[null,"WC042 Hessequa","WC WESTERN CAPE"]
[null,"WC043 Mossel Bay","WC WESTERN CAPE"]
[null,"WC044 George","WC WESTERN CAPE"]
[null,"WC045 Oudtshoorn","WC WESTERN CAPE"]
[null,"WC047 Bitou","WC WESTERN CAPE"]
[null,"WC048 Knysna","WC WESTERN CAPE"]
[null,"DC4 Garden Route","WC WESTERN CAPE"]
[null,"WC051 Laingsburg","WC WESTERN CAPE"]
[null,"WC052 Prince Albert","WC WESTERN CAPE"]
[null,"WC053 Beaufort West","WC WESTERN CAPE"]
[null,"DC5 Central Karoo","WC WESTERN CAPE"]
[]
[]
[]
[]
[]
[]
[]
[]
[]
[]
[]
[]
[]
[]
[]
[]
[]
[]
[]
[]
[]
[null,{"$f":"COUNTA(B30:B307)","v":257}]

{"sheet":"Org structure","index":4,"n_rows":166,"n_cols":4,"rows_kept":166,"cut":false,"hidden":false,"merged":[]}
["Organisational Structure Votes",null,"Organisational Structure Sub-Votes"]
[{"$f":"B2&\" - \"&C2","v":"Vote 1 - Finance & Admin"},"Vote 1","Finance & Admin"]
[{"$f":"B13&\" - \"& C13","v":"Vote 2 - Executive & Council"},"1.1","Asset Management",{"$f":"CONCATENATE(B3, \" - \", C3)","v":"1.1 - Asset Management"}]
[{"$f":"B24&\" - \"&C24","v":"Vote 3 - Community and Social Services"},"1.2","Information Technology","1.2 - Information Technology"]
[{"$f":"B35&\" - \"&C35","v":"Vote 4 - Housing"},"1.3","Finance","1.3 - Finance"]
[{"$f":"B46&\" - \"&C46","v":"Vote 5 - Public Safety"},"1.4","Fleet Management","1.4 - Fleet Management"]
[{"$f":"B57&\" - \"&C57","v":"Vote 6 - Road Transport"},"1.5","Administrative and Corporate Support","1.5 - Administrative and Corporate Support"]
[{"$f":"B68&\" - \"&C68","v":"Vote 7 - Waste Management"},"1.6","Property Services","1.6 - Property Services"]
[{"$f":"B79&\" - \"&C79","v":"Vote 8 - Energy Sources"},"1.7","Legal Services","1.7 - Legal Services"]
[{"$f":"B90&\" - \"&C90","v":"Vote 9 - Planning and Development"},"1.8","Human Resources","1.8 - Human Resources"]
[{"$f":"B101&\" - \"&C101","v":"Vote 10 - Sport and Recreation"},"1.9","[Name of sub-vote]","1.9 - [Name of sub-vote]"]
[{"$f":"B112&\" - \"&C112","v":"Vote 11 - [NAME OF VOTE 11]"},"1.10","[Name of sub-vote]","1.10 - [Name of sub-vote]"]
[{"$f":"B123&\" - \"&C123","v":"Vote 12 - [NAME OF VOTE 12]"},"Vote 2","Executive & Council"]
[{"$f":"B134&\" - \"&C134","v":"Vote 13 - [NAME OF VOTE 13]"},"2.1","Mayor and Council",{"$f":"CONCATENATE(B14, \" - \", C14)","v":"2.1 - Mayor and Council"}]
[{"$f":"B145&\" - \"&C145","v":"Vote 14 - [NAME OF VOTE 14]"},"2.2","Municipal Manager, Town Secretary and Chief Executive","2.2 - Municipal Manager, Town Secretary and Chief Executive"]
[{"$f":"B156&\" - \"&C156","v":"Vote 15 - [NAME OF VOTE 15]"},"2.3","Governance Function","2.3 - Governance Function"]
[null,"2.4","[Name of sub-vote]","2.4 - [Name of sub-vote]"]
[null,"2.5","[Name of sub-vote]","2.5 - [Name of sub-vote]"]
[null,"2.6","[Name of sub-vote]","2.6 - [Name of sub-vote]"]
[null,"2.7","[Name of sub-vote]","2.7 - [Name of sub-vote]"]
[null,"2.8","[Name of sub-vote]","2.8 - [Name of sub-vote]"]
[null,"2.9","[Name of sub-vote]","2.9 - [Name of sub-vote]"]
[null,"2.10","[Name of sub-vote]","2.10 - [Name of sub-vote]"]
[null,"Vote 3","Community and Social Services"]
[null,"3.1","Cultural Matters",{"$f":"CONCATENATE(B25, \" - \", C25)","v":"3.1 - Cultural Matters"}]
[null,"3.2","Population Development","3.2 - Population Development"]
[null,"3.3","Recreational Facilities","3.3 - Recreational Facilities"]
[null,"3.4","Education","3.4 - Education"]
[null,"3.5","Libraries and Archives","3.5 - Libraries and Archives"]
[null,"3.6","Community Halls and Facilities","3.6 - Community Halls and Facilities"]
[null,"3.7","Development Facilitation","3.7 - Development Facilitation"]
[null,"3.8","Community Parks (including Nurseries)","3.8 - Community Parks (including Nurseries)"]
[null,"3.9","Tourism","3.9 - Tourism"]
[null,"3.10","Aged Care","3.10 - Aged Care"]
[null,"Vote 4","Housing"]
[null,"4.1","Housing",{"$f":"CONCATENATE(B36, \" - \", C36)","v":"4.1 - Housing"}]
[null,"4.2","[Name of sub-vote]","4.2 - [Name of sub-vote]"]
[null,"4.3","[Name of sub-vote]","4.3 - [Name of sub-vote]"]
[null,"4.4","[Name of sub-vote]","4.4 - [Name of sub-vote]"]
[null,"4.5","[Name of sub-vote]","4.5 - [Name of sub-vote]"]
[null,"4.6","[Name of sub-vote]","4.6 - [Name of sub-vote]"]
[null,"4.7","[Name of sub-vote]","4.7 - [Name of sub-vote]"]
[null,"4.8","[Name of sub-vote]","4.8 - [Name of sub-vote]"]
[null,"4.9","[Name of sub-vote]","4.9 - [Name of sub-vote]"]
[null,"4.10","[Name of sub-vote]","4.10 - [Name of sub-vote]"]
[null,"Vote 5","Public Safety"]
[null,"5.1","Civil Defence",{"$f":"CONCATENATE(B47, \" - \", C47)","v":"5.1 - Civil Defence"}]
[null,"5.2","Fire Fighting and Protection","5.2 - Fire Fighting and Protection"]
[null,"5.3","[Name of sub-vote]","5.3 - [Name of sub-vote]"]
[null,"5.4","[Name of sub-vote]","5.4 - [Name of sub-vote]"]
[null,"5.5","[Name of sub-vote]","5.5 - [Name of sub-vote]"]
[null,"5.6","[Name of sub-vote]","5.6 - [Name of sub-vote]"]
[null,"5.7","[Name of sub-vote]","5.7 - [Name of sub-vote]"]
[null,"5.8","[Name of sub-vote]","5.8 - [Name of sub-vote]"]
[null,"5.9","[Name of sub-vote]","5.9 - [Name of sub-vote]"]
[null,"5.10","[Name of sub-vote]","5.10 - [Name of sub-vote]"]
[null,"Vote 6","Road Transport"]
[null,"6.1","Roads",{"$f":"CONCATENATE(B58, \" - \", C58)","v":"6.1 - Roads"}]
[null,"6.2","[Name of sub-vote]","6.2 - [Name of sub-vote]"]
[null,"6.3","[Name of sub-vote]","6.3 - [Name of sub-vote]"]
[null,"6.4","[Name of sub-vote]","6.4 - [Name of sub-vote]"]
[null,"6.5","[Name of sub-vote]","6.5 - [Name of sub-vote]"]
[null,"6.6","[Name of sub-vote]","6.6 - [Name of sub-vote]"]
[null,"6.7","[Name of sub-vote]","6.7 - [Name of sub-vote]"]
[null,"6.8","[Name of sub-vote]","6.8 - [Name of sub-vote]"]
[null,"6.9","[Name of sub-vote]","6.9 - [Name of sub-vote]"]
[null,"6.10","[Name of sub-vote]","6.10 - [Name of sub-vote]"]
[null,"Vote 7","Waste Management"]
[null,"7.1","Solid Waste Removal",{"$f":"CONCATENATE(B69, \" - \", C69)","v":"7.1 - Solid Waste Removal"}]
[null,"7.2","[Name of sub-vote]","7.2 - [Name of sub-vote]"]
[null,"7.3","[Name of sub-vote]","7.3 - [Name of sub-vote]"]
[null,"7.4","[Name of sub-vote]","7.4 - [Name of sub-vote]"]
[null,"7.5","[Name of sub-vote]","7.5 - [Name of sub-vote]"]
[null,"7.6","[Name of sub-vote]","7.6 - [Name of sub-vote]"]
[null,"7.7","[Name of sub-vote]","7.7 - [Name of sub-vote]"]
[null,"7.8","[Name of sub-vote]","7.8 - [Name of sub-vote]"]
[null,"7.9","[Name of sub-vote]","7.9 - [Name of sub-vote]"]
[null,"7.10","[Name of sub-vote]","7.10 - [Name of sub-vote]"]
[null,"Vote 8","Energy Sources"]
[null,"8.1","Electricity",{"$f":"CONCATENATE(B80, \" - \", C80)","v":"8.1 - Electricity"}]
[null,"8.2","[Name of sub-vote]","8.2 - [Name of sub-vote]"]
[null,"8.3","[Name of sub-vote]","8.3 - [Name of sub-vote]"]
[null,"8.4","[Name of sub-vote]","8.4 - [Name of sub-vote]"]
[null,"8.5","[Name of sub-vote]","8.5 - [Name of sub-vote]"]
[null,"8.6","[Name of sub-vote]","8.6 - [Name of sub-vote]"]
[null,"8.7","[Name of sub-vote]","8.7 - [Name of sub-vote]"]
[null,"8.8","[Name of sub-vote]","8.8 - [Name of sub-vote]"]
[null,"8.9","[Name of sub-vote]","8.9 - [Name of sub-vote]"]
[null,"8.10","[Name of sub-vote]","8.10 - [Name of sub-vote]"]
[null,"Vote 9","Planning and Development"]
[null,"9.1","Town Planning, Building Regulations and Enforcement, and City Engineer",{"$f":"CONCATENATE(B91, \" - \", C91)","v":"9.1 - Town Planning, Building Regulations and Enforcement, and City Engineer"}]
[null,"9.2","Economic Development/Planning","9.2 - Economic Development/Planning"]
[null,"9.3","Regional Planning and Development","9.3 - Regional Planning and Development"]
[null,"9.4","Street Lighting and Signal Systems","9.4 - Street Lighting and Signal Systems"]
[null,"9.5","Project Management Unit","9.5 - Project Management Unit"]
[null,"9.6","[Name of sub-vote]","9.6 - [Name of sub-vote]"]
[null,"9.7","[Name of sub-vote]","9.7 - [Name of sub-vote]"]
[null,"9.8","[Name of sub-vote]","9.8 - [Name of sub-vote]"]
[null,"9.9","[Name of sub-vote]","9.9 - [Name of sub-vote]"]
[null,"9.10","[Name of sub-vote]","9.10 - [Name of sub-vote]"]
[null,"Vote 10","Sport and Recreation"]
[null,"10.1","Sports Grounds and Stadiums",{"$f":"CONCATENATE(B102, \" - \", C102)","v":"10.1 - Sports Grounds and Stadiums"}]
[null,"10.2","[Name of sub-vote]","10.2 - [Name of sub-vote]"]
[null,"10.3","[Name of sub-vote]","10.3 - [Name of sub-vote]"]
[null,"10.4","[Name of sub-vote]","10.4 - [Name of sub-vote]"]
[null,"10.5","[Name of sub-vote]","10.5 - [Name of sub-vote]"]
[null,"10.6","[Name of sub-vote]","10.6 - [Name of sub-vote]"]
[null,"10.7","[Name of sub-vote]","10.7 - [Name of sub-vote]"]
[null,"10.8","[Name of sub-vote]","10.8 - [Name of sub-vote]"]
[null,"10.9","[Name of sub-vote]","10.9 - [Name of sub-vote]"]
[null,"10.10","[Name of sub-vote]","10.10 - [Name of sub-vote]"]
[null,"Vote 11","[NAME OF VOTE 11]"]
[null,"11.1","[Name of sub-vote]",{"$f":"CONCATENATE(B113, \" - \", C113)","v":"11.1 - [Name of sub-vote]"}]
[null,"11.2","[Name of sub-vote]","11.2 - [Name of sub-vote]"]
[null,"11.3","[Name of sub-vote]","11.3 - [Name of sub-vote]"]
[null,"11.4","[Name of sub-vote]","11.4 - [Name of sub-vote]"]
[null,"11.5","[Name of sub-vote]","11.5 - [Name of sub-vote]"]
[null,"11.6","[Name of sub-vote]","11.6 - [Name of sub-vote]"]
[null,"11.7","[Name of sub-vote]","11.7 - [Name of sub-vote]"]
[null,"11.8","[Name of sub-vote]","11.8 - [Name of sub-vote]"]
[null,"11.9","[Name of sub-vote]","11.9 - [Name of sub-vote]"]
[null,"11.10","[Name of sub-vote]","11.10 - [Name of sub-vote]"]
[null,"Vote 12","[NAME OF VOTE 12]"]
[null,"12.1","[Name of sub-vote]",{"$f":"CONCATENATE(B124, \" - \", C124)","v":"12.1 - [Name of sub-vote]"}]
[null,"12.2","[Name of sub-vote]","12.2 - [Name of sub-vote]"]
[null,"12.3","[Name of sub-vote]","12.3 - [Name of sub-vote]"]
[null,"12.4","[Name of sub-vote]","12.4 - [Name of sub-vote]"]
[null,"12.5","[Name of sub-vote]","12.5 - [Name of sub-vote]"]
[null,"12.6","[Name of sub-vote]","12.6 - [Name of sub-vote]"]
[null,"12.7","[Name of sub-vote]","12.7 - [Name of sub-vote]"]
[null,"12.8","[Name of sub-vote]","12.8 - [Name of sub-vote]"]
[null,"12.9","[Name of sub-vote]","12.9 - [Name of sub-vote]"]
[null,"12.10","[Name of sub-vote]","12.10 - [Name of sub-vote]"]
[null,"Vote 13","[NAME OF VOTE 13]"]
[null,"13.1","[Name of sub-vote]",{"$f":"CONCATENATE(B135, \" - \", C135)","v":"13.1 - [Name of sub-vote]"}]
[null,"13.2","[Name of sub-vote]","13.2 - [Name of sub-vote]"]
[null,"13.3","[Name of sub-vote]","13.3 - [Name of sub-vote]"]
[null,"13.4","[Name of sub-vote]","13.4 - [Name of sub-vote]"]
[null,"13.5","[Name of sub-vote]","13.5 - [Name of sub-vote]"]
[null,"13.6","[Name of sub-vote]","13.6 - [Name of sub-vote]"]
[null,"13.7","[Name of sub-vote]","13.7 - [Name of sub-vote]"]
[null,"13.8","[Name of sub-vote]","13.8 - [Name of sub-vote]"]
[null,"13.9","[Name of sub-vote]","13.9 - [Name of sub-vote]"]
[null,"13.10","[Name of sub-vote]","13.10 - [Name of sub-vote]"]
[null,"Vote 14","[NAME OF VOTE 14]"]
[null,"14.1","[Name of sub-vote]",{"$f":"CONCATENATE(B146, \" - \", C146)","v":"14.1 - [Name of sub-vote]"}]
[null,"14.2","[Name of sub-vote]","14.2 - [Name of sub-vote]"]
[null,"14.3","[Name of sub-vote]","14.3 - [Name of sub-vote]"]
[null,"14.4","[Name of sub-vote]","14.4 - [Name of sub-vote]"]
[null,"14.5","[Name of sub-vote]","14.5 - [Name of sub-vote]"]
[null,"14.6","[Name of sub-vote]","14.6 - [Name of sub-vote]"]
[null,"14.7","[Name of sub-vote]","14.7 - [Name of sub-vote]"]
[null,"14.8","[Name of sub-vote]","14.8 - [Name of sub-vote]"]
[null,"14.9","[Name of sub-vote]","14.9 - [Name of sub-vote]"]
[null,"14.10","[Name of sub-vote]","14.10 - [Name of sub-vote]"]
[null,"Vote 15","[NAME OF VOTE 15]"]
[null,"15.1","[Name of sub-vote]",{"$f":"CONCATENATE(B157, \" - \", C157)","v":"15.1 - [Name of sub-vote]"}]
[null,"15.2","[Name of sub-vote]","15.2 - [Name of sub-vote]"]
[null,"15.3","[Name of sub-vote]","15.3 - [Name of sub-vote]"]
[null,"15.4","[Name of sub-vote]","15.4 - [Name of sub-vote]"]
[null,"15.5","[Name of sub-vote]","15.5 - [Name of sub-vote]"]
[null,"15.6","[Name of sub-vote]","15.6 - [Name of sub-vote]"]
[null,"15.7","[Name of sub-vote]","15.7 - [Name of sub-vote]"]
[null,"15.8","[Name of sub-vote]","15.8 - [Name of sub-vote]"]
[null,"15.9","[Name of sub-vote]","15.9 - [Name of sub-vote]"]
[null,"15.10","[Name of sub-vote]","15.10 - [Name of sub-vote]"]

{"sheet":"Contacts","index":5,"n_rows":140,"n_cols":4,"rows_kept":140,"cut":false,"hidden":false,"merged":[[132,0,132,1],[132,2,132,3],[76,0,76,1],[57,0,57,1],[76,2,76,3],[92,2,92,3],[67,2,67,3],[124,0,124,1],[124,2,124,3],[116,0,116,1],[116,2,116,3],[108,0,108,1],[108,2,108,3],[100,0,100,1],[58,2,58,3],[84,0,84,1],[84,2,84,3],[30,2,30,3],[29,2,29,3],[48,0,48,1],[100,2,100,3],[39,2,39,3],[48,2,48,3],[57,2,57,3],[92,0,92,1],[39,0,39,1],[7,2,7,3],[13,0,13,1],[29,0,29,1],[10,2,10,3],[12,2,12,3]]}
[{"$f":"muni&\" - \"&\" Contact Information\"","v":"KZN434 Ubuhlebezwe -  Contact Information"}]
[]
["A. GENERAL INFORMATION"]
["Municipality",{"$f":"muni","v":"KZN434 Ubuhlebezwe"},{"$f":"IF(B4=\"Choose name from List\",\"Set name on 'Instructions' sheet\", \"\")","v":""}]
[]
["Grade",null,"1 Grade in terms of the Remuneration of Public Office Bearers Act."]
[]
["Province",{"$f":"IF(B4>\" \",VLOOKUP(B4,'Lookup and lists'!B29:C307,2, FALSE),\" \")","v":"KZN KWAZULU-NATAL"}]
[]
["Web Address","www.ubuhlebezwe.org.za"]
[]
["e-mail Address","mm@ubuhlebezwe.org.za"]
[]
["B. CONTACT INFORMATION"]
["Postal address:"]
["P.O. Box",132]
["City / Town","Ixopo"]
["Postal Code",3276]
[]
["Street address"]
["Building","Ubuhlebezwe Municipality "]
["Street No. & Name","29 Margaret Street"]
["City / Town","Ixopo"]
["Postal Code",3276]
[]
["General Contacts"]
["Telephone number",27398347700]
["Fax number",27398341168]
[]
["C. POLITICAL LEADERSHIP"]
["Speaker:",null,"Secretary/PA to the Speaker:"]
["ID Number","5206045632088","ID Number","8711251243089"]
["Title","SPEAKER","Title","SECRETARY TO EXECUTIVE"]
["Name","THULANI CONRAD DLAMINI","Name","ZODUMO DLAMINI"]
["Telephone number","0398347700","Telephone number","0398347700"]
["Cell number",null,"Cell number"]
["Fax number",null,"Fax number"]
["E-mail address","tdlamini@ubuhlebezwe.gov.za","E-mail address","zdlamini@ubuhlebezwe.gov.za"]
[]
["Mayor/Executive Mayor:",null,"Secretary/PA to the Mayor/Executive Mayor:"]
["ID Number","7002020544085","ID Number","8307280874083"]
["Title","MAYOR","Title","MRS"]
["Name","ELIZABETH BATHOBILE NGUBO","Name","NOBUHLE MBANJWA"]
["Telephone number","0398347700","Telephone number","0398347700"]
["Cell number",null,"Cell number"]
["Fax number",null,"Fax number"]
["E-mail address",null,"E-mail address"]
[]
["Deputy Mayor/Executive Mayor:",null,"Secretary/PA to the Deputy Mayor/Executive Mayor:"]
["ID Number","8210085550082","ID Number","8711251243089"]
["Title","DEPUTY MAYOR","Title","PA TO MAYOR"]
["Name","CONDRAD ZAKHELE MNGOMYAMA","Name","ZODUMO DLAMINI"]
["Telephone number","0398347700","Telephone number","0398347700"]
["Cell number",null,"Cell number"]
["Fax number",null,"Fax number"]
["E-mail address",null,"E-mail address","zdlamini@ubuhlebezwe.gov.za"]
[]
["D. MANAGEMENT LEADERSHIP"]
["Municipal Manager:",null,"Secretary/PA to the Municipal Manager:"]
["ID Number","6204225721085","ID Number","8508090675087"]
["Title","MR","Title","PA TO THE MM"]
["Name","GAMAKHULU MA ART SINEKE","Name","SBONGILE KUNENE"]
["Telephone number","0398347700","Telephone number","0398347700"]
["Cell number",null,"Cell number"]
["Fax number",null,"Fax number"]
["E-mail address","mm@ubuhlebezwe.gov.za","E-mail address","skunene@ubuhlebezwe.gov.za"]
[]
["Chief Financial Officer",null,"Secretary/PA to the Chief Financial Officer"]
["ID Number","8712260631082","ID Number","8507220560086"]
["Title","Assistant CFO ","Title","PA TO THE CFO"]
["Name","MP Mbatha","Name","NOMPUMELELO NMCWABE"]
["Telephone number","0398347700","Telephone number","0398347700"]
["Cell number",null,"Cell number"]
["Fax number","","Fax number"]
["E-mail address","mpmbatha@ubuhlebezwe.gov.za","E-mail address","nmngcwabe@ubuhlebezwe.gov.za"]
[]
["Official responsible for submitting financial information",null,"Official responsible for submitting financial information"]
["ID Number","9104055619085","ID Number","8402235459088"]
["Title","Budget and Reporting Accountant ","Title","BUDGET AND REPORTING MANAGER "]
["Name","MAZWI MOGAN BIYASE","Name","LAWERENCE LINDOKUHLE MAKHAYE"]
["Telephone number","0398347700","Telephone number","0398347700"]
["Cell number",null,"Cell number"]
["Fax number",null,"Fax number"]
["E-mail address","mbiyase@ubuhlebezwe.gov.za","E-mail address","lmkhaye@ubuhlebezwe.gov.za"]
["Official responsible for submitting financial information",null,"Official responsible for submitting financial information"]
["ID Number","9606195316083","ID Number","9406145813085"]
["Title","Budget and Reporting Clerk ","Title","SENIOR BUDGET AND REPORTING CLERK"]
["Name","Mbuso Dlamini","Name","MTHOKOZISI TSENGANE"]
["Telephone number","0398347700","Telephone number","0398347700"]
["Cell number",null,"Cell number"]
["Fax number",null,"Fax number"]
["E-mail address","mbdlamini@ubuhlebezwe.gov.za","E-mail address","mdtsengane@ubuhlebezwe.gov.za"]
["Official responsible for submitting financial information",null,"Official responsible for submitting financial information"]
["ID Number",null,"ID Number"]
["Title",null,"Title"]
["Name",null,"Name"]
["Telephone number",null,"Telephone number"]
["Cell number",null,"Cell number"]
["Fax number",null,"Fax number"]
["E-mail address",null,"E-mail address"]
["Official responsible for submitting financial information",null,"Official responsible for submitting financial information"]
["ID Number",null,"ID Number"]
["Title",null,"Title"]
["Name",null,"Name"]
["Telephone number",null,"Telephone number"]
["Cell number",null,"Cell number"]
["Fax number",null,"Fax number"]
["E-mail address",null,"E-mail address"]
["Official responsible for submitting financial information",null,"Official responsible for submitting financial information"]
["ID Number",null,"ID Number"]
["Title",null,"Title"]
["Name",null,"Name"]
["Telephone number",null,"Telephone number"]
["Cell number",null,"Cell number"]
["Fax number",null,"Fax number"]
["E-mail address",null,"E-mail address"]
["Official responsible for submitting financial information",null,"Official responsible for submitting financial information"]
["ID Number",null,"ID Number"]
["Title",null,"Title"]
["Name",null,"Name"]
["Telephone number",null,"Telephone number"]
["Cell number",null,"Cell number"]
["Fax number",null,"Fax number"]
["E-mail address",null,"E-mail address"]
["Official responsible for submitting financial information",null,"Official responsible for submitting financial information"]
["ID Number",null,"ID Number"]
["Title",null,"Title"]
["Name",null,"Name"]
["Telephone number",null,"Telephone number"]
["Cell number",null,"Cell number"]
["Fax number",null,"Fax number"]
["E-mail address",null,"E-mail address"]
["Official responsible for submitting financial information"]
["ID Number"]
["Title"]
["Name"]
["Telephone number"]
["Cell number"]
["Fax number"]
["E-mail address"]

{"sheet":"A1-Sum","index":6,"n_rows":65,"n_cols":11,"rows_kept":65,"cut":false,"hidden":false,"merged":[[1,8,1,10],[1,4,1,7],[0,0,0,2]]}
[{"$f":"muni&\" - \"&Approve1","v":"KZN434 Ubuhlebezwe - Table A1 Budget Summary"}]
[{"$f":"desc","v":"Description"},{"$f":"head1b","v":"2016/17"},{"$f":"head1A","v":"2017/18"},{"$f":"Head1","v":"2018/19"},{"$f":"Head2","v":"Current Year 2019/20"},null,null,null,{"$f":"Head3","v":"2020/21 Medium Term Revenue & Expenditure Framework"}]
["R thousands",{"$f":"Head5","v":"Audited Outcome"},{"$f":"Head5","v":"Audited Outcome"},{"$f":"Head5","v":"Audited Outcome"},{"$f":"Head6","v":"Original Budget"},{"$f":"Head7","v":"Adjusted Budget"},{"$f":"Head8","v":"Full Year Forecast"},{"$f":"Head5b","v":"Pre-audit outcome"},{"$f":"Head9","v":"Budget Year 2020/21"},{"$f":"Head10","v":"Budget Year +1 2021/22"},{"$f":"Head11","v":"Budget Year +2 2022/23"}]
["Financial Performance"]
["Property rates",{"$f":"'A4-FinPerf RE'!C5","v":13122243},{"$f":"'A4-FinPerf RE'!D5","v":12744064},{"$f":"'A4-FinPerf RE'!E5","v":21926722},{"$f":"'A4-FinPerf RE'!F5","v":23023059.329999998},{"$f":"'A4-FinPerf RE'!G5","v":23023059.329999998},{"$f":"'A4-FinPerf RE'!H5","v":23023059.329999998},{"$f":"'A4-FinPerf RE'!I5","v":23023059.329999998},{"$f":"'A4-FinPerf RE'!J5","v":23573023.939999998},{"$f":"'A4-FinPerf RE'!K5","v":24633810.010000005},{"$f":"'A4-FinPerf RE'!L5","v":25742331.469999999}]
["Service charges",{"$f":"SUM('A4-FinPerf RE'!C6:C9)","v":1726005},{"$f":"SUM('A4-FinPerf RE'!D6:D9)","v":2155141},{"$f":"SUM('A4-FinPerf RE'!E6:E9)","v":2000000},{"$f":"SUM('A4-FinPerf RE'!F6:F9)","v":2100000},{"$f":"SUM('A4-FinPerf RE'!G6:G9)","v":2100000},{"$f":"SUM('A4-FinPerf RE'!H6:H9)","v":2100000},{"$f":"SUM('A4-FinPerf RE'!I6:I9)","v":2100000},{"$f":"SUM('A4-FinPerf RE'!J6:J9)","v":3299864.16},{"$f":"SUM('A4-FinPerf RE'!K6:K9)","v":3448358.0471999999},{"$f":"SUM('A4-FinPerf RE'!L6:L9)","v":3603534.1593239997}]
["Investment revenue",{"$f":"'A4-FinPerf RE'!C12","v":9215250},{"$f":"'A4-FinPerf RE'!D12","v":11001948},{"$f":"'A4-FinPerf RE'!E12","v":16000000},{"$f":"'A4-FinPerf RE'!F12","v":16000000},{"$f":"'A4-FinPerf RE'!G12","v":13000000},{"$f":"'A4-FinPerf RE'!H12","v":13000000},{"$f":"'A4-FinPerf RE'!I12","v":13000000},{"$f":"'A4-FinPerf RE'!J12","v":12000000},{"$f":"'A4-FinPerf RE'!K12","v":12540000},{"$f":"'A4-FinPerf RE'!L12","v":13104300}]
["Transfers recognised - operational",{"$f":"'A4-FinPerf RE'!C18","v":95039000},{"$f":"'A4-FinPerf RE'!D18","v":99114000},{"$f":"'A4-FinPerf RE'!E18","v":142130906},{"$f":"'A4-FinPerf RE'!F18","v":186786511.63999999},{"$f":"'A4-FinPerf RE'!G18","v":115301777},{"$f":"'A4-FinPerf RE'!H18","v":115301777},{"$f":"'A4-FinPerf RE'!I18","v":115301777},{"$f":"'A4-FinPerf RE'!J18","v":122063000},{"$f":"'A4-FinPerf RE'!K18","v":127555834.99999999},{"$f":"'A4-FinPerf RE'!L18","v":133295847.57499997}]
["Other own revenue",{"$f":"'A4-FinPerf RE'!C11+'A4-FinPerf RE'!C13+'A4-FinPerf RE'!C14+'A4-FinPerf RE'!C15+'A4-FinPerf RE'!C16+'A4-FinPerf RE'!C17+'A4-FinPerf RE'!C19+'A4-FinPerf RE'!C20","v":12033023},{"$f":"'A4-FinPerf RE'!D11+'A4-FinPerf RE'!D13+'A4-FinPerf RE'!D14+'A4-FinPerf RE'!D15+'A4-FinPerf RE'!D16+'A4-FinPerf RE'!D17+'A4-FinPerf RE'!D19+'A4-FinPerf RE'!D20","v":6573117},{"$f":"'A4-FinPerf RE'!E11+'A4-FinPerf RE'!E13+'A4-FinPerf RE'!E14+'A4-FinPerf RE'!E15+'A4-FinPerf RE'!E16+'A4-FinPerf RE'!E17+'A4-FinPerf RE'!E19+'A4-FinPerf RE'!E20","v":6816392},{"$f":"'A4-FinPerf RE'!F11+'A4-FinPerf RE'!F13+'A4-FinPerf RE'!F14+'A4-FinPerf RE'!F15+'A4-FinPerf RE'!F16+'A4-FinPerf RE'!F17+'A4-FinPerf RE'!F19+'A4-FinPerf RE'!F20","v":6721606.7200000007},{"$f":"'A4-FinPerf RE'!G11+'A4-FinPerf RE'!G13+'A4-FinPerf RE'!G14+'A4-FinPerf RE'!G15+'A4-FinPerf RE'!G16+'A4-FinPerf RE'!G17+'A4-FinPerf RE'!G19+'A4-FinPerf RE'!G20","v":7321607},{"$f":"'A4-FinPerf RE'!H11+'A4-FinPerf RE'!H13+'A4-FinPerf RE'!H14+'A4-FinPerf RE'!H15+'A4-FinPerf RE'!H16+'A4-FinPerf RE'!H17+'A4-FinPerf RE'!H19+'A4-FinPerf RE'!H20","v":7321607},{"$f":"'A4-FinPerf RE'!I11+'A4-FinPerf RE'!I13+'A4-FinPerf RE'!I14+'A4-FinPerf RE'!I15+'A4-FinPerf RE'!I16+'A4-FinPerf RE'!I17+'A4-FinPerf RE'!I19+'A4-FinPerf RE'!I20","v":7321607},{"$f":"'A4-FinPerf RE'!J11+'A4-FinPerf RE'!J13+'A4-FinPerf RE'!J14+'A4-FinPerf RE'!J15+'A4-FinPerf RE'!J16+'A4-FinPerf RE'!J17+'A4-FinPerf RE'!J19+'A4-FinPerf RE'!J20","v":7122450.7200000007},{"$f":"'A4-FinPerf RE'!K11+'A4-FinPerf RE'!K13+'A4-FinPerf RE'!K14+'A4-FinPerf RE'!K15+'A4-FinPerf RE'!K16+'A4-FinPerf RE'!K17+'A4-FinPerf RE'!K19+'A4-FinPerf RE'!K20","v":7450212.1200000001},{"$f":"'A4-FinPerf RE'!L11+'A4-FinPerf RE'!L13+'A4-FinPerf RE'!L14+'A4-FinPerf RE'!L15+'A4-FinPerf RE'!L16+'A4-FinPerf RE'!L17+'A4-FinPerf RE'!L19+'A4-FinPerf RE'!L20","v":7792921.870000001}]
[{"$f":"'A4-FinPerf RE'!A21","v":"Total Revenue (excluding capital transfers and contributions)"},{"$f":"SUM(B5:B9)","v":131135521},131588270,188874020,234631177.68999997,160746443.32999998,160746443.32999998,160746443.32999998,168058338.81999999,175628215.17719999,183538935.07432398]
["Employee costs",{"$f":"'A4-FinPerf RE'!C24","v":52842444},{"$f":"'A4-FinPerf RE'!D24","v":62912128},{"$f":"'A4-FinPerf RE'!E24","v":67856351},{"$f":"'A4-FinPerf RE'!F24","v":77459290.379999995},{"$f":"'A4-FinPerf RE'!G24","v":77893785},{"$f":"'A4-FinPerf RE'!H24","v":77893785},{"$f":"'A4-FinPerf RE'!I24","v":77893785},{"$f":"'A4-FinPerf RE'!J24","v":84552341.279999971},{"$f":"'A4-FinPerf RE'!K24","v":86463712.980000019},{"$f":"'A4-FinPerf RE'!L24","v":90441043.760000005}]
["Remuneration of councillors",{"$f":"'A4-FinPerf RE'!C25","v":8378802},{"$f":"'A4-FinPerf RE'!D25","v":9901684},{"$f":"'A4-FinPerf RE'!E25","v":10358844},{"$f":"'A4-FinPerf RE'!F25","v":11097335.02},{"$f":"'A4-FinPerf RE'!G25","v":11097336},{"$f":"'A4-FinPerf RE'!H25","v":11097336},{"$f":"'A4-FinPerf RE'!I25","v":11097336},{"$f":"'A4-FinPerf RE'!J25","v":11097335.060000001},{"$f":"'A4-FinPerf RE'!K25","v":11607812.470000001},{"$f":"'A4-FinPerf RE'!L25","v":12141771.85}]
["Depreciation & asset impairment",{"$f":"'A4-FinPerf RE'!C27","v":20172670},{"$f":"'A4-FinPerf RE'!D27","v":21270935},{"$f":"'A4-FinPerf RE'!E27","v":20000000},{"$f":"'A4-FinPerf RE'!F27","v":20000000},{"$f":"'A4-FinPerf RE'!G27","v":22000000},{"$f":"'A4-FinPerf RE'!H27","v":22000000},{"$f":"'A4-FinPerf RE'!I27","v":22000000},{"$f":"'A4-FinPerf RE'!J27","v":23188000},{"$f":"'A4-FinPerf RE'!K27","v":24254647.989999998},{"$f":"'A4-FinPerf RE'!L27","v":25370361.810000002}]
["Finance charges",{"$f":"'A4-FinPerf RE'!C28","v":0},{"$f":"'A4-FinPerf RE'!D28","v":2856},{"$f":"'A4-FinPerf RE'!E28","v":0},{"$f":"'A4-FinPerf RE'!F28","v":0},{"$f":"'A4-FinPerf RE'!G28","v":0},{"$f":"'A4-FinPerf RE'!H28","v":0},{"$f":"'A4-FinPerf RE'!I28","v":0},{"$f":"'A4-FinPerf RE'!J28","v":0},{"$f":"'A4-FinPerf RE'!K28","v":0},{"$f":"'A4-FinPerf RE'!L28","v":0}]
["Materials and bulk purchases",{"$f":"'A4-FinPerf RE'!C29+'A4-FinPerf RE'!C30","v":2882897},{"$f":"'A4-FinPerf RE'!D29+'A4-FinPerf RE'!D30","v":0},{"$f":"'A4-FinPerf RE'!E29+'A4-FinPerf RE'!E30","v":770454},{"$f":"'A4-FinPerf RE'!F29+'A4-FinPerf RE'!F30","v":869840},{"$f":"'A4-FinPerf RE'!G29+'A4-FinPerf RE'!G30","v":1145840},{"$f":"'A4-FinPerf RE'!H29+'A4-FinPerf RE'!H30","v":1145840},{"$f":"'A4-FinPerf RE'!I29+'A4-FinPerf RE'!I30","v":1145840},{"$f":"'A4-FinPerf RE'!J29+'A4-FinPerf RE'!J30","v":1121002.8},{"$f":"'A4-FinPerf RE'!K29+'A4-FinPerf RE'!K30","v":1172568.94},{"$f":"'A4-FinPerf RE'!L29+'A4-FinPerf RE'!L30","v":1226507.0899999999}]
["Transfers and grants",{"$f":"'A4-FinPerf RE'!C32","v":1296000},{"$f":"'A4-FinPerf RE'!D32","v":0},{"$f":"'A4-FinPerf RE'!E32","v":40767000},{"$f":"'A4-FinPerf RE'!F32","v":86040321.170000002},{"$f":"'A4-FinPerf RE'!G32","v":14603947.279999999},{"$f":"'A4-FinPerf RE'!H32","v":14603947.279999999},{"$f":"'A4-FinPerf RE'!I32","v":14603947.279999999},{"$f":"'A4-FinPerf RE'!J32","v":3844875.2},{"$f":"'A4-FinPerf RE'!K32","v":4021739.46},{"$f":"'A4-FinPerf RE'!L32","v":4206739.47}]
["Other expenditure",{"$f":"'A4-FinPerf RE'!C26+'A4-FinPerf RE'!C31+'A4-FinPerf RE'!C33+'A4-FinPerf RE'!C34","v":40619288},{"$f":"'A4-FinPerf RE'!D26+'A4-FinPerf RE'!D31+'A4-FinPerf RE'!D33+'A4-FinPerf RE'!D34","v":39589222},{"$f":"'A4-FinPerf RE'!E26+'A4-FinPerf RE'!E31+'A4-FinPerf RE'!E33+'A4-FinPerf RE'!E34","v":47777506},{"$f":"'A4-FinPerf RE'!F26+'A4-FinPerf RE'!F31+'A4-FinPerf RE'!F33+'A4-FinPerf RE'!F34","v":48619861.649999999},{"$f":"'A4-FinPerf RE'!G26+'A4-FinPerf RE'!G31+'A4-FinPerf RE'!G33+'A4-FinPerf RE'!G34","v":49082642.840000004},{"$f":"'A4-FinPerf RE'!H26+'A4-FinPerf RE'!H31+'A4-FinPerf RE'!H33+'A4-FinPerf RE'!H34","v":49082642.840000004},{"$f":"'A4-FinPerf RE'!I26+'A4-FinPerf RE'!I31+'A4-FinPerf RE'!I33+'A4-FinPerf RE'!I34","v":49082642.840000004},{"$f":"'A4-FinPerf RE'!J26+'A4-FinPerf RE'!J31+'A4-FinPerf RE'!J33+'A4-FinPerf RE'!J34","v":50279239.039999999},{"$f":"'A4-FinPerf RE'!K26+'A4-FinPerf RE'!K31+'A4-FinPerf RE'!K33+'A4-FinPerf RE'!K34","v":50106164.490000017},{"$f":"'A4-FinPerf RE'!L26+'A4-FinPerf RE'!L31+'A4-FinPerf RE'!L33+'A4-FinPerf RE'!L34","v":52411048.099999979}]
[{"$f":"'A4-FinPerf RE'!A35","v":"Total Expenditure"},{"$f":"SUM(B11:B17)","v":126192101},{"$f":"SUM(C11:C17)","v":133676825},187530155,244086648.22,175823551.12,175823551.12,175823551.12,174082793.37999997,177626646.33000001,185797472.07999998]
[{"$f":"'A4-FinPerf RE'!A37","v":"Surplus/(Deficit)"},{"$f":"B10-B18","v":4943420},-2088555,1343865,-9455470.530000031,-15077107.790000021,-15077107.790000021,-15077107.790000021,-6024454.5599999726,-1998431.1528000236,-2258537.0056760013]
[{"$f":"'A4-FinPerf RE'!A38","v":"Transfers and subsidies - capital (monetary allocations) (National / Provincial and District)"},{"$f":"'A4-FinPerf RE'!C38","v":29718917},{"$f":"'A4-FinPerf RE'!D38","v":27330000},{"$f":"'A4-FinPerf RE'!E38","v":31439000},{"$f":"'A4-FinPerf RE'!F38","v":33317000},{"$f":"'A4-FinPerf RE'!G38","v":33317000},{"$f":"'A4-FinPerf RE'!H38","v":33317000},{"$f":"'A4-FinPerf RE'!I38","v":33317000},{"$f":"'A4-FinPerf RE'!J38","v":26759000},{"$f":"'A4-FinPerf RE'!K38","v":27989914},{"$f":"'A4-FinPerf RE'!L38","v":29277450.039999999}]
["Contributions recognised - capital & contributed assets",{"$f":"'A4-FinPerf RE'!C39+'A4-FinPerf RE'!C40","v":0},{"$f":"'A4-FinPerf RE'!D39+'A4-FinPerf RE'!D40","v":0},{"$f":"'A4-FinPerf RE'!E39+'A4-FinPerf RE'!E40","v":0},{"$f":"'A4-FinPerf RE'!F39+'A4-FinPerf RE'!F40","v":0},{"$f":"'A4-FinPerf RE'!G39+'A4-FinPerf RE'!G40","v":0},{"$f":"'A4-FinPerf RE'!H39+'A4-FinPerf RE'!H40","v":0},{"$f":"'A4-FinPerf RE'!I39+'A4-FinPerf RE'!I40","v":0},{"$f":"'A4-FinPerf RE'!J39+'A4-FinPerf RE'!J40","v":0},{"$f":"'A4-FinPerf RE'!K39+'A4-FinPerf RE'!K40","v":0},{"$f":"'A4-FinPerf RE'!L39+'A4-FinPerf RE'!L40","v":0}]
[{"$f":"'A4-FinPerf RE'!A41","v":"Surplus/(Deficit) after capital transfers & contributions"},{"$f":"B19+SUM(B20:B21)","v":34662337},{"$f":"C19+SUM(C20:C21)","v":25241445},32782865,23861529.469999969,18239892.209999979,18239892.209999979,18239892.209999979,20734545.440000027,25991482.847199976,27018913.034323998]
[{"$f":"'A4-FinPerf RE'!A46","v":"Share of surplus/ (deficit) of associate"},{"$f":"'A4-FinPerf RE'!C46","v":0},{"$f":"'A4-FinPerf RE'!D46","v":0},{"$f":"'A4-FinPerf RE'!E46","v":0},{"$f":"'A4-FinPerf RE'!F46","v":0},{"$f":"'A4-FinPerf RE'!G46","v":0},{"$f":"'A4-FinPerf RE'!H46","v":0},{"$f":"'A4-FinPerf RE'!I46","v":0},{"$f":"'A4-FinPerf RE'!J46","v":0},{"$f":"'A4-FinPerf RE'!K46","v":0},{"$f":"'A4-FinPerf RE'!L46","v":0}]
[{"$f":"'A4-FinPerf RE'!A47","v":"Surplus/(Deficit) for the year"},{"$f":"B22+B23","v":34662337},{"$f":"C22+C23","v":25241445},32782865,23861529.469999969,18239892.209999979,18239892.209999979,18239892.209999979,20734545.440000027,25991482.847199976,27018913.034323998]
[]
["Capital expenditure & funds sources"]
["Capital expenditure",{"$f":"'A5-Capex'!C63","v":73317502},{"$f":"'A5-Capex'!D63","v":38020019.590000004},{"$f":"'A5-Capex'!E63","v":60899447},{"$f":"'A5-Capex'!F63","v":78295829.00999999},{"$f":"'A5-Capex'!G63","v":76454174.24000001},{"$f":"'A5-Capex'!H63","v":76454174.24000001},{"$f":"'A5-Capex'!I63","v":76454174.24000001},{"$f":"'A5-Capex'!J63","v":59178682.589999996},{"$f":"'A5-Capex'!K63","v":45075588.920000002},{"$f":"'A5-Capex'!L63","v":47149065.989999995}]
["Transfers recognised - capital",{"$f":"'A5-Capex'!C70","v":56089892},{"$f":"'A5-Capex'!D70","v":26279731.550000001},{"$f":"'A5-Capex'!E70","v":31439003},{"$f":"'A5-Capex'!F70","v":33317000.009999998},{"$f":"'A5-Capex'!G70","v":33317001},{"$f":"'A5-Capex'!H70","v":33317001},{"$f":"'A5-Capex'!I70","v":33317001},{"$f":"'A5-Capex'!J70","v":26758999.980000004},{"$f":"'A5-Capex'!K70","v":22826540.489999998},{"$f":"'A5-Capex'!L70","v":23876561.340000007}]
[]
[{"$f":"'A5-Capex'!A72","v":"Borrowing"},{"$f":"'A5-Capex'!C72","v":0},{"$f":"'A5-Capex'!D72","v":0},{"$f":"'A5-Capex'!E72","v":0},{"$f":"'A5-Capex'!F72","v":0},{"$f":"'A5-Capex'!G72","v":0},{"$f":"'A5-Capex'!H72","v":0},{"$f":"'A5-Capex'!I72","v":0},{"$f":"'A5-Capex'!J72","v":0},{"$f":"'A5-Capex'!K72","v":0},{"$f":"'A5-Capex'!L72","v":0}]
[{"$f":"'A5-Capex'!A73","v":"Internally generated funds"},{"$f":"'A5-Capex'!C73","v":17227610},{"$f":"'A5-Capex'!D73","v":11740288.039999999},{"$f":"'A5-Capex'!E73","v":29460444},{"$f":"'A5-Capex'!F73","v":44978829},{"$f":"'A5-Capex'!G73","v":43137173.240000002},{"$f":"'A5-Capex'!H73","v":43137173.240000002},{"$f":"'A5-Capex'!I73","v":43137173.240000002},{"$f":"'A5-Capex'!J73","v":32420326.609999999},{"$f":"'A5-Capex'!K73","v":22249000},{"$f":"'A5-Capex'!L73","v":23272438.66}]
["Total sources of capital funds",{"$f":"+B28+B30+B31","v":73317502},{"$f":"+C28+C30+C31","v":38020019.590000004},60899447,78295829.00999999,76454174.24000001,76454174.24000001,76454174.24000001,59179326.590000004,45075540.489999995,47149000.000000007]
[]
["Financial position"]
[{"$f":"'A6-FinPos'!A12","v":"Total current assets"},{"$f":"'A6-FinPos'!C12","v":135186064},{"$f":"'A6-FinPos'!D12","v":102395778},{"$f":"'A6-FinPos'!E12","v":134870211},{"$f":"'A6-FinPos'!F12","v":105302255},{"$f":"'A6-FinPos'!G12","v":201048274.07999998},{"$f":"'A6-FinPos'!H12","v":201048274.07999998},{"$f":"'A6-FinPos'!I12","v":203953007.52999997},{"$f":"'A6-FinPos'!J12","v":216958474.00957817},{"$f":"'A6-FinPos'!K12","v":226721605.34000915},{"$f":"'A6-FinPos'!L12","v":236924077.58030954}]
[{"$f":"'A6-FinPos'!A24","v":"Total non current assets"},{"$f":"'A6-FinPos'!C24","v":260457614},{"$f":"'A6-FinPos'!D24","v":271555307},{"$f":"'A6-FinPos'!E24","v":337311222},{"$f":"'A6-FinPos'!F24","v":81159684.00999999},{"$f":"'A6-FinPos'!G24","v":349203034.86400002},{"$f":"'A6-FinPos'!H24","v":345973777},{"$f":"'A6-FinPos'!I24","v":346998499.70999998},{"$f":"'A6-FinPos'!J24","v":325201259.60618198},{"$f":"'A6-FinPos'!K24","v":337838247.62846011},{"$f":"'A6-FinPos'!L24","v":360889890.02144086}]
[{"$f":"'A6-FinPos'!A34","v":"Total current liabilities"},{"$f":"'A6-FinPos'!C34","v":37579225},{"$f":"'A6-FinPos'!D34","v":62656371},{"$f":"'A6-FinPos'!E34","v":26129834},{"$f":"'A6-FinPos'!F34","v":-27338825},{"$f":"'A6-FinPos'!G34","v":33373081},{"$f":"'A6-FinPos'!H34","v":33373081},{"$f":"'A6-FinPos'!I34","v":33373081},{"$f":"'A6-FinPos'!J34","v":36687792},{"$f":"'A6-FinPos'!K34","v":38280892.709999993},{"$f":"'A6-FinPos'!L34","v":39945682.951949991}]
[{"$f":"'A6-FinPos'!A39","v":"Total non current liabilities"},{"$f":"'A6-FinPos'!C39","v":6700000},{"$f":"'A6-FinPos'!D39","v":8444000},{"$f":"'A6-FinPos'!E39","v":9410201},{"$f":"'A6-FinPos'!F39","v":0},{"$f":"'A6-FinPos'!G39","v":0},{"$f":"'A6-FinPos'!H39","v":0},{"$f":"'A6-FinPos'!I39","v":0},{"$f":"'A6-FinPos'!J39","v":7217000},{"$f":"'A6-FinPos'!K39","v":7541764.9999999991},{"$f":"'A6-FinPos'!L39","v":7881144.4249999989}]
["Community wealth/Equity",{"$f":"'A6-FinPos'!C48","v":695788453.44000006},{"$f":"'A6-FinPos'!D48","v":386262949},{"$f":"'A6-FinPos'!E48","v":429718500.89399999},{"$f":"'A6-FinPos'!F48","v":132398433},{"$f":"'A6-FinPos'!G48","v":594677056},{"$f":"'A6-FinPos'!H48","v":594677056},{"$f":"'A6-FinPos'!I48","v":594677056},{"$f":"'A6-FinPos'!J48","v":504694395.61575997},{"$f":"'A6-FinPos'!K48","v":527388823.00346911},{"$f":"'A6-FinPos'!L48","v":551104499.62362516}]
[]
["Cash flows"]
["Net cash from (used) operating",{"$f":"'A7-CFlow'!C17","v":104738646},{"$f":"'A7-CFlow'!D17","v":59968999},{"$f":"'A7-CFlow'!E17","v":39781942.75},{"$f":"'A7-CFlow'!F17","v":47691030.940000147},{"$f":"'A7-CFlow'!G17","v":40245089.870000154},{"$f":"'A7-CFlow'!H17","v":40245089.870000154},{"$f":"'A7-CFlow'!I17","v":40245089.870000154},{"$f":"'A7-CFlow'!J17","v":35375674.670000017},{"$f":"'A7-CFlow'!K17","v":42587523.98390007},{"$f":"'A7-CFlow'!L17","v":45877005.631414533}]
["Net cash from (used) investing",{"$f":"'A7-CFlow'!C27","v":-73317502},{"$f":"'A7-CFlow'!D27","v":-38020019.590000004},{"$f":"'A7-CFlow'!E27","v":-60899447},{"$f":"'A7-CFlow'!F27","v":-77295829.010000005},{"$f":"'A7-CFlow'!G27","v":-75454174.239999995},{"$f":"'A7-CFlow'!H27","v":-75454174.239999995},{"$f":"'A7-CFlow'!I27","v":-75454174.239999995},{"$f":"'A7-CFlow'!J27","v":-59198682.606181815},{"$f":"'A7-CFlow'!K27","v":-45075588.920000009},{"$f":"'A7-CFlow'!L27","v":-47149065.990000002}]
["Net cash from (used) financing",{"$f":"'A7-CFlow'!C36","v":0},{"$f":"'A7-CFlow'!D36","v":0},{"$f":"'A7-CFlow'!E36","v":0},{"$f":"'A7-CFlow'!F36","v":0},{"$f":"'A7-CFlow'!G36","v":0},{"$f":"'A7-CFlow'!H36","v":0},{"$f":"'A7-CFlow'!I36","v":0},{"$f":"'A7-CFlow'!J36","v":0},{"$f":"'A7-CFlow'!K36","v":0},{"$f":"'A7-CFlow'!L36","v":0}]
[{"$f":"LEFT('A7-CFlow'!A40,37)","v":"Cash/cash equivalents at the year end"},{"$f":"'A7-CFlow'!C40","v":134650908},{"$f":"'A7-CFlow'!D40","v":303234891.40999997},{"$f":"'A7-CFlow'!E40","v":358157426.34000003},{"$f":"'A7-CFlow'!F40","v":450351522.27000016},{"$f":"'A7-CFlow'!G40","v":303785977.56000036},{"$f":"'A7-CFlow'!H40","v":231322160.68000036},{"$f":"'A7-CFlow'!I40","v":162037166.74000037},{"$f":"'A7-CFlow'!J40","v":163351442.06381822},{"$f":"'A7-CFlow'!K40","v":160863377.12771827},{"$f":"'A7-CFlow'!L40","v":159591316.76913279}]
[]
["Cash backing/surplus reconciliation"]
[{"$f":"'A8-ResRecon'!A4","v":"Cash and investments available"},{"$f":"'A8-ResRecon'!C8","v":118300602},{"$f":"'A8-ResRecon'!D8","v":102395778},{"$f":"'A8-ResRecon'!E8","v":104404376},{"$f":"'A8-ResRecon'!F8","v":105302255},{"$f":"'A8-ResRecon'!G8","v":171455319},{"$f":"'A8-ResRecon'!H8","v":171455319},{"$f":"'A8-ResRecon'!I8","v":171455319},{"$f":"'A8-ResRecon'!J8","v":166768745.47589934},{"$f":"'A8-ResRecon'!K8","v":174273339.02231479},{"$f":"'A8-ResRecon'!L8","v":182115639.27831894}]
[{"$f":"'A8-ResRecon'!A10","v":"Application of cash and investments"},{"$f":"'A8-ResRecon'!C18","v":23227225},{"$f":"'A8-ResRecon'!D18","v":29963137},{"$f":"'A8-ResRecon'!E18","v":8271834},{"$f":"'A8-ResRecon'!F18","v":-27338825},{"$f":"'A8-ResRecon'!G18","v":12173081},{"$f":"'A8-ResRecon'!H18","v":12173081},{"$f":"'A8-ResRecon'!I18","v":12173081},{"$f":"'A8-ResRecon'!J18","v":5121256},{"$f":"'A8-ResRecon'!K18","v":5045452.5899999961},{"$f":"'A8-ResRecon'!L18","v":4922728.0265499949}]
["Balance - surplus (shortfall)",{"$f":"B48-B49","v":95073377},{"$f":"C48-C49","v":72432641},96132542,132641080,159282238,159282238,159282238,161647489.47589934,169227886.43231478,177192911.25176895]
[]
["Asset management"]
["Asset register summary (WDV)",{"$f":"'A9-Asset'!C165","v":127145077.54999995},{"$f":"'A9-Asset'!D165","v":6500091.4400000004},{"$f":"'A9-Asset'!E165","v":17656715.77},{"$f":"'A9-Asset'!F165","v":43481885.399999999},{"$f":"'A9-Asset'!G165","v":38179656.510000005},{"$f":"'A9-Asset'!H165","v":38179656.510000005},{"$f":"'A9-Asset'!H165","v":38179656.510000005},{"$f":"'A9-Asset'!I165","v":34955343.189999998},{"$f":"'A9-Asset'!J165","v":20757684.43},{"$f":"'A9-Asset'!K165","v":21712537.899999999}]
[{"$f":"'A9-Asset'!A168","v":"Depreciation"},{"$f":"'A9-Asset'!C168","v":20172670},{"$f":"'A9-Asset'!D168","v":21041469},{"$f":"'A9-Asset'!E168","v":20000039},{"$f":"'A9-Asset'!F168","v":20000000},{"$f":"'A9-Asset'!G168","v":22000000},{"$f":"'A9-Asset'!H168","v":22000000},{"$f":"'A9-Asset'!H168","v":22000000},{"$f":"'A9-Asset'!I168","v":23187999.999999996},{"$f":"'A9-Asset'!J168","v":24254647.990000002},{"$f":"'A9-Asset'!K168","v":25370361.810000006}]
["Renewal and Upgrading of Existing Assets",{"$f":"'A9-Asset'!C37+'A9-Asset'!C69","v":8622659},{"$f":"'A9-Asset'!D37+'A9-Asset'!D69","v":19962688.470000003},{"$f":"'A9-Asset'!E37+'A9-Asset'!E69","v":13091477.49},{"$f":"'A9-Asset'!F37+'A9-Asset'!F69","v":22661007.52},{"$f":"'A9-Asset'!G37+'A9-Asset'!G69","v":22687413.629999999},{"$f":"'A9-Asset'!H37+'A9-Asset'!H69","v":22687413.629999999},{"$f":"'A9-Asset'!H37+'A9-Asset'!H69","v":22687413.629999999},{"$f":"'A9-Asset'!I37+'A9-Asset'!I69","v":12123651.140000001},{"$f":"'A9-Asset'!J37+'A9-Asset'!J69","v":12752817.770000001},{"$f":"'A9-Asset'!K37+'A9-Asset'!K69","v":13339447.380000001}]
["Repairs and Maintenance",{"$f":"'A9-Asset'!C169","v":724861.83000000007},{"$f":"'A9-Asset'!D169","v":724861.83000000007},{"$f":"'A9-Asset'!E169","v":575693.82999999996},{"$f":"'A9-Asset'!F169","v":1186156.56},{"$f":"'A9-Asset'!G169","v":1366157},{"$f":"'A9-Asset'!H169","v":1366157},{"$f":"'A9-Asset'!H169","v":1366157},{"$f":"'A9-Asset'!I169","v":1427633.11},{"$f":"'A9-Asset'!J169","v":1493304.23},{"$f":"'A9-Asset'!K169","v":1561996.2199999997}]
[]
["Free services"]
["Cost of Free Basic Services provided",{"$f":"'A10-SerDel'!C60","v":0},{"$f":"'A10-SerDel'!D60","v":813554},{"$f":"'A10-SerDel'!E60","v":813554},{"$f":"'A10-SerDel'!F60","v":768237},{"$f":"'A10-SerDel'!G60","v":1114277},{"$f":"'A10-SerDel'!H60","v":1000247},{"$f":"'A10-SerDel'!I60","v":1400350},{"$f":"'A10-SerDel'!I60","v":1400350},{"$f":"'A10-SerDel'!J60","v":1400363},{"$f":"'A10-SerDel'!K60","v":1400376}]
["Revenue cost of free services provided",{"$f":"'A10-SerDel'!C79","v":0},{"$f":"'A10-SerDel'!D79","v":0},{"$f":"'A10-SerDel'!E79","v":5685897},{"$f":"'A10-SerDel'!F79","v":5970191.75},{"$f":"'A10-SerDel'!G79","v":5970191.75},{"$f":"'A10-SerDel'!H79","v":5970191.75},{"$f":"'A10-SerDel'!I79","v":8721174.1699999999},{"$f":"'A10-SerDel'!I79","v":8721174.1699999999},{"$f":"'A10-SerDel'!J79","v":9113627.0099999998},{"$f":"'A10-SerDel'!K79","v":9523740.2200000007}]
["Households below minimum service level"]
[{"$f":"'A10-SerDel'!A5","v":"Water:"},{"$f":"'A10-SerDel'!C14","v":0},{"$f":"'A10-SerDel'!D14","v":10670},{"$f":"'A10-SerDel'!E14","v":10670},{"$f":"'A10-SerDel'!F14","v":11763.674999999999},{"$f":"'A10-SerDel'!G14","v":10670},{"$f":"'A10-SerDel'!H14","v":11203.5},{"$f":"'A10-SerDel'!I14","v":11763.674999999999},{"$f":"'A10-SerDel'!I14","v":11763.674999999999},{"$f":"'A10-SerDel'!J14","v":11203.5},{"$f":"'A10-SerDel'!K14","v":11763.674999999999}]
[{"$f":"'A10-SerDel'!A16","v":"Sanitation/sewerage:"},{"$f":"'A10-SerDel'!C26","v":0},{"$f":"'A10-SerDel'!D26","v":13469},{"$f":"'A10-SerDel'!E26","v":13469},{"$f":"'A10-SerDel'!F26","v":14849.5725},{"$f":"'A10-SerDel'!G26","v":14142.45},{"$f":"'A10-SerDel'!H26","v":13469},{"$f":"'A10-SerDel'!I26","v":14849.5725},{"$f":"'A10-SerDel'!I26","v":14849.5725},{"$f":"'A10-SerDel'!J26","v":14142.45},{"$f":"'A10-SerDel'!K26","v":14849.5725}]
[{"$f":"'A10-SerDel'!A28","v":"Energy:"},{"$f":"'A10-SerDel'!C35","v":0},{"$f":"'A10-SerDel'!D35","v":0},{"$f":"'A10-SerDel'!E35","v":0},{"$f":"'A10-SerDel'!F35","v":0},{"$f":"'A10-SerDel'!G35","v":0},{"$f":"'A10-SerDel'!H35","v":0},{"$f":"'A10-SerDel'!I35","v":0},{"$f":"'A10-SerDel'!I35","v":0},{"$f":"'A10-SerDel'!J35","v":0},{"$f":"'A10-SerDel'!K35","v":0}]
[{"$f":"'A10-SerDel'!A37","v":"Refuse:"},{"$f":"'A10-SerDel'!C45","v":0},{"$f":"'A10-SerDel'!D45","v":1},{"$f":"'A10-SerDel'!E45","v":1},{"$f":"'A10-SerDel'!F45","v":1},{"$f":"'A10-SerDel'!G45","v":1},{"$f":"'A10-SerDel'!H45","v":1},{"$f":"'A10-SerDel'!I45","v":1},{"$f":"'A10-SerDel'!I45","v":1},{"$f":"'A10-SerDel'!J45","v":1},{"$f":"'A10-SerDel'!K45","v":1}]

{"sheet":"A2-FinPerf SC","index":7,"n_rows":58,"n_cols":11,"rows_kept":58,"cut":false,"hidden":false,"merged":[[53,0,53,10],[1,5,1,7],[1,8,1,10]]}
[{"$f":"muni&\" - \"&Approve3","v":"KZN434 Ubuhlebezwe - Table A2 Budgeted Financial Performance (revenue and expenditure by functional classification)"}]
[{"$f":"\"Functional Classification \"&desc","v":"Functional Classification Description"},{"$f":"head27","v":"Ref"},{"$f":"head1b","v":"2016/17"},{"$f":"head1A","v":"2017/18"},{"$f":"Head1","v":"2018/19"},{"$f":"Head2","v":"Current Year 2019/20"},null,null,{"$f":"Head3","v":"2020/21 Medium Term Revenue & Expenditure Framework"}]
["R thousand",1,{"$f":"Head5","v":"Audited Outcome"},{"$f":"Head5","v":"Audited Outcome"},{"$f":"Head5","v":"Audited Outcome"},{"$f":"Head6","v":"Original Budget"},{"$f":"Head7","v":"Adjusted Budget"},{"$f":"Head8","v":"Full Year Forecast"},{"$f":"Head9","v":"Budget Year 2020/21"},{"$f":"Head10","v":"Budget Year +1 2021/22"},{"$f":"Head11","v":"Budget Year +2 2022/23"}]
["Revenue - Functional"]
["Governance and administration",null,{"$f":"SUM(C6:C8)","v":157549545},{"$f":"SUM(D6:D8)","v":120964461},138590018,152440115.33000001,149490116,149490116,156711923.94,63749102.539999999,66681561.249999993]
["Executive and council",null,{"$f":"A2A!C6","v":0},{"$f":"A2A!D6","v":0},{"$f":"A2A!E6","v":0},{"$f":"A2A!F6","v":0},{"$f":"A2A!G6","v":0},{"$f":"A2A!H6","v":0},{"$f":"A2A!I6","v":0},{"$f":"A2A!J6","v":0},{"$f":"A2A!K6","v":0}]
["Finance and administration",null,{"$f":"A2A!C9","v":157549545},{"$f":"A2A!D9","v":120964461},{"$f":"A2A!E9","v":138590018},{"$f":"A2A!F9","v":152440115.33000001},{"$f":"A2A!G9","v":149490116},{"$f":"A2A!H9","v":149490116},{"$f":"A2A!I9","v":156711923.94},{"$f":"A2A!J9","v":63749102.539999999},{"$f":"A2A!K9","v":66681561.249999993}]
["Internal audit",null,{"$f":"A2A!C23","v":0},{"$f":"A2A!D23","v":0},{"$f":"A2A!E23","v":0},{"$f":"A2A!F23","v":0},{"$f":"A2A!G23","v":0},{"$f":"A2A!H23","v":0},{"$f":"A2A!I23","v":0},{"$f":"A2A!J23","v":0},{"$f":"A2A!K23","v":0}]
["Community and public safety",null,{"$f":"SUM(C10:C14)","v":3304893},{"$f":"SUM(D10:D14)","v":6854999},32778703,72808627.640000001,14823893,14823893,9235116,126288504.3,132097775.5]
["Community and social services",null,{"$f":"A2A!C26","v":0},{"$f":"A2A!D26","v":2274446},{"$f":"A2A!E26","v":1935496},{"$f":"A2A!F26","v":3866416},{"$f":"A2A!G26","v":3932416},{"$f":"A2A!H26","v":3932416},{"$f":"A2A!I26","v":4272416},{"$f":"A2A!J26","v":4468947.1399999997},{"$f":"A2A!K26","v":4674518.71}]
["Sport and recreation",null,{"$f":"A2A!C48","v":0},{"$f":"A2A!D48","v":0},{"$f":"A2A!E48","v":2050000},{"$f":"A2A!F48","v":50000},{"$f":"A2A!G48","v":28777},{"$f":"A2A!H48","v":28777},{"$f":"A2A!I48","v":0},{"$f":"A2A!J48","v":0},{"$f":"A2A!K48","v":0}]
["Public safety",null,{"$f":"A2A!C54","v":3304893},{"$f":"A2A!D54","v":4580553},{"$f":"A2A!E54","v":6626300},{"$f":"A2A!F54","v":10362700},{"$f":"A2A!G54","v":10862700},{"$f":"A2A!H54","v":10862700},{"$f":"A2A!I54","v":4962700},{"$f":"A2A!J54","v":5190984.2},{"$f":"A2A!K54","v":5429769.4700000007}]
["Housing",null,{"$f":"A2A!C63","v":0},{"$f":"A2A!D63","v":0},{"$f":"A2A!E63","v":22166907},{"$f":"A2A!F63","v":58529511.640000001},{"$f":"A2A!G63","v":0},{"$f":"A2A!H63","v":0},{"$f":"A2A!I63","v":0},{"$f":"A2A!J63","v":116628572.95999999},{"$f":"A2A!K63","v":121993487.31999999}]
["Health",null,{"$f":"A2A!C66","v":0},{"$f":"A2A!D66","v":0},{"$f":"A2A!E66","v":0},{"$f":"A2A!F66","v":0},{"$f":"A2A!G66","v":0},{"$f":"A2A!H66","v":0},{"$f":"A2A!I66","v":0},{"$f":"A2A!J66","v":0},{"$f":"A2A!K66","v":0}]
["Economic and environmental services",null,{"$f":"SUM(C16:C18)","v":0},{"$f":"SUM(D16:D18)","v":29061419},28944299,40599434.719999999,27649435,27649435,27112434.719999999,43923040.720000006,45943500.589999996]
["Planning and development",null,{"$f":"A2A!C75","v":0},{"$f":"A2A!D75","v":67054},{"$f":"A2A!E75","v":26554779},{"$f":"A2A!F75","v":615780},{"$f":"A2A!G75","v":665780},{"$f":"A2A!H75","v":665780},{"$f":"A2A!I75","v":286780},{"$f":"A2A!J75","v":173405.88},{"$f":"A2A!K75","v":181382.55}]
["Road transport",null,{"$f":"A2A!C86","v":0},{"$f":"A2A!D86","v":28994365},{"$f":"A2A!E86","v":2389520},{"$f":"A2A!F86","v":39983654.719999999},{"$f":"A2A!G86","v":26983655},{"$f":"A2A!H86","v":26983655},{"$f":"A2A!I86","v":26825654.719999999},{"$f":"A2A!J86","v":43749634.840000004},{"$f":"A2A!K86","v":45762118.039999999}]
["Environmental protection",null,{"$f":"A2A!C91","v":0},{"$f":"A2A!D91","v":0},{"$f":"A2A!E91","v":0},{"$f":"A2A!F91","v":0},{"$f":"A2A!G91","v":0},{"$f":"A2A!H91","v":0},{"$f":"A2A!I91","v":0},{"$f":"A2A!J91","v":0},{"$f":"A2A!K91","v":0}]
["Trading services",null,{"$f":"SUM(C20:C23)","v":0},{"$f":"SUM(D20:D23)","v":2037394},18000000,2100000,2100000,2100000,2600000,{"$f":"SUM(J20:J23)","v":2719600},2844701.6]
["Energy sources",null,{"$f":"A2A!C99","v":0},{"$f":"A2A!D99","v":0},{"$f":"A2A!E99","v":16000000},{"$f":"A2A!F99","v":0},{"$f":"A2A!G99","v":0},{"$f":"A2A!H99","v":0},{"$f":"A2A!I99","v":0},{"$f":"A2A!J99","v":0},{"$f":"A2A!K99","v":0}]
["Water management",null,{"$f":"A2A!C103","v":0},{"$f":"A2A!D103","v":0},{"$f":"A2A!E103","v":0},{"$f":"A2A!F103","v":0},{"$f":"A2A!G103","v":0},{"$f":"A2A!H103","v":0},{"$f":"A2A!I103","v":0},{"$f":"A2A!J103","v":0},{"$f":"A2A!K103","v":0}]
["Waste water management",null,{"$f":"A2A!C107","v":0},{"$f":"A2A!D107","v":2037394},{"$f":"A2A!E107","v":0},{"$f":"A2A!F107","v":0},{"$f":"A2A!G107","v":0},{"$f":"A2A!H107","v":0},{"$f":"A2A!I107","v":0},{"$f":"A2A!J107","v":0},{"$f":"A2A!K107","v":0}]
["Waste management",null,{"$f":"A2A!C112","v":0},{"$f":"A2A!D112","v":0},{"$f":"A2A!E112","v":2000000},{"$f":"A2A!F112","v":2100000},{"$f":"A2A!G112","v":2100000},{"$f":"A2A!H112","v":2100000},{"$f":"A2A!I112","v":2600000},{"$f":"A2A!J112","v":2719600},{"$f":"A2A!K112","v":2844701.6}]
["Other",4,{"$f":"A2A!C117","v":0},{"$f":"A2A!D117","v":0},{"$f":"A2A!E117","v":0},{"$f":"A2A!F117","v":0},{"$f":"A2A!G117","v":0},{"$f":"A2A!H117","v":0},{"$f":"A2A!I117","v":0},{"$f":"A2A!J117","v":0},{"$f":"A2A!K117","v":0}]
[{"$f":"\"Total \"&A4","v":"Total Revenue - Functional"},2,{"$f":"C5+C9+C15+C19+C24","v":160854438},{"$f":"D5+D9+D15+D19+D24","v":158918273},{"$f":"E5+E9+E15+E19+E24","v":218313020},267948177.69000003,194063444,194063444,{"$f":"I5+I9+I15+I19+I24","v":195659474.66},236680247.56,247567538.94]
[]
["Expenditure - Functional"]
["Governance and administration",null,{"$f":"SUM(C29:C31)","v":121945552},{"$f":"SUM(D29:D31)","v":82776215},86527012,91581108.420000017,95560560.540000007,95560560.540000007,100433442.32000002,102183904.65000002,106884364.28000002]
["Executive and council",null,{"$f":"A2A!C128","v":0},{"$f":"A2A!D128","v":20477617},{"$f":"A2A!E128","v":23324999},{"$f":"A2A!F128","v":25414361.140000004},{"$f":"A2A!G128","v":25060441.279999997},{"$f":"A2A!H128","v":25060441.279999997},{"$f":"A2A!I128","v":26508672.120000001},{"$f":"A2A!J128","v":26573877.68},{"$f":"A2A!K128","v":27796276.060000002}]
["Finance and administration",null,{"$f":"A2A!C131","v":121945552},{"$f":"A2A!D131","v":62298598},{"$f":"A2A!E131","v":63095968},{"$f":"A2A!F131","v":66166747.280000016},{"$f":"A2A!G131","v":70500119.260000005},{"$f":"A2A!H131","v":70500119.260000005},{"$f":"A2A!I131","v":73844658.360000014},{"$f":"A2A!J131","v":75609909.99000001},{"$f":"A2A!K131","v":79087965.850000009}]
["Internal audit",null,{"$f":"A2A!C145","v":0},{"$f":"A2A!D145","v":0},{"$f":"A2A!E145","v":106045},{"$f":"A2A!F145","v":0},{"$f":"A2A!G145","v":0},{"$f":"A2A!H145","v":0},{"$f":"A2A!I145","v":80111.839999999997},{"$f":"A2A!J145","v":116.98},{"$f":"A2A!K145","v":122.37}]
["Community and public safety",null,{"$f":"SUM(C33:C37)","v":1364866},{"$f":"SUM(D33:D37)","v":23060183},47463655,85976566.879999995,27790871.59,27790871.59,30021803.050000001,61540357.590000004,64371214.079999998]
["Community and social services",null,{"$f":"A2A!C148","v":0},{"$f":"A2A!D148","v":7079850},{"$f":"A2A!E148","v":8874138},{"$f":"A2A!F148","v":8608052.3499999996},{"$f":"A2A!G148","v":9002446.3300000001},{"$f":"A2A!H148","v":9002446.3300000001},{"$f":"A2A!I148","v":9033632.5600000005},{"$f":"A2A!J148","v":8945435.2800000012},{"$f":"A2A!K148","v":9356925.3499999996}]
["Sport and recreation",null,{"$f":"A2A!C170","v":0},{"$f":"A2A!D170","v":370714},{"$f":"A2A!E170","v":617356},{"$f":"A2A!F170","v":685538.53},{"$f":"A2A!G170","v":667678},{"$f":"A2A!H170","v":667678},{"$f":"A2A!I170","v":697724.05999999994},{"$f":"A2A!J170","v":729819.37},{"$f":"A2A!K170","v":763391.06}]
["Public safety",null,{"$f":"A2A!C176","v":1364866},{"$f":"A2A!D176","v":14429177},{"$f":"A2A!E176","v":14588201},{"$f":"A2A!F176","v":16427881.220000003},{"$f":"A2A!G176","v":16405224.07},{"$f":"A2A!H176","v":16405224.07},{"$f":"A2A!I176","v":18030667.140000001},{"$f":"A2A!J176","v":18605305.34},{"$f":"A2A!K176","v":19461149.390000001}]
["Housing",null,{"$f":"A2A!C185","v":0},{"$f":"A2A!D185","v":1180442},{"$f":"A2A!E185","v":23383960},{"$f":"A2A!F185","v":60255094.780000001},{"$f":"A2A!G185","v":1715523.1900000002},{"$f":"A2A!H185","v":1715523.1900000002},{"$f":"A2A!I185","v":2259779.29},{"$f":"A2A!J185","v":33259797.600000001},{"$f":"A2A!K185","v":34789748.280000001}]
["Health",null,{"$f":"A2A!C188","v":0},{"$f":"A2A!D188","v":0},{"$f":"A2A!E188","v":0},{"$f":"A2A!F188","v":0},{"$f":"A2A!G188","v":0},{"$f":"A2A!H188","v":0},{"$f":"A2A!I188","v":0},{"$f":"A2A!J188","v":0},{"$f":"A2A!K188","v":0}]
["Economic and environmental services",null,{"$f":"SUM(C39:C41)","v":0},{"$f":"SUM(D39:D41)","v":23784303},25987337,41099019.200000003,39971803.950000003,39971803.950000003,30290886.139999997,31210311.909999996,32645986.240000002]
["Planning and development",null,{"$f":"A2A!C197","v":0},{"$f":"A2A!D197","v":6218244},{"$f":"A2A!E197","v":8737021},{"$f":"A2A!F197","v":24953119.059999995},{"$f":"A2A!G197","v":24075696.789999999},{"$f":"A2A!H197","v":24075696.789999999},{"$f":"A2A!I197","v":14916364.749999998},{"$f":"A2A!J197","v":15128679.51},{"$f":"A2A!K197","v":15824598.769999998}]
["Road transport",null,{"$f":"A2A!C208","v":0},{"$f":"A2A!D208","v":17566059},{"$f":"A2A!E208","v":17250316},{"$f":"A2A!F208","v":16145900.140000004},{"$f":"A2A!G208","v":15896107.16},{"$f":"A2A!H208","v":15896107.16},{"$f":"A2A!I208","v":15374521.389999999},{"$f":"A2A!J208","v":16081632.399999997},{"$f":"A2A!K208","v":16821387.470000006}]
["Environmental protection",null,{"$f":"A2A!C213","v":0},{"$f":"A2A!D213","v":0},{"$f":"A2A!E213","v":0},{"$f":"A2A!F213","v":0},{"$f":"A2A!G213","v":0},{"$f":"A2A!H213","v":0},{"$f":"A2A!I213","v":0},{"$f":"A2A!J213","v":0},{"$f":"A2A!K213","v":0}]
["Trading services",null,{"$f":"SUM(C43:C46)","v":2881474},{"$f":"SUM(D43:D46)","v":9359355},26909071,{"$f":"SUM(F43:F46)","v":25076761.400000002},12146487.039999999,12146487.039999999,12966912.109999999,13201382.389999999,{"$f":"SUM(K43:K46)","v":13808645.959999999}]
["Energy sources",null,{"$f":"A2A!C221","v":0},{"$f":"A2A!D221","v":0},{"$f":"A2A!E221","v":16000000},{"$f":"A2A!F221","v":13000000.000000002},{"$f":"A2A!G221","v":0},{"$f":"A2A!H221","v":0},{"$f":"A2A!I221","v":0},{"$f":"A2A!J221","v":0},{"$f":"A2A!K221","v":0}]
["Water management",null,{"$f":"A2A!C225","v":0},{"$f":"A2A!D225","v":0},{"$f":"A2A!E225","v":0},{"$f":"A2A!F225","v":0},{"$f":"A2A!G225","v":0},{"$f":"A2A!H225","v":0},{"$f":"A2A!I225","v":0},{"$f":"A2A!J225","v":0},{"$f":"A2A!K225","v":0}]
["Waste water management",null,{"$f":"A2A!C229","v":2881474},{"$f":"A2A!D229","v":0},{"$f":"A2A!E229","v":0},{"$f":"A2A!F229","v":0},{"$f":"A2A!G229","v":0},{"$f":"A2A!H229","v":0},{"$f":"A2A!I229","v":0},{"$f":"A2A!J229","v":0},{"$f":"A2A!K229","v":0}]
["Waste management",null,{"$f":"A2A!C234","v":0},{"$f":"A2A!D234","v":9359355},{"$f":"A2A!E234","v":10909071},{"$f":"A2A!F234","v":12076761.4},{"$f":"A2A!G234","v":12146487.039999999},{"$f":"A2A!H234","v":12146487.039999999},{"$f":"A2A!I234","v":12966912.109999999},{"$f":"A2A!J234","v":13201382.389999999},{"$f":"A2A!K234","v":13808645.959999999}]
["Other",4,{"$f":"A2A!C239","v":0},{"$f":"A2A!D239","v":0},{"$f":"A2A!E239","v":0},{"$f":"A2A!F239","v":353827.52},{"$f":"A2A!G239","v":353828},{"$f":"A2A!H239","v":353828},{"$f":"A2A!I239","v":369749.76000000001},{"$f":"A2A!J239","v":386758.25},{"$f":"A2A!K239","v":404549.13}]
[{"$f":"\"Total \"&A27","v":"Total Expenditure - Functional"},3,{"$f":"C28+C32+C38+C42+C47","v":126191892},{"$f":"D28+D32+D38+D42+D47","v":138980056},{"$f":"E28+E32+E38+E42+E47","v":186887075},{"$f":"F28+F32+F38+F42+F47","v":244087283.42000002},175823551.12,175823551.12,174082793.38,208522714.78999999,218114759.69000003]
[{"$f":"result","v":"Surplus/(Deficit) for the year"},null,{"$f":"C25-C48","v":34662546},{"$f":"D25-D48","v":19938217},31425945,23860894.270000011,18239892.879999995,18239892.879999995,21576681.280000001,28157532.770000011,29452779.24999997]
[{"$f":"head27a","v":"References"}]
["1. Government Finance Statistics Functions and Sub-functions are standardised to assist the compilation of national and international accounts for comparison purposes"]
["2. Total Revenue by functional classification must reconcile to Total Operating Revenue shown in Budgeted Financial Performance (revenue and expenditure)"]
["3. Total Expenditure by Functional Classification must reconcile to Total Operating Expenditure shown in Budgeted Financial Performance (revenue and expenditure)"]
["4. All amounts must be classified under a functional classification . The GFS function 'Other' is only for Abbatoirs, Air Transport,  Forestry, Licensing and Regulation, Markets and Tourism - and if used must be supported by footnotes. Nothing else may be placed under 'Other'. Assign associate share to relevant classification."]
[]
[]
["check oprev balance",null,{"$f":"C25-'A4-FinPerf RE'!C59","v":0},{"$f":"D25-'A4-FinPerf RE'!D59","v":3},{"$f":"E25-'A4-FinPerf RE'!E59","v":-2000000},{"$f":"F25-'A4-FinPerf RE'!F59","v":0},{"$f":"G25-'A4-FinPerf RE'!G59","v":0.67000001668930054},{"$f":"H25-'A4-FinPerf RE'!H59","v":0.67000001668930054},{"$f":"I25-'A4-FinPerf RE'!J59","v":842135.84000000358},{"$f":"J25-'A4-FinPerf RE'!K59","v":33062118.382800013},{"$f":"K25-'A4-FinPerf RE'!L59","v":34751153.825676024}]
["check opexp balance",null,{"$f":"C48-'A4-FinPerf RE'!C35","v":-209},{"$f":"D48-'A4-FinPerf RE'!D35","v":5303231},{"$f":"E48-'A4-FinPerf RE'!E35","v":-643080},{"$f":"F48-'A4-FinPerf RE'!F35","v":635.20000001788139},{"$f":"G48-'A4-FinPerf RE'!G35","v":0},{"$f":"H48-'A4-FinPerf RE'!H35","v":0},{"$f":"I48-'A4-FinPerf RE'!J35","v":0},{"$f":"J48-'A4-FinPerf RE'!K35","v":30896068.459999949},{"$f":"K48-'A4-FinPerf RE'!L35","v":32317287.610000044}]

{"sheet":"A2A","index":8,"n_rows":256,"n_cols":11,"rows_kept":256,"cut":false,"hidden":false,"merged":[[1,5,1,7],[1,8,1,10],[251,0,251,10]]}
[{"$f":"muni&\" - \"&Approve3","v":"KZN434 Ubuhlebezwe - Table A2 Budgeted Financial Performance (revenue and expenditure by functional classification)"}]
[{"$f":"\"Functional Classification \"&desc","v":"Functional Classification Description"},{"$f":"head27","v":"Ref"},{"$f":"head1b","v":"2016/17"},{"$f":"head1A","v":"2017/18"},{"$f":"Head1","v":"2018/19"},{"$f":"Head2","v":"Current Year 2019/20"},null,null,{"$f":"Head3","v":"2020/21 Medium Term Revenue & Expenditure Framework"}]
["R thousand",1,{"$f":"Head5","v":"Audited Outcome"},{"$f":"Head5","v":"Audited Outcome"},{"$f":"Head5","v":"Audited Outcome"},{"$f":"Head6","v":"Original Budget"},{"$f":"Head7","v":"Adjusted Budget"},{"$f":"Head8","v":"Full Year Forecast"},{"$f":"Head9","v":"Budget Year 2020/21"},{"$f":"Head10","v":"Budget Year +1 2021/22"},{"$f":"Head11","v":"Budget Year +2 2022/23"}]
["Revenue - Functional"]
["Municipal governance and administration",null,{"$f":"C6+C9+C23","v":157549545},120964461,138590018,152440115.33000001,149490116,149490116,156711923.94,63749102.539999999,66681561.249999993]
["Executive and council",null,{"$f":"SUM(C7:C8)","v":0},{"$f":"SUM(D7:D8)","v":0},0,0,0,0,0,0,0]
["Mayor and Council",null,0,0,0,0,0,0,0,0,0]
["Municipal Manager, Town Secretary and Chief Executive",null,0,0,0,0,0,0,0,0,0]
["Finance and administration",null,{"$f":"SUM(C10:C22)","v":157549545},120964461,138590018,152440115.33000001,149490116,149490116,156711923.94,63749102.539999999,66681561.249999993]
["Administrative and Corporate Support",null,1173223,327929,1000000,1000000,1000000,1000000,500000,523000,547058]
["Asset Management",null,null,0,0,0,0,0,0,0,0]
["Finance",null,156376322,120564517,137440018,151440115.33000001,148490116,148490116,156211923.94,63226102.539999999,66134503.249999993]
["Fleet Management",null,0,0,0,0,0,0,0,0,0]
["Human Resources",null,0,0,0,0,0,0,0,0,0]
["Information Technology",null,0,0,0,0,0,0,0,0,0]
["Legal Services",null,0,0,0,0,0,0,0,0,0]
["Marketing, Customer Relations, Publicity and Media Co-ordination",null,0,0,0,0,0,0,0,0,0]
["Property Services",null,0,72015,0,0,0,0,0,0,0]
["Risk Management",null,0,0,150000,0,0,0,0,0,0]
["Security Services",null,0,0,0,0,0,0,0,0,0]
["Supply Chain Management ",null,0,0,0,0,0,0,0,0,0]
["Valuation Service",null,0,0,0,0,0,0,0,0,0]
["Internal audit",null,{"$f":"SUM(C24:C24)","v":0},0,0,0,0,0,0,0,0]
["Governance Function",null,0]
["Community and public safety",null,{"$f":"C26+C48+C54+C63+C66","v":3304893},6854999,32778703,72808627.640000001,14823893,14823893,9235116,126288504.3,132097775.5]
["Community and social services",null,{"$f":"SUM(C27:C47)","v":0},{"$f":"SUM(D27:D47)","v":2274446},1935496,3866416,3932416,3932416,4272416,4468947.1399999997,4674518.71]
["Aged Care",null,null,0,0,0,0,0,0,0,0]
["Agricultural",null,null,0,0,0,0,0,0,0,0]
["Animal Care and Diseases",null,null,0,0,0,0,0,0,0,0]
["Cemeteries, Funeral Parlours and Crematoriums",null,null,39581,0,0,0,0,0,0,0]
["Child Care Facilities",null,null,0,0,0,0,0,0,0,0]
["Community Halls and Facilities",null,null,0,892080,1030000,1030000,1030000,1230000,1286580,1345762.68]
["Consumer Protection",null,null,0,0,0,0,0,0,0,0]
["Cultural Matters",null,null,0,0,0,0,0,0,0,0]
["Disaster Management",null,null,1455208,0,0,0,0,0,0,0]
["Education",null,null,0,0,0,0,0,0,0,0]
["Indigenous and Customary Law",null,null,0,0,0,0,0,0,0,0]
["Industrial Promotion",null,null,0,0,0,0,0,0,0,0]
["Language Policy",null,null,0,0,0,0,0,0,0,0]
["Libraries and Archives",null,null,779657,1043416,1043416,1109416,1109416,1139416,1191829.1399999999,1246653.28]
["Literacy Programmes",null,null,0,0,0,0,0,0,0,0]
["Media Services",null,null,0,0,0,0,0,0,0,0]
["Museums and Art Galleries",null,null,0,0,0,0,0,0,0,0]
["Population Development",null,null,0,0,1793000,1793000,1793000,1903000,1990538,2082102.75]
["Provincial Cultural Matters",null,null,0,0,0,0,0,0,0,0]
["Theatres",null,null,0,0,0,0,0,0,0,0]
["Zoo's",null,null,0,0,0,0,0,0,0,0]
["Sport and recreation",null,{"$f":"SUM(C49:C53)","v":0},{"$f":"SUM(D49:D53)","v":0},2050000,50000,28777,28777,0,0,0]
["Beaches and Jetties ",null,0,0,0,0,0,0,0,0,0]
["Casinos, Racing, Gambling, Wagering",null,0,0,0,0,0,0,0,0,0]
["Community Parks (including Nurseries)",null,0,0,2000000,0,0,0,0,0,0]
["Recreational Facilities",null,0,0,0,0,0,0,0,0,0]
["Sports Grounds and Stadiums",null,0,0,50000,50000,28777,28777,0,0,0]
["Public safety",null,{"$f":"SUM(C55:C62)","v":3304893},4580553,6626300,10362700,10862700,10862700,4962700,5190984.2,5429769.4700000007]
["Civil Defence",null,3304893,4565674,3600000,4336400,4836400,4836400,4936400,5163474.4000000004,5400994.2200000007]
["Cleansing",null,null,0,0,0,0,0,0,0,0]
["Control of Public Nuisances",null,null,0,0,0,0,0,0,0,0]
["Fencing and Fences ",null,null,0,0,0,0,0,0,0,0]
["Fire Fighting and Protection",null,null,14879,3026300,6026300,6026300,6026300,26300,27509.8,28775.25]
["Licensing and Control of Animals",null,null,0,0,0,0,0,0,0,0]
["Police Forces, Traffic and Street Parking Control",null,0,0,0,0,0,0,0,0,0]
["Pounds",null,0,0,0,0,0,0,0,0,0]
["Housing",null,{"$f":"SUM(C64:C65)","v":0},{"$f":"SUM(D64:D65)","v":0},22166907,58529511.640000001,0,0,0,116628572.95999999,121993487.31999999]
["Housing",null,0,0,22166907,58529511.640000001,0,0,0,116628572.95999999,121993487.31999999]
["Informal Settlements",null,0,0,0,0,0,0,0,0,0]
["Health",null,{"$f":"SUM(C67:C73)","v":0},{"$f":"SUM(D67:D73)","v":0},0,0,0,0,0,0,0]
["Ambulance",null,0,0,0,0,0,0,0,0,0]
["Health Services",null,0,0,0,0,0,0,0,0,0]
["Laboratory Services",null,0,0,0,0,0,0,0,0,0]
["Food Control",null,0,0,0,0,0,0,0,0,0]
["Health Surveillance and Prevention of Communicable Diseases including immunizations",null,0,0,0,0,0,0,0,0,0]
["Vector Control",null,0,0,0,0,0,0,0,0,0]
["Chemical Safety",null,0,0,0,0,0,0,0,0,0]
["Economic and environmental services",null,{"$f":"C75+C86+C91","v":0},29061419,28944299,40599434.719999999,27649435,27649435,27112434.719999999,43923040.720000006,45943500.589999996]
["Planning and development",null,{"$f":"SUM(C76:C85)","v":0},{"$f":"SUM(D76:D85)","v":67054},26554779,615780,665780,665780,286780,173405.88,181382.55]
["Billboards",null,null,0,0,0,0,0,0,0,0]
["Corporate Wide Strategic Planning (IDPs, LEDs)",null,null,0,0,0,0,0,0,0,0]
["Central City Improvement District",null,null,0,0,0,0,0,0,0,0]
["Development Facilitation",null,null,0,0,0,0,0,0,0,0]
["Economic Development/Planning",null,null,3767,26454780,15780,65780,65780,186780,68805.88,71970.95]
["Regional Planning and Development",null,null,0,0,0,0,0,0,0,0]
["Town Planning, Building Regulations and Enforcement, and City Engineer",null,null,63287,99999,600000,600000,600000,100000,104600,109411.6]
["Project Management Unit",null,null,0,0,0,0,0,0,0,0]
["Provincial Planning",null,null,0,0,0,0,0,0,0,0]
["Support to Local Municipalities",null,null,0,0,0,0,0,0,0,0]
["Road transport",null,{"$f":"SUM(C87:C90)","v":0},28994365,2389520,39983654.719999999,26983655,26983655,26825654.719999999,43749634.840000004,45762118.039999999]
["Public Transport",null,0,0,0,0,0,0,0,0,0]
["Road and Traffic Regulation",null,null,null,63120,0,0,0,0,0,0]
["Roads",null,0,566801,736400,39983654.719999999,26983655,26983655,26825654.719999999,43749634.840000004,45762118.039999999]
["Taxi Ranks",null,0,28427564,1590000,0,0,0,0,0,0]
["Environmental protection",null,0,0,0,{"$f":"SUM(F92:F97)","v":0},0,0,0,0,0]
["Biodiversity and Landscape",null,0,0,0,0,0,0,0,0,0]
["Coastal Protection",null,0,0,0,0,0,0,0,0,0]
["Indigenous Forests",null,0,0,0,0,0,0,0,0,0]
["Nature Conservation",null,0,0,0,0,0,0,0,0,0]
["Pollution Control",null,0,0,0,0,0,0,0,0,0]
["Soil Conservation",null,0,0,0,0,0,0,0,0,0]
["Trading services",null,{"$f":"C99+C103+C107+C112","v":0},{"$f":"D99+D103+D107+D112","v":2037394},18000000,2100000,2100000,2100000,2600000,2719600,{"$f":"K99+K103+K107+K112","v":2844701.6}]
["Energy sources",null,{"$f":"SUM(C100:C102)","v":0},{"$f":"SUM(D100:D102)","v":0},16000000,0,0,0,0,0,0]
["Electricity ",null,0,0,16000000,0,0,0,0,0,0]
["Street Lighting and Signal Systems",null,0,0,0,0,0,0,0,0,0]
["Nonelectric Energy",null,0,0,0,0,0,0,0,0,0]
["Water management",null,{"$f":"SUM(C104:C106)","v":0},{"$f":"SUM(D104:D106)","v":0},0,0,0,0,0,0,0]
["Water Treatment",null,0,0,0,0,0,0,0,0,0]
["Water Distribution",null,0,0,0,0,0,0,0,0,0]
["Water Storage",null,0,0,0,0,0,0,0,0,0]
["Waste water management",null,{"$f":"SUM(C108:C111)","v":0},{"$f":"SUM(D108:D111)","v":2037394},0,0,0,0,0,0,0]
["Public Toilets",null,0,0,0,0,0,0,0,0,0]
["Sewerage",null,0,0,0,0,0,0,0,0,0]
["Storm Water Management",null,0,2037394,0,0,0,0,0,0,0]
["Waste Water Treatment",null,0,0,0,0,0,0,0,0,0]
["Waste management",null,{"$f":"SUM(C113:C116)","v":0},{"$f":"SUM(D113:D116)","v":0},2000000,2100000,2100000,2100000,2600000,2719600,2844701.6]
["Recycling",null,0,0,0,0,0,0,0,0,0]
["Solid Waste Disposal (Landfill Sites)",null,0,0,0,0,0,0,0,0,0]
["Solid Waste Removal",null,0,0,2000000,2100000,2100000,2100000,2600000,2719600,2844701.6]
["Street Cleaning",null,0,0,0,0,0,0,0,0,0]
["Other",null,0,0,0,0,0,0,0,0,0]
["Abattoirs",null,0,0,0,0,0,0,0,0,0]
["Air Transport",null,0,0,0,0,0,0,0,0,0]
["Forestry ",null,0,0,0,0,0,0,0,0,0]
["Licensing and Regulation",null,0,0,0,0,0,0,0,0,0]
["Markets",null,0,0,0,0,0,0,0,0,0]
["Tourism",null,0,0,0,0,0,0,0,0,0]
[{"$f":"\"Total \"&A4","v":"Total Revenue - Functional"},2,{"$f":"C5+C25+C74+C98+C117","v":160854438},{"$f":"D5+D25+D74+D98+D117","v":158918273},218313020,267948177.69000003,194063444,194063444,195659474.66,236680247.56,247567538.94]
[]
["Expenditure - Functional"]
[{"$f":"A5","v":"Municipal governance and administration"},null,{"$f":"C128+C131+C145","v":121945552},82776215,86527012,91581108.420000017,95560560.540000007,95560560.540000007,100433442.32000002,102183904.65000002,106884364.28000002]
["Executive and council",null,{"$f":"SUM(C129:C130)","v":0},20477617,23324999,25414361.140000004,25060441.279999997,25060441.279999997,26508672.120000001,26573877.68,27796276.060000002]
["Mayor and Council",null,null,12549511,12888892,13825585.77,13925023.6,13925023.6,14212056.820000002,14442271.229999999,15106615.77]
["Municipal Manager, Town Secretary and Chief Executive",null,null,7928106,10436107,11588775.370000005,11135417.679999998,11135417.679999998,12296615.299999999,12131606.450000001,12689660.290000003]
["Finance and administration",null,{"$f":"SUM(C132:C144)","v":121945552},62298598,63095968,66166747.280000016,70500119.260000005,70500119.260000005,73844658.360000014,75609909.99000001,79087965.850000009]
["Administrative and Corporate Support",null,null,22471354,24096388,25736404.820000004,26424709.860000003,26424709.860000003,27864525.020000003,27761693.56000001,29038731.460000001]
["Asset Management",null,null,0,0,8000,8000,8000,8360,8744.56,9146.81]
["Finance",null,121945552,39630950,38420980,40242342.460000016,43887409.399999999,43887409.399999999,45585423.340000004,47642719.270000011,49834284.360000014]
["Fleet Management",null,0,0,0,0,0,0,0,0,0]
["Human Resources",null,0,0,0,0,0,0,198250,0,0]
["Information Technology",null,0,0,0,0,0,0,0,0,0]
["Legal Services",null,0,0,0,0,0,0,0,0,0]
["Marketing, Customer Relations, Publicity and Media Co-ordination",null,0,0,0,0,0,0,0,0,0]
["Property Services",null,0,196294,0,180000,180000,180000,188100,196752.6,205803.22]
["Risk Management",null,0,0,578600,0,0,0,0,0,0]
["Security Services",null,0,0,0,0,0,0,0,0,0]
["Supply Chain Management ",null,0,0,0,0,0,0,0,0,0]
["Valuation Service",null,0,0,0,0,0,0,0,0,0]
["Internal audit",null,{"$f":"SUM(C146:C146)","v":0},0,106045,0,0,0,80111.839999999997,116.98,122.37]
["Governance Function",null,0,0,106045,0,0,0,80111.839999999997,116.98,122.37]
["Community and public safety",null,{"$f":"C148+C170+C176+C185+C188","v":1364866},23060183,47463655,85976566.879999995,27790871.59,27790871.59,30021803.050000001,61540357.590000004,64371214.079999998]
["Community and social services",null,{"$f":"SUM(C149:C169)","v":0},{"$f":"SUM(D149:D169)","v":7079850},8874138,8608052.3499999996,9002446.3300000001,9002446.3300000001,9033632.5600000005,8945435.2800000012,9356925.3499999996]
["Aged Care",null,null,0,1390000,1440000,1440000,1440000,1452550,1519367.3,1589258.2]
["Agricultural",null,null,0,0,0,0,0,0,0,0]
["Animal Care and Diseases",null,null,0,0,0,0,0,0,0,0]
["Cemeteries, Funeral Parlours and Crematoriums",null,null,0,0,0,0,0,0,0,0]
["Child Care Facilities",null,null,0,0,0,0,0,0,0,0]
["Community Halls and Facilities",null,null,364286,1455613,998642.01,1055202.0899999999,1055202.0899999999,1080432.4100000001,1130132.3000000003,1182118.3899999997]
["Consumer Protection",null,null,0,0,0,0,0,0,0,0]
["Cultural Matters",null,null,5319152,4158405,3662282.4899999998,3684752.21,3684752.21,3772947.15,3564031.6,3727977.07]
["Disaster Management",null,null,0,237000,254840,294840,294840,308107.8,322280.75999999995,337105.68]
["Education",null,null,0,0,660560,660560,660560,690285.2,722038.32,755252.08000000007]
[{"$f":"A37","v":"Indigenous and Customary Law"},null,null,0,0,0,0,0,0,0,0]
["Industrial Promotion",null,null,0,0,0,0,0,0,0,0]
["Language Policy",null,null,0,0,0,0,0,0,0,0]
["Libraries and Archives",null,null,1396412,1633120,1591727.8499999999,1867092.03,1867092.03,1613370,1687584.9999999998,1765213.9300000002]
["Literacy Programmes",null,null,0,0,0,0,0,0,0,0]
["Media Services",null,null,0,0,0,0,0,0,0,0]
["Museums and Art Galleries",null,null,0,0,0,0,0,0,0,0]
["Population Development",null,null,0,0,0,0,0,115940,0,0]
["Provincial Cultural Matters",null,null,0,0,0,0,0,0,0,0]
["Theatres",null,null,0,0,0,0,0,0,0,0]
["Zoo's",null,null,0,0,0,0,0,0,0,0]
["Sport and recreation",null,{"$f":"SUM(C171:C175)","v":0},370714,617356,685538.53,667678,667678,697724.05999999994,729819.37,763391.06]
["Beaches and Jetties ",null,null,0,0,0,0,0,0,0,0]
["Casinos, Racing, Gambling, Wagering",null,null,0,0,0,0,0,0,0,0]
["Community Parks (including Nurseries)",null,null,0,0,71000,73000,73000,76285,79794.11,83464.63]
["Recreational Facilities",null,null,0,592216,0,0,0,0,0,0]
["Sports Grounds and Stadiums",null,null,370714,25140,614538.53,594678,594678,621439.05999999994,650025.26,679926.43]
["Public safety",null,{"$f":"SUM(C177:C184)","v":1364866},14429177,14588201,16427881.220000003,16405224.07,16405224.07,18030667.140000001,18605305.34,19461149.390000001]
["Civil Defence",null,1364866,8377188,7774410,8640611.120000001,8627462.4199999999,8627462.4199999999,9159304.3899999987,9580632.3900000006,10021341.49]
["Cleansing",null,null,0,0,0,0,0,0,0,0]
[{"$f":"A57","v":"Control of Public Nuisances"},null,null,0,0,0,0,0,0,0,0]
["Fencing and Fences ",null,null,0,0,0,0,0,0,0,0]
["Fire Fighting and Protection",null,null,6051989,6813791,7787270.1000000006,7777761.6500000004,7777761.6500000004,8871362.75,9024672.9499999993,9439807.8999999985]
["Licensing and Control of Animals",null,null,0,0,0,0,0,0,0,0]
["Police Forces, Traffic and Street Parking Control",null,0,0,0,0,0,0,0,0,0]
["Pounds",null,0,0,0,0,0,0,0,0,0]
[{"$f":"A63","v":"Housing"},null,{"$f":"SUM(C186:C187)","v":0},1180442,23383960,60255094.780000001,1715523.1900000002,1715523.1900000002,2259779.29,33259797.600000001,34789748.280000001]
["Housing",null,null,1180442,23383960,60255094.780000001,1715523.1900000002,1715523.1900000002,2259779.29,33259797.600000001,34789748.280000001]
["Informal Settlements",null,null,0,0,0,0,0,0,0,0]
["Health",null,{"$f":"SUM(C189:C195)","v":0},{"$f":"SUM(D189:D195)","v":0},0,0,0,0,0,0,0]
["Ambulance",null,0,0,0,0,0,0,0,0,0]
["Health Services",null,0,0,0,0,0,0,0,0,0]
["Laboratory Services",null,0,0,0,0,0,0,0,0,0]
["Food Control",null,0,0,0,0,0,0,0,0,0]
["Health Surveillance and Prevention of Communicable Diseases including immunizations",null,0,0,0,0,0,0,0,0,0]
["Vector Control",null,0,0,0,0,0,0,0,0,0]
["Chemical Safety",null,0,0,0,0,0,0,0,0,0]
["Economic and environmental services",null,{"$f":"C197+C208+C213","v":0},23784303,25987337,41099019.200000003,39971803.950000003,39971803.950000003,30290886.139999997,31210311.909999996,32645986.240000002]
["Planning and development",null,{"$f":"SUM(C198:C207)","v":0},{"$f":"SUM(D198:D207)","v":6218244},8737021,24953119.059999995,24075696.789999999,24075696.789999999,14916364.749999998,15128679.51,15824598.769999998]
["Billboards",null,null,0,0,0,0,0,0,0,0]
["Corporate Wide Strategic Planning (IDPs, LEDs)",null,null,0,0,0,0,0,0,0,0]
["Central City Improvement District",null,null,0,0,0,0,0,0,0,0]
["Development Facilitation",null,null,0,0,296837.09000000003,306074.36,306074.36,383929.47000000003,401590.22,420063.37]
["Economic Development/Planning",null,null,4888131,5616314,19111790.049999997,18776186.649999999,18776186.649999999,8670292.7799999975,9118288.2499999981,9537729.5099999998]
["Regional Planning and Development",null,null,0,0,607319,506350,506350,460629.5,481818.45999999996,503982.11]
["Town Planning, Building Regulations and Enforcement, and City Engineer",null,null,1330113,3110707,4937172.9199999981,4487085.7800000012,4487085.7800000012,5317513,5039118.58,5270918.04]
["Project Management Unit",null,null,0,0,0,0,0,84000,87864,91905.74]
["Provincial Planning",null,null,0,0,0,0,0,0,0,0]
["Support to Local Municipalities",null,null,0,10000,0,0,0,0,0,0]
["Road transport",null,{"$f":"SUM(C209:C212)","v":0},17566059,17250316,16145900.140000004,15896107.16,15896107.16,15374521.389999999,16081632.399999997,16821387.470000006]
["Public Transport",null,null,0,0,0,0,0,0,0,0]
["Road and Traffic Regulation",null,null,null,861150,0,0,0,0,0,0]
["Roads",null,null,137728,10000,16145900.140000004,15896107.16,15896107.16,15374521.389999999,16081632.399999997,16821387.470000006]
["Taxi Ranks",null,null,17428331,16379166,0,0,0,0,0,0]
["Environmental protection",null,null,0,0,{"$f":"SUM(F214:F219)","v":0},0,0,0,0,0]
["Biodiversity and Landscape",null,0,0,0,0,0,0,0,0,0]
["Coastal Protection",null,0,0,0,0,0,0,0,0,0]
["Indigenous Forests",null,0,0,0,0,0,0,0,0,0]
[{"$f":"A95","v":"Nature Conservation"},null,0,0,0,0,0,0,0,0,0]
["Pollution Control",null,0,0,0,0,0,0,0,0,0]
["Soil Conservation",null,0,0,0,0,0,0,0,0,0]
["Trading services",null,{"$f":"C221+C225+C229+C234","v":2881474},{"$f":"D221+D225+D229+D234","v":9359355},26909071,25076761.400000002,12146487.039999999,12146487.039999999,12966912.109999999,13201382.389999999,13808645.959999999]
["Energy sources",null,{"$f":"SUM(C222:C224)","v":0},{"$f":"SUM(D222:D224)","v":0},16000000,13000000.000000002,0,0,0,0,0]
["Electricity ",null,0,0,16000000,13000000.000000002,0,0,0,0,0]
["Street Lighting and Signal Systems",null,0,0,0,0,0,0,0,0,0]
["Nonelectric Energy",null,0,0,0,0,0,0,0,0,0]
["Water management",null,{"$f":"SUM(C226:C228)","v":0},{"$f":"SUM(D226:D228)","v":0},0,0,0,0,0,0,0]
["Water Treatment",null,0,0,0,0,0,0,0,0,0]
["Water Distribution",null,0,0,0,0,0,0,0,0,0]
["Water Storage",null,0,0,0,0,0,0,0,0,0]
["Waste water management",null,{"$f":"SUM(C230:C233)","v":2881474},{"$f":"SUM(D230:D233)","v":0},0,0,0,0,0,0,0]
["Public Toilets",null,0,0,0,0,0,0,0,0,0]
["Sewerage",null,0,0,0,0,0,0,0,0,0]
["Storm Water Management",null,2881474,0,0,0,0,0,0,0,0]
["Waste Water Treatment",null,0,0,0,0,0,0,0,0,0]
["Waste management",null,{"$f":"SUM(C235:C238)","v":0},{"$f":"SUM(D235:D238)","v":9359355},10909071,12076761.4,12146487.039999999,12146487.039999999,12966912.109999999,13201382.389999999,13808645.959999999]
["Recycling",null,0,0,0,0,0,0,0,0,0]
["Solid Waste Disposal (Landfill Sites)",null,0,0,0,0,0,0,0,0,0]
["Solid Waste Removal",null,0,9359355,10909071,12076761.4,12146487.039999999,12146487.039999999,12966912.109999999,13201382.389999999,13808645.959999999]
["Street Cleaning",null,0,0,0,0,0,0,0,0,0]
["Other",null,{"$f":"SUM(C240:C245)","v":0},{"$f":"SUM(D240:D245)","v":0},0,353827.52,353828,353828,369749.76000000001,386758.25,404549.13]
["Abattoirs",null,0,0,0,0,0,0,0,0,0]
["Air Transport",null,0,0,0,0,0,0,0,0,0]
["Forestry ",null,0,0,0,0,0,0,0,0,0]
["Licensing and Regulation",null,0,0,0,0,0,0,0,0,0]
["Markets",null,0,0,0,0,0,0,0,0,0]
["Tourism",null,0,0,0,353827.52,353828,353828,369749.76000000001,386758.25,404549.13]
[{"$f":"\"Total \"&A126","v":"Total Expenditure - Functional"},3,{"$f":"C127+C147+C196+C220+C239","v":126191892},138980056,186887075,244087283.42000002,175823551.12,175823551.12,174082793.38,208522714.78999999,218114759.69000003]
[{"$f":"result","v":"Surplus/(Deficit) for the year"},null,{"$f":"C124-C246","v":34662546},19938217,31425945,23860894.270000011,18239892.879999995,18239892.879999995,21576681.280000001,28157532.770000011,29452779.24999997]
[{"$f":"head27a","v":"References"}]
["1. Government Finance Statistics Functions and Sub-functions are standardised to assist national and international accounts and comparison"]
["2. Total Revenue by Functional Classification must reconcile to total operating revenue shown in Financial Performance (revenue and expenditure)"]
["3. Total Expenditure by Functional Classification must reconcile to total operating expenditure shown in Financial Performance (revenue and expenditure)"]
["4. All amounts must be classified under a Functional classification. The GFS function 'Other' is only for Abbatoirs, Air Transport,  Forestry, Licensing and Regulation, Markets and Tourism - and if used must be supported by footnotes. Nothing else may be placed under 'Other'. Assign associate share to relevant classification"]
[]
[]
["check oprev balance",null,{"$f":"C124-'A4-FinPerf RE'!C59","v":0},{"$f":"D124-'A4-FinPerf RE'!D59","v":3},{"$f":"E124-'A4-FinPerf RE'!E59","v":-2000000},{"$f":"F124-'A4-FinPerf RE'!F59","v":0},{"$f":"G124-'A4-FinPerf RE'!G59","v":0.67000001668930054},{"$f":"H124-'A4-FinPerf RE'!H59","v":0.67000001668930054},{"$f":"I124-'A4-FinPerf RE'!J59","v":842135.84000000358},{"$f":"J124-'A4-FinPerf RE'!K59","v":33062118.382800013},{"$f":"K124-'A4-FinPerf RE'!L59","v":34751153.825676024}]
["check opexp balance",null,{"$f":"C246-'A4-FinPerf RE'!C35","v":-209},{"$f":"D246-'A4-FinPerf RE'!D35","v":5303231},{"$f":"E246-'A4-FinPerf RE'!E35","v":-643080},{"$f":"F246-'A4-FinPerf RE'!F35","v":635.20000001788139},{"$f":"G246-'A4-FinPerf RE'!G35","v":0},{"$f":"H246-'A4-FinPerf RE'!H35","v":0},{"$f":"I246-'A4-FinPerf RE'!J35","v":0},{"$f":"J246-'A4-FinPerf RE'!K35","v":30896068.459999949},{"$f":"K246-'A4-FinPerf RE'!L35","v":32317287.610000044}]

{"sheet":"A3-FinPerf V","index":9,"n_rows":45,"n_cols":23,"rows_kept":45,"cut":false,"hidden":false,"merged":[[1,5,1,7],[1,8,1,10],[1,11,1,22]]}
[{"$f":"muni&\" - \"&Approve2","v":"KZN434 Ubuhlebezwe - Table A3 Budgeted Financial Performance (revenue and expenditure by municipal vote)"}]
[{"$f":"Vdesc","v":"Vote Description"},{"$f":"head27","v":"Ref"},{"$f":"head1b","v":"2016/17"},{"$f":"head1A","v":"2017/18"},{"$f":"Head1","v":"2018/19"},{"$f":"Head2","v":"Current Year 2019/20"},null,null,{"$f":"Head3","v":"2020/21 Medium Term Revenue & Expenditure Framework"},null,null,{"$f":"Head4","v":"LTFS"}]
["R thousand",null,{"$f":"Head5","v":"Audited Outcome"},{"$f":"Head5","v":"Audited Outcome"},{"$f":"Head5","v":"Audited Outcome"},{"$f":"Head6","v":"Original Budget"},{"$f":"Head7","v":"Adjusted Budget"},{"$f":"Head8","v":"Full Year Forecast"},{"$f":"Head9","v":"Budget Year 2020/21"},{"$f":"Head10","v":"Budget Year +1 2021/22"},{"$f":"Head11","v":"Budget Year +2 2022/23"},{"$f":"Head12","v":"Forecast 2023/24"},{"$f":"Head13","v":"Forecast 2024/25"},{"$f":"Head14","v":"Forecast 2025/26"},{"$f":"Head15","v":"Forecast 2026/27"},{"$f":"Head16","v":"Forecast 2027/28"},{"$f":"Head17","v":"Forecast 2028/29"},{"$f":"Head18","v":"Forecast 2029/30"},{"$f":"Head19","v":"Forecast 2030/31"},{"$f":"Head20","v":"Forecast 2031/32"},{"$f":"Head21","v":"Forecast 2032/33"},{"$f":"Head22","v":"Forecast 2033/34"},{"$f":"Head23","v":"Forecast 2034/35"}]
["Revenue by Vote",1]
[{"$f":"A3A!A5","v":"Vote 1 - Finance & Admin"},null,{"$f":"A3A!C5","v":157549545},{"$f":"A3A!D5","v":120964461},{"$f":"A3A!E5","v":138590018},{"$f":"A3A!F5","v":152440115.33000001},{"$f":"A3A!G5","v":149490116},{"$f":"A3A!H5","v":149490116},{"$f":"A3A!I5","v":156711923.94},{"$f":"A3A!J5","v":63749102.539999999},{"$f":"A3A!K5","v":66681561.249999993}]
[{"$f":"A3A!A16","v":"Vote 2 - Executive & Council"},null,{"$f":"A3A!C16","v":0},{"$f":"A3A!D16","v":0},{"$f":"A3A!E16","v":0},{"$f":"A3A!F16","v":0},{"$f":"A3A!G16","v":0},{"$f":"A3A!H16","v":0},{"$f":"A3A!I16","v":0},{"$f":"A3A!J16","v":0},{"$f":"A3A!K16","v":0}]
[{"$f":"A3A!A27","v":"Vote 3 - Community and Social Services"},null,{"$f":"A3A!C27","v":0},{"$f":"A3A!D27","v":2274446},{"$f":"A3A!E27","v":1935496},{"$f":"A3A!F27","v":3866416},{"$f":"A3A!G27","v":3932416},{"$f":"A3A!H27","v":3932416},{"$f":"A3A!I27","v":4272416},{"$f":"A3A!J27","v":4468947.1399999997},{"$f":"A3A!K27","v":4674518.71}]
[{"$f":"A3A!A38","v":"Vote 4 - Housing"},null,{"$f":"A3A!C38","v":0},{"$f":"A3A!D38","v":0},{"$f":"A3A!E38","v":22166907},{"$f":"A3A!F38","v":58529511.640000001},{"$f":"A3A!G38","v":0},{"$f":"A3A!H38","v":0},{"$f":"A3A!I38","v":0},{"$f":"A3A!J38","v":116628572.95999999},{"$f":"A3A!K38","v":121993487.31999999}]
[{"$f":"A3A!A49","v":"Vote 5 - Public Safety"},null,{"$f":"A3A!C49","v":3304893},{"$f":"A3A!D49","v":4580553},{"$f":"A3A!E49","v":6626300},{"$f":"A3A!F49","v":10362700},{"$f":"A3A!G49","v":10862700},{"$f":"A3A!H49","v":10862700},{"$f":"A3A!I49","v":4962700},{"$f":"A3A!J49","v":5190984.2},{"$f":"A3A!K49","v":5429769.4700000007}]
[{"$f":"A3A!A60","v":"Vote 6 - Road Transport"},null,{"$f":"A3A!C60","v":0},{"$f":"A3A!D60","v":28994365},{"$f":"A3A!E60","v":2389520},{"$f":"A3A!F60","v":39983654.719999999},{"$f":"A3A!G60","v":26983655},{"$f":"A3A!H60","v":26983655},{"$f":"A3A!I60","v":26825654.719999999},{"$f":"A3A!J60","v":43749634.840000004},{"$f":"A3A!K60","v":45762118.039999999}]
[{"$f":"A3A!A71","v":"Vote 7 - Waste Management"},null,{"$f":"A3A!C71","v":0},{"$f":"A3A!D71","v":2037394},{"$f":"A3A!E71","v":2000000},{"$f":"A3A!F71","v":2100000},{"$f":"A3A!G71","v":2100000},{"$f":"A3A!H71","v":2100000},{"$f":"A3A!I71","v":2600000},{"$f":"A3A!J71","v":2719600},{"$f":"A3A!K71","v":2844701.6}]
[{"$f":"A3A!A82","v":"Vote 8 - Energy Sources"},null,{"$f":"A3A!C82","v":0},{"$f":"A3A!D82","v":0},{"$f":"A3A!E82","v":16000000},{"$f":"A3A!F82","v":0},{"$f":"A3A!G82","v":0},{"$f":"A3A!H82","v":0},{"$f":"A3A!I82","v":0},{"$f":"A3A!J82","v":0},{"$f":"A3A!K82","v":0}]
[{"$f":"A3A!A93","v":"Vote 9 - Planning and Development"},null,{"$f":"A3A!C93","v":0},{"$f":"A3A!D93","v":67054},{"$f":"A3A!E93","v":26554780},{"$f":"A3A!F93","v":615780},{"$f":"A3A!G93","v":665780},{"$f":"A3A!H93","v":665780},{"$f":"A3A!I93","v":286780},{"$f":"A3A!J93","v":173405.88},{"$f":"A3A!K93","v":181382.55}]
[{"$f":"A3A!A104","v":"Vote 10 - Sport and Recreation"},null,{"$f":"A3A!C104","v":0},{"$f":"A3A!D104","v":0},{"$f":"A3A!E104","v":2050000},{"$f":"A3A!F104","v":50000},{"$f":"A3A!G104","v":28777},{"$f":"A3A!H104","v":28777},{"$f":"A3A!I104","v":0},{"$f":"A3A!J104","v":0},{"$f":"A3A!K104","v":0}]
[{"$f":"A3A!A115","v":"Vote 11 - [NAME OF VOTE 11]"},null,{"$f":"A3A!C115","v":0},{"$f":"A3A!D115","v":0},{"$f":"A3A!E115","v":0},{"$f":"A3A!F115","v":0},{"$f":"A3A!G115","v":0},{"$f":"A3A!H115","v":0},{"$f":"A3A!I115","v":0},{"$f":"A3A!J115","v":0},{"$f":"A3A!K115","v":0},{"$f":"A5A!L115","v":0}]
[{"$f":"A3A!A126","v":"Vote 12 - [NAME OF VOTE 12]"},null,{"$f":"A3A!C126","v":0},{"$f":"A3A!D126","v":0},{"$f":"A3A!E126","v":0},{"$f":"A3A!F126","v":0},{"$f":"A3A!G126","v":0},{"$f":"A3A!H126","v":0},{"$f":"A3A!I126","v":0},{"$f":"A3A!J126","v":0},{"$f":"A3A!K126","v":0},{"$f":"A5A!L126","v":0}]
[{"$f":"A3A!A137","v":"Vote 13 - [NAME OF VOTE 13]"},null,{"$f":"A3A!C137","v":0},{"$f":"A3A!D137","v":0},{"$f":"A3A!E137","v":0},{"$f":"A3A!F137","v":0},{"$f":"A3A!G137","v":0},{"$f":"A3A!H137","v":0},{"$f":"A3A!I137","v":0},{"$f":"A3A!J137","v":0},{"$f":"A3A!K137","v":0},{"$f":"A5A!L137","v":0}]
[{"$f":"A3A!A148","v":"Vote 14 - [NAME OF VOTE 14]"},null,{"$f":"A3A!C148","v":0},{"$f":"A3A!D148","v":0},{"$f":"A3A!E148","v":0},{"$f":"A3A!F148","v":0},{"$f":"A3A!G148","v":0},{"$f":"A3A!H148","v":0},{"$f":"A3A!I148","v":0},{"$f":"A3A!J148","v":0},{"$f":"A3A!K148","v":0},{"$f":"A5A!L148","v":0}]
[{"$f":"A3A!A159","v":"Vote 15 - [NAME OF VOTE 15]"},null,{"$f":"A3A!C159","v":0},{"$f":"A3A!D159","v":0},{"$f":"A3A!E159","v":0},{"$f":"A3A!F159","v":0},{"$f":"A3A!G159","v":0},{"$f":"A3A!H159","v":0},{"$f":"A3A!I159","v":0},{"$f":"A3A!J159","v":0},{"$f":"A3A!K159","v":0},{"$f":"A5A!L159","v":0}]
["Total Revenue by Vote",2,{"$f":"SUM(C5:C19)","v":160854438},{"$f":"SUM(D5:D19)","v":158918273},218313021,267948177.69000003,194063444,194063444,195659474.66,236680247.55999997,247567538.93999997]
[]
["Expenditure by Vote to be appropriated",1]
[{"$f":"A3A!A173","v":"Vote 1 - Finance & Admin"},null,{"$f":"A3A!C173","v":121945552},{"$f":"A3A!D173","v":62298597.670000002},{"$f":"A3A!E173","v":63095968},{"$f":"A3A!F173","v":66166747.280000016},{"$f":"A3A!G173","v":70300119.260000005},{"$f":"A3A!H173","v":70300119.260000005},{"$f":"A3A!I173","v":73844658.360000014},{"$f":"A3A!J173","v":75609909.99000001},{"$f":"A3A!K173","v":79087965.850000024}]
[{"$f":"A3A!A184","v":"Vote 2 - Executive & Council"},null,{"$f":"A3A!C184","v":0},{"$f":"A3A!D184","v":20477677},{"$f":"A3A!E184","v":23431044},{"$f":"A3A!F184","v":25414361.140000004},{"$f":"A3A!G184","v":25060441.279999997},{"$f":"A3A!H184","v":25060441.279999997},{"$f":"A3A!I184","v":26588783.960000001},{"$f":"A3A!J184","v":26573994.66},{"$f":"A3A!K184","v":27796398.430000003}]
[{"$f":"A3A!A195","v":"Vote 3 - Community and Social Services"},null,{"$f":"A3A!C195","v":0},{"$f":"A3A!D195","v":7079850},{"$f":"A3A!E195","v":8874120},{"$f":"A3A!F195","v":8961879.8699999992},{"$f":"A3A!G195","v":9406508.6900000013},{"$f":"A3A!H195","v":9406508.6900000013},{"$f":"A3A!I195","v":9555488.9899999984},{"$f":"A3A!J195","v":9491297.1000000015},{"$f":"A3A!K195","v":9927896.7999999989}]
[{"$f":"A3A!A206","v":"Vote 4 - Housing"},null,{"$f":"A3A!C206","v":0},{"$f":"A3A!D206","v":1180442},{"$f":"A3A!E206","v":1217078},{"$f":"A3A!F206","v":60255094.780000001},{"$f":"A3A!G206","v":1715523.1900000002},{"$f":"A3A!H206","v":1715523.1900000002},{"$f":"A3A!I206","v":2259779.29},{"$f":"A3A!J206","v":33259797.600000001},{"$f":"A3A!K206","v":34789748.280000001}]
[{"$f":"A3A!A217","v":"Vote 5 - Public Safety"},null,{"$f":"A3A!C217","v":1364866},{"$f":"A3A!D217","v":14429177},{"$f":"A3A!E217","v":14588201},{"$f":"A3A!F217","v":16427881.220000003},{"$f":"A3A!G217","v":16405224.07},{"$f":"A3A!H217","v":16405224.07},{"$f":"A3A!I217","v":18030667.140000001},{"$f":"A3A!J217","v":18605305.34},{"$f":"A3A!K217","v":19461149.390000001}]
[{"$f":"A3A!A228","v":"Vote 6 - Road Transport"},null,{"$f":"A3A!C228","v":2881474},{"$f":"A3A!D228","v":17566059},{"$f":"A3A!E228","v":10215307},{"$f":"A3A!F228","v":16145900.140000004},{"$f":"A3A!G228","v":16046107.160000004},{"$f":"A3A!H228","v":16046107.160000004},{"$f":"A3A!I228","v":15374521.389999999},{"$f":"A3A!J228","v":16081632.399999997},{"$f":"A3A!K228","v":16821387.470000006}]
[{"$f":"A3A!A239","v":"Vote 7 - Waste Management"},null,{"$f":"A3A!C239","v":0},{"$f":"A3A!D239","v":9359355},{"$f":"A3A!E239","v":10893472},{"$f":"A3A!F239","v":12076761.4},{"$f":"A3A!G239","v":12146487.039999999},{"$f":"A3A!H239","v":12146487.039999999},{"$f":"A3A!I239","v":12966912.109999999},{"$f":"A3A!J239","v":13201382.389999999},{"$f":"A3A!K239","v":13808645.959999999}]
[{"$f":"A3A!A250","v":"Vote 8 - Energy Sources"},null,{"$f":"A3A!C250","v":0},{"$f":"A3A!D250","v":0},{"$f":"A3A!E250","v":0},{"$f":"A3A!F250","v":13000000.000000002},{"$f":"A3A!G250","v":0},{"$f":"A3A!H250","v":0},{"$f":"A3A!I250","v":0},{"$f":"A3A!J250","v":0},{"$f":"A3A!K250","v":0}]
[{"$f":"A3A!A261","v":"Vote 9 - Planning and Development"},null,{"$f":"A3A!C261","v":0},{"$f":"A3A!D261","v":6218244},{"$f":"A3A!E261","v":53944760},{"$f":"A3A!F261","v":24953119.059999995},{"$f":"A3A!G261","v":24075696.789999999},{"$f":"A3A!H261","v":24075696.789999999},{"$f":"A3A!I261","v":14532435.279999997},{"$f":"A3A!J261","v":14727089.289999999},{"$f":"A3A!K261","v":15404535.4}]
[{"$f":"A3A!A272","v":"Vote 10 - Sport and Recreation"},null,{"$f":"A3A!C272","v":0},{"$f":"A3A!D272","v":370714},{"$f":"A3A!E272","v":617356},{"$f":"A3A!F272","v":685538.53},{"$f":"A3A!G272","v":667678},{"$f":"A3A!H272","v":667678},{"$f":"A3A!I272","v":621439.05999999994},{"$f":"A3A!J272","v":650025.26},{"$f":"A3A!K272","v":679926.43}]
[{"$f":"A3A!A283","v":"Vote 11 - [NAME OF VOTE 11]"},null,{"$f":"A3A!C283","v":0},{"$f":"A3A!D283","v":0},{"$f":"A3A!E283","v":0},{"$f":"A3A!F283","v":0},{"$f":"A3A!G283","v":0},{"$f":"A3A!H283","v":0},{"$f":"A3A!I283","v":0},{"$f":"A3A!J283","v":0},{"$f":"A3A!K283","v":0},{"$f":"A3A!L284","v":0}]
[{"$f":"A3A!A294","v":"Vote 12 - [NAME OF VOTE 12]"},null,{"$f":"A3A!C294","v":0},{"$f":"A3A!D294","v":0},{"$f":"A3A!E294","v":0},{"$f":"A3A!F294","v":0},{"$f":"A3A!G294","v":0},{"$f":"A3A!H294","v":0},{"$f":"A3A!I294","v":0},{"$f":"A3A!J294","v":0},{"$f":"A3A!K294","v":0},{"$f":"A3A!L295","v":0}]
[{"$f":"A3A!A305","v":"Vote 13 - [NAME OF VOTE 13]"},null,{"$f":"A3A!C305","v":0},{"$f":"A3A!D305","v":0},{"$f":"A3A!E305","v":0},{"$f":"A3A!F305","v":0},{"$f":"A3A!G305","v":0},{"$f":"A3A!H305","v":0},{"$f":"A3A!I305","v":0},{"$f":"A3A!J305","v":0},{"$f":"A3A!K305","v":0},{"$f":"A3A!L306","v":0}]
[{"$f":"A3A!A316","v":"Vote 14 - [NAME OF VOTE 14]"},null,{"$f":"A3A!C316","v":0},{"$f":"A3A!D316","v":0},{"$f":"A3A!E316","v":0},{"$f":"A3A!F316","v":0},{"$f":"A3A!G316","v":0},{"$f":"A3A!H316","v":0},{"$f":"A3A!I316","v":0},{"$f":"A3A!J316","v":0},{"$f":"A3A!K316","v":0},{"$f":"A3A!L317","v":0}]
[{"$f":"A3A!A327","v":"Vote 15 - [NAME OF VOTE 15]"},null,{"$f":"A3A!C327","v":0},{"$f":"A3A!D327","v":0},{"$f":"A3A!E327","v":0},{"$f":"A3A!F327","v":0},{"$f":"A3A!G327","v":0},{"$f":"A3A!H327","v":0},{"$f":"A3A!I327","v":0},{"$f":"A3A!J327","v":0},{"$f":"A3A!K327","v":0},{"$f":"A3A!L328","v":0}]
["Total Expenditure by Vote",2,{"$f":"SUM(C23:C37)","v":126191892},{"$f":"SUM(D23:D37)","v":138980115.67000002},186877306,244087283.42000005,175823785.47999999,175823785.47999999,173774685.58000001,208200434.02999997,217777654.01000002,{"$f":"SUM(L23:L29)","v":0},0,0,0,0,0,0,0,0,0,0,0]
[{"$f":"result","v":"Surplus/(Deficit) for the year"},2,{"$f":"C20-C38","v":34662546},19938157.329999983,31435715,23860894.269999981,18239658.520000011,18239658.520000011,21884789.079999983,28479813.530000001,29789884.929999948,0,0,0,0,0,0,0,0,0,0,0,0]
[{"$f":"head27a","v":"References"}]
["1. Insert 'Vote'; e.g. department, if different to functional classification structure"]
["2. Must reconcile to Budgeted Financial Performance (revenue and expenditure)"]
["3. Assign share in 'associate' to relevant Vote"]
[]
[{"$f":"\"check \"&A39","v":"check Surplus/(Deficit) for the year"},null,{"$f":"C39-A3A!C340","v":0},{"$f":"D39-A3A!D340","v":0},{"$f":"E39-A3A!E340","v":0},{"$f":"F39-A3A!F340","v":0},{"$f":"G39-A3A!G340","v":0},{"$f":"H39-A3A!H340","v":0},{"$f":"I39-A3A!I340","v":0},{"$f":"J39-A3A!J340","v":0},{"$f":"K39-A3A!K340","v":0}]

{"sheet":"A3A","index":10,"n_rows":347,"n_cols":23,"rows_kept":347,"cut":false,"hidden":false,"merged":[[1,11,1,22],[1,5,1,7],[1,8,1,10]]}
[{"$f":"muni&\" - \"&Approve2&\"A\"","v":"KZN434 Ubuhlebezwe - Table A3 Budgeted Financial Performance (revenue and expenditure by municipal vote)A"}]
[{"$f":"Vdesc","v":"Vote Description"},{"$f":"head27","v":"Ref"},{"$f":"head1b","v":"2016/17"},{"$f":"head1A","v":"2017/18"},{"$f":"Head1","v":"2018/19"},{"$f":"Head2","v":"Current Year 2019/20"},null,null,{"$f":"Head3","v":"2020/21 Medium Term Revenue & Expenditure Framework"},null,null,{"$f":"Head4","v":"LTFS"}]
["R thousand",null,{"$f":"Head5","v":"Audited Outcome"},{"$f":"Head5","v":"Audited Outcome"},{"$f":"Head5","v":"Audited Outcome"},{"$f":"Head6","v":"Original Budget"},{"$f":"Head7","v":"Adjusted Budget"},{"$f":"Head8","v":"Full Year Forecast"},{"$f":"Head9","v":"Budget Year 2020/21"},{"$f":"Head10","v":"Budget Year +1 2021/22"},{"$f":"Head11","v":"Budget Year +2 2022/23"},{"$f":"Head12","v":"Forecast 2023/24"},{"$f":"Head13","v":"Forecast 2024/25"},{"$f":"Head14","v":"Forecast 2025/26"},{"$f":"Head15","v":"Forecast 2026/27"},{"$f":"Head16","v":"Forecast 2027/28"},{"$f":"Head17","v":"Forecast 2028/29"},{"$f":"Head18","v":"Forecast 2029/30"},{"$f":"Head19","v":"Forecast 2030/31"},{"$f":"Head20","v":"Forecast 2031/32"},{"$f":"Head21","v":"Forecast 2032/33"},{"$f":"Head22","v":"Forecast 2033/34"},{"$f":"Head23","v":"Forecast 2034/35"}]
["Revenue by Vote",1]
[{"$f":"'Org structure'!A2","v":"Vote 1 - Finance & Admin"},null,{"$f":"SUM(C6:C15)","v":157549545},{"$f":"SUM(D6:D15)","v":120964461},138590018,152440115.33000001,149490116,149490116,156711923.94,63749102.539999999,66681561.249999993]
["1.1 - Asset Management",null,0,0,0,0,0,0,0,0,0]
["1.2 - Information Technology",null,156376322,120564517,137440018,0,0,0,0,0,0]
["1.3 - Finance",null,0,0,0,151440115.33000001,148490116,148490116,156211923.94,63226102.539999999,66134503.249999993]
["1.4 - Fleet Management",null,0,0,0,0,0,0,0,0,0]
["1.5 - Administrative and Corporate Support",null,0,327929,1000000,1000000,1000000,1000000,500000,523000,547058]
["1.6 - Property Services",null,1173223,72015,150000,0,0,0,0,0,0]
["1.7 - Legal Services",null,0,0,0,0,0,0,0,0,0]
["1.8 - Human Resources",null,0,0,0,0,0,0,0,0,0]
["",null,0,0,0,0,0,0,0,0,0]
["",null,0,0,0,0,0,0,0,0,0]
[{"$f":"'Org structure'!A3","v":"Vote 2 - Executive & Council"},null,{"$f":"SUM(C17:C26)","v":0},{"$f":"SUM(D17:D26)","v":0},0,0,0,0,0,null,0]
["2.1 - Mayor and Council",null,0,0,0,0,0,0,0,0,0]
["2.2 - Municipal Manager, Town Secretary and Chief Executive",null,0,0,0,0,0,0,0,0,0]
["2.3 - Governance Function",null,0,0,0,0,0,0,0,0,0]
["",null,0,0,0,0,0,0,0,0,0]
["",null,0,0,0,0,0,0,0,0,0]
["",null,0,0,0,0,0,0,0,0,0]
["",null,0,0,0,0,0,0,0,0,0]
["",null,0,0,0,0,0,0,0,0,0]
["",null,0,0,0,0,0,0,0,0,0]
["",null,0,0,0,0,0,0,0,0,0]
[{"$f":"'Org structure'!A4","v":"Vote 3 - Community and Social Services"},null,{"$f":"SUM(C28:C37)","v":0},2274446,1935496,3866416,3932416,3932416,4272416,4468947.1399999997,4674518.71]
["3.1 - Cultural Matters",null,0,0,0,0,0,0,0,0,0]
["3.2 - Population Development",null,0,39581,892080,1793000,1793000,1793000,1903000,1990538,2082102.75]
["3.3 - Recreational Facilities",null,0,779657,1043416,0,0,0,0,0,0]
["3.4 - Education",null,0,1455208,0,0,0,0,0,0,0]
["3.5 - Libraries and Archives",null,0,0,0,1043416,1109416,1109416,1139416,1191829.1399999999,1246653.28]
["3.6 - Community Halls and Facilities",null,0,0,0,1030000,1030000,1030000,1230000,1286580,1345762.68]
["3.7 - Development Facilitation",null,0,0,0,0,0,0,0,0,0]
["3.8 - Community Parks (including Nurseries)",null,0,0,0,0,0,0,0,0,0]
["3.9 - Tourism",null,0,0,0,0,0,0,0,0,0]
["3.10 - Aged Care",null,0,0,0,0,0,0,0,0,0]
[{"$f":"'Org structure'!A5","v":"Vote 4 - Housing"},null,{"$f":"SUM(C39:C48)","v":0},0,22166907,58529511.640000001,0,0,0,116628572.95999999,121993487.31999999]
["4.1 - Housing",null,0,0,22166907,58529511.640000001,0,0,0,116628572.95999999,121993487.31999999]
["",null,0,0,0,0,0,0,0,0,0]
["",null,0,0,0,0,0,0,0,0,0]
["",null,0,0,0,0,0,0,0,0,0]
["",null,0,0,0,0,0,0,0,0,0]
["",null,0,0,0,0,0,0,0,0,0]
["",null,0,0,0,0,0,0,0,0,0]
["",null,0,0,0,0,0,0,0,0,0]
["",null,0,0,0,0,0,0,0,0,0]
["",null,0,0,0,0,0,0,0,0,0]
[{"$f":"'Org structure'!A6","v":"Vote 5 - Public Safety"},null,{"$f":"SUM(C50:C59)","v":3304893},{"$f":"SUM(D50:D59)","v":4580553},6626300,10362700,10862700,10862700,4962700,5190984.2,5429769.4700000007]
["5.1 - Civil Defence",null,0,14879,3026300,4336400,4836400,4836400,4936400,5163474.4000000004,5400994.2200000007]
["5.2 - Fire Fighting and Protection",null,3304893,4565674,3600000,6026300,6026300,6026300,26300,27509.8,28775.25]
["",null,0,0,0,0,0,0,0,0,0]
["",null,0,0,0,0,0,0,0,0,0]
["",null,0,0,0,0,0,0,0,0,0]
["",null,0,0,0,0,0,0,0,0,0]
["",null,0,0,0,0,0,0,0,0,0]
["",null,0,0,0,0,0,0,0,0,0]
["",null,0,0,0,0,0,0,0,0,0]
["",null,0,0,0,0,0,0,0,0,0]
[{"$f":"'Org structure'!A7","v":"Vote 6 - Road Transport"},null,{"$f":"SUM(C61:C70)","v":0},{"$f":"SUM(D61:D70)","v":28994365},2389520,39983654.719999999,26983655,26983655,26825654.719999999,43749634.840000004,45762118.039999999]
["6.1 - Roads",null,null,28994365,2389520,39983654.719999999,26983655,26983655,26825654.719999999,43749634.840000004,45762118.039999999]
["",null,0,0,0,0,0,0,0,0,0]
["",null,0,0,0,0,0,0,0,0,0]
["",null,0,0,0,0,0,0,0,0,0]
["",null,0,0,0,0,0,0,0,0,0]
["",null,0,0,0,0,0,0,0,0,0]
["",null,0,0,0,0,0,0,0,0,0]
["",null,0,0,0,0,0,0,0,0,0]
["",null,0,0,0,0,0,0,0,0,0]
["",null,0,0,0,0,0,0,0,0,0]
[{"$f":"'Org structure'!A8","v":"Vote 7 - Waste Management"},null,{"$f":"SUM(C72:C81)","v":0},2037394,2000000,2100000,2100000,2100000,2600000,2719600,2844701.6]
["7.1 - Solid Waste Removal",null,0,2037394,2000000,2100000,2100000,2100000,2600000,2719600,2844701.6]
["",null,0,0,0,0,0,0,0,0,0]
["",null,0,0,0,0,0,0,0,0,0]
["",null,0,0,0,0,0,0,0,0,0]
["",null,0,0,0,0,0,0,0,0,0]
["",null,0,0,0,0,0,0,0,0,0]
["",null,0,0,0,0,0,0,0,0,0]
["",null,0,0,0,0,0,0,0,0,0]
["",null,0,0,0,0,0,0,0,0,0]
["",null,0,0,0,0,0,0,0,0,0]
[{"$f":"'Org structure'!A9","v":"Vote 8 - Energy Sources"},null,{"$f":"SUM(C83:C92)","v":0},{"$f":"SUM(D83:D92)","v":0},16000000,0,0,0,0,0,0]
["8.1 - Electricity",null,0,0,16000000,0,0,0,0,0,0]
["",null,0,0,0,0,0,0,0,0,0]
["",null,0,0,0,0,0,0,0,0,0]
["",null,0,0,0,0,0,0,0,0,0]
["",null,0,0,0,0,0,0,0,0,0]
["",null,0,0,0,0,0,0,0,0,0]
["",null,0,0,0,0,0,0,0,0,0]
["",null,0,0,0,0,0,0,0,0,0]
["",null,0,0,0,0,0,0,0,0,0]
["",null,0,0,0,0,0,0,0,0,0]
[{"$f":"'Org structure'!A10","v":"Vote 9 - Planning and Development"},null,{"$f":"SUM(C94:C103)","v":0},{"$f":"SUM(D94:D103)","v":67054},26554780,615780,665780,665780,286780,173405.88,181382.55]
["9.1 - Town Planning, Building Regulations and Enforcement, and City Engineer",null,null,3767,0,600000,600000,600000,100000,104600,109411.6]
["9.2 - Economic Development/Planning",null,null,63287,100000,15780,65780,65780,186780,68805.88,71970.95]
["9.3 - Regional Planning and Development",null,0,0,26454780,0,0,0,0,0,0]
["9.4 - Street Lighting and Signal Systems",null,0,0,0,0,0,0,0,0,0]
["9.5 - Project Management Unit",null,0,0,0,0,0,0,0,0,0]
["",null,0,0,0,0,0,0,0,0,0]
["",null,0,0,0,0,0,0,0,0,0]
["",null,0,0,0,0,0,0,0,0,0]
["",null,0,0,0,0,0,0,0,0,0]
["",null,0,0,0,0,0,0,0,0,0]
[{"$f":"'Org structure'!A11","v":"Vote 10 - Sport and Recreation"},null,{"$f":"SUM(C105:C114)","v":0},{"$f":"SUM(D105:D114)","v":0},2050000,50000,28777,28777,0,0,0]
["10.1 - Sports Grounds and Stadiums",null,0,0,2000000,50000,28777,28777,0,0,0]
["",null,0,0,50000,0,0,0,0,0,0]
["",null,0,0,0,0,0,0,0,0,0]
["",null,0,0,0,0,0,0,0,0,0]
["",null,0,0,0,0,0,0,0,0,0]
["",null,0,0,0,0,0,0,0,0,0]
["",null,0,0,0,0,0,0,0,0,0]
["",null,0,0,0,0,0,0,0,0,0]
["",null,0,0,0,0,0,0,0,0,0]
["",null,0,0,0,0,0,0,0,0,0]
[{"$f":"'Org structure'!A12","v":"Vote 11 - [NAME OF VOTE 11]"},null,{"$f":"SUM(C116:C125)","v":0},{"$f":"SUM(D116:D125)","v":0},0,0,0,0,0,0,0]
["",null,0,0,0,0,0,0,0,0,0]
["",null,0,0,0,0,0,0,0,0,0]
["",null,0,0,0,0,0,0,0,0,0]
["",null,0,0,0,0,0,0,0,0,0]
["",null,0,0,0,0,0,0,0,0,0]
["",null,0,0,0,0,0,0,0,0,0]
["",null,0,0,0,0,0,0,0,0,0]
["",null,0,0,0,0,0,0,0,0,0]
["",null,0,0,0,0,0,0,0,0,0]
["",null,0,0,0,0,0,0,0,0,0]
[{"$f":"'Org structure'!A13","v":"Vote 12 - [NAME OF VOTE 12]"},null,{"$f":"SUM(C127:C136)","v":0},{"$f":"SUM(D127:D136)","v":0},0,0,0,0,0,0,0]
["",null,0,0,0,0,0,0,0,0,0]
["",null,0,0,0,0,0,0,0,0,0]
["",null,0,0,0,0,0,0,0,0,0]
["",null,0,0,0,0,0,0,0,0,0]
["",null,0,0,0,0,0,0,0,0,0]
["",null,0,0,0,0,0,0,0,0,0]
["",null,0,0,0,0,0,0,0,0,0]
["",null,0,0,0,0,0,0,0,0,0]
["",null,0,0,0,0,0,0,0,0,0]
["",null,0,0,0,0,0,0,0,0,0]
[{"$f":"'Org structure'!A14","v":"Vote 13 - [NAME OF VOTE 13]"},null,{"$f":"SUM(C138:C147)","v":0},{"$f":"SUM(D138:D147)","v":0},0,0,0,0,0,0,0]
["",null,0,0,0,0,0,0,0,0,0]
["",null,0,0,0,0,0,0,0,0,0]
["",null,0,0,0,0,0,0,0,0,0]
["",null,0,0,0,0,0,0,0,0,0]
["",null,0,0,0,0,0,0,0,0,0]
["",null,0,0,0,0,0,0,0,0,0]
["",null,0,0,0,0,0,0,0,0,0]
["",null,0,0,0,0,0,0,0,0,0]
["",null,0,0,0,0,0,0,0,0,0]
["",null,0,0,0,0,0,0,0,0,0]
[{"$f":"'Org structure'!A15","v":"Vote 14 - [NAME OF VOTE 14]"},null,{"$f":"SUM(C149:C158)","v":0},{"$f":"SUM(D149:D158)","v":0},0,0,0,0,0,0,0]
["",null,0,0,0,0,0,0,0,0,0]
["",null,0,0,0,0,0,0,0,0,0]
["",null,0,0,0,0,0,0,0,0,0]
["",null,0,0,0,0,0,0,0,0,0]
["",null,0,0,0,0,0,0,0,0,0]
["",null,0,0,0,0,0,0,0,0,0]
["",null,0,0,0,0,0,0,0,0,0]
["",null,0,0,0,0,0,0,0,0,0]
["",null,0,0,0,0,0,0,0,0,0]
["",null,0,0,0,0,0,0,0,0,0]
[{"$f":"'Org structure'!A16","v":"Vote 15 - [NAME OF VOTE 15]"},null,{"$f":"SUM(C160:C169)","v":0},{"$f":"SUM(D160:D169)","v":0},0,0,0,0,0,0,0]
["",null,0,0,0,0,0,0,0,0,0]
["",null,0,0,0,0,0,0,0,0,0]
["",null,0,0,0,0,0,0,0,0,0]
["",null,0,0,0,0,0,0,0,0,0]
["",null,0,0,0,0,0,0,0,0,0]
["",null,0,0,0,0,0,0,0,0,0]
["",null,0,0,0,0,0,0,0,0,0]
["",null,0,0,0,0,0,0,0,0,0]
["",null,0,0,0,0,0,0,0,0,0]
["",null,0,0,0,0,0,0,0,0,0]
["Total Revenue by Vote",2,{"$f":"C5+C16+C27+C38+C49+C60+C71+C82+C93+C104+C115+C126+C137+C148+C159","v":160854438},{"$f":"D5+D16+D27+D38+D49+D60+D71+D82+D93+D104+D115+D126+D137+D148+D159","v":158918273},{"$f":"E5+E16+E27+E38+E49+E60+E71+E82+E93+E104+E115+E126+E137+E148+E159","v":218313021},267948177.69000003,194063444,194063444,{"$f":"I5+I16+I27+I38+I49+I60+I71+I82+I93+I104+I115+I126+I137+I148+I159","v":195659474.66},236680247.55999997,247567538.93999997,{"$f":"SUM(L78:L81)","v":0},0,0,0,0,0,0,0,0,0,0,0]
[]
["Expenditure by Vote",1]
[{"$f":"A5","v":"Vote 1 - Finance & Admin"},null,{"$f":"SUM(C174:C183)","v":121945552},62298597.670000002,63095968,66166747.280000016,70300119.260000005,70300119.260000005,73844658.360000014,75609909.99000001,79087965.850000024]
["1.1 - Asset Management",null,0,0,0,8000,8000,8000,8360,8744.56,9146.81]
["1.2 - Information Technology",null,121945552,39630949.670000002,38420980,0,0,0,0,0,0]
["1.3 - Finance",null,0,0,0,40242342.460000016,43887409.399999999,43887409.399999999,45585423.340000004,47642719.270000011,49834284.360000014]
["1.4 - Fleet Management",null,0,0,0,0,0,0,0,0,0]
["1.5 - Administrative and Corporate Support",null,null,22471354,24096388,25736404.820000004,26224709.860000003,26224709.860000003,27864525.020000003,27761693.56000001,29038731.460000001]
["1.6 - Property Services",null,0,196294,578600,180000,180000,180000,188100,196752.6,205803.22]
["1.7 - Legal Services",null,0,null,null,0,0,0,0,0,0]
["1.8 - Human Resources",null,0,null,null,0,0,0,198250,0,0]
["",null,0,0,0,0,0,0,0,0,0]
["",null,0,0,0,0,0,0,0,0,0]
[{"$f":"A16","v":"Vote 2 - Executive & Council"},null,{"$f":"SUM(C185:C194)","v":0},{"$f":"SUM(D185:D194)","v":20477677},{"$f":"SUM(E185:E194)","v":23431044},25414361.140000004,25060441.279999997,25060441.279999997,26588783.960000001,26573994.66,27796398.430000003]
["2.1 - Mayor and Council",null,null,12549571,12888892,13825585.77,13925023.6,13925023.6,14212056.820000002,14442271.229999999,15106615.77]
["2.2 - Municipal Manager, Town Secretary and Chief Executive",null,0,7928106,10542152,11588775.370000005,11135417.679999998,11135417.679999998,12296615.299999999,12131606.450000001,12689660.290000003]
["2.3 - Governance Function",null,0,0,0,0,0,0,80111.839999999997,116.98,122.37]
["",null,0,0,0,0,0,0,0,0,0]
["",null,0,0,0,0,0,0,0,0,0]
["",null,0,0,0,0,0,0,0,0,0]
["",null,0,0,0,0,0,0,0,0,0]
["",null,0,0,0,0,0,0,0,0,0]
["",null,0,0,0,0,0,0,0,0,0]
["",null,0,0,0,0,0,0,0,0,0]
[{"$f":"A27","v":"Vote 3 - Community and Social Services"},null,{"$f":"SUM(C196:C205)","v":0},7079850,8874120,8961879.8699999992,9406508.6900000013,9406508.6900000013,9555488.9899999984,9491297.1000000015,9927896.7999999989]
["3.1 - Cultural Matters",null,0,0,0,660560,{"$f":"3684752.21-34000","v":3650752.21},{"$f":"3684752.21-34000","v":3650752.21},3772947.15,3564031.6,3727977.07]
["3.2 - Population Development",null,0,364286,80000,998642.01,0,0,115940,0,0]
["3.3 - Recreational Facilities",null,null,1396412,1633120,1591727.8499999999,0,0,0,0,0]
["3.4 - Education",null,0,5319152,7161000,3662282.4899999998,660560,660560,690285.2,722038.32,755252.08000000007]
["3.5 - Libraries and Archives",null,0,0,0,254840,1867092.03,1867092.03,1613370,1687584.9999999998,1765213.9300000002]
["3.6 - Community Halls and Facilities",null,0,0,0,1440000,1055202.0899999999,1055202.0899999999,1080432.4100000001,1130132.3000000003,1182118.3899999997]
["3.7 - Development Facilitation",null,0,0,0,0,306074.36,306074.36,383929.47000000003,401590.22,420063.37]
["3.8 - Community Parks (including Nurseries)",null,0,0,0,0,73000,73000,76285,79794.11,83464.63]
["3.9 - Tourism",null,0,0,0,353827.52,353828,353828,369749.76000000001,386758.25,404549.13]
["3.10 - Aged Care",null,0,0,0,0,1440000,1440000,1452550,1519367.3,1589258.2]
[{"$f":"A38","v":"Vote 4 - Housing"},null,{"$f":"SUM(C207:C216)","v":0},1180442,1217078,60255094.780000001,1715523.1900000002,1715523.1900000002,2259779.29,33259797.600000001,34789748.280000001]
["4.1 - Housing",null,0,1180442,1217078,60255094.780000001,1715523.1900000002,1715523.1900000002,2259779.29,33259797.600000001,34789748.280000001]
["",null,0,0,0,0,0,0,0,0,0]
["",null,0,0,0,0,0,0,0,0,0]
["",null,0,0,0,0,0,0,0,0,0]
["",null,0,0,0,0,0,0,0,0,0]
["",null,0,0,0,0,0,0,0,0,0]
["",null,0,0,0,0,0,0,0,0,0]
["",null,0,0,0,0,0,0,0,0,0]
["",null,0,0,0,0,0,0,0,0,0]
["",null,0,0,0,0,0,0,0,0,0]
[{"$f":"A49","v":"Vote 5 - Public Safety"},null,{"$f":"SUM(C218:C227)","v":1364866},14429177,14588201,16427881.220000003,16405224.07,16405224.07,18030667.140000001,18605305.34,19461149.390000001]
["5.1 - Civil Defence",null,0,6051989,6813791,8640611.120000001,8627462.4199999999,8627462.4199999999,9159304.3899999987,9580632.3900000006,10021341.49]
["5.2 - Fire Fighting and Protection",null,1364866,8377188,7774410,7787270.1000000006,7777761.6500000004,7777761.6500000004,8871362.75,9024672.9499999993,9439807.8999999985]
["",null,0,0,0,0,0,0,0,0,0]
["",null,0,0,0,0,0,0,0,0,0]
["",null,0,0,0,0,0,0,0,0,0]
["",null,0,0,0,0,0,0,0,0,0]
["",null,0,0,0,0,0,0,0,0,0]
["",null,0,0,0,0,0,0,0,0,0]
["",null,0,0,0,0,0,0,0,0,0]
["",null,0,0,0,0,0,0,0,0,0]
[{"$f":"A60","v":"Vote 6 - Road Transport"},null,{"$f":"SUM(C229:C238)","v":2881474},17566059,10215307,16145900.140000004,16046107.160000004,16046107.160000004,15374521.389999999,16081632.399999997,16821387.470000006]
["6.1 - Roads",null,2881474,17566059,10215307,16145900.140000004,16046107.160000004,16046107.160000004,15374521.389999999,16081632.399999997,16821387.470000006]
["",null,0,0,0,0,0,0,0,0,0]
["",null,0,0,0,0,0,0,0,0,0]
["",null,0,0,0,0,0,0,0,0,0]
["",null,0,0,0,0,0,0,0,0,0]
["",null,0,0,0,0,0,0,0,0,0]
["",null,0,0,0,0,0,0,0,0,0]
["",null,0,0,0,0,0,0,0,0,0]
["",null,0,0,0,0,0,0,0,0,0]
["",null,0,0,0,0,0,0,0,0,0]
[{"$f":"A71","v":"Vote 7 - Waste Management"},null,{"$f":"SUM(C240:C249)","v":0},9359355,10893472,12076761.4,12146487.039999999,12146487.039999999,12966912.109999999,13201382.389999999,13808645.959999999]
["7.1 - Solid Waste Removal",null,0,9359355,10893472,12076761.4,12146487.039999999,12146487.039999999,12966912.109999999,13201382.389999999,13808645.959999999]
["",null,0,0,0,0,0,0,0,0,0]
["",null,0,0,0,0,0,0,0,0,0]
["",null,0,0,0,0,0,0,0,0,0]
["",null,0,0,0,0,0,0,0,0,0]
["",null,0,0,0,0,0,0,0,0,0]
["",null,0,0,0,0,0,0,0,0,0]
["",null,0,0,0,0,0,0,0,0,0]
["",null,0,0,0,0,0,0,0,0,0]
["",null,0,0,0,0,0,0,0,0,0]
[{"$f":"A82","v":"Vote 8 - Energy Sources"},null,{"$f":"SUM(C251:C260)","v":0},0,0,13000000.000000002,0,0,0,0,0]
["8.1 - Electricity",null,0,0,0,13000000.000000002,0,0,0,0,0]
["",null,0,0,0,0,0,0,0,0,0]
["",null,0,0,0,0,0,0,0,0,0]
["",null,0,0,0,0,0,0,0,0,0]
["",null,0,0,0,0,0,0,0,0,0]
["",null,0,0,0,0,0,0,0,0,0]
["",null,0,0,0,0,0,0,0,0,0]
["",null,0,0,0,0,0,0,0,0,0]
["",null,0,0,0,0,0,0,0,0,0]
["",null,0,0,0,0,0,0,0,0,0]
[{"$f":"A93","v":"Vote 9 - Planning and Development"},null,{"$f":"SUM(C262:C271)","v":0},6218244,53944760,24953119.059999995,24075696.789999999,24075696.789999999,14532435.279999997,14727089.289999999,15404535.4]
["9.1 - Town Planning, Building Regulations and Enforcement, and City Engineer",null,0,4888131,5646990,19111790.049999997,4487085.7800000012,4487085.7800000012,5317513,5039118.58,5270918.04]
["9.2 - Economic Development/Planning",null,0,1330113,2647770,4937172.9199999981,18776186.649999999,18776186.649999999,8670292.7799999975,9118288.2499999981,9537729.5099999998]
["9.3 - Regional Planning and Development",null,0,0,45650000,607319,506350,506350,460629.5,481818.45999999996,503982.11]
["9.4 - Street Lighting and Signal Systems",null,0,0,0,296837.09000000003,306074.36000000004,306074.36000000004,0,0,0]
["9.5 - Project Management Unit",null,0,0,0,0,0,0,84000,87864,91905.74]
["",null,0,0,0,0,0,0,0,0,0]
["",null,0,0,0,0,0,0,0,0,0]
["",null,0,0,0,0,0,0,0,0,0]
["",null,0,0,0,0,0,0,0,0,0]
["",null,0,0,0,0,0,0,0,0,0]
[{"$f":"A104","v":"Vote 10 - Sport and Recreation"},null,{"$f":"SUM(C273:C282)","v":0},370714,617356,685538.53,667678,667678,621439.05999999994,650025.26,679926.43]
["10.1 - Sports Grounds and Stadiums",null,0,370714,617356,685538.53,667678,667678,621439.05999999994,650025.26,679926.43]
["",null,null,0,0,0,0,0,0,0,0]
["",null,0,0,0,0,0,0,0,0,0]
["",null,0,0,0,0,0,0,0,0,0]
["",null,0,0,0,0,0,0,0,0,0]
["",null,0,0,0,0,0,0,0,0,0]
["",null,0,0,0,0,0,0,0,0,0]
["",null,0,0,0,0,0,0,0,0,0]
["",null,0,0,0,0,0,0,0,0,0]
["",null,0,0,0,0,0,0,0,0,0]
[{"$f":"A115","v":"Vote 11 - [NAME OF VOTE 11]"},null,{"$f":"SUM(C284:C293)","v":0},0,0,0,0,0,0,0,0]
["",null,0,0,0,0,0,0,0,0,0]
["",null,0,0,0,0,0,0,0,0,0]
["",null,0,0,0,0,0,0,0,0,0]
["",null,0,0,0,0,0,0,0,0,0]
["",null,0,0,0,0,0,0,0,0,0]
["",null,0,0,0,0,0,0,0,0,0]
["",null,0,0,0,0,0,0,0,0,0]
["",null,0,0,0,0,0,0,0,0,0]
["",null,0,0,0,0,0,0,0,0,0]
["",null,0,0,0,0,0,0,0,0,0]
[{"$f":"A126","v":"Vote 12 - [NAME OF VOTE 12]"},null,{"$f":"SUM(C295:C304)","v":0},0,0,0,0,0,0,0,0]
["",null,0,0,0,0,0,0,0,0,0]
["",null,0,0,0,0,0,0,0,0,0]
["",null,0,0,0,0,0,0,0,0,0]
["",null,0,0,0,0,0,0,0,0,0]
["",null,0,0,0,0,0,0,0,0,0]
["",null,0,0,0,0,0,0,0,0,0]
["",null,0,0,0,0,0,0,0,0,0]
["",null,0,0,0,0,0,0,0,0,0]
["",null,0,0,0,0,0,0,0,0,0]
["",null,0,0,0,0,0,0,0,0,0]
[{"$f":"A137","v":"Vote 13 - [NAME OF VOTE 13]"},null,{"$f":"SUM(C306:C315)","v":0},0,0,0,0,0,0,0,0]
["",null,0,0,0,0,0,0,0,0,0]
["",null,0,0,0,0,0,0,0,0,0]
["",null,0,0,0,0,0,0,0,0,0]
["",null,0,0,0,0,0,0,0,0,0]
["",null,0,0,0,0,0,0,0,0,0]
["",null,0,0,0,0,0,0,0,0,0]
["",null,0,0,0,0,0,0,0,0,0]
["",null,0,0,0,0,0,0,0,0,0]
["",null,0,0,0,0,0,0,0,0,0]
["",null,0,0,0,0,0,0,0,0,0]
[{"$f":"A148","v":"Vote 14 - [NAME OF VOTE 14]"},null,{"$f":"SUM(C317:C326)","v":0},0,0,0,0,0,0,0,0]
["",null,0,0,0,0,0,0,0,0,0]
["",null,0,0,0,0,0,0,0,0,0]
["",null,0,0,0,0,0,0,0,0,0]
["",null,0,0,0,0,0,0,0,0,0]
["",null,0,0,0,0,0,0,0,0,0]
["",null,0,0,0,0,0,0,0,0,0]
["",null,0,0,0,0,0,0,0,0,0]
["",null,0,0,0,0,0,0,0,0,0]
["",null,0,0,0,0,0,0,0,0,0]
["",null,0,0,0,0,0,0,0,0,0]
[{"$f":"A159","v":"Vote 15 - [NAME OF VOTE 15]"},null,{"$f":"SUM(C328:C337)","v":0},0,0,0,0,0,0,0,0]
["",null,0,0,0,0,0,0,0,0,0]
["",null,0,0,0,0,0,0,0,0,0]
["",null,0,0,0,0,0,0,0,0,0]
["",null,0,0,0,0,0,0,0,0,0]
["",null,0,0,0,0,0,0,0,0,0]
["",null,0,0,0,0,0,0,0,0,0]
["",null,0,0,0,0,0,0,0,0,0]
["",null,0,0,0,0,0,0,0,0,0]
["",null,0,0,0,0,0,0,0,0,0]
["",null,0,0,0,0,0,0,0,0,0]
["Total Expenditure by Vote",2,{"$f":"C173+C184+C195+C206+C217+C228+C239+C250+C261+C283+C294+C305+C316+C327+C272","v":126191892},{"$f":"D173+D184+D195+D206+D217+D228+D239+D250+D261+D283+D294+D305+D316+D327+D272","v":138980115.67000002},{"$f":"E173+E184+E195+E206+E217+E228+E239+E250+E261+E283+E294+E305+E316+E327+E272","v":186877306},244087283.42000005,175823785.47999999,175823785.47999999,173774685.58000001,208200434.02999997,217777654.01000002,{"$f":"SUM(L173:L249)","v":0},0,0,0,0,0,0,0,0,0,0,0]
[]
[{"$f":"result","v":"Surplus/(Deficit) for the year"},2,{"$f":"C170-C338","v":34662546},19938157.329999983,31435715,23860894.269999981,18239658.520000011,18239658.520000011,21884789.079999983,28479813.530000001,29789884.929999948,0,0,0,0,0,0,0,0,0,0,0,0]
[{"$f":"head27a","v":"References"}]
["1. Insert 'Vote'; e.g. Department, if different to Functional structure"]
["2. Must reconcile to Financial Performance ('Revenue and Expenditure by Functional Classification' and 'Revenue and Expenditure')"]
["3. Assign share in 'associate' to relevant Vote"]
[]
["check revenue",null,{"$f":"C170-'A4-FinPerf RE'!C59","v":0},{"$f":"D170-'A4-FinPerf RE'!D59","v":3},{"$f":"E170-'A4-FinPerf RE'!E59","v":-1999999},{"$f":"F170-'A4-FinPerf RE'!F59","v":0},{"$f":"G170-'A4-FinPerf RE'!G59","v":0.67000001668930054},{"$f":"H170-'A4-FinPerf RE'!H59","v":0.67000001668930054},{"$f":"I170-'A4-FinPerf RE'!J59","v":842135.84000000358},{"$f":"J170-'A4-FinPerf RE'!K59","v":33062118.382799983},{"$f":"K170-'A4-FinPerf RE'!L59","v":34751153.825675994}]
["check expenditure",null,{"$f":"C338-'A4-FinPerf RE'!C35","v":-209},{"$f":"D338-'A4-FinPerf RE'!D35","v":5303290.6700000167},{"$f":"E338-'A4-FinPerf RE'!E35","v":-652849},{"$f":"F338-'A4-FinPerf RE'!F35","v":635.20000004768372},{"$f":"G338-'A4-FinPerf RE'!G35","v":234.35999998450279},{"$f":"H338-'A4-FinPerf RE'!H35","v":234.35999998450279},{"$f":"I338-'A4-FinPerf RE'!J35","v":-308107.79999995232},{"$f":"J338-'A4-FinPerf RE'!K35","v":30573787.699999928},{"$f":"K338-'A4-FinPerf RE'!L35","v":31980181.930000037}]

{"sheet":"A4-FinPerf RE","index":11,"n_rows":59,"n_cols":24,"rows_kept":59,"cut":false,"hidden":false,"merged":[[1,12,1,23],[1,9,1,11],[1,5,1,8]]}
[{"$f":"muni&\" - \"&Approve4","v":"KZN434 Ubuhlebezwe - Table A4 Budgeted Financial Performance (revenue and expenditure)"}]
[{"$f":"desc","v":"Description"},{"$f":"head27","v":"Ref"},{"$f":"head1b","v":"2016/17"},{"$f":"head1A","v":"2017/18"},{"$f":"Head1","v":"2018/19"},{"$f":"Head2","v":"Current Year 2019/20"},null,null,null,{"$f":"Head3","v":"2020/21 Medium Term Revenue & Expenditure Framework"},null,null,{"$f":"Head4","v":"LTFS"}]
["R thousand",1,{"$f":"Head5","v":"Audited Outcome"},{"$f":"Head5","v":"Audited Outcome"},{"$f":"Head5","v":"Audited Outcome"},{"$f":"Head6","v":"Original Budget"},{"$f":"Head7","v":"Adjusted Budget"},{"$f":"Head8","v":"Full Year Forecast"},{"$f":"Head5b","v":"Pre-audit outcome"},{"$f":"Head9","v":"Budget Year 2020/21"},{"$f":"Head10","v":"Budget Year +1 2021/22"},{"$f":"Head11","v":"Budget Year +2 2022/23"},{"$f":"Head12","v":"Forecast 2023/24"},{"$f":"Head13","v":"Forecast 2024/25"},{"$f":"Head14","v":"Forecast 2025/26"},{"$f":"Head15","v":"Forecast 2026/27"},{"$f":"Head16","v":"Forecast 2027/28"},{"$f":"Head17","v":"Forecast 2028/29"},{"$f":"Head18","v":"Forecast 2029/30"},{"$f":"Head19","v":"Forecast 2030/31"},{"$f":"Head20","v":"Forecast 2031/32"},{"$f":"Head21","v":"Forecast 2032/33"},{"$f":"Head22","v":"Forecast 2033/34"},{"$f":"Head23","v":"Forecast 2034/35"}]
["Revenue By Source"]
["Property rates",2,{"$f":"'SA1'!C9","v":13122243},{"$f":"'SA1'!D9","v":12744064},{"$f":"'SA1'!E9","v":21926722},{"$f":"'SA1'!F9","v":23023059.329999998},{"$f":"'SA1'!G9","v":23023059.329999998},{"$f":"'SA1'!H9","v":23023059.329999998},{"$f":"'SA1'!I9","v":23023059.329999998},{"$f":"'SA1'!J9","v":23573023.939999998},{"$f":"'SA1'!K9","v":24633810.010000005},{"$f":"'SA1'!L9","v":25742331.469999999}]
["Service charges - electricity revenue",2,{"$f":"'SA1'!C15","v":0},{"$f":"'SA1'!D15","v":0},{"$f":"'SA1'!E15","v":0},{"$f":"'SA1'!F15","v":0},{"$f":"'SA1'!G15","v":0},{"$f":"'SA1'!H15","v":0},{"$f":"'SA1'!I15","v":0},{"$f":"'SA1'!J15","v":0},{"$f":"'SA1'!K15","v":0},{"$f":"'SA1'!L15","v":0}]
["Service charges - water revenue",2,{"$f":"'SA1'!C21","v":0},{"$f":"'SA1'!D21","v":0},{"$f":"'SA1'!E21","v":0},{"$f":"'SA1'!F21","v":0},{"$f":"'SA1'!G21","v":0},{"$f":"'SA1'!H21","v":0},{"$f":"'SA1'!I21","v":0},{"$f":"'SA1'!J21","v":0},{"$f":"'SA1'!K21","v":0},{"$f":"'SA1'!L21","v":0}]
["Service charges - sanitation revenue",2,{"$f":"'SA1'!C27","v":0},{"$f":"'SA1'!D27","v":0},{"$f":"'SA1'!E27","v":0},{"$f":"'SA1'!F27","v":0},{"$f":"'SA1'!G27","v":0},{"$f":"'SA1'!H27","v":0},{"$f":"'SA1'!I27","v":0},{"$f":"'SA1'!J27","v":0},{"$f":"'SA1'!K27","v":0},{"$f":"'SA1'!L27","v":0}]
["Service charges - refuse revenue",2,{"$f":"'SA1'!C34","v":1726005},{"$f":"'SA1'!D34","v":2155141},{"$f":"'SA1'!E34","v":2000000},{"$f":"'SA1'!F34","v":2100000},{"$f":"'SA1'!G34","v":2100000},{"$f":"'SA1'!H34","v":2100000},{"$f":"'SA1'!I34","v":2100000},{"$f":"'SA1'!J34","v":3299864.16},{"$f":"'SA1'!K34","v":3448358.0471999999},{"$f":"'SA1'!L34","v":3603534.1593239997}]
[]
["Rental of facilities and equipment",null,1173223,923761,1000000,1000000,1000000,1000000,1000000,1200000,1255200,1312939.2]
["Interest earned - external investments",null,9215250,11001948,16000000,16000000,13000000,13000000,13000000,12000000,{"$f":"J12*1.045","v":12540000},{"$f":"K12*1.045","v":13104300}]
["Interest earned - outstanding debtors",null,null,0,0,0,0,0,0,0,0,0]
["Dividends received",null,null,0,0,0,0,0,0,0,0,0]
["Fines, penalties and forfeits",null,1579580,1957000,1000000,1000000,1000000,1000000,1000000,1000000,1046000,1094116]
["Licences and permits",null,3304893,2710002,2678900,3418834.72,3968835,3968835,3968835,4068834.72,4256001.12,4451777.1700000009]
["Agency services",null,null,634223,745300,33900,28900,28900,28900,28900,30229.4,31619.95]
["Transfers and subsidies",null,95039000,99114000,142130906,186786511.63999999,115301777,115301777,115301777,122063000,{"$f":"J18*1.045","v":127555834.99999999},{"$f":"K18*1.045","v":133295847.57499997}]
["Other revenue",2,{"$f":"'SA1'!C57","v":5975327},{"$f":"'SA1'!D57","v":220901},{"$f":"'SA1'!E57","v":1392192},{"$f":"'SA1'!F57","v":1268872},{"$f":"'SA1'!G57","v":1323872},{"$f":"'SA1'!H57","v":1323872},{"$f":"'SA1'!I57","v":1323872},{"$f":"'SA1'!J57","v":824716},{"$f":"'SA1'!K57","v":862781.6},{"$f":"'SA1'!L57","v":902469.55}]
["Gains on disposal of PPE",null,0,127230,0,0,0,0,0,0,0,0]
["Total Revenue (excluding capital transfers and contributions)",null,{"$f":"SUM(C5:C9)+SUM(C11:C20)","v":131135521},{"$f":"SUM(D5:D9)+SUM(D11:D20)","v":131588270},188874020,234631177.69,160746443.32999998,160746443.32999998,160746443.32999998,168058338.81999999,175628215.17719999,183538935.07432398,{"$f":"SUM(M5:M20)","v":0},0,0,0,0,0,0,0,0,0,0,0]
[]
["Expenditure By Type"]
["Employee related costs",2,{"$f":"'SA1'!C75","v":52842444},{"$f":"'SA1'!D75","v":62912128},{"$f":"'SA1'!E75","v":67856351},{"$f":"'SA1'!F75","v":77459290.379999995},{"$f":"'SA1'!G75","v":77893785},{"$f":"'SA1'!H75","v":77893785},{"$f":"'SA1'!I75","v":77893785},{"$f":"'SA1'!J75","v":84552341.279999971},{"$f":"'SA1'!K75","v":86463712.980000019},{"$f":"'SA1'!L75","v":90441043.760000005}]
["Remuneration of councillors",null,8378802,9901684,10358844,11097335.02,11097336,11097336,11097336,11097335.060000001,11607812.470000001,12141771.85]
["Debt impairment",3,1364866,4477729,1578000,1578000,2000000,2000000,2000000,2090000,2186140,2286702.44]
["Depreciation & asset impairment",2,{"$f":"'SA1'!C91","v":20172670},{"$f":"'SA1'!D91","v":21270935},{"$f":"'SA1'!E91","v":20000000},{"$f":"'SA1'!F91","v":20000000},{"$f":"'SA1'!G91","v":22000000},{"$f":"'SA1'!H91","v":22000000},{"$f":"'SA1'!I91","v":22000000},{"$f":"'SA1'!J91","v":23188000},{"$f":"'SA1'!K91","v":24254647.989999998},{"$f":"'SA1'!L91","v":25370361.810000002}]
["Finance charges",null,0,2856,0,0,0,0,0,0,0,0]
["Bulk purchases",2,{"$f":"'SA1'!C96","v":0},{"$f":"'SA1'!D96","v":0},{"$f":"'SA1'!E96","v":0},{"$f":"'SA1'!F96","v":0},{"$f":"'SA1'!G96","v":0},{"$f":"'SA1'!H96","v":0},{"$f":"'SA1'!I96","v":0},{"$f":"'SA1'!J96","v":0},{"$f":"'SA1'!K96","v":0},{"$f":"'SA1'!L96","v":0}]
["Other materials",8,2882897,0,770454,869840,1145840,1145840,1145840,1121002.8,1172568.94,1226507.0899999999]
["Contracted services",null,{"$f":"'SA1'!C135","v":6764739},{"$f":"'SA1'!D135","v":15349679},{"$f":"'SA1'!E135","v":21021934},{"$f":"'SA1'!F135","v":21116107.779999997},{"$f":"'SA1'!G135","v":21481988.960000001},{"$f":"'SA1'!H135","v":21481988.960000001},{"$f":"'SA1'!I135","v":21481988.960000001},{"$f":"'SA1'!J135","v":21360882.310000002},{"$f":"'SA1'!K135","v":21053262.829999998},{"$f":"'SA1'!L135","v":22021712.909999978}]
["Transfers and subsidies",null,{"$f":"'SA1'!C101","v":1296000},{"$f":"'SA1'!D101","v":0},{"$f":"'SA1'!E101","v":40767000},{"$f":"'SA1'!F101","v":86040321.170000002},{"$f":"'SA1'!G101","v":14603947.279999999},{"$f":"'SA1'!H101","v":14603947.279999999},{"$f":"'SA1'!I101","v":14603947.279999999},{"$f":"'SA1'!J101","v":3844875.2},{"$f":"'SA1'!K101","v":4021739.46},{"$f":"'SA1'!L101","v":4206739.47}]
["Other expenditure","4, 5",{"$f":"'SA1'!C174","v":30712792},{"$f":"'SA1'!D174","v":19761814},{"$f":"'SA1'!E174","v":25177572},{"$f":"'SA1'!F174","v":25925753.870000001},{"$f":"'SA1'!G174","v":25600653.879999999},{"$f":"'SA1'!H174","v":25600653.879999999},{"$f":"'SA1'!I174","v":25600653.879999999},{"$f":"'SA1'!J174","v":26828356.729999997},{"$f":"'SA1'!K174","v":26866761.660000019},{"$f":"'SA1'!L174","v":28102632.749999996}]
["Loss on disposal of PPE",null,1776891,0,0,0,0,0,0,0,0,0]
["Total Expenditure",null,{"$f":"SUM(C24:C34)","v":126192101},{"$f":"SUM(D24:D34)","v":133676825},187530155,244086648.22,175823551.12,175823551.12,175823551.12,174082793.37999997,177626646.33000004,185797472.07999998,{"$f":"SUM(M24:M34)","v":0},0,0,0,0,0,0,0,0,0,0,0]
[]
["Surplus/(Deficit)",null,{"$f":"C21-C35","v":4943420},-2088555,1343865,-9455470.5300000012,-15077107.790000021,-15077107.790000021,-15077107.790000021,-6024454.5599999726,-1998431.1528000534,-2258537.0056760013,{"$f":"M21+M35","v":0},0,0,0,0,0,0,0,0,0,0,0]
["Transfers and subsidies - capital (monetary allocations) (National / Provincial and District)",null,29718917,27330000,31439000,33317000,33317000,33317000,33317000,26759000,27989914,29277450.039999999]
["Transfers and subsidies - capital (monetary allocations) (National / Provincial Departmental Agencies, Households, Non-profit Institutions, Private Enterprises, Public Corporatons, Higher Educational Institutions)",6,{"$f":"'SA1'!C84","v":0},{"$f":"'SA1'!D84","v":0},{"$f":"'SA1'!E84","v":0},{"$f":"'SA1'!F84","v":0},{"$f":"'SA1'!G84","v":0},{"$f":"'SA1'!H84","v":0},{"$f":"'SA1'!I84","v":0},{"$f":"'SA1'!J84","v":0},{"$f":"'SA1'!K84","v":0},{"$f":"'SA1'!L84","v":0}]
["Transfers and subsidies - capital (in-kind - all) ",null,0,0,0,0,0,0,0,0,0,0]
["Surplus/(Deficit) after capital transfers & contributions",null,{"$f":"SUM(C37:C40)","v":34662337},25241445,32782865,23861529.469999999,18239892.209999979,18239892.209999979,18239892.209999979,20734545.440000027,25991482.847199947,27018913.034323998]
["Taxation",null,0,0,0,0,0,0,0,0,0,0]
["Surplus/(Deficit) after taxation",null,{"$f":"C41-C42","v":34662337},25241445,32782865,23861529.469999999,18239892.209999979,18239892.209999979,18239892.209999979,20734545.440000027,25991482.847199947,27018913.034323998]
["Attributable to minorities",null,0,0,0,0,0,0,0,0,0,0]
["Surplus/(Deficit) attributable to municipality",null,{"$f":"SUM(C43:C44)","v":34662337},25241445,32782865,23861529.469999999,18239892.209999979,18239892.209999979,18239892.209999979,20734545.440000027,25991482.847199947,27018913.034323998]
["Share of surplus/ (deficit) of associate",7,0,0,0,0,0,0,0,0,0,0]
[{"$f":"result","v":"Surplus/(Deficit) for the year"},null,{"$f":"SUM(C45:C46)","v":34662337},25241445,32782865,23861529.469999999,18239892.209999979,18239892.209999979,18239892.209999979,20734545.440000027,25991482.847199947,27018913.034323998,{"$f":"M25+M46","v":0},0,0,0,0,0,0,0,0,0,0,0]
[{"$f":"head27a","v":"References"}]
["1. Classifications are revenue sources and expenditure type"]
["2. Detail to be provided in Table SA1"]
["3. Previously described as 'bad or doubtful debts' - amounts shown should reflect the change in the provision for debt impairment"]
["4. Expenditure type components previously shown under repairs and maintenance should be allocated back to the originating expenditure group/item; e.g. employee costs"]
["5. Repairs & maintenance detailed in Table A9 and Table SA34c"]
["6. Contributions are funds provided by external organisations to assist with infrastructure development; e.g. developer contributions (detail to be provided in Table SA1)"]
["7. Equity method ( Includes Joint Ventures)"]
["8. All materials not part of 'bulk' e.g  road making materials, pipe, cable etc."]
["check balance",null,{"$f":"C45-'A3-FinPerf V'!C39","v":-209},{"$f":"D45-'A3-FinPerf V'!D39","v":5303287.6700000167},{"$f":"E45-'A3-FinPerf V'!E39","v":1347150},{"$f":"F45-'A3-FinPerf V'!F39","v":635.20000001788139},{"$f":"G45-'A3-FinPerf V'!G39","v":233.68999996781349},{"$f":"H45-'A3-FinPerf V'!H39","v":233.68999996781349},null,{"$f":"J45-'A3-FinPerf V'!I39","v":-1150243.6399999559},{"$f":"K45-'A3-FinPerf V'!J39","v":-2488330.6828000546},{"$f":"L45-'A3-FinPerf V'!K39","v":-2770971.8956759498}]
[]
["Total revenue",null,{"$f":"C21+SUM(C38:C40)","v":160854438},158918270,220313020,267948177.69,194063443.32999998,194063443.32999998,194063443.32999998,194817338.81999999,203618129.17719999,212816385.11432397]

{"sheet":"A5-Capex","index":12,"n_rows":85,"n_cols":12,"rows_kept":85,"cut":false,"hidden":false,"merged":[[1,9,1,11],[1,5,1,8],[82,0,82,11],[77,0,77,11],[76,0,76,11],[78,0,78,11]]}
[" "]
[{"$f":"Vdesc","v":"Vote Description"},{"$f":"head27","v":"Ref"},{"$f":"head1b","v":"2016/17"},{"$f":"head1A","v":"2017/18"},{"$f":"Head1","v":"2018/19"},{"$f":"Head2","v":"Current Year 2019/20"},null,null,null,{"$f":"Head3","v":"2020/21 Medium Term Revenue & Expenditure Framework"}]
["R thousand",1,{"$f":"Head5","v":"Audited Outcome"},{"$f":"Head5","v":"Audited Outcome"},{"$f":"Head5","v":"Audited Outcome"},{"$f":"Head6","v":"Original Budget"},{"$f":"Head7","v":"Adjusted Budget"},{"$f":"Head8","v":"Full Year Forecast"},{"$f":"Head5b","v":"Pre-audit outcome"},{"$f":"Head9","v":"Budget Year 2020/21"},{"$f":"Head10","v":"Budget Year +1 2021/22"},{"$f":"Head11","v":"Budget Year +2 2022/23"}]
["Capital expenditure - Vote"]
["Multi-year expenditure  to be appropriated",2]
[{"$f":"A5A!A6","v":"Vote 1 - Finance & Admin"},null,{"$f":"A5A!C6","v":0},{"$f":"A5A!D6","v":0},{"$f":"A5A!E6","v":0},{"$f":"A5A!F6","v":0},{"$f":"A5A!G6","v":0},{"$f":"A5A!H6","v":0},{"$f":"A5A!I6","v":0},{"$f":"A5A!J6","v":0},{"$f":"A5A!K6","v":0},{"$f":"A5A!L6","v":0}]
[{"$f":"A5A!A17","v":"Vote 2 - Executive & Council"},null,{"$f":"A5A!C17","v":0},{"$f":"A5A!D17","v":0},{"$f":"A5A!E17","v":0},{"$f":"A5A!F17","v":0},{"$f":"A5A!G17","v":0},{"$f":"A5A!H17","v":0},{"$f":"A5A!I17","v":0},{"$f":"A5A!J17","v":0},{"$f":"A5A!K17","v":0},{"$f":"A5A!L17","v":0}]
[{"$f":"A5A!A28","v":"Vote 3 - Community and Social Services"},null,{"$f":"A5A!C28","v":0},{"$f":"A5A!D28","v":0},{"$f":"A5A!E28","v":0},{"$f":"A5A!F28","v":0},{"$f":"A5A!G28","v":0},{"$f":"A5A!H28","v":0},{"$f":"A5A!I28","v":0},{"$f":"A5A!J28","v":0},{"$f":"A5A!K28","v":0},{"$f":"A5A!L28","v":0}]
[{"$f":"A5A!A39","v":"Vote 4 - Housing"},null,{"$f":"A5A!C39","v":0},{"$f":"A5A!D39","v":0},{"$f":"A5A!E39","v":0},{"$f":"A5A!F39","v":0},{"$f":"A5A!G39","v":0},{"$f":"A5A!H39","v":0},{"$f":"A5A!I39","v":0},{"$f":"A5A!J39","v":0},{"$f":"A5A!K39","v":0},{"$f":"A5A!L39","v":0}]
[{"$f":"A5A!A50","v":"Vote 5 - Public Safety"},null,{"$f":"A5A!C50","v":0},{"$f":"A5A!D50","v":0},{"$f":"A5A!E50","v":0},{"$f":"A5A!F50","v":0},{"$f":"A5A!G50","v":0},{"$f":"A5A!H50","v":0},{"$f":"A5A!I50","v":0},{"$f":"A5A!J50","v":0},{"$f":"A5A!K50","v":0},{"$f":"A5A!L50","v":0}]
[{"$f":"A5A!A61","v":"Vote 6 - Road Transport"},null,{"$f":"A5A!C61","v":0},{"$f":"A5A!D61","v":0},{"$f":"A5A!E61","v":0},{"$f":"A5A!F61","v":0},{"$f":"A5A!G61","v":0},{"$f":"A5A!H61","v":0},{"$f":"A5A!I61","v":0},{"$f":"A5A!J61","v":0},{"$f":"A5A!K61","v":0},{"$f":"A5A!L61","v":0}]
[{"$f":"A5A!A72","v":"Vote 7 - Waste Management"},null,{"$f":"A5A!C72","v":0},{"$f":"A5A!D72","v":0},{"$f":"A5A!E72","v":0},{"$f":"A5A!F72","v":0},{"$f":"A5A!G72","v":0},{"$f":"A5A!H72","v":0},{"$f":"A5A!I72","v":0},{"$f":"A5A!J72","v":0},{"$f":"A5A!K72","v":0},{"$f":"A5A!L72","v":0}]
[{"$f":"A5A!A83","v":"Vote 8 - Energy Sources"},null,{"$f":"A5A!C83","v":0},{"$f":"A5A!D83","v":0},{"$f":"A5A!E83","v":0},{"$f":"A5A!F83","v":0},{"$f":"A5A!G83","v":0},{"$f":"A5A!H83","v":0},{"$f":"A5A!I83","v":0},{"$f":"A5A!J83","v":0},{"$f":"A5A!K83","v":0},{"$f":"A5A!L83","v":0}]
[{"$f":"A5A!A94","v":"Vote 9 - Planning and Development"},null,{"$f":"A5A!C94","v":0},{"$f":"A5A!D94","v":0},{"$f":"A5A!E94","v":0},{"$f":"A5A!F94","v":0},{"$f":"A5A!G94","v":0},{"$f":"A5A!H94","v":0},{"$f":"A5A!I94","v":0},{"$f":"A5A!J94","v":0},{"$f":"A5A!K94","v":0},{"$f":"A5A!L94","v":0}]
[{"$f":"A5A!A105","v":"Vote 10 - Sport and Recreation"},null,{"$f":"A5A!C105","v":0},{"$f":"A5A!D105","v":0},{"$f":"A5A!E105","v":0},{"$f":"A5A!F105","v":0},{"$f":"A5A!G105","v":0},{"$f":"A5A!H105","v":0},{"$f":"A5A!I105","v":0},{"$f":"A5A!J105","v":0},{"$f":"A5A!K105","v":0},{"$f":"A5A!L105","v":0}]
[{"$f":"A5A!A116","v":"Vote 11 - [NAME OF VOTE 11]"},null,{"$f":"A5A!C116","v":0},{"$f":"A5A!D116","v":0},{"$f":"A5A!E116","v":0},{"$f":"A5A!F116","v":0},{"$f":"A5A!G116","v":0},{"$f":"A5A!H116","v":0},{"$f":"A5A!I116","v":0},{"$f":"A5A!J116","v":0},{"$f":"A5A!K116","v":0},{"$f":"A5A!L116","v":0}]
[{"$f":"A5A!A127","v":"Vote 12 - [NAME OF VOTE 12]"},null,{"$f":"A5A!C127","v":0},{"$f":"A5A!D127","v":0},{"$f":"A5A!E127","v":0},{"$f":"A5A!F127","v":0},{"$f":"A5A!G127","v":0},{"$f":"A5A!H127","v":0},{"$f":"A5A!I127","v":0},{"$f":"A5A!J127","v":0},{"$f":"A5A!K127","v":0},{"$f":"A5A!L127","v":0}]
[{"$f":"A5A!A138","v":"Vote 13 - [NAME OF VOTE 13]"},null,{"$f":"A5A!C138","v":0},{"$f":"A5A!D138","v":0},{"$f":"A5A!E138","v":0},{"$f":"A5A!F138","v":0},{"$f":"A5A!G138","v":0},{"$f":"A5A!H138","v":0},{"$f":"A5A!I138","v":0},{"$f":"A5A!J138","v":0},{"$f":"A5A!K138","v":0},{"$f":"A5A!L138","v":0}]
[{"$f":"A5A!A149","v":"Vote 14 - [NAME OF VOTE 14]"},null,{"$f":"A5A!C149","v":0},{"$f":"A5A!D149","v":0},{"$f":"A5A!E149","v":0},{"$f":"A5A!F149","v":0},{"$f":"A5A!G149","v":0},{"$f":"A5A!H149","v":0},{"$f":"A5A!I149","v":0},{"$f":"A5A!J149","v":0},{"$f":"A5A!K149","v":0},{"$f":"A5A!L149","v":0}]
[{"$f":"A5A!A160","v":"Vote 15 - [NAME OF VOTE 15]"},null,{"$f":"A5A!C160","v":0},{"$f":"A5A!D160","v":0},{"$f":"A5A!E160","v":0},{"$f":"A5A!F160","v":0},{"$f":"A5A!G160","v":0},{"$f":"A5A!H160","v":0},{"$f":"A5A!I160","v":0},{"$f":"A5A!J160","v":0},{"$f":"A5A!K160","v":0},{"$f":"A5A!L160","v":0}]
["Capital multi-year expenditure sub-total",7,{"$f":"SUM(C6:C20)","v":0},{"$f":"SUM(D6:D20)","v":0},0,0,0,{"$f":"SUM(H6:H20)","v":0},0,0,0,0]
[]
["Single-year expenditure to be appropriated",2]
[{"$f":"A6","v":"Vote 1 - Finance & Admin"},null,{"$f":"A5A!C175","v":1982443},{"$f":"A5A!D175","v":2402370.71},{"$f":"A5A!E175","v":1578705},{"$f":"A5A!F175","v":3708000},{"$f":"A5A!G175","v":3879805.89},{"$f":"A5A!H175","v":3879805.89},{"$f":"A5A!I175","v":3879805.89},{"$f":"A5A!J175","v":5563800},{"$f":"A5A!K175","v":3891747.6},{"$f":"A5A!L175","v":4070767.9899999993}]
[{"$f":"A7","v":"Vote 2 - Executive & Council"},null,{"$f":"A5A!C186","v":1013248},{"$f":"A5A!D186","v":243160.33},{"$f":"A5A!E186","v":552000},{"$f":"A5A!F186","v":1130000},{"$f":"A5A!G186","v":660000},{"$f":"A5A!H186","v":660000},{"$f":"A5A!I186","v":660000},{"$f":"A5A!J186","v":850000},{"$f":"A5A!K186","v":889100},{"$f":"A5A!L186","v":929998.6}]
["Vote 3 - Community and Social Services",null,{"$f":"A5A!C197","v":15619505},{"$f":"A5A!D197","v":8171567},{"$f":"A5A!E197","v":7826017},{"$f":"A5A!F197","v":4098594.93},{"$f":"A5A!G197","v":4968827.7},{"$f":"A5A!H197","v":4968827.7},{"$f":"A5A!I197","v":4968827.7},{"$f":"A5A!J197","v":5605621.5700000003},{"$f":"A5A!K197","v":5872198.8400000008},{"$f":"A5A!L197","v":6142319.9800000004}]
["Vote 4 - Housing",null,{"$f":"A5A!C208","v":0},{"$f":"A5A!D208","v":0},{"$f":"A5A!E208","v":0},{"$f":"A5A!F208","v":10000000},{"$f":"A5A!G208","v":10000000},{"$f":"A5A!H208","v":10000000},{"$f":"A5A!I208","v":10000000},{"$f":"A5A!J208","v":10540000},{"$f":"A5A!K208","v":11024840},{"$f":"A5A!L208","v":11531982.640000001}]
["Vote 5 - Public Safety",null,{"$f":"A5A!C219","v":0},{"$f":"A5A!D219","v":923190},{"$f":"A5A!E219","v":3022537},{"$f":"A5A!F219","v":15729759},{"$f":"A5A!G219","v":15512546.940000001},{"$f":"A5A!H219","v":15512546.940000001},{"$f":"A5A!I219","v":15512546.940000001},{"$f":"A5A!J219","v":1470000},{"$f":"A5A!K219","v":1537620},{"$f":"A5A!L219","v":1608350.52}]
["Vote 6 - Road Transport",null,{"$f":"A5A!C230","v":54702306},{"$f":"A5A!D230","v":0},{"$f":"A5A!E230","v":21892605},{"$f":"A5A!F230","v":36975314.32},{"$f":"A5A!G230","v":31204663.879999999},{"$f":"A5A!H230","v":31204663.879999999},{"$f":"A5A!I230","v":31204663.879999999},{"$f":"A5A!J230","v":22795020.09},{"$f":"A5A!K230","v":14381598.65},{"$f":"A5A!L230","v":15043152.169999996}]
["Vote 7 - Waste Management",null,{"$f":"A5A!C241","v":0},{"$f":"A5A!D241","v":0},{"$f":"A5A!E241","v":0},{"$f":"A5A!F241","v":1091000},{"$f":"A5A!G241","v":1103000},{"$f":"A5A!H241","v":1103000},{"$f":"A5A!I241","v":1103000},{"$f":"A5A!J241","v":2117378},{"$f":"A5A!K241","v":2214777.39},{"$f":"A5A!L241","v":2316657.15}]
["Vote 8 - Energy Sources",null,{"$f":"A5A!C252","v":0},{"$f":"A5A!D252","v":0},{"$f":"A5A!E252","v":0},{"$f":"A5A!F252","v":0},{"$f":"A5A!G252","v":0},{"$f":"A5A!H252","v":0},{"$f":"A5A!I252","v":0},{"$f":"A5A!J252","v":0},{"$f":"A5A!K252","v":0},{"$f":"A5A!L252","v":0}]
["Vote 9 - Planning and Development",null,{"$f":"A5A!C263","v":0},{"$f":"A5A!D263","v":20245184.550000001},{"$f":"A5A!E263","v":19754066},{"$f":"A5A!F263","v":3358333},{"$f":"A5A!G263","v":5332541.58},{"$f":"A5A!H263","v":5332541.58},{"$f":"A5A!I263","v":5332541.58},{"$f":"A5A!J263","v":6964638.7999999998},{"$f":"A5A!K263","v":1840960},{"$f":"A5A!L263","v":1925644.16}]
["Vote 10 - Sport and Recreation",null,{"$f":"A5A!C274","v":0},{"$f":"A5A!D274","v":6034547},{"$f":"A5A!E274","v":6273517},{"$f":"A5A!F274","v":2204827.7599999998},{"$f":"A5A!G274","v":3792788.25},{"$f":"A5A!H274","v":3792788.25},{"$f":"A5A!I274","v":3792788.25},{"$f":"A5A!J274","v":3272224.13},{"$f":"A5A!K274","v":3422746.44},{"$f":"A5A!L274","v":3580192.78}]
["Vote 11 - [NAME OF VOTE 11]",null,{"$f":"A5A!C285","v":0},{"$f":"A5A!D285","v":0},{"$f":"A5A!E285","v":0},{"$f":"A5A!F285","v":0},{"$f":"A5A!G285","v":0},{"$f":"A5A!H285","v":0},{"$f":"A5A!I285","v":0},{"$f":"A5A!J285","v":0},{"$f":"A5A!K285","v":0},{"$f":"A5A!L285","v":0}]
["Vote 12 - [NAME OF VOTE 12]",null,{"$f":"A5A!C296","v":0},{"$f":"A5A!D296","v":0},{"$f":"A5A!E296","v":0},{"$f":"A5A!F296","v":0},{"$f":"A5A!G296","v":0},{"$f":"A5A!H296","v":0},{"$f":"A5A!I296","v":0},{"$f":"A5A!J296","v":0},{"$f":"A5A!K296","v":0},{"$f":"A5A!L296","v":0}]
["Vote 13 - [NAME OF VOTE 13]",null,{"$f":"A5A!C307","v":0},{"$f":"A5A!D307","v":0},{"$f":"A5A!E307","v":0},{"$f":"A5A!F307","v":0},{"$f":"A5A!G307","v":0},{"$f":"A5A!H307","v":0},{"$f":"A5A!I307","v":0},{"$f":"A5A!J307","v":0},{"$f":"A5A!K307","v":0},{"$f":"A5A!L307","v":0}]
["Vote 14 - [NAME OF VOTE 14]",null,{"$f":"A5A!C318","v":0},{"$f":"A5A!D318","v":0},{"$f":"A5A!E318","v":0},{"$f":"A5A!F318","v":0},{"$f":"A5A!G318","v":0},{"$f":"A5A!H318","v":0},{"$f":"A5A!I318","v":0},{"$f":"A5A!J318","v":0},{"$f":"A5A!K318","v":0},{"$f":"A5A!L318","v":0}]
[{"$f":"A20","v":"Vote 15 - [NAME OF VOTE 15]"},null,{"$f":"A5A!C329","v":0},{"$f":"A5A!D329","v":0},{"$f":"A5A!E329","v":0},{"$f":"A5A!F329","v":0},{"$f":"A5A!G329","v":0},{"$f":"A5A!H329","v":0},{"$f":"A5A!I329","v":0},{"$f":"A5A!J329","v":0},{"$f":"A5A!K329","v":0},{"$f":"A5A!L329","v":0}]
["Capital single-year expenditure sub-total",null,{"$f":"SUM(C24:C38)","v":73317502},{"$f":"SUM(D24:D38)","v":38020019.590000004},60899447,78295829.010000005,76454174.239999995,76454174.239999995,76454174.239999995,59178682.589999996,45075588.920000002,47149065.989999995]
["Total Capital Expenditure - Vote",null,{"$f":"C39+C21","v":73317502},{"$f":"D39+D21","v":38020019.590000004},60899447,78295829.010000005,76454174.239999995,76454174.239999995,76454174.239999995,59178682.589999996,45075588.920000002,47149065.989999995]
[]
["Capital Expenditure - Functional"]
["Governance and administration",null,{"$f":"SUM(C44:C46)","v":2995691},{"$f":"SUM(D44:D46)","v":243160.33},2207843,4838000,4539805.8900000006,4539805.8900000006,4539805.8900000006,6413800,4780847.5999999996,5000766.59]
["Executive and council",null,1013248,243160.33,552000,1130000,660000,660000,660000,850000,889100,929998.6]
["Finance and administration",null,261672,0,457843,3708000,3879805.89,3879805.89,3879805.89,5563800,3891747.6,4070767.99]
["Internal audit",null,1720771,0,1198000,0,0,0,0,0,0,0]
["Community and public safety",null,{"$f":"SUM(C48:C52)","v":15619505},{"$f":"SUM(D48:D52)","v":17531674.710000001},17544933,32033181.689999998,34274162.890000001,34274162.890000001,34274162.890000001,20887845.699999999,21857405.280000001,22862845.920000002]
["Community and social services",null,15619505,9094757,8271416,4098594.93,4968827.7,4968827.7,4968827.7,5605621.5700000003,5872198.8400000008,6142319.9800000004]
["Sport and recreation",null,0,6034547,6273517,2204827.7599999998,3792788.25,3792788.25,3792788.25,3272224.13,3422746.44,3580192.78]
["Public safety",null,0,0,3000000,15729759,15512546.940000001,15512546.940000001,15512546.940000001,1470000,1537620,1608350.52]
["Housing",null,0,2402370.71,0,10000000,10000000,10000000,10000000,10540000,11024840,11531982.640000001]
["Health",null,0,0,0,0,0,0,0,0,0,0]
["Economic and environmental services",null,{"$f":"SUM(C54:C56)","v":54702306},{"$f":"SUM(D54:D56)","v":20245184.550000001},41146671,40333647.32,36537205.460000001,36537205.460000001,36537205.460000001,24755020.09,16222558.65,16968796.329999994]
["Planning and development",null,0,0,19225905,3358333,5332541.58,5332541.58,5332541.58,1960000,1840960,1925644.16]
["Road transport",null,54702306,20245184.550000001,21920766,36975314.32,31204663.879999999,31204663.879999999,31204663.879999999,22795020.09,14381598.65,15043152.169999996]
["Environmental protection",null,0,0,0,0,0,0,0,0,0,0]
["Trading services",null,{"$f":"SUM(C58:C61)","v":0},{"$f":"SUM(D58:D61)","v":0},0,1091000,1103000,1103000,1103000,7122016.7999999998,2214777.39,2316657.15]
["Energy sources",null,0,0,0,0,0,0,0,5004638.8,0,0]
["Water management",null,0,0,0,0,0,0,0,0,0,0]
["Waste water management",null,0,0,0,0,0,0,0,0,0,0]
["Waste management",null,0,0,0,1091000,1103000,1103000,1103000,2117378,2214777.39,2316657.15]
["Other",null,0,0,0,0,0,0,0,0,0,0]
["Total Capital Expenditure - Functional",3,{"$f":"C43+C47+C53+C57+C62","v":73317502},{"$f":"D43+D47+D53+D57+D62","v":38020019.590000004},60899447,78295829.00999999,76454174.24000001,76454174.24000001,76454174.24000001,59178682.589999996,45075588.920000002,{"$f":"L43+L47+L53+L57+L62","v":47149065.989999995}]
[]
["Funded by:"]
["National Government",null,56089892,26279731.550000001,26439003,26917000.009999998,26917001,26917001,26917001,26758999.980000004,22826540.489999998,23876561.340000007]
["Provincial Government",null,0,0,5000000,6400000,6400000,6400000,6400000,0,0,0]
["District Municipality",null,0,0,0,0,0,0,0,0,0,0]
["Other transfers and grants",null,0,0,0,0,0,0,0,0,0,0]
["Transfers recognised - capital",4,{"$f":"SUM(C66:C69)","v":56089892},26279731.550000001,31439003,33317000.009999998,33317001,33317001,33317001,26758999.980000004,22826540.489999998,23876561.340000007]
[]
["Borrowing",6,0,0,0,0,0,0,0,0,0,0]
["Internally generated funds",null,17227610,11740288.039999999,29460444,44978829,{"$f":"43130173.24+7000","v":43137173.240000002},{"$f":"43130173.24+7000","v":43137173.240000002},{"$f":"43130173.24+7000","v":43137173.240000002},32420326.609999999,22249000,23272438.66]
["Total Capital Funding",7,{"$f":"+C70+C72+C73","v":73317502},{"$f":"+D70+D72+D73","v":38020019.590000004},60899447,78295829.00999999,76454174.24000001,76454174.24000001,76454174.24000001,59179326.590000004,45075540.489999995,47149000.000000007]
[{"$f":"head27a","v":"References"}]
["1. Municipalities may choose to appropriate for capital expenditure for three years or for one year (if one year appropriation projected expenditure required for yr2 and yr3)."]
["2. Include capital component of PPP unitary payment. Note that capital transfers are only appropriated to municipalities for the budget year"]
["3. Capital expenditure by functional classification must reconcile to the appropriations by vote"]
["4. Must reconcile to supporting table SA20 and to Budgeted Financial Performance (revenue and expenditure)"]
[]
["6. Include finance leases and PPP capital funding component of unitary payment - total borrowing/repayments to reconcile to changes in Table SA17"]
["7. Total Capital Funding must balance with Total Capital Expenditure"]
["8. Include any capitalised interest (MFMA section 46) as part of relevant capital budget"]
[]
["check balance",null,{"$f":"IF((C63-C74)=0,0,\"Unbalanced\")","v":0},{"$f":"IF((D63-D74)=0,0,\"Unbalanced\")","v":0},0,0,0,0,0,"Unbalanced","Unbalanced","Unbalanced"]

{"sheet":"A5A","index":13,"n_rows":341,"n_cols":24,"rows_kept":341,"cut":false,"hidden":false,"merged":[[1,5,1,8],[1,9,1,11],[1,13,1,16],[1,17,1,20],[1,21,1,23]]}
[{"$f":"muni&\" - \"&Approve5","v":"KZN434 Ubuhlebezwe - Table A5 Budgeted Capital Expenditure by vote, functional classification and funding"}]
[{"$f":"Vdesc","v":"Vote Description"},{"$f":"head27","v":"Ref"},{"$f":"head1b","v":"2016/17"},{"$f":"head1A","v":"2017/18"},{"$f":"Head1","v":"2018/19"},{"$f":"Head2","v":"Current Year 2019/20"},null,null,null,{"$f":"Head3","v":"2020/21 Medium Term Revenue & Expenditure Framework"},null,null,null,{"$f":"\"Multi-year appropriation for \"&Head9&\n\"\n in the \"&Head2A&\" Annual Budget\"","v":"Multi-year appropriation for Budget Year 2020/21\n in the 2019/20 Annual Budget"},null,null,null,{"$f":"\"Multi-year appropriation for \"&RIGHT(Head10,7)&\n\"\n in the \"&Head2A&\" Annual Budget\"","v":"Multi-year appropriation for 2021/22\n in the 2019/20 Annual Budget"},null,null,null,"New multi-year appropriations \n(funds for new and existing projects) "]
["R thousand",1,{"$f":"Head5","v":"Audited Outcome"},{"$f":"Head5","v":"Audited Outcome"},{"$f":"Head5","v":"Audited Outcome"},{"$f":"Head6","v":"Original Budget"},{"$f":"Head7","v":"Adjusted Budget"},{"$f":"Head8","v":"Full Year Forecast"},{"$f":"Head5b","v":"Pre-audit outcome"},{"$f":"Head9","v":"Budget Year 2020/21"},{"$f":"Head10","v":"Budget Year +1 2021/22"},{"$f":"Head11","v":"Budget Year +2 2022/23"},null,{"$f":"\"Appropriation for \"&RIGHT(Head9,7)","v":"Appropriation for 2020/21"},{"$f":"\"Adjustments in \"&Head2A","v":"Adjustments in 2019/20"},{"$f":"\"Downward adjustments for \"&RIGHT(Head9,7)","v":"Downward adjustments for 2020/21"},"Appropriation carried forward",{"$f":"\"Appropriation for \"&RIGHT(Head9,7)","v":"Appropriation for 2020/21"},{"$f":"\"Adjustments in \"&Head2A","v":"Adjustments in 2019/20"},{"$f":"\"Downward adjustments for \"&RIGHT(Head9,7)","v":"Downward adjustments for 2020/21"},"Appropriation carried forward",{"$f":"Head9","v":"Budget Year 2020/21"},{"$f":"Head10","v":"Budget Year +1 2021/22"},{"$f":"Head11","v":"Budget Year +2 2022/23"}]
["Capital expenditure - Municipal Vote"]
["Multi-year expenditure appropriation",2]
[{"$f":"'Org structure'!A2","v":"Vote 1 - Finance & Admin"},null,{"$f":"SUM(C7:C16)","v":0},{"$f":"SUM(D7:D16)","v":0},0,0,0,0,{"$f":"SUM(I7:I16)","v":0},0,0,0,null,{"$f":"SUM(N7:N16)","v":0},0,0,0,0,0,0,0,{"$f":"SUM(V7:V16)","v":0},{"$f":"SUM(W7:W16)","v":0},{"$f":"SUM(X7:X16)","v":0}]
[{"$f":"IF(RIGHT('Org structure'!D3,18)<>\"[Name of sub-vote]\",'Org structure'!D3,\"\")","v":"1.1 - Asset Management"},null,0,0,0,0,0,0,0,{"$f":"Q7+V7","v":0},{"$f":"U7+W7","v":0},{"$f":"X7","v":0},null,0,0,0,{"$f":"SUM(N7:P7)","v":0},0,0,0,{"$f":"SUM(R7:T7)","v":0},0,0,0]
[{"$f":"IF(RIGHT('Org structure'!D4,18)<>\"[Name of sub-vote]\",'Org structure'!D4,\"\")","v":"1.2 - Information Technology"},null,0,0,0,0,0,0,0,{"$f":"Q8+V8","v":0},{"$f":"U8+W8","v":0},{"$f":"X8","v":0},null,0,0,0,{"$f":"SUM(N8:P8)","v":0},0,0,0,{"$f":"SUM(R8:T8)","v":0},0,0,0]
[{"$f":"IF(RIGHT('Org structure'!D5,18)<>\"[Name of sub-vote]\",'Org structure'!D5,\"\")","v":"1.3 - Finance"},null,0,0,0,0,0,0,0,{"$f":"Q9+V9","v":0},{"$f":"U9+W9","v":0},0,null,0,0,0,0,0,0,0,0,0,0,0]
[{"$f":"IF(RIGHT('Org structure'!D6,18)<>\"[Name of sub-vote]\",'Org structure'!D6,\"\")","v":"1.4 - Fleet Management"},null,0,0,0,0,0,0,0,0,0,0,null,0,0,0,0,0,0,0,0,0,0,0]
[{"$f":"IF(RIGHT('Org structure'!D7,18)<>\"[Name of sub-vote]\",'Org structure'!D7,\"\")","v":"1.5 - Administrative and Corporate Support"},null,0,0,0,0,0,0,0,0,0,{"$f":"X11","v":0},null,0,0,0,0,0,0,0,0,0,0,0]
[{"$f":"IF(RIGHT('Org structure'!D8,18)<>\"[Name of sub-vote]\",'Org structure'!D8,\"\")","v":"1.6 - Property Services"},null,0,0,0,0,0,0,0,0,0,0,null,0,0,0,0,0,0,0,0,0,0,0]
[{"$f":"IF(RIGHT('Org structure'!D9,18)<>\"[Name of sub-vote]\",'Org structure'!D9,\"\")","v":"1.7 - Legal Services"},null,0,0,0,0,0,0,0,0,0,0,null,0,0,0,0,0,0,0,0,0,0,0]
[{"$f":"IF(RIGHT('Org structure'!D10,18)<>\"[Name of sub-vote]\",'Org structure'!D10,\"\")","v":"1.8 - Human Resources"},null,0,0,0,0,0,0,0,0,0,0,null,0,0,0,0,0,0,0,0,0,0,0]
[{"$f":"IF(RIGHT('Org structure'!D11,18)<>\"[Name of sub-vote]\",'Org structure'!D11,\"\")","v":""},null,0,0,0,0,0,0,0,0,0,0,null,0,0,0,0,0,0,0,0,0,0,0]
[{"$f":"IF(RIGHT('Org structure'!D12,18)<>\"[Name of sub-vote]\",'Org structure'!D12,\"\")","v":""},null,0,0,0,0,0,0,0,0,0,0,null,0,0,0,0,0,0,0,0,0,0,0]
[{"$f":"'Org structure'!A3","v":"Vote 2 - Executive & Council"},null,{"$f":"SUM(C18:C27)","v":0},{"$f":"SUM(D18:D27)","v":0},0,0,0,0,{"$f":"SUM(I18:I27)","v":0},0,0,0,null,{"$f":"SUM(N18:N27)","v":0},0,0,0,0,0,0,0,0,0,0]
[{"$f":"IF(RIGHT('Org structure'!D14,18)<>\"[Name of sub-vote]\",'Org structure'!D14,\"\")","v":"2.1 - Mayor and Council"},null,0,0,0,0,0,0,0,{"$f":"Q18+V18","v":0},{"$f":"U18+W18","v":0},{"$f":"X18","v":0},null,0,0,0,{"$f":"SUM(N18:P18)","v":0},0,0,0,{"$f":"SUM(R18:T18)","v":0},0,0,0]
[{"$f":"IF(RIGHT('Org structure'!D15,18)<>\"[Name of sub-vote]\",'Org structure'!D15,\"\")","v":"2.2 - Municipal Manager, Town Secretary and Chief Executive"},null,0,0,0,0,0,0,0,{"$f":"Q19+V19","v":0},{"$f":"U19+W19","v":0},0,null,0,0,0,0,0,0,0,0,0,0,0]
[{"$f":"IF(RIGHT('Org structure'!D16,18)<>\"[Name of sub-vote]\",'Org structure'!D16,\"\")","v":"2.3 - Governance Function"},null,0,0,0,0,0,0,0,0,0,0,null,0,0,0,0,0,0,0,0,0,0,0]
[{"$f":"IF(RIGHT('Org structure'!D17,18)<>\"[Name of sub-vote]\",'Org structure'!D17,\"\")","v":""},null,0,0,0,0,0,0,0,0,{"$f":"U21+W21","v":0},0,null,0,0,0,0,0,0,0,0,0,0,0]
[{"$f":"IF(RIGHT('Org structure'!D18,18)<>\"[Name of sub-vote]\",'Org structure'!D18,\"\")","v":""},null,0,0,0,0,0,0,0,0,0,0,null,0,0,0,0,0,0,0,0,0,0,0]
[{"$f":"IF(RIGHT('Org structure'!D19,18)<>\"[Name of sub-vote]\",'Org structure'!D19,\"\")","v":""},null,0,0,0,0,0,0,0,0,0,0,null,0,0,0,0,0,0,0,0,0,0,0]
[{"$f":"IF(RIGHT('Org structure'!D20,18)<>\"[Name of sub-vote]\",'Org structure'!D20,\"\")","v":""},null,0,0,0,0,0,0,0,0,0,0,null,0,0,0,0,0,0,0,0,0,0,0]
[{"$f":"IF(RIGHT('Org structure'!D21,18)<>\"[Name of sub-vote]\",'Org structure'!D21,\"\")","v":""},null,0,0,0,0,0,0,0,0,0,0,null,0,0,0,0,0,0,0,0,0,0,0]
[{"$f":"IF(RIGHT('Org structure'!D22,18)<>\"[Name of sub-vote]\",'Org structure'!D22,\"\")","v":""},null,0,0,0,0,0,0,0,0,0,0,null,0,0,0,0,0,0,0,0,0,0,0]
[{"$f":"IF(RIGHT('Org structure'!D23,18)<>\"[Name of sub-vote]\",'Org structure'!D23,\"\")","v":""},null,0,0,0,0,0,0,0,0,0,0,null,0,0,0,0,0,0,0,0,0,0,0]
[{"$f":"'Org structure'!A4","v":"Vote 3 - Community and Social Services"},null,{"$f":"SUM(C29:C38)","v":0},{"$f":"SUM(D29:D38)","v":0},0,0,0,0,{"$f":"SUM(I29:I38)","v":0},0,0,0,null,{"$f":"SUM(N29:N38)","v":0},0,0,0,0,0,0,0,0,0,0]
[{"$f":"IF(RIGHT('Org structure'!D25,18)<>\"[Name of sub-vote]\",'Org structure'!D25,\"\")","v":"3.1 - Cultural Matters"},null,0,0,0,0,0,0,0,{"$f":"Q29+V29","v":0},{"$f":"U29+W29","v":0},{"$f":"X29","v":0},null,0,0,0,{"$f":"SUM(N29:P29)","v":0},0,0,0,{"$f":"SUM(R29:T29)","v":0},0,0,0]
[{"$f":"IF(RIGHT('Org structure'!D26,18)<>\"[Name of sub-vote]\",'Org structure'!D26,\"\")","v":"3.2 - Population Development"},null,0,0,0,0,0,0,0,0,0,0,null,0,0,0,0,0,0,0,0,0,0,0]
[{"$f":"IF(RIGHT('Org structure'!D27,18)<>\"[Name of sub-vote]\",'Org structure'!D27,\"\")","v":"3.3 - Recreational Facilities"},null,0,0,0,0,0,0,0,0,0,0,null,0,0,0,0,0,0,0,0,0,0,0]
[{"$f":"IF(RIGHT('Org structure'!D28,18)<>\"[Name of sub-vote]\",'Org structure'!D28,\"\")","v":"3.4 - Education"},null,0,0,0,0,0,0,0,0,{"$f":"U32+W32","v":0},0,null,0,0,0,0,0,0,0,0,0,0,0]
[{"$f":"IF(RIGHT('Org structure'!D29,18)<>\"[Name of sub-vote]\",'Org structure'!D29,\"\")","v":"3.5 - Libraries and Archives"},null,0,0,0,0,0,0,0,{"$f":"Q33+V33","v":0},0,0,null,0,0,0,0,0,0,0,0,0,0,0]
[{"$f":"IF(RIGHT('Org structure'!D30,18)<>\"[Name of sub-vote]\",'Org structure'!D30,\"\")","v":"3.6 - Community Halls and Facilities"},null,0,0,0,0,0,0,0,0,0,0,null,0,0,0,0,0,0,0,0,0,0,0]
[{"$f":"IF(RIGHT('Org structure'!D31,18)<>\"[Name of sub-vote]\",'Org structure'!D31,\"\")","v":"3.7 - Development Facilitation"},null,0,0,0,0,0,0,0,0,0,0,null,0,0,0,0,0,0,0,0,0,0,0]
[{"$f":"IF(RIGHT('Org structure'!D32,18)<>\"[Name of sub-vote]\",'Org structure'!D32,\"\")","v":"3.8 - Community Parks (including Nurseries)"},null,0,0,0,0,0,0,0,0,0,0,null,0,0,0,0,0,0,0,0,0,0,0]
[{"$f":"IF(RIGHT('Org structure'!D33,18)<>\"[Name of sub-vote]\",'Org structure'!D33,\"\")","v":"3.9 - Tourism"},null,0,0,0,0,0,0,0,0,0,0,null,0,0,0,0,0,0,0,0,0,0,0]
[{"$f":"IF(RIGHT('Org structure'!D34,18)<>\"[Name of sub-vote]\",'Org structure'!D34,\"\")","v":"3.10 - Aged Care"},null,0,0,0,0,0,0,0,0,0,0,null,0,0,0,0,0,0,0,0,0,0,0]
[{"$f":"'Org structure'!A5","v":"Vote 4 - Housing"},null,{"$f":"SUM(C40:C49)","v":0},{"$f":"SUM(D40:D49)","v":0},0,0,0,0,{"$f":"SUM(I40:I49)","v":0},0,0,0,null,{"$f":"SUM(N40:N49)","v":0},0,0,0,0,0,0,0,0,0,0]
[{"$f":"IF(RIGHT('Org structure'!D36,18)<>\"[Name of sub-vote]\",'Org structure'!D36,\"\")","v":"4.1 - Housing"},null,0,0,0,0,0,0,0,{"$f":"Q40+V40","v":0},{"$f":"U40+W40","v":0},{"$f":"X40","v":0},null,0,0,0,{"$f":"SUM(N40:P40)","v":0},0,0,0,{"$f":"SUM(R40:T40)","v":0},0,0,0]
[{"$f":"IF(RIGHT('Org structure'!D37,18)<>\"[Name of sub-vote]\",'Org structure'!D37,\"\")","v":""},null,0,0,0,0,0,0,0,0,0,0,null,0,0,0,0,0,0,0,0,0,0,0]
[{"$f":"IF(RIGHT('Org structure'!D38,18)<>\"[Name of sub-vote]\",'Org structure'!D38,\"\")","v":""},null,0,0,0,0,0,0,0,0,0,0,null,0,0,0,0,0,0,0,0,0,0,0]
[{"$f":"IF(RIGHT('Org structure'!D39,18)<>\"[Name of sub-vote]\",'Org structure'!D39,\"\")","v":""},null,0,0,0,0,0,0,0,0,0,0,null,0,0,0,0,0,0,0,0,0,0,0]
[{"$f":"IF(RIGHT('Org structure'!D40,18)<>\"[Name of sub-vote]\",'Org structure'!D40,\"\")","v":""},null,0,0,0,0,0,0,0,0,0,0,null,0,0,0,0,0,0,0,0,0,0,0]
[{"$f":"IF(RIGHT('Org structure'!D41,18)<>\"[Name of sub-vote]\",'Org structure'!D41,\"\")","v":""},null,0,0,0,0,0,0,0,0,0,0,null,0,0,0,0,0,0,0,0,0,0,0]
[{"$f":"IF(RIGHT('Org structure'!D42,18)<>\"[Name of sub-vote]\",'Org structure'!D42,\"\")","v":""},null,0,0,0,0,0,0,0,0,0,0,null,0,0,0,0,0,0,0,0,0,0,0]
[{"$f":"IF(RIGHT('Org structure'!D43,18)<>\"[Name of sub-vote]\",'Org structure'!D43,\"\")","v":""},null,0,0,0,0,0,0,0,0,0,0,null,0,0,0,0,0,0,0,0,0,0,0]
[{"$f":"IF(RIGHT('Org structure'!D44,18)<>\"[Name of sub-vote]\",'Org structure'!D44,\"\")","v":""},null,0,0,0,0,0,0,0,0,0,0,null,0,0,0,0,0,0,0,0,0,0,0]
[{"$f":"IF(RIGHT('Org structure'!D45,18)<>\"[Name of sub-vote]\",'Org structure'!D45,\"\")","v":""},null,0,0,0,0,0,0,0,0,0,0,null,0,0,0,0,0,0,0,0,0,0,0]
[{"$f":"'Org structure'!A6","v":"Vote 5 - Public Safety"},null,{"$f":"SUM(C51:C60)","v":0},{"$f":"SUM(D51:D60)","v":0},0,0,0,0,{"$f":"SUM(I51:I60)","v":0},0,0,0,null,{"$f":"SUM(N51:N60)","v":0},0,0,0,0,0,0,0,0,0,0]
[{"$f":"IF(RIGHT('Org structure'!D47,18)<>\"[Name of sub-vote]\",'Org structure'!D47,\"\")","v":"5.1 - Civil Defence"},null,0,0,0,0,0,0,0,{"$f":"Q51+V51","v":0},{"$f":"U51+W51","v":0},{"$f":"X51","v":0},null,0,0,0,{"$f":"SUM(N51:P51)","v":0},0,0,0,{"$f":"SUM(R51:T51)","v":0},0,0,0]
[{"$f":"IF(RIGHT('Org structure'!D48,18)<>\"[Name of sub-vote]\",'Org structure'!D48,\"\")","v":"5.2 - Fire Fighting and Protection"},null,0,0,0,0,0,0,0,0,0,0,null,0,0,0,0,0,0,0,0,0,0,0]
[{"$f":"IF(RIGHT('Org structure'!D49,18)<>\"[Name of sub-vote]\",'Org structure'!D49,\"\")","v":""},null,0,0,0,0,0,0,0,0,0,0,null,0,0,0,0,0,0,0,0,0,0,0]
[{"$f":"IF(RIGHT('Org structure'!D50,18)<>\"[Name of sub-vote]\",'Org structure'!D50,\"\")","v":""},null,0,0,0,0,0,0,0,0,0,0,null,0,0,0,0,0,0,0,0,0,0,0]
[{"$f":"IF(RIGHT('Org structure'!D51,18)<>\"[Name of sub-vote]\",'Org structure'!D51,\"\")","v":""},null,0,0,0,0,0,0,0,0,0,0,null,0,0,0,0,0,0,0,0,0,0,0]
[{"$f":"IF(RIGHT('Org structure'!D52,18)<>\"[Name of sub-vote]\",'Org structure'!D52,\"\")","v":""},null,0,0,0,0,0,0,0,0,0,0,null,0,0,0,0,0,0,0,0,0,0,0]
[{"$f":"IF(RIGHT('Org structure'!D53,18)<>\"[Name of sub-vote]\",'Org structure'!D53,\"\")","v":""},null,0,0,0,0,0,0,0,0,0,0,null,0,0,0,0,0,0,0,0,0,0,0]
[{"$f":"IF(RIGHT('Org structure'!D54,18)<>\"[Name of sub-vote]\",'Org structure'!D54,\"\")","v":""},null,0,0,0,0,0,0,0,0,0,0,null,0,0,0,0,0,0,0,0,0,0,0]
[{"$f":"IF(RIGHT('Org structure'!D55,18)<>\"[Name of sub-vote]\",'Org structure'!D55,\"\")","v":""},null,0,0,0,0,0,0,0,0,0,0,null,0,0,0,0,0,0,0,0,0,0,0]
[{"$f":"IF(RIGHT('Org structure'!D56,18)<>\"[Name of sub-vote]\",'Org structure'!D56,\"\")","v":""},null,0,0,0,0,0,0,0,0,0,0,null,0,0,0,0,0,0,0,0,0,0,0]
[{"$f":"'Org structure'!A7","v":"Vote 6 - Road Transport"},null,{"$f":"SUM(C62:C71)","v":0},{"$f":"SUM(D62:D71)","v":0},0,0,0,0,{"$f":"SUM(I62:I71)","v":0},0,0,0,null,{"$f":"SUM(N62:N71)","v":0},0,0,0,0,0,0,0,0,0,0]
[{"$f":"IF(RIGHT('Org structure'!D58,18)<>\"[Name of sub-vote]\",'Org structure'!D58,\"\")","v":"6.1 - Roads"},null,0,0,0,0,0,0,0,{"$f":"Q62+V62","v":0},{"$f":"U62+W62","v":0},{"$f":"X62","v":0},null,0,0,0,{"$f":"SUM(N62:P62)","v":0},0,0,0,{"$f":"SUM(R62:T62)","v":0},0,0,0]
[{"$f":"IF(RIGHT('Org structure'!D59,18)<>\"[Name of sub-vote]\",'Org structure'!D59,\"\")","v":""},null,0,0,0,0,0,0,0,0,0,0,null,0,0,0,0,0,0,0,0,0,0,0]
[{"$f":"IF(RIGHT('Org structure'!D60,18)<>\"[Name of sub-vote]\",'Org structure'!D60,\"\")","v":""},null,0,0,0,0,0,0,0,0,0,0,null,0,0,0,0,0,0,0,0,0,0,0]
[{"$f":"IF(RIGHT('Org structure'!D61,18)<>\"[Name of sub-vote]\",'Org structure'!D61,\"\")","v":""},null,0,0,0,0,0,0,0,0,0,0,null,0,0,0,0,0,0,0,0,0,0,0]
[{"$f":"IF(RIGHT('Org structure'!D62,18)<>\"[Name of sub-vote]\",'Org structure'!D62,\"\")","v":""},null,0,0,0,0,0,0,0,0,0,0,null,0,0,0,0,0,0,0,0,0,0,0]
[{"$f":"IF(RIGHT('Org structure'!D63,18)<>\"[Name of sub-vote]\",'Org structure'!D63,\"\")","v":""},null,0,0,0,0,0,0,0,0,0,0,null,0,0,0,0,0,0,0,0,0,0,0]
[{"$f":"IF(RIGHT('Org structure'!D64,18)<>\"[Name of sub-vote]\",'Org structure'!D64,\"\")","v":""},null,0,0,0,0,0,0,0,0,0,0,null,0,0,0,0,0,0,0,0,0,0,0]
[{"$f":"IF(RIGHT('Org structure'!D65,18)<>\"[Name of sub-vote]\",'Org structure'!D65,\"\")","v":""},null,0,0,0,0,0,0,0,0,0,0,null,0,0,0,0,0,0,0,0,0,0,0]
[{"$f":"IF(RIGHT('Org structure'!D66,18)<>\"[Name of sub-vote]\",'Org structure'!D66,\"\")","v":""},null,0,0,0,0,0,0,0,0,0,0,null,0,0,0,0,0,0,0,0,0,0,0]
[{"$f":"IF(RIGHT('Org structure'!D67,18)<>\"[Name of sub-vote]\",'Org structure'!D67,\"\")","v":""},null,0,0,0,0,0,0,0,0,0,0,null,0,0,0,0,0,0,0,0,0,0,0]
[{"$f":"'Org structure'!A8","v":"Vote 7 - Waste Management"},null,{"$f":"SUM(C73:C82)","v":0},0,0,0,0,0,0,0,0,0,null,{"$f":"SUM(N73:N82)","v":0},0,0,0,0,0,0,0,0,0,0]
[{"$f":"IF(RIGHT('Org structure'!D69,18)<>\"[Name of sub-vote]\",'Org structure'!D69,\"\")","v":"7.1 - Solid Waste Removal"},null,0,0,0,0,0,0,0,{"$f":"Q73+V73","v":0},{"$f":"U73+W73","v":0},{"$f":"X73","v":0},null,0,0,0,{"$f":"SUM(N73:P73)","v":0},0,0,0,{"$f":"SUM(R73:T73)","v":0},0,0,0]
[{"$f":"IF(RIGHT('Org structure'!D70,18)<>\"[Name of sub-vote]\",'Org structure'!D70,\"\")","v":""},null,0,0,0,0,0,0,0,0,0,0,null,0,0,0,0,0,0,0,0,0,0,0]
[{"$f":"IF(RIGHT('Org structure'!D71,18)<>\"[Name of sub-vote]\",'Org structure'!D71,\"\")","v":""},null,0,0,0,0,0,0,0,0,0,0,null,0,0,0,0,0,0,0,0,0,0,0]
[{"$f":"IF(RIGHT('Org structure'!D72,18)<>\"[Name of sub-vote]\",'Org structure'!D72,\"\")","v":""},null,0,0,0,0,0,0,0,0,0,0,null,0,0,0,0,0,0,0,0,0,0,0]
[{"$f":"IF(RIGHT('Org structure'!D73,18)<>\"[Name of sub-vote]\",'Org structure'!D73,\"\")","v":""},null,0,0,0,0,0,0,0,0,0,0,null,0,0,0,0,0,0,0,0,0,0,0]
[{"$f":"IF(RIGHT('Org structure'!D74,18)<>\"[Name of sub-vote]\",'Org structure'!D74,\"\")","v":""},null,0,0,0,0,0,0,0,0,0,0,null,0,0,0,0,0,0,0,0,0,0,0]
[{"$f":"IF(RIGHT('Org structure'!D75,18)<>\"[Name of sub-vote]\",'Org structure'!D75,\"\")","v":""},null,0,0,0,0,0,0,0,0,0,0,null,0,0,0,0,0,0,0,0,0,0,0]
[{"$f":"IF(RIGHT('Org structure'!D76,18)<>\"[Name of sub-vote]\",'Org structure'!D76,\"\")","v":""},null,0,0,0,0,0,0,0,0,0,0,null,0,0,0,0,0,0,0,0,0,0,0]
[{"$f":"IF(RIGHT('Org structure'!D77,18)<>\"[Name of sub-vote]\",'Org structure'!D77,\"\")","v":""},null,0,0,0,0,0,0,0,0,0,0,null,0,0,0,0,0,0,0,0,0,0,0]
[{"$f":"IF(RIGHT('Org structure'!D78,18)<>\"[Name of sub-vote]\",'Org structure'!D78,\"\")","v":""},null,0,0,0,0,0,0,0,0,0,0,null,0,0,0,0,0,0,0,0,0,0,0]
[{"$f":"'Org structure'!A9","v":"Vote 8 - Energy Sources"},null,{"$f":"SUM(C84:C93)","v":0},0,0,0,0,0,0,0,0,0,null,{"$f":"SUM(N84:N93)","v":0},0,0,0,0,0,0,0,0,0,0]
[{"$f":"IF(RIGHT('Org structure'!D80,18)<>\"[Name of sub-vote]\",'Org structure'!D80,\"\")","v":"8.1 - Electricity"},null,0,0,0,0,0,0,0,{"$f":"Q84+V84","v":0},{"$f":"U84+W84","v":0},{"$f":"X84","v":0},null,0,0,0,{"$f":"SUM(N84:P84)","v":0},0,0,0,{"$f":"SUM(R84:T84)","v":0},0,0,0]
[{"$f":"IF(RIGHT('Org structure'!D81,18)<>\"[Name of sub-vote]\",'Org structure'!D81,\"\")","v":""},null,0,0,0,0,0,0,0,0,0,0,null,0,0,0,0,0,0,0,0,0,0,0]
[{"$f":"IF(RIGHT('Org structure'!D82,18)<>\"[Name of sub-vote]\",'Org structure'!D82,\"\")","v":""},null,0,0,0,0,0,0,0,0,0,0,null,0,0,0,0,0,0,0,0,0,0,0]
[{"$f":"IF(RIGHT('Org structure'!D83,18)<>\"[Name of sub-vote]\",'Org structure'!D83,\"\")","v":""},null,0,0,0,0,0,0,0,0,0,0,null,0,0,0,0,0,0,0,0,0,0,0]
[{"$f":"IF(RIGHT('Org structure'!D84,18)<>\"[Name of sub-vote]\",'Org structure'!D84,\"\")","v":""},null,0,0,0,0,0,0,0,0,0,0,null,0,0,0,0,0,0,0,0,0,0,0]
[{"$f":"IF(RIGHT('Org structure'!D85,18)<>\"[Name of sub-vote]\",'Org structure'!D85,\"\")","v":""},null,0,0,0,0,0,0,0,0,0,0,null,0,0,0,0,0,0,0,0,0,0,0]
[{"$f":"IF(RIGHT('Org structure'!D86,18)<>\"[Name of sub-vote]\",'Org structure'!D86,\"\")","v":""},null,0,0,0,0,0,0,0,0,0,0,null,0,0,0,0,0,0,0,0,0,0,0]
[{"$f":"IF(RIGHT('Org structure'!D87,18)<>\"[Name of sub-vote]\",'Org structure'!D87,\"\")","v":""},null,0,0,0,0,0,0,0,0,0,0,null,0,0,0,0,0,0,0,0,0,0,0]
[{"$f":"IF(RIGHT('Org structure'!D88,18)<>\"[Name of sub-vote]\",'Org structure'!D88,\"\")","v":""},null,0,0,0,0,0,0,0,0,0,0,null,0,0,0,0,0,0,0,0,0,0,0]
[{"$f":"IF(RIGHT('Org structure'!D89,18)<>\"[Name of sub-vote]\",'Org structure'!D89,\"\")","v":""},null,0,0,0,0,0,0,0,0,0,0,null,0,0,0,0,0,0,0,0,0,0,0]
[{"$f":"'Org structure'!A10","v":"Vote 9 - Planning and Development"},null,{"$f":"SUM(C95:C104)","v":0},{"$f":"SUM(D95:D104)","v":0},0,0,0,0,0,0,0,0,null,{"$f":"SUM(N95:N104)","v":0},0,0,0,0,0,0,0,0,0,0]
[{"$f":"IF(RIGHT('Org structure'!D91,18)<>\"[Name of sub-vote]\",'Org structure'!D91,\"\")","v":"9.1 - Town Planning, Building Regulations and Enforcement, and City Engineer"},null,0,0,0,0,0,0,0,{"$f":"Q95+V95","v":0},{"$f":"U95+W95","v":0},{"$f":"X95","v":0},null,0,0,0,{"$f":"SUM(N95:P95)","v":0},0,0,0,{"$f":"SUM(R95:T95)","v":0},0,0,0]
[{"$f":"IF(RIGHT('Org structure'!D92,18)<>\"[Name of sub-vote]\",'Org structure'!D92,\"\")","v":"9.2 - Economic Development/Planning"},null,0,0,0,0,0,0,0,0,0,0,null,0,0,0,0,0,0,0,0,0,0,0]
[{"$f":"IF(RIGHT('Org structure'!D93,18)<>\"[Name of sub-vote]\",'Org structure'!D93,\"\")","v":"9.3 - Regional Planning and Development"},null,0,0,0,0,0,0,0,0,0,0,null,0,0,0,0,0,0,0,0,0,0,0]
[{"$f":"IF(RIGHT('Org structure'!D94,18)<>\"[Name of sub-vote]\",'Org structure'!D94,\"\")","v":"9.4 - Street Lighting and Signal Systems"},null,0,0,0,0,0,0,0,0,0,0,null,0,0,0,0,0,0,0,0,0,0,0]
[{"$f":"IF(RIGHT('Org structure'!D95,18)<>\"[Name of sub-vote]\",'Org structure'!D95,\"\")","v":"9.5 - Project Management Unit"},null,0,0,0,0,0,0,0,0,0,0,null,0,0,0,0,0,0,0,0,0,0,0]
[{"$f":"IF(RIGHT('Org structure'!D96,18)<>\"[Name of sub-vote]\",'Org structure'!D96,\"\")","v":""},null,0,0,0,0,0,0,0,0,0,0,null,0,0,0,0,0,0,0,0,0,0,0]
[{"$f":"IF(RIGHT('Org structure'!D97,18)<>\"[Name of sub-vote]\",'Org structure'!D97,\"\")","v":""},null,0,0,0,0,0,0,0,0,0,0,null,0,0,0,0,0,0,0,0,0,0,0]
[{"$f":"IF(RIGHT('Org structure'!D98,18)<>\"[Name of sub-vote]\",'Org structure'!D98,\"\")","v":""},null,0,0,0,0,0,0,0,0,0,0,null,0,0,0,0,0,0,0,0,0,0,0]
[{"$f":"IF(RIGHT('Org structure'!D99,18)<>\"[Name of sub-vote]\",'Org structure'!D99,\"\")","v":""},null,0,0,0,0,0,0,0,0,0,0,null,0,0,0,0,0,0,0,0,0,0,0]
[{"$f":"IF(RIGHT('Org structure'!D100,18)<>\"[Name of sub-vote]\",'Org structure'!D100,\"\")","v":""},null,0,0,0,0,0,0,0,0,0,0,null,0,0,0,0,0,0,0,0,0,0,0]
[{"$f":"'Org structure'!A11","v":"Vote 10 - Sport and Recreation"},null,{"$f":"SUM(C106:C115)","v":0},{"$f":"SUM(D106:D115)","v":0},0,0,0,0,0,0,0,0,null,{"$f":"SUM(N106:N115)","v":0},0,0,0,0,0,0,0,0,0,0]
[{"$f":"IF(RIGHT('Org structure'!D102,18)<>\"[Name of sub-vote]\",'Org structure'!D102,\"\")","v":"10.1 - Sports Grounds and Stadiums"},null,0,0,0,0,0,0,0,{"$f":"Q106+V106","v":0},{"$f":"U106+W106","v":0},{"$f":"X106","v":0},null,0,0,0,{"$f":"SUM(N106:P106)","v":0},0,0,0,{"$f":"SUM(R106:T106)","v":0},0,0,0]
[{"$f":"IF(RIGHT('Org structure'!D103,18)<>\"[Name of sub-vote]\",'Org structure'!D103,\"\")","v":""},null,0,0,0,0,0,0,0,0,0,0,null,0,0,0,0,0,0,0,0,0,0,0]
[{"$f":"IF(RIGHT('Org structure'!D104,18)<>\"[Name of sub-vote]\",'Org structure'!D104,\"\")","v":""},null,0,0,0,0,0,0,0,0,0,0,null,0,0,0,0,0,0,0,0,0,0,0]
[{"$f":"IF(RIGHT('Org structure'!D105,18)<>\"[Name of sub-vote]\",'Org structure'!D105,\"\")","v":""},null,0,0,0,0,0,0,0,0,0,0,null,0,0,0,0,0,0,0,0,0,0,0]
[{"$f":"IF(RIGHT('Org structure'!D106,18)<>\"[Name of sub-vote]\",'Org structure'!D106,\"\")","v":""},null,0,0,0,0,0,0,0,0,0,0,null,0,0,0,0,0,0,0,0,0,0,0]
[{"$f":"IF(RIGHT('Org structure'!D107,18)<>\"[Name of sub-vote]\",'Org structure'!D107,\"\")","v":""},null,0,0,0,0,0,0,0,0,0,0,null,0,0,0,0,0,0,0,0,0,0,0]
[{"$f":"IF(RIGHT('Org structure'!D108,18)<>\"[Name of sub-vote]\",'Org structure'!D108,\"\")","v":""},null,0,0,0,0,0,0,0,0,0,0,null,0,0,0,0,0,0,0,0,0,0,0]
[{"$f":"IF(RIGHT('Org structure'!D109,18)<>\"[Name of sub-vote]\",'Org structure'!D109,\"\")","v":""},null,0,0,0,0,0,0,0,0,0,0,null,0,0,0,0,0,0,0,0,0,0,0]
[{"$f":"IF(RIGHT('Org structure'!D110,18)<>\"[Name of sub-vote]\",'Org structure'!D110,\"\")","v":""},null,0,0,0,0,0,0,0,0,0,0,null,0,0,0,0,0,0,0,0,0,0,0]
[{"$f":"IF(RIGHT('Org structure'!D111,18)<>\"[Name of sub-vote]\",'Org structure'!D111,\"\")","v":""},null,0,0,0,0,0,0,0,0,0,0,null,0,0,0,0,0,0,0,0,0,0,0]
[{"$f":"'Org structure'!A12","v":"Vote 11 - [NAME OF VOTE 11]"},null,{"$f":"SUM(C117:C126)","v":0},0,0,0,0,0,0,0,0,0,null,{"$f":"SUM(N117:N126)","v":0},0,0,0,0,0,0,0,0,0,0]
[{"$f":"IF(RIGHT('Org structure'!D113,18)<>\"[Name of sub-vote]\",'Org structure'!D113,\"\")","v":""},null,0,0,0,0,0,0,0,{"$f":"Q117+V117","v":0},{"$f":"U117+W117","v":0},{"$f":"X117","v":0},null,0,0,0,{"$f":"SUM(N117:P117)","v":0},0,0,0,{"$f":"SUM(R117:T117)","v":0},0,0,0]
[{"$f":"IF(RIGHT('Org structure'!D114,18)<>\"[Name of sub-vote]\",'Org structure'!D114,\"\")","v":""},null,0,0,0,0,0,0,0,0,0,0,null,0,0,0,0,0,0,0,0,0,0,0]
[{"$f":"IF(RIGHT('Org structure'!D115,18)<>\"[Name of sub-vote]\",'Org structure'!D115,\"\")","v":""},null,0,0,0,0,0,0,0,0,0,0,null,0,0,0,0,0,0,0,0,0,0,0]
[{"$f":"IF(RIGHT('Org structure'!D116,18)<>\"[Name of sub-vote]\",'Org structure'!D116,\"\")","v":""},null,0,0,0,0,0,0,0,0,0,0,null,0,0,0,0,0,0,0,0,0,0,0]
[{"$f":"IF(RIGHT('Org structure'!D117,18)<>\"[Name of sub-vote]\",'Org structure'!D117,\"\")","v":""},null,0,0,0,0,0,0,0,0,0,0,null,0,0,0,0,0,0,0,0,0,0,0]
[{"$f":"IF(RIGHT('Org structure'!D118,18)<>\"[Name of sub-vote]\",'Org structure'!D118,\"\")","v":""},null,0,0,0,0,0,0,0,0,0,0,null,0,0,0,0,0,0,0,0,0,0,0]
[{"$f":"IF(RIGHT('Org structure'!D119,18)<>\"[Name of sub-vote]\",'Org structure'!D119,\"\")","v":""},null,0,0,0,0,0,0,0,0,0,0,null,0,0,0,0,0,0,0,0,0,0,0]
[{"$f":"IF(RIGHT('Org structure'!D120,18)<>\"[Name of sub-vote]\",'Org structure'!D120,\"\")","v":""},null,0,0,0,0,0,0,0,0,0,0,null,0,0,0,0,0,0,0,0,0,0,0]
[{"$f":"IF(RIGHT('Org structure'!D121,18)<>\"[Name of sub-vote]\",'Org structure'!D121,\"\")","v":""},null,0,0,0,0,0,0,0,0,0,0,null,0,0,0,0,0,0,0,0,0,0,0]
[{"$f":"IF(RIGHT('Org structure'!D122,18)<>\"[Name of sub-vote]\",'Org structure'!D122,\"\")","v":""},null,0,0,0,0,0,0,0,0,0,0,null,0,0,0,0,0,0,0,0,0,0,0]
[{"$f":"'Org structure'!A13","v":"Vote 12 - [NAME OF VOTE 12]"},null,{"$f":"SUM(C128:C137)","v":0},0,0,0,0,0,0,0,0,0,null,{"$f":"SUM(N128:N137)","v":0},0,0,0,0,0,0,0,0,0,0]
[{"$f":"IF(RIGHT('Org structure'!D124,18)<>\"[Name of sub-vote]\",'Org structure'!D124,\"\")","v":""},null,0,0,0,0,0,0,0,{"$f":"Q128+V128","v":0},{"$f":"U128+W128","v":0},{"$f":"X128","v":0},null,0,0,0,{"$f":"SUM(N128:P128)","v":0},0,0,0,{"$f":"SUM(R128:T128)","v":0},0,0,0]
[{"$f":"IF(RIGHT('Org structure'!D125,18)<>\"[Name of sub-vote]\",'Org structure'!D125,\"\")","v":""},null,0,0,0,0,0,0,0,0,0,0,null,0,0,0,0,0,0,0,0,0,0,0]
[{"$f":"IF(RIGHT('Org structure'!D126,18)<>\"[Name of sub-vote]\",'Org structure'!D126,\"\")","v":""},null,0,0,0,0,0,0,0,0,0,0,null,0,0,0,0,0,0,0,0,0,0,0]
[{"$f":"IF(RIGHT('Org structure'!D127,18)<>\"[Name of sub-vote]\",'Org structure'!D127,\"\")","v":""},null,0,0,0,0,0,0,0,0,0,0,null,0,0,0,0,0,0,0,0,0,0,0]
[{"$f":"IF(RIGHT('Org structure'!D128,18)<>\"[Name of sub-vote]\",'Org structure'!D128,\"\")","v":""},null,0,0,0,0,0,0,0,0,0,0,null,0,0,0,0,0,0,0,0,0,0,0]
[{"$f":"IF(RIGHT('Org structure'!D129,18)<>\"[Name of sub-vote]\",'Org structure'!D129,\"\")","v":""},null,0,0,0,0,0,0,0,{"$f":"Q133+V133","v":0},0,0,null,0,0,0,0,0,0,0,0,0,0,0]
[{"$f":"IF(RIGHT('Org structure'!D130,18)<>\"[Name of sub-vote]\",'Org structure'!D130,\"\")","v":""},null,0,0,0,0,0,0,0,0,0,0,null,0,0,0,0,0,0,0,0,0,0,0]
[{"$f":"IF(RIGHT('Org structure'!D131,18)<>\"[Name of sub-vote]\",'Org structure'!D131,\"\")","v":""},null,0,0,0,0,0,0,0,0,0,0,null,0,0,0,0,0,0,0,0,0,0,0]
[{"$f":"IF(RIGHT('Org structure'!D132,18)<>\"[Name of sub-vote]\",'Org structure'!D132,\"\")","v":""},null,0,0,0,0,0,0,0,0,0,0,null,0,0,0,0,0,0,0,0,0,0,0]
[{"$f":"IF(RIGHT('Org structure'!D133,18)<>\"[Name of sub-vote]\",'Org structure'!D133,\"\")","v":""},null,0,0,0,0,0,0,0,0,0,0,null,0,0,0,0,0,0,0,0,0,0,0]
[{"$f":"'Org structure'!A14","v":"Vote 13 - [NAME OF VOTE 13]"},null,{"$f":"SUM(C139:C148)","v":0},0,0,0,0,0,0,0,0,0,null,{"$f":"SUM(N139:N148)","v":0},0,0,0,0,0,0,0,0,0,0]
[{"$f":"IF(RIGHT('Org structure'!D135,18)<>\"[Name of sub-vote]\",'Org structure'!D135,\"\")","v":""},null,0,0,0,0,0,0,0,{"$f":"Q139+V139","v":0},{"$f":"U139+W139","v":0},{"$f":"X139","v":0},null,0,0,0,{"$f":"SUM(N139:P139)","v":0},0,0,0,{"$f":"SUM(R139:T139)","v":0},0,0,0]
[{"$f":"IF(RIGHT('Org structure'!D136,18)<>\"[Name of sub-vote]\",'Org structure'!D136,\"\")","v":""},null,0,0,0,0,0,0,0,0,0,0,null,0,0,0,0,0,0,0,0,0,0,0]
[{"$f":"IF(RIGHT('Org structure'!D137,18)<>\"[Name of sub-vote]\",'Org structure'!D137,\"\")","v":""},null,0,0,0,0,0,0,0,0,0,0,null,0,0,0,0,0,0,0,0,0,0,0]
[{"$f":"IF(RIGHT('Org structure'!D138,18)<>\"[Name of sub-vote]\",'Org structure'!D138,\"\")","v":""},null,0,0,0,0,0,0,0,0,0,0,null,0,0,0,0,0,0,0,0,0,0,0]
[{"$f":"IF(RIGHT('Org structure'!D139,18)<>\"[Name of sub-vote]\",'Org structure'!D139,\"\")","v":""},null,0,0,0,0,0,0,0,0,0,0,null,0,0,0,0,0,0,0,0,0,0,0]
[{"$f":"IF(RIGHT('Org structure'!D140,18)<>\"[Name of sub-vote]\",'Org structure'!D140,\"\")","v":""},null,0,0,0,0,0,0,0,0,0,0,null,0,0,0,0,0,0,0,0,0,0,0]
[{"$f":"IF(RIGHT('Org structure'!D141,18)<>\"[Name of sub-vote]\",'Org structure'!D141,\"\")","v":""},null,0,0,0,0,0,0,0,0,0,0,null,0,0,0,0,0,0,0,0,0,0,0]
[{"$f":"IF(RIGHT('Org structure'!D142,18)<>\"[Name of sub-vote]\",'Org structure'!D142,\"\")","v":""},null,0,0,0,0,0,0,0,0,0,0,null,0,0,0,0,0,0,0,0,0,0,0]
[{"$f":"IF(RIGHT('Org structure'!D143,18)<>\"[Name of sub-vote]\",'Org structure'!D143,\"\")","v":""},null,0,0,0,0,0,0,0,0,0,0,null,0,0,0,0,0,0,0,0,0,0,0]
[{"$f":"IF(RIGHT('Org structure'!D144,18)<>\"[Name of sub-vote]\",'Org structure'!D144,\"\")","v":""},null,0,0,0,0,0,0,0,0,0,0,null,0,0,0,0,0,0,0,0,0,0,0]
[{"$f":"'Org structure'!A15","v":"Vote 14 - [NAME OF VOTE 14]"},null,{"$f":"SUM(C150:C159)","v":0},0,0,0,0,0,0,0,0,0,null,{"$f":"SUM(N150:N159)","v":0},0,0,0,0,0,0,0,0,0,0]
[{"$f":"IF(RIGHT('Org structure'!D146,18)<>\"[Name of sub-vote]\",'Org structure'!D146,\"\")","v":""},null,0,0,0,0,0,0,0,{"$f":"Q150+V150","v":0},{"$f":"U150+W150","v":0},{"$f":"X150","v":0},null,0,0,0,{"$f":"SUM(N150:P150)","v":0},0,0,0,{"$f":"SUM(R150:T150)","v":0},0,0,0]
[{"$f":"IF(RIGHT('Org structure'!D147,18)<>\"[Name of sub-vote]\",'Org structure'!D147,\"\")","v":""},null,0,0,0,0,0,0,0,0,0,0,null,0,0,0,0,0,0,0,0,0,0,0]
[{"$f":"IF(RIGHT('Org structure'!D148,18)<>\"[Name of sub-vote]\",'Org structure'!D148,\"\")","v":""},null,0,0,0,0,0,0,0,0,0,0,null,0,0,0,0,0,0,0,0,0,0,0]
[{"$f":"IF(RIGHT('Org structure'!D149,18)<>\"[Name of sub-vote]\",'Org structure'!D149,\"\")","v":""},null,0,0,0,0,0,0,0,0,0,0,null,0,0,0,0,0,0,0,0,0,0,0]
[{"$f":"IF(RIGHT('Org structure'!D150,18)<>\"[Name of sub-vote]\",'Org structure'!D150,\"\")","v":""},null,0,0,0,0,0,0,0,0,0,0,null,0,0,0,0,0,0,0,0,0,0,0]
[{"$f":"IF(RIGHT('Org structure'!D151,18)<>\"[Name of sub-vote]\",'Org structure'!D151,\"\")","v":""},null,0,0,0,0,0,0,0,0,0,0,null,0,0,0,0,0,0,0,0,0,0,0]
[{"$f":"IF(RIGHT('Org structure'!D152,18)<>\"[Name of sub-vote]\",'Org structure'!D152,\"\")","v":""},null,0,0,0,0,0,0,0,0,0,0,null,0,0,0,0,0,0,0,0,0,0,0]
[{"$f":"IF(RIGHT('Org structure'!D153,18)<>\"[Name of sub-vote]\",'Org structure'!D153,\"\")","v":""},null,0,0,0,0,0,0,0,0,0,0,null,0,0,0,0,0,0,0,0,0,0,0]
[{"$f":"IF(RIGHT('Org structure'!D154,18)<>\"[Name of sub-vote]\",'Org structure'!D154,\"\")","v":""},null,0,0,0,0,0,0,0,0,0,0,null,0,0,0,0,0,0,0,0,0,0,0]
[{"$f":"IF(RIGHT('Org structure'!D155,18)<>\"[Name of sub-vote]\",'Org structure'!D155,\"\")","v":""},null,0,0,0,0,0,0,0,0,0,0,null,0,0,0,0,0,0,0,0,0,0,0]
[{"$f":"'Org structure'!A16","v":"Vote 15 - [NAME OF VOTE 15]"},null,{"$f":"SUM(C161:C170)","v":0},0,0,0,0,0,0,0,0,0,null,0,0,0,{"$f":"SUM(Q161:Q170)","v":0},0,0,0,0,0,0,0]
[{"$f":"IF(RIGHT('Org structure'!D157,18)<>\"[Name of sub-vote]\",'Org structure'!D157,\"\")","v":""},null,0,0,0,0,0,0,0,{"$f":"Q161+V161","v":0},{"$f":"U161+W161","v":0},{"$f":"X161","v":0},null,0,0,0,{"$f":"SUM(N161:P161)","v":0},0,0,0,{"$f":"SUM(R161:T161)","v":0},0,0,0]
[{"$f":"IF(RIGHT('Org structure'!D158,18)<>\"[Name of sub-vote]\",'Org structure'!D158,\"\")","v":""},null,0,0,0,0,0,0,0,0,0,0,null,0,0,0,0,0,0,0,0,0,0,0]
[{"$f":"IF(RIGHT('Org structure'!D159,18)<>\"[Name of sub-vote]\",'Org structure'!D159,\"\")","v":""},null,0,0,0,0,0,0,0,0,0,0,null,0,0,0,0,0,0,0,0,0,0,0]
[{"$f":"IF(RIGHT('Org structure'!D160,18)<>\"[Name of sub-vote]\",'Org structure'!D160,\"\")","v":""},null,0,0,0,0,0,0,0,0,0,0,null,0,0,0,0,0,0,0,0,0,0,0]
[{"$f":"IF(RIGHT('Org structure'!D161,18)<>\"[Name of sub-vote]\",'Org structure'!D161,\"\")","v":""},null,0,0,0,0,0,0,0,0,0,0,null,0,0,0,0,0,0,0,0,0,0,0]
[{"$f":"IF(RIGHT('Org structure'!D162,18)<>\"[Name of sub-vote]\",'Org structure'!D162,\"\")","v":""},null,0,0,0,0,0,0,0,0,0,0,null,0,0,0,0,0,0,0,0,0,0,0]
[{"$f":"IF(RIGHT('Org structure'!D163,18)<>\"[Name of sub-vote]\",'Org structure'!D163,\"\")","v":""},null,0,0,0,0,0,0,0,0,0,0,null,0,0,0,0,0,0,0,0,0,0,0]
[{"$f":"IF(RIGHT('Org structure'!D164,18)<>\"[Name of sub-vote]\",'Org structure'!D164,\"\")","v":""},null,0,0,0,0,0,0,0,0,0,0,null,0,0,0,0,0,0,0,0,0,0,0]
[{"$f":"IF(RIGHT('Org structure'!D165,18)<>\"[Name of sub-vote]\",'Org structure'!D165,\"\")","v":""},null,0,0,0,0,0,0,0,0,0,0,null,0,0,0,0,0,0,0,0,0,0,0]
[{"$f":"IF(RIGHT('Org structure'!D166,18)<>\"[Name of sub-vote]\",'Org structure'!D166,\"\")","v":""},null,0,0,0,0,0,0,0,0,0,0,null,0,0,0,0,0,0,0,0,0,0,0]
["Capital multi-year expenditure sub-total",null,{"$f":"C6+C17+C28+C39+C50+C61+C72+C83+C94+C105+C116+C127+C138+C149+C160","v":0},{"$f":"D6+D17+D28+D39+D50+D61+D72+D83+D94+D105+D116+D127+D138+D149+D160","v":0},0,0,0,0,0,0,0,0,null,{"$f":"N6+N17+N28+N39+N50+N61+N72+N83+N94+N105+N116+N127+N138+N149+N160","v":0},0,0,0,0,0,null,0,{"$f":"V6+V17+V28+V39+V50+V61+V72+V83+V94+V105+V116+V127+V138+V149+V160","v":0},{"$f":"W6+W17+W28+W39+W50+W61+W72+W83+W94+W105+W116+W127+W138+W149+W160","v":0}]
[]
["Capital expenditure - Municipal Vote"]
["Single-year expenditure appropriation",2]
[{"$f":"A6","v":"Vote 1 - Finance & Admin"},null,{"$f":"SUM(C176:C185)","v":1982443},2402370.71,1578705,3708000,3879805.89,3879805.89,3879805.89,5563800,3891747.6,4070767.9899999993]
[{"$f":"A7","v":"1.1 - Asset Management"},null,null,null,null,0,0,0,0,0,0,0]
["1.2 - Information Technology",null,null,null,null,90000,90000,90000,90000,0,0,0]
["1.3 - Finance",null,261672,null,148501,2500000,2500000,2500000,2500000,1000000,1046000,1094116]
["1.4 - Fleet Management",null,null,null,null,0,0,0,0,500000,523000,547058]
["1.5 - Administrative and Corporate Support",null,1720771,2402370.71,1430204,1118000,1289805.8900000001,1289805.8900000001,1289805.8900000001,4063800,2322747.6,2429593.9899999993]
["1.6 - Property Services",null,null,null,null,0,0,0,0,0,0,0]
["1.7 - Legal Services",null,null,null,null,0,0,0,0,0,0,0]
["1.8 - Human Resources",null,0,0,0,0,0,0,0,0,0,0]
["",null,0,0,0,0,0,0,0,0,0,0]
["",null,0,0,0,0,0,0,0,0,0,0]
["Vote 2 - Executive & Council",null,{"$f":"SUM(C187:C196)","v":1013248},243160.33,552000,1130000,660000,660000,660000,850000,889100,929998.6]
["2.1 - Mayor and Council",null,1013248,null,552000,1130000,660000,660000,660000,0,0,0]
["2.2 - Municipal Manager, Town Secretary and Chief Executive",null,0,243160.33,0,0,0,0,0,850000,889100,929998.6]
["2.3 - Governance Function",null,0,0,0,0,0,0,0,0,0,0]
["",null,0,0,0,0,0,0,0,0,0,0]
["",null,0,0,0,0,0,0,0,0,0,0]
["",null,0,0,0,0,0,0,0,0,0,0]
["",null,0,0,0,0,0,0,0,0,0,0]
["",null,0,0,0,0,0,0,0,0,0,0]
["",null,0,0,0,0,0,0,0,0,0,0]
["",null,0,0,0,0,0,0,0,0,0,0]
["Vote 3 - Community and Social Services",null,{"$f":"SUM(C198:C207)","v":15619505},8171567,7826017,4098594.93,4968827.7,4968827.7,4968827.7,5605621.5700000003,5872198.8400000008,6142319.9800000004]
["3.1 - Cultural Matters",null,0,null,189339,201000,356000,356000,356000,0,0,0]
["3.2 - Population Development",null,0,null,null,0,0,0,0,0,0,0]
["3.3 - Recreational Facilities",null,0,null,null,0,890000,890000,890000,0,0,0]
["3.4 - Education",null,0,null,null,0,0,0,0,0,0,0]
["3.5 - Libraries and Archives",null,0,null,null,48500,48500,48500,48500,0,0,0]
["3.6 - Community Halls and Facilities",null,15619505,8171567,7636678,2909094.93,3674327.7,3674327.7,3674327.7,5605621.5700000003,5872198.8400000008,6142319.9800000004]
["3.7 - Development Facilitation",null,0,null,null,940000,0,0,0,0,0,0]
["3.8 - Community Parks (including Nurseries)",null,0,null,null,0,0,0,0,0,0,0]
["3.9 - Tourism",null,0,0,0,0,0,0,0,0,0,0]
["3.10 - Aged Care",null,0,0,0,0,0,0,0,0,0,0]
["Vote 4 - Housing",null,{"$f":"SUM(C209:C218)","v":0},0,0,10000000,10000000,10000000,10000000,10540000,11024840,11531982.640000001]
["4.1 - Housing",null,0,0,0,10000000,10000000,10000000,10000000,10540000,11024840,11531982.640000001]
["",null,0,0,0,0,0,0,0,0,0,0]
["",null,0,0,0,0,0,0,0,0,0,0]
["",null,0,0,0,0,0,0,0,0,0,0]
["",null,0,0,0,0,0,0,0,0,0,0]
["",null,0,0,0,0,0,0,0,0,0,0]
["",null,0,0,0,0,0,0,0,0,0,0]
["",null,0,0,0,0,0,0,0,0,0,0]
["",null,0,0,0,0,0,0,0,0,0,0]
["",null,0,0,0,0,0,0,0,0,0,0]
["Vote 5 - Public Safety",null,{"$f":"SUM(C220:C229)","v":0},923190,3022537,15729759,15512546.940000001,15512546.940000001,15512546.940000001,1470000,1537620,1608350.52]
["5.1 - Civil Defence",null,0,0,0,1400000,1800000,1800000,1800000,1120000,1171520,1225409.92]
["5.2 - Fire Fighting and Protection",null,0,923190,3022537,14329759,13712546.940000001,13712546.940000001,13712546.940000001,350000,366100,382940.6]
["",null,0,0,0,0,0,0,0,0,0,0]
["",null,0,0,0,0,0,0,0,0,0,0]
["",null,0,0,0,0,0,0,0,0,0,0]
["",null,0,0,0,0,0,0,0,0,0,0]
["",null,0,0,0,0,0,0,0,0,0,0]
["",null,0,0,0,0,0,0,0,0,0,0]
["",null,0,0,0,0,0,0,0,0,0,0]
["",null,0,0,0,0,0,0,0,0,0,0]
["Vote 6 - Road Transport",null,{"$f":"SUM(C231:C240)","v":54702306},0,21892605,36975314.32,31204663.879999999,31204663.879999999,31204663.879999999,22795020.09,14381598.65,15043152.169999996]
["6.1 - Roads",null,54702306,0,21892605,36975314.32,31204663.879999999,31204663.879999999,31204663.879999999,22795020.09,14381598.65,15043152.169999996]
["",null,0,0,0,0,0,0,0,0,0,0]
["",null,0,0,0,0,0,0,0,0,0,0]
["",null,0,0,0,0,0,0,0,0,0,0]
["",null,0,0,0,0,0,0,0,0,0,0]
["",null,0,0,0,0,0,0,0,0,0,0]
["",null,0,0,0,0,0,0,0,0,0,0]
["",null,0,0,0,0,0,0,0,0,0,0]
["",null,0,0,0,0,0,0,0,0,0,0]
[{"$f":"A71","v":""},null,0,0,0,0,0,0,0,0,0,0]
["Vote 7 - Waste Management",null,{"$f":"SUM(C242:C251)","v":0},0,0,1091000,1103000,1103000,1103000,2117378,2214777.39,2316657.15]
["7.1 - Solid Waste Removal",null,0,0,0,1091000,1103000,1103000,1103000,2117378,2214777.39,2316657.15]
["",null,0,0,0,0,0,0,0,0,0,0]
["",null,0,0,0,0,0,0,0,0,0,0]
["",null,0,0,0,0,0,0,0,0,0,0]
["",null,0,0,0,0,0,0,0,0,0,0]
["",null,0,0,0,0,0,0,0,0,0,0]
["",null,0,0,0,0,0,0,0,0,0,0]
["",null,0,0,0,0,0,0,0,0,0,0]
["",null,0,0,0,0,0,0,0,0,0,0]
["",null,0,0,0,0,0,0,0,0,0,0]
["Vote 8 - Energy Sources",null,{"$f":"SUM(C253:C262)","v":0},0,0,0,0,0,0,0,0,0]
["8.1 - Electricity",null,0,0,0,0,0,0,0,0,0,0]
["",null,0,0,0,0,0,0,0,0,0,0]
["",null,0,0,0,0,0,0,0,0,0,0]
["",null,0,0,0,0,0,0,0,0,0,0]
["",null,0,0,0,0,0,0,0,0,0,0]
["",null,0,0,0,0,0,0,0,0,0,0]
["",null,0,0,0,0,0,0,0,0,0,0]
["",null,0,0,0,0,0,0,0,0,0,0]
["",null,0,0,0,0,0,0,0,0,0,0]
["",null,0,0,0,0,0,0,0,0,0,0]
["Vote 9 - Planning and Development",null,{"$f":"SUM(C264:C273)","v":0},20245184.550000001,19754066,3358333,5332541.58,5332541.58,5332541.58,6964638.7999999998,1840960,1925644.16]
["9.1 - Town Planning, Building Regulations and Enforcement, and City Engineer",null,0,0,500000,400000,400000,400000,400000,0,0,0]
["9.2 - Economic Development/Planning",null,0,20245184.550000001,12498688,2958333,4932541.58,4932541.58,4932541.58,1760000,1840960,1925644.16]
["9.3 - Regional Planning and Development",null,0,0,6755378,0,0,0,0,0,0,0]
["9.4 - Street Lighting and Signal Systems",null,0,0,0,0,0,0,0,5004638.8,0,0]
["9.5 - Project Management Unit",null,0,0,0,0,0,0,0,200000,0,0]
["",null,0,0,0,0,0,0,0,0,0,0]
["",null,0,0,0,0,0,0,0,0,0,0]
["",null,0,0,0,0,0,0,0,0,0,0]
["",null,0,0,0,0,0,0,0,0,0,0]
["",null,0,0,0,0,0,0,0,0,0,0]
["Vote 10 - Sport and Recreation",null,{"$f":"SUM(C275:C284)","v":0},6034547,6273517,2204827.7599999998,3792788.25,3792788.25,3792788.25,3272224.13,3422746.44,3580192.78]
["10.1 - Sports Grounds and Stadiums",null,0,6034547,6273517,2204827.7599999998,3792788.25,3792788.25,3792788.25,3272224.13,3422746.44,3580192.78]
["",null,0,0,0,0,0,0,0,0,0,0]
["",null,0,0,0,0,0,0,0,0,0,0]
["",null,0,0,0,0,0,0,0,0,0,0]
["",null,0,0,0,0,0,0,0,0,0,0]
["",null,0,0,0,0,0,0,0,0,0,0]
["",null,0,0,0,0,0,0,0,0,0,0]
["",null,0,0,0,0,0,0,0,0,0,0]
["",null,0,0,0,0,0,0,0,0,0,0]
["",null,0,0,0,0,0,0,0,0,0,0]
["Vote 11 - [NAME OF VOTE 11]",null,{"$f":"SUM(C286:C295)","v":0},0,0,0,0,0,0,0,0,0]
["",null,0,0,0,0,0,0,0,0,0,0]
["",null,0,0,0,0,0,0,0,0,0,0]
["",null,0,0,0,0,0,0,0,0,0,0]
["",null,0,0,0,0,0,0,0,0,0,0]
["",null,0,0,0,0,0,0,0,0,0,0]
["",null,0,0,0,0,0,0,0,0,0,0]
["",null,0,0,0,0,0,0,0,0,0,0]
["",null,0,0,0,0,0,0,0,0,0,0]
["",null,0,0,0,0,0,0,0,0,0,0]
["",null,0,0,0,0,0,0,0,0,0,0]
["Vote 12 - [NAME OF VOTE 12]",null,{"$f":"SUM(C297:C306)","v":0},0,0,0,0,0,0,0,0,0]
["",null,0,0,0,0,0,0,0,0,0,0]
["",null,0,0,0,0,0,0,0,0,0,0]
["",null,0,0,0,0,0,0,0,0,0,0]
["",null,0,0,0,0,0,0,0,0,0,0]
["",null,0,0,0,0,0,0,0,0,0,0]
["",null,0,0,0,0,0,0,0,0,0,0]
["",null,0,0,0,0,0,0,0,0,0,0]
[{"$f":"A135","v":""},null,0,0,0,0,0,0,0,0,0,0]
["",null,0,0,0,0,0,0,0,0,0,0]
["",null,0,0,0,0,0,0,0,0,0,0]
["Vote 13 - [NAME OF VOTE 13]",null,{"$f":"SUM(C308:C317)","v":0},0,0,0,0,0,0,0,0,0]
["",null,0,0,0,0,0,0,0,0,0,0]
["",null,0,0,0,0,0,0,0,0,0,0]
["",null,0,0,0,0,0,0,0,0,0,0]
["",null,0,0,0,0,0,0,0,0,0,0]
["",null,0,0,0,0,0,0,0,0,0,0]
["",null,0,0,0,0,0,0,0,0,0,0]
["",null,0,0,0,0,0,0,0,0,0,0]
["",null,0,0,0,0,0,0,0,0,0,0]
["",null,0,0,0,0,0,0,0,0,0,0]
["",null,0,0,0,0,0,0,0,0,0,0]
["Vote 14 - [NAME OF VOTE 14]",null,{"$f":"SUM(C319:C328)","v":0},0,0,0,0,0,0,0,0,0]
["",null,0,0,0,0,0,0,0,0,0,0]
["",null,0,0,0,0,0,0,0,0,0,0]
["",null,0,0,0,0,0,0,0,0,0,0]
["",null,0,0,0,0,0,0,0,0,0,0]
["",null,0,0,0,0,0,0,0,0,0,0]
["",null,0,0,0,0,0,0,0,0,0,0]
["",null,0,0,0,0,0,0,0,0,0,0]
["",null,0,0,0,0,0,0,0,0,0,0]
["",null,0,0,0,0,0,0,0,0,0,0]
["",null,0,0,0,0,0,0,0,0,0,0]
["Vote 15 - [NAME OF VOTE 15]",null,{"$f":"SUM(C330:C339)","v":0},0,0,0,0,0,0,0,0,0]
["",null,0,0,0,0,0,0,0,0,0,0]
["",null,0,0,0,0,0,0,0,0,0,0]
["",null,0,0,0,0,0,0,0,0,0,0]
["",null,0,0,0,0,0,0,0,0,0,0]
["",null,0,0,0,0,0,0,0,0,0,0]
["",null,0,0,0,0,0,0,0,0,0,0]
["",null,0,0,0,0,0,0,0,0,0,0]
["",null,0,0,0,0,0,0,0,0,0,0]
["",null,0,0,0,0,0,0,0,0,0,0]
["",null,0,0,0,0,0,0,0,0,0,0]
["Capital single-year expenditure sub-total",null,{"$f":"C175+C186+C197+C208+C219+C230+C241+C252+C263+C274+C285+C296+C307+C318+C329","v":73317502},{"$f":"D175+D186+D197+D208+D219+D230+D241+D252+D263+D274+D285+D296+D307+D318+D329","v":38020019.590000004},60899447,78295829.010000005,76454174.239999995,76454174.239999995,76454174.239999995,59178682.589999996,45075588.920000002,47149065.989999995]
["Total Capital Expenditure",null,{"$f":"C171+C340","v":73317502},{"$f":"D171+D340","v":38020019.590000004},60899447,78295829.010000005,76454174.239999995,76454174.239999995,76454174.239999995,59178682.589999996,45075588.920000002,47149065.989999995]

{"sheet":"A6-FinPos","index":15,"n_rows":71,"n_cols":12,"rows_kept":71,"cut":false,"hidden":false,"merged":[[49,0,49,11],[1,9,1,11],[1,5,1,8]]}
[{"$f":"muni&\" - \"&Approve6","v":"KZN434 Ubuhlebezwe - Table A6 Budgeted Financial Position"}]
[{"$f":"desc","v":"Description"},{"$f":"head27","v":"Ref"},{"$f":"head1b","v":"2016/17"},{"$f":"head1A","v":"2017/18"},{"$f":"Head1","v":"2018/19"},{"$f":"Head2","v":"Current Year 2019/20"},null,null,null,{"$f":"Head3","v":"2020/21 Medium Term Revenue & Expenditure Framework"}]
["R thousand",null,{"$f":"Head5","v":"Audited Outcome"},{"$f":"Head5","v":"Audited Outcome"},{"$f":"Head5","v":"Audited Outcome"},{"$f":"Head6","v":"Original Budget"},{"$f":"Head7","v":"Adjusted Budget"},{"$f":"Head8","v":"Full Year Forecast"},{"$f":"Head5b","v":"Pre-audit outcome"},{"$f":"Head9","v":"Budget Year 2020/21"},{"$f":"Head10","v":"Budget Year +1 2021/22"},{"$f":"Head11","v":"Budget Year +2 2022/23"}]
["ASSETS"]
["Current assets"]
["Cash",null,6396226,102395778,2500000,0,24573573,24573573,24573573,4650227,{"$f":"J6*1.045","v":4859487.2149999999},{"$f":"K6*1.045","v":5078164.1396749998}]
["Call investment deposits",1,{"$f":"'SA3'!C9","v":111904376},{"$f":"'SA3'!D9","v":0},{"$f":"'SA3'!E9","v":101904376},{"$f":"'SA3'!F9","v":105302255},{"$f":"'SA3'!G9","v":146881746},{"$f":"'SA3'!H9","v":146881746},{"$f":"'SA3'!I9","v":146881746},{"$f":"'SA3'!J9","v":162118518.47589934},{"$f":"'SA3'!K9","v":169413851.80731478},{"$f":"'SA3'!L9","v":177037475.13864395}]
["Consumer debtors",1,{"$f":"'SA3'!C14","v":13978664},{"$f":"'SA3'!D14","v":0},{"$f":"'SA3'!E14","v":27099227},{"$f":"'SA3'!F14","v":0},{"$f":"'SA3'!G14","v":29062837.079999998},{"$f":"'SA3'!H14","v":29062837.079999998},{"$f":"'SA3'!I14","v":29062837.079999998},{"$f":"'SA3'!J14","v":25638498.778445207},{"$f":"'SA3'!K14","v":26792231.22347524},{"$f":"'SA3'!L14","v":27997881.628531624}]
["Other debtors",null,373815,null,247145,0,530118,530118,530118,{"$f":"10251637.7552336+5300118","v":15551755.755233601},{"$f":"J9*1.045","v":16251584.764219111},{"$f":"K9*1.045","v":16982906.078608971}]
["Current portion of long-term receivables",null,null,null,0,0,0,0,0,0,0,0]
["Inventory",2,2532983,null,3119463,0,0,0,2904733.45,8999474,{"$f":"J11*1.045","v":9404450.3300000001},{"$f":"K11*1.045","v":9827650.59485}]
["Total current assets",null,{"$f":"SUM(C6:C11)","v":135186064},102395778,134870211,105302255,201048274.07999998,201048274.07999998,203953007.52999997,216958474.00957817,226721605.34000915,236924077.58030954]
[]
["Non current assets"]
["Long-term receivables",null,null,0,0,0,0,0,0,0,0,0]
["Investments",null,null,0,0,0,0,0,0,0,0,0]
["Investment property",null,20364596,19853275,19020365,0,20670810,20670810,21445532.710000001,20670810,{"$f":"J17*1.045","v":21600996.449999999},{"$f":"K17*1.045","v":22573041.290249996}]
["Investment in Associate",null,null,0,0,0,0,0,0,0,0,0]
["Property, plant and equipment",3,{"$f":"'SA3'!C26","v":240093018},{"$f":"'SA3'!D26","v":251702032},{"$f":"'SA3'!E26","v":312601018},{"$f":"'SA3'!F26","v":75245829.00999999},{"$f":"'SA3'!G26","v":322252967},{"$f":"'SA3'!H26","v":322252967},{"$f":"'SA3'!I26","v":322252967},{"$f":"'SA3'!J26","v":301230449.60618198},{"$f":"'SA3'!K26","v":314785819.83846015},{"$f":"'SA3'!L26","v":328951181.73119086}]
[]
["Biological",null,0,0,0,0,0,0,0,0,0,0]
["Intangible",null,881020,1105036,1201145,3050000,3300000,3300000,1451431.34,4556848,{"$f":"J22*1.045","v":4761906.1599999992},{"$f":"K22*1.045","v":4976191.9371999986}]
["Other non-current assets",null,4808819,4808819,5078112.8640000001,0,0,0,0,4808819,{"$f":"J23*1.045","v":5025215.8549999995},{"$f":"K23*1.045","v":5251350.5684749987}]
["Total non current assets",null,{"$f":"SUM(C15:C19)+SUM(A21:A23)","v":260457614},{"$f":"SUM(D15:D19)+SUM(B21:B23)","v":271555307},337311222,81159684.00999999,349203034.86400002,345973777,346998499.70999998,325201259.60618198,337838247.62846011,360889890.02144086]
["TOTAL ASSETS",null,{"$f":"C12+C24","v":395643678},{"$f":"D12+D24","v":373951085},{"$f":"E12+E24","v":472181433},{"$f":"F12+F24","v":186461939.00999999},550251308.94400001,547022051.07999992,550951507.24000001,542159733.61576009,564559852.96846926,597813967.60175037]
[]
["LIABILITIES"]
["Current liabilities"]
["Bank overdraft",1,0,0,0,0,0,0,0,0,0,0]
["Borrowing",4,{"$f":"'SA3'!C32","v":0},{"$f":"'SA3'!D32","v":0},{"$f":"'SA3'!E32","v":0},{"$f":"'SA3'!F32","v":0},{"$f":"'SA3'!G32","v":0},{"$f":"'SA3'!H32","v":0},{"$f":"'SA3'!I32","v":0},{"$f":"'SA3'!J32","v":0},{"$f":"'SA3'!K32","v":0},{"$f":"'SA3'!L32","v":0}]
["Consumer deposits",null,0,28799622,0,0,0,0,null,0,0,0]
["Trade and other payables",4,{"$f":"'SA3'!C39","v":37579225},{"$f":"'SA3'!D39","v":29963137},{"$f":"'SA3'!E39","v":26129834},{"$f":"'SA3'!F39","v":-27338825},{"$f":"'SA3'!G39","v":33373081},{"$f":"'SA3'!H39","v":33373081},{"$f":"'SA3'!I39","v":33373081},{"$f":"'SA3'!J39","v":33423256},{"$f":"'SA3'!K39","v":34869452.589999996},{"$f":"'SA3'!L39","v":36380728.026549995}]
["Provisions",null,0,3893612,0,0,0,0,null,3264536,{"$f":"J33*1.045","v":3411440.1199999996},{"$f":"K33*1.045","v":3564954.9253999996}]
["Total current liabilities",null,{"$f":"SUM(C29:C33)","v":37579225},62656371,26129834,-27338825,33373081,33373081,33373081,36687792,38280892.709999993,39945682.951949991]
[]
["Non current liabilities"]
["Borrowing",null,{"$f":"'SA3'!C44","v":0},{"$f":"'SA3'!D44","v":0},{"$f":"'SA3'!E44","v":0},{"$f":"'SA3'!F44","v":0},{"$f":"'SA3'!G44","v":0},{"$f":"'SA3'!H44","v":0},{"$f":"'SA3'!I44","v":0},{"$f":"'SA3'!J44","v":0},{"$f":"'SA3'!K44","v":0},{"$f":"'SA3'!L44","v":0}]
["Provisions",null,{"$f":"'SA3'!C51","v":6700000},{"$f":"'SA3'!D51","v":8444000},{"$f":"'SA3'!E51","v":9410201},{"$f":"'SA3'!F51","v":0},{"$f":"'SA3'!G51","v":0},{"$f":"'SA3'!H51","v":0},{"$f":"'SA3'!I51","v":0},{"$f":"'SA3'!J51","v":7217000},{"$f":"'SA3'!K51","v":7541764.9999999991},{"$f":"'SA3'!L51","v":7881144.4249999989}]
["Total non current liabilities",null,{"$f":"SUM(C37:C38)","v":6700000},{"$f":"SUM(D37:D38)","v":8444000},{"$f":"SUM(E37:E38)","v":9410201},{"$f":"SUM(F37:F38)","v":0},0,0,0,7217000,{"$f":"SUM(K37:K38)","v":7541764.9999999991},7881144.4249999989]
["TOTAL LIABILITIES",null,{"$f":"C34+C39","v":44279225},{"$f":"D34+D39","v":71100371},{"$f":"E34+E39","v":35540035},{"$f":"F34+F39","v":-27338825},33373081,33373081,33373081,43904792,{"$f":"K34+K39","v":45822657.709999993},47826827.376949988]
[]
["NET ASSETS",5,{"$f":"C25-C40","v":351364453},302850714,436641398,213800764.00999999,516878227.94400001,513648970.07999992,517578426.24000001,498254941.61576009,518737195.25846928,549987140.22480035]
[]
["COMMUNITY WEALTH/EQUITY"]
["Accumulated Surplus/(Deficit)",null,366196707.44,0,337798.03,132398433,594677056,594677056,594677056,504320608.61575997,{"$f":"J45*1.045","v":527015036.00346911},{"$f":"K45*1.045","v":550730712.62362516}]
["Reserves",4,{"$f":"'SA3'!C70","v":329591746},{"$f":"'SA3'!D70","v":386262949},{"$f":"'SA3'!E70","v":429380702.86400002},{"$f":"'SA3'!F70","v":0},{"$f":"'SA3'!G70","v":0},{"$f":"'SA3'!H70","v":0},{"$f":"'SA3'!I70","v":0},{"$f":"'SA3'!J70","v":373787},{"$f":"'SA3'!K70","v":373787},{"$f":"'SA3'!L70","v":373787}]
[]
["TOTAL COMMUNITY WEALTH/EQUITY",5,{"$f":"SUM(C45:C46)","v":695788453.44000006},{"$f":"SUM(D45:D46)","v":386262949},429718500.89399999,132398433,594677056,594677056,594677056,504694395.61575997,527388823.00346911,551104499.62362516]
[{"$f":"head27a","v":"References"}]
["1. Detail to be provided in Table SA3"]
["2. Include completed low cost housing to be transferred to beneficiaries within 12 months"]
["3. Include 'Construction-work-in-progress' (disclosed separately in annual financial statements)"]
["4. Detail to be provided in Table SA3. Includes reserves to be funded by statute."]
["5. Net assets must balance with Total Community Wealth/Equity"]
["check balance",null,{"$f":"IF((C42-C48)=0,0,\"Unbalanced\")","v":"Unbalanced"},{"$f":"IF((D42-D48)=0,0,\"Unbalanced\")","v":"Unbalanced"},"Unbalanced","Unbalanced","Unbalanced","Unbalanced","Unbalanced","Unbalanced","Unbalanced","Unbalanced"]
[]
[]
[]
[]
[]
[]
[]
[]
[]
[]
[]
[]
[]
[]
[]
["Test",null,{"$f":"IF(C25<>C40,\"Unbalanced\",0)","v":"Unbalanced"},{"$f":"IF(D25<>D40,\"Unbalanced\",0)","v":"Unbalanced"},"Unbalanced","Unbalanced","Unbalanced","Unbalanced","Unbalanced","Unbalanced","Unbalanced","Unbalanced"]

{"sheet":"A7-CFlow","index":16,"n_rows":51,"n_cols":12,"rows_kept":51,"cut":false,"hidden":false,"merged":[[1,9,1,11],[1,5,1,8]]}
[{"$f":"muni&\" - \"&Approve7","v":"KZN434 Ubuhlebezwe - Table A7 Budgeted Cash Flows"}]
[{"$f":"desc","v":"Description"},{"$f":"head27","v":"Ref"},{"$f":"head1b","v":"2016/17"},{"$f":"head1A","v":"2017/18"},{"$f":"Head1","v":"2018/19"},{"$f":"Head2","v":"Current Year 2019/20"},null,null,null,{"$f":"Head3","v":"2020/21 Medium Term Revenue & Expenditure Framework"}]
["R thousand",null,{"$f":"Head5","v":"Audited Outcome"},{"$f":"Head5","v":"Audited Outcome"},{"$f":"Head5","v":"Audited Outcome"},{"$f":"Head6","v":"Original Budget"},{"$f":"Head7","v":"Adjusted Budget"},{"$f":"Head8","v":"Full Year Forecast"},{"$f":"Head5b","v":"Pre-audit outcome"},{"$f":"Head9","v":"Budget Year 2020/21"},{"$f":"Head10","v":"Budget Year +1 2021/22"},{"$f":"Head11","v":"Budget Year +2 2022/23"}]
["CASH FLOW FROM OPERATING ACTIVITIES"]
["Receipts"]
["Property rates",null,13122243,12292781,11941155.800000001,23023000,18220402,18220402,18220402,{"$f":"'SA30'!N5","v":12305546.16},{"$f":"'SA30'!O5","v":12970045.65264},{"$f":"'SA30'!P5","v":13683398.1635352}]
["Service charges",null,1726005,2155141,1134709.95,2100000,1413930,1413930,1413930,{"$f":"'SA30'!N6+'SA30'!N7+'SA30'!N8+'SA30'!N9","v":1336574.0900000001},{"$f":"'SA30'!O6+'SA30'!O7+'SA30'!O8+'SA30'!O9","v":1408749.0908600001},{"$f":"'SA30'!P6+'SA30'!P7+'SA30'!P8+'SA30'!P9","v":1486230.2908572999}]
["Other revenue",null,12033023,6573117,7000392,4869426.72,3608816.3,3608816.3,3608816.3,{"$f":"'SA30'!N11+'SA30'!N15+'SA30'!N16+'SA30'!N17+'SA30'!N19","v":9716347.8000000007},{"$f":"'SA30'!O11+'SA30'!O15+'SA30'!O16+'SA30'!O17+'SA30'!O19","v":10241030.581200002},{"$f":"'SA30'!P11+'SA30'!P15+'SA30'!P16+'SA30'!P17+'SA30'!P19","v":10804287.263166001}]
["Government - operating",1,89633423,119114000,145280692,187638691.63999999,187588691.63999999,187588691.63999999,187588691.63999999,{"$f":"'SA30'!N18","v":223266591.34424001},{"$f":"'SA30'!O18","v":235322987.27682897},{"$f":"'SA30'!P18","v":248265751.57705456}]
["Government - capital",1,54057000,27330000,26439000,33317000,33317000,33317000,33317000,{"$f":"'SA30'!N23","v":26759000},{"$f":"'SA30'!O23","v":27989914},{"$f":"'SA30'!P23","v":29277450.039999999}]
["Interest",null,9215250,11001948,12500000,16000000,13000000,13000000,13000000,{"$f":"'SA30'!N12+'SA30'!N13","v":12000000},{"$f":"'SA30'!O12+'SA30'!O13","v":12540000},{"$f":"'SA30'!P12+'SA30'!P13","v":13104300}]
["Dividends",null,0,0,0,0,0,0,0,{"$f":"'SA30'!N14","v":0},{"$f":"'SA30'!O14","v":0},{"$f":"'SA30'!P14","v":0}]
["Payments"]
["Suppliers and employees",null,-75048298,-118495132,-127468206,-136122327.04999983,-133718989.69999984,-133718989.69999984,-133718989.69999984,{"$f":"-('SA30'!N35+'SA30'!N36+'SA30'!N38+'SA30'!N39+'SA30'!N40+'SA30'!N41+'SA30'!N44+'SA30'!N50)","v":-144959918.18000001},{"$f":"-('SA30'!O35+'SA30'!O36+'SA30'!O38+'SA30'!O39+'SA30'!O40+'SA30'!O41+'SA30'!O44+'SA30'!O50)","v":-147164118.87999994},{"$f":"-('SA30'!P35+'SA30'!P36+'SA30'!P38+'SA30'!P39+'SA30'!P40+'SA30'!P41+'SA30'!P44+'SA30'!P50)","v":-153933668.35999995}]
["Finance charges",null,0,-2856,0,0,0,0,0,{"$f":"-('SA30'!N37)","v":0},{"$f":"-('SA30'!O37)","v":0},{"$f":"-('SA30'!P37)","v":0}]
["Transfers and Grants",1,0,0,-37045801,-83134760.370000005,-83184760.370000005,-83184760.370000005,-83184760.370000005,{"$f":"-('SA30'!N42+'SA30'!N43)","v":-105048466.54424001},{"$f":"-('SA30'!O42+'SA30'!O43)","v":-110721083.73762898},{"$f":"-('SA30'!P42+'SA30'!P43)","v":-116810743.34319857}]
["NET CASH FROM/(USED) OPERATING ACTIVITIES",null,{"$f":"SUM(C6:C12)+SUM(C14:C16)","v":104738646},59968999,39781942.75,47691030.940000147,40245089.870000154,40245089.870000154,40245089.870000154,35375674.670000017,42587523.98390007,45877005.631414533]
[]
["CASH FLOWS FROM INVESTING ACTIVITIES"]
["Receipts"]
["Proceeds on disposal of PPE",null,0,0,0,1000000,1000000,1000000,1000000,{"$f":"'SA30'!N24+'SA30'!N25","v":0},{"$f":"'SA30'!O24+'SA30'!O25","v":0},{"$f":"'SA30'!P24+'SA30'!P25","v":0}]
["Decrease (Increase) in non-current debtors",null,0,0,0,0,0,0,0,{"$f":"'SA30'!N29","v":0},{"$f":"'SA30'!O29","v":0},{"$f":"'SA30'!P29","v":0}]
["Decrease (increase) other non-current receivables",null,0,0,0,0,0,0,0,{"$f":"'SA30'!N30","v":0},{"$f":"'SA30'!O30","v":0},{"$f":"'SA30'!P30","v":0}]
["Decrease (increase) in non-current investments",null,0,0,0,0,0,0,0,{"$f":"'SA30'!N31","v":0},{"$f":"'SA30'!O31","v":0},{"$f":"'SA30'!P31","v":0}]
["Payments"]
["Capital assets",null,-73317502,-38020019.590000004,-60899447,-78295829.010000005,-76454174.239999995,-76454174.239999995,-76454174.239999995,{"$f":"-('SA30'!N48)","v":-59198682.606181815},{"$f":"-('SA30'!O48)","v":-45075588.920000009},{"$f":"-('SA30'!P48)","v":-47149065.990000002}]
["NET CASH FROM/(USED) INVESTING ACTIVITIES",null,{"$f":"SUM(C21:C24)+C26","v":-73317502},{"$f":"SUM(D21:D24)+D26","v":-38020019.590000004},-60899447,-77295829.010000005,-75454174.239999995,-75454174.239999995,-75454174.239999995,-59198682.606181815,-45075588.920000009,-47149065.990000002]
[]
["CASH FLOWS FROM FINANCING ACTIVITIES"]
["Receipts"]
["Short term loans",null,0,0,0,0,0,0,0,{"$f":"'SA30'!N26","v":0},{"$f":"'SA30'!O26","v":0},{"$f":"'SA30'!P26","v":0}]
["Borrowing long term/refinancing",null,0,0,0,0,0,0,0,{"$f":"'SA30'!N27","v":0},{"$f":"'SA30'!O27","v":0},{"$f":"'SA30'!P27","v":0}]
["Increase (decrease) in consumer deposits",null,0,0,0,0,0,0,0,{"$f":"'SA30'!N28","v":0},{"$f":"'SA30'!O28","v":0},{"$f":"'SA30'!P28","v":0}]
["Payments"]
["Repayment of borrowing",null,0,0,0,0,0,0,0,{"$f":"-('SA30'!N49)","v":0},{"$f":"-('SA30'!O49)","v":0},{"$f":"-('SA30'!P49)","v":0}]
["NET CASH FROM/(USED) FINANCING ACTIVITIES",null,{"$f":"SUM(C31:C33)+C35","v":0},{"$f":"SUM(D31:D33)+D35","v":0},0,0,0,0,0,0,0,0]
[]
["NET INCREASE/ (DECREASE) IN CASH HELD",null,{"$f":"C17+C27+C36","v":31421144},{"$f":"D17+D27+D36","v":21948979.409999996},-21117504.25,-29604798.069999859,-35209084.369999841,-35209084.369999841,-35209084.369999841,-23823007.936181799,-2488064.936099939,-1272060.3585854694]
["Cash/cash equivalents at the year begin:",2,103229764,281285912,379274930.59000003,479956320.34000003,338995061.93000019,266531245.05000022,197246251.11000019,{"$f":"'SA30'!N54","v":187174450},{"$f":"J40","v":163351442.06381822},{"$f":"K40","v":160863377.12771827}]
["Cash/cash equivalents at the year end:",2,{"$f":"C38+C39","v":134650908},{"$f":"D38+D39","v":303234891.40999997},{"$f":"E38+E39","v":358157426.34000003},{"$f":"F38+F39","v":450351522.27000016},303785977.56000036,231322160.68000036,162037166.74000037,163351442.06381822,160863377.12771827,159591316.76913279]
[{"$f":"head27a","v":"References"}]
["1. Local/District municipalities to include transfers from/to District/Local Municipalities"]
["2. Cash equivalents includes investments with maturities of 3 months or less"]
["3. The MTREF is populated directly from SA30."]
["Total receipts",null,{"$f":"SUM(C6:C12)+SUM(C21:C23)","v":179786944},178466987,204295949.75,267948118.35999998,258148839.94,258148839.94,258148839.94,285384059.39424002,300472726.601529,316621417.33461308]
["Total payments",null,{"$f":"SUM(C14:C16)+C26","v":-148365800},{"$f":"SUM(D14:D16)+D26","v":-156518007.59},-225413454,-297552916.42999983,-293357924.30999982,-293357924.30999982,-293357924.30999982,-309207067.33042181,-302960791.53762895,-317893477.69319856]
[null,null,{"$f":"C45+C46","v":31421144},{"$f":"D45+D46","v":21948979.409999996},-21117504.25,-29604798.069999844,-35209084.369999826,-35209084.369999826,-35209084.369999826,-23823007.936181784,-2488064.9360999465,-1272060.3585854769]
["Borrowings & investments & c.deposits",null,{"$f":"C24+C32+C33","v":0},{"$f":"D24+D32+D33","v":0},0,0,0,0,0,0,0,0]
[{"$f":"A35","v":"Repayment of borrowing"},null,{"$f":"C35","v":0},{"$f":"D35","v":0},0,0,0,0,{"$f":"I35","v":0},0,0,0]
[null,null,{"$f":"C47+C48+C49","v":31421144},{"$f":"D47+D48+D49","v":21948979.409999996},-21117504.25,-29604798.069999844,-35209084.369999826,-35209084.369999826,-35209084.369999826,-23823007.936181784,-2488064.9360999465,-1272060.3585854769]
[null,null,{"$f":"C38-C50","v":0},0,0,0,0,0,0,0,7.4505805969238281E-9,7.4505805969238281E-9]

{"sheet":"A8-ResRecon","index":17,"n_rows":67,"n_cols":12,"rows_kept":67,"cut":false,"hidden":false,"merged":[[1,9,1,11],[1,5,1,8]]}
[{"$f":"muni&\" - \"&Approve8","v":"KZN434 Ubuhlebezwe - Table A8 Cash backed reserves/accumulated surplus reconciliation"}]
[{"$f":"desc","v":"Description"},{"$f":"head27","v":"Ref"},{"$f":"head1b","v":"2016/17"},{"$f":"head1A","v":"2017/18"},{"$f":"Head1","v":"2018/19"},{"$f":"Head2","v":"Current Year 2019/20"},null,null,null,{"$f":"Head3","v":"2020/21 Medium Term Revenue & Expenditure Framework"}]
["R thousand",null,{"$f":"Head5","v":"Audited Outcome"},{"$f":"Head5","v":"Audited Outcome"},{"$f":"Head5","v":"Audited Outcome"},{"$f":"Head6","v":"Original Budget"},{"$f":"Head7","v":"Adjusted Budget"},{"$f":"Head8","v":"Full Year Forecast"},{"$f":"Head5b","v":"Pre-audit outcome"},{"$f":"Head9","v":"Budget Year 2020/21"},{"$f":"Head10","v":"Budget Year +1 2021/22"},{"$f":"Head11","v":"Budget Year +2 2022/23"}]
["Cash and investments available"]
[{"$f":"LEFT('A7-CFlow'!A40,37)","v":"Cash/cash equivalents at the year end"},1,{"$f":"'A7-CFlow'!C40","v":134650908},{"$f":"'A7-CFlow'!D40","v":303234891.40999997},{"$f":"'A7-CFlow'!E40","v":358157426.34000003},{"$f":"'A7-CFlow'!F40","v":450351522.27000016},{"$f":"'A7-CFlow'!G40","v":303785977.56000036},{"$f":"'A7-CFlow'!H40","v":231322160.68000036},{"$f":"'A7-CFlow'!I40","v":162037166.74000037},{"$f":"'A7-CFlow'!J40","v":163351442.06381822},{"$f":"'A7-CFlow'!K40","v":160863377.12771827},{"$f":"'A7-CFlow'!L40","v":159591316.76913279}]
["Other current investments  > 90 days",null,{"$f":"'A6-FinPos'!C6+'A6-FinPos'!C7-'A6-FinPos'!C29-'A8-ResRecon'!C5","v":-16350306},{"$f":"'A6-FinPos'!D6+'A6-FinPos'!D7-'A6-FinPos'!D29-'A8-ResRecon'!D5","v":-200839113.40999997},{"$f":"'A6-FinPos'!E6+'A6-FinPos'!E7-'A6-FinPos'!E29-'A8-ResRecon'!E5","v":-253753050.34000003},{"$f":"'A6-FinPos'!F6+'A6-FinPos'!F7-'A6-FinPos'!F29-'A8-ResRecon'!F5","v":-345049267.27000016},{"$f":"'A6-FinPos'!G6+'A6-FinPos'!G7-'A6-FinPos'!G29-'A8-ResRecon'!G5","v":-132330658.56000036},{"$f":"'A6-FinPos'!H6+'A6-FinPos'!H7-'A6-FinPos'!H29-'A8-ResRecon'!H5","v":-59866841.680000365},{"$f":"'A6-FinPos'!I6+'A6-FinPos'!I7-'A6-FinPos'!I29-'A8-ResRecon'!I5","v":9418152.2599996328},{"$f":"'A6-FinPos'!J6+'A6-FinPos'!J7-'A6-FinPos'!J29-'A8-ResRecon'!J5","v":3417303.4120811224},{"$f":"'A6-FinPos'!K6+'A6-FinPos'!K7-'A6-FinPos'!K29-'A8-ResRecon'!K5","v":13409961.894596517},{"$f":"'A6-FinPos'!L6+'A6-FinPos'!L7-'A6-FinPos'!L29-'A8-ResRecon'!L5","v":22524322.509186149}]
[{"$f":"'A6-FinPos'!A14&\" - \"&'A6-FinPos'!A16","v":"Non current assets - Investments"},1,{"$f":"'A6-FinPos'!C16","v":0},{"$f":"'A6-FinPos'!D16","v":0},{"$f":"'A6-FinPos'!E16","v":0},{"$f":"'A6-FinPos'!F16","v":0},{"$f":"'A6-FinPos'!G16","v":0},{"$f":"'A6-FinPos'!H16","v":0},{"$f":"'A6-FinPos'!I16","v":0},{"$f":"'A6-FinPos'!J16","v":0},{"$f":"'A6-FinPos'!K16","v":0},{"$f":"'A6-FinPos'!L16","v":0}]
["Cash and investments available:",null,{"$f":"SUM(C5:C7)","v":118300602},{"$f":"SUM(D5:D7)","v":102395778},104404376,105302255,171455319,171455319,171455319,166768745.47589934,174273339.02231479,182115639.27831894]
[]
["Application of cash and investments"]
[{"$f":"'SA3'!A37","v":"Unspent conditional transfers"},null,{"$f":"'SA3'!C37","v":7200000},{"$f":"'SA3'!D37","v":1163515},{"$f":"'SA3'!E37","v":1483600},{"$f":"'SA3'!F37","v":0},{"$f":"'SA3'!G37","v":1285554},{"$f":"'SA3'!H37","v":1285554},{"$f":"'SA3'!I37","v":1285554},{"$f":"'SA3'!J37","v":1285554},{"$f":"'SA3'!K37","v":1285554},{"$f":"'SA3'!L37","v":1285554}]
["Unspent borrowing",null,{"$f":"'SA17'!C67","v":0},{"$f":"'SA17'!D67","v":0},{"$f":"'SA17'!E67","v":0},{"$f":"'SA17'!F67","v":0},{"$f":"'SA17'!G67","v":0},{"$f":"'SA17'!H67","v":0},null,{"$f":"'SA17'!I67","v":0},{"$f":"'SA17'!J67","v":0},{"$f":"'SA17'!K67","v":0}]
["Statutory requirements",2]
["Other working capital requirements",3,{"$f":"-C32","v":16027225},{"$f":"-D32","v":28799622},6788234,{"$f":"-F32","v":-27338825},10887527,10887527,10887527,3835702,3759898.5899999961,3637174.0265499949]
["Other provisions"]
["Long term investments committed",4,{"$f":"C52","v":0},{"$f":"D52","v":0},0,0,0,0,0,0,0,0]
["Reserves to be backed by cash/investments",5]
[{"$f":"\"Total \"&A10&\":\"","v":"Total Application of cash and investments:"},null,{"$f":"SUM(C11:C17)","v":23227225},{"$f":"SUM(D11:D17)","v":29963137},8271834,-27338825,12173081,12173081,12173081,5121256,5045452.5899999961,4922728.0265499949]
["Surplus(shortfall)",null,{"$f":"C8-C18","v":95073377},{"$f":"D8-D18","v":72432641},96132542,132641080,159282238,159282238,159282238,161647489.47589934,169227886.43231478,177192911.25176895]
[{"$f":"head27a","v":"References"}]
["1. Must reconcile with Budgeted Cash Flows"]
["2. For example: VAT, taxation"]
["3. Council approval for policy required - include sufficient working capital (e.g. allowing for a % of current debtors > 90 days as uncollectable)"]
["4. For example: sinking fund requirements for borrowing"]
["5. Council approval required for each reserve created and basis of cash backing of reserves"]
[]
[]
["Other working capital requirements"]
["Debtors",null,{"$f":"IF(ISERROR(ROUND(C35*C36,-3)),0,(ROUND(C35*C36,-3)))","v":14352000},{"$f":"IF(ISERROR(ROUND(D35*D36,-3)),0,(ROUND(D35*D36,-3)))","v":0},17858000,0,21200000,21200000,21200000,28302000,29824000,31458000]
[]
["Creditors due",null,{"$f":"'SA3'!C35+'SA3'!C36","v":30379225},{"$f":"'SA3'!D35+'SA3'!D36","v":28799622},{"$f":"'SA3'!E35+'SA3'!E36","v":24646234},{"$f":"'SA3'!F35+'SA3'!F36","v":-27338825},{"$f":"'SA3'!G35+'SA3'!G36","v":32087527},{"$f":"'SA3'!H35+'SA3'!H36","v":32087527},{"$f":"'SA3'!I35+'SA3'!I36","v":32087527},{"$f":"'SA3'!J35+'SA3'!J36","v":32137702},{"$f":"'SA3'!K35+'SA3'!K36","v":33583898.589999996},{"$f":"'SA3'!L35+'SA3'!L36","v":35095174.026549995}]
["Total",null,{"$f":"C29-C31","v":-16027225},{"$f":"D29-D31","v":-28799622},-6788234,27338825,-10887527,-10887527,-10887527,-3835702,-3759898.5899999961,-3637174.0265499949]
[]
["Debtors collection assumptions"]
["Balance outstanding - debtors",null,{"$f":"'A6-FinPos'!C8+'A6-FinPos'!C9+'A6-FinPos'!C15","v":14352479},{"$f":"'A6-FinPos'!D8+'A6-FinPos'!D9+'A6-FinPos'!D15","v":0},{"$f":"'A6-FinPos'!E8+'A6-FinPos'!E9+'A6-FinPos'!E15","v":27346372},{"$f":"'A6-FinPos'!F8+'A6-FinPos'!F9+'A6-FinPos'!F15","v":0},{"$f":"'A6-FinPos'!G8+'A6-FinPos'!G9+'A6-FinPos'!G15","v":29592955.079999998},{"$f":"'A6-FinPos'!H8+'A6-FinPos'!H9+'A6-FinPos'!H15","v":29592955.079999998},{"$f":"'A6-FinPos'!I8+'A6-FinPos'!I9+'A6-FinPos'!I15","v":29592955.079999998},{"$f":"'A6-FinPos'!J8+'A6-FinPos'!J9+'A6-FinPos'!J15","v":41190254.533678807},{"$f":"'A6-FinPos'!K8+'A6-FinPos'!K9+'A6-FinPos'!K15","v":43043815.987694353},{"$f":"'A6-FinPos'!L8+'A6-FinPos'!L9+'A6-FinPos'!L15","v":44980787.707140595}]
["Estimate of debtors collection rate",null,{"$f":"IF(ISERROR('SA10'!D10),0,('SA10'!D10))","v":1},{"$f":"IF(ISERROR('SA10'!E10),0,('SA10'!E10))","v":0.98481838354222129},{"$f":"IF(ISERROR('SA10'!F10),0,('SA10'!F10))","v":0.65303266773821289},{"$f":"IF(ISERROR('SA10'!G10),0,('SA10'!G10))","v":0.94183517807686357},{"$f":"IF(ISERROR('SA10'!H10),0,('SA10'!H10))","v":0.71639350713581529},{"$f":"IF(ISERROR('SA10'!I10),0,('SA10'!I10))","v":0.71639350713581529},{"$f":"IF(ISERROR('SA10'!J10),0,('SA10'!J10))","v":0.71639350713581529},{"$f":"IF(ISERROR('SA10'!K10),0,('SA10'!K10))","v":0.68710796423237419},{"$f":"IF(ISERROR('SA10'!L10),0,('SA10'!L10))","v":0.69288421439602166},{"$f":"IF(ISERROR('SA10'!M10),0,('SA10'!M10))","v":0.69937435943570547}]
[]
[]
[null,null,null,null,null,null,null,null,null,null,"`"]
[{"$f":"A16","v":"Long term investments committed"}]
["Balance (Insert description; eg sinking fund)"]
[]
[]
[]
[]
[]
[]
[]
[]
[]
[]
[null,null,{"$f":"SUM(C41:C51)","v":0},{"$f":"SUM(D41:D51)","v":0},0,0,0,0,0,0,0,0]
[{"$f":"A17","v":"Reserves to be backed by cash/investments"}]
[{"$f":"'SA3'!A65","v":"Housing Development Fund"},null,{"$f":"'SA3'!C65","v":0},{"$f":"'SA3'!D65","v":373787},{"$f":"'SA3'!E65","v":387000},{"$f":"'SA3'!F65","v":0},{"$f":"'SA3'!G65","v":0},{"$f":"'SA3'!H65","v":0},{"$f":"'SA3'!I65","v":0},{"$f":"'SA3'!J65","v":373787},{"$f":"'SA3'!K65","v":373787},{"$f":"'SA3'!L65","v":373787}]
[{"$f":"'SA3'!A66","v":"Capital replacement"}]
[{"$f":"'SA3'!A67","v":"Self-insurance"}]
["Other (list)"]
[]
[]
[]
[]
[]
[]
[]
[]
[]
[null,null,{"$f":"SUM(C54:C65)","v":0},373787,387000,0,0,0,0,373787,373787,373787]

{"sheet":"A9-Asset","index":18,"n_rows":217,"n_cols":11,"rows_kept":217,"cut":false,"hidden":false,"merged":[[1,5,1,7],[1,8,1,10]]}
[{"$f":"muni&\" - \"&Approve9","v":"KZN434 Ubuhlebezwe - Table A9 Asset Management"}]
[{"$f":"desc","v":"Description"},{"$f":"head27","v":"Ref"},{"$f":"head1b","v":"2016/17"},{"$f":"head1A","v":"2017/18"},{"$f":"Head1","v":"2018/19"},{"$f":"Head2","v":"Current Year 2019/20"},null,null,{"$f":"Head3","v":"2020/21 Medium Term Revenue & Expenditure Framework"}]
["R thousand",null,{"$f":"Head5","v":"Audited Outcome"},{"$f":"Head5","v":"Audited Outcome"},{"$f":"Head5","v":"Audited Outcome"},{"$f":"Head6","v":"Original Budget"},{"$f":"Head7","v":"Adjusted Budget"},{"$f":"Head8","v":"Full Year Forecast"},{"$f":"Head9","v":"Budget Year 2020/21"},{"$f":"Head10","v":"Budget Year +1 2021/22"},{"$f":"Head11","v":"Budget Year +2 2022/23"}]
["CAPITAL EXPENDITURE"]
["Total New Assets",1,{"$f":"C15+C18+C19+C22+C25+C26+SUM(C29:C35)","v":64694843},{"$f":"D15+D18+D19+D22+D25+D26+SUM(D29:D35)","v":18057331},47807970,55634821.489999995,53766760.609999999,53766760.609999999,47055031.450000003,32322771.149999999,33809618.609999992]
["Roads Infrastructure",null,{"$f":"SA34a!C7","v":10120102},{"$f":"SA34a!D7","v":4323732},{"$f":"SA34a!E7","v":23462159},{"$f":"SA34a!F7","v":11171296.84},{"$f":"SA34a!G7","v":10947431.98},{"$f":"SA34a!H7","v":10947431.98},{"$f":"SA34a!I7","v":21111368.949999999},{"$f":"SA34a!J7","v":12620499.550000001},{"$f":"SA34a!K7","v":13201042.519999998}]
["Storm water Infrastructure",null,{"$f":"SA34a!C12","v":0},{"$f":"SA34a!D12","v":0},{"$f":"SA34a!E12","v":0},{"$f":"SA34a!F12","v":0},{"$f":"SA34a!G12","v":0},{"$f":"SA34a!H12","v":0},{"$f":"SA34a!I12","v":0},{"$f":"SA34a!J12","v":0},{"$f":"SA34a!K12","v":0}]
["Electrical Infrastructure",null,{"$f":"SA34a!C16","v":0},{"$f":"SA34a!D16","v":0},{"$f":"SA34a!E16","v":6727218},{"$f":"SA34a!F16","v":0},{"$f":"SA34a!G16","v":0},{"$f":"SA34a!H16","v":0},{"$f":"SA34a!I16","v":5004638.8},{"$f":"SA34a!J16","v":0},{"$f":"SA34a!K16","v":0}]
["Water Supply Infrastructure",null,{"$f":"SA34a!C26","v":0},{"$f":"SA34a!D26","v":0},{"$f":"SA34a!E26","v":0},{"$f":"SA34a!F26","v":0},{"$f":"SA34a!G26","v":0},{"$f":"SA34a!H26","v":0},{"$f":"SA34a!I26","v":0},{"$f":"SA34a!J26","v":0},{"$f":"SA34a!K26","v":0}]
["Sanitation Infrastructure",null,{"$f":"SA34a!C37","v":0},{"$f":"SA34a!D37","v":0},{"$f":"SA34a!E37","v":0},{"$f":"SA34a!F37","v":0},{"$f":"SA34a!G37","v":0},{"$f":"SA34a!H37","v":0},{"$f":"SA34a!I37","v":0},{"$f":"SA34a!J37","v":0},{"$f":"SA34a!K37","v":0}]
["Solid Waste Infrastructure",null,{"$f":"SA34a!C44","v":0},{"$f":"SA34a!D44","v":0},{"$f":"SA34a!E44","v":0},{"$f":"SA34a!F44","v":0},{"$f":"SA34a!G44","v":0},{"$f":"SA34a!H44","v":0},{"$f":"SA34a!I44","v":0},{"$f":"SA34a!J44","v":0},{"$f":"SA34a!K44","v":0}]
["Rail Infrastructure",null,{"$f":"SA34a!C52","v":0},{"$f":"SA34a!D52","v":0},{"$f":"SA34a!E52","v":0},{"$f":"SA34a!F52","v":0},{"$f":"SA34a!G52","v":0},{"$f":"SA34a!H52","v":0},{"$f":"SA34a!I52","v":0},{"$f":"SA34a!J52","v":0},{"$f":"SA34a!K52","v":0}]
["Coastal Infrastructure",null,{"$f":"SA34a!C62","v":0},{"$f":"SA34a!D62","v":0},{"$f":"SA34a!E62","v":9724863},{"$f":"SA34a!F62","v":0},{"$f":"SA34a!G62","v":0},{"$f":"SA34a!H62","v":0},{"$f":"SA34a!I62","v":0},{"$f":"SA34a!J62","v":0},{"$f":"SA34a!K62","v":0}]
["Information and Communication Infrastructure",null,{"$f":"SA34a!C68","v":0},{"$f":"SA34a!D68","v":0},{"$f":"SA34a!E68","v":0},{"$f":"SA34a!F68","v":0},{"$f":"SA34a!G68","v":0},{"$f":"SA34a!H68","v":0},{"$f":"SA34a!I68","v":0},{"$f":"SA34a!J68","v":0},{"$f":"SA34a!K68","v":0}]
["Infrastructure",null,{"$f":"SUM(C6:C14)","v":10120102},{"$f":"SUM(D6:D14)","v":4323732},39914240,11171296.84,10947431.98,10947431.98,26116007.75,12620499.550000001,13201042.519999998]
["Community Facilities",null,{"$f":"SA34a!C75","v":51358426},{"$f":"SA34a!D75","v":8123461},{"$f":"SA34a!E75","v":3000000},{"$f":"SA34a!F75","v":15915618.890000001},{"$f":"SA34a!G75","v":16004866.350000001},{"$f":"SA34a!H75","v":16004866.350000001},{"$f":"SA34a!I75","v":5333312.8100000005},{"$f":"SA34a!J75","v":5578645.2000000002},{"$f":"SA34a!K75","v":5835262.8799999999}]
["Sport and Recreation Facilities",null,{"$f":"SA34a!C98","v":0},{"$f":"SA34a!D98","v":0},{"$f":"SA34a!E98","v":2000000},{"$f":"SA34a!F98","v":3362964.76},{"$f":"SA34a!G98","v":4947531.59},{"$f":"SA34a!H98","v":4947531.59},{"$f":"SA34a!I98","v":3484532.8899999997},{"$f":"SA34a!J98","v":3644821.41},{"$f":"SA34a!K98","v":3812483.19}]
["Community Assets",null,{"$f":"SUM(C16:C17)","v":51358426},{"$f":"SUM(D16:D17)","v":8123461},5000000,19278583.649999999,20952397.940000001,20952397.940000001,8817845.6999999993,9223466.6099999994,9647746.0700000003]
["Heritage Assets",null,{"$f":"SA34a!C103","v":0},{"$f":"SA34a!D103","v":0},{"$f":"SA34a!E103","v":0},{"$f":"SA34a!F103","v":0},{"$f":"SA34a!G103","v":0},{"$f":"SA34a!H103","v":0},{"$f":"SA34a!I103","v":0},{"$f":"SA34a!J103","v":0},{"$f":"SA34a!K103","v":0}]
["Revenue Generating",null,{"$f":"SA34a!C111","v":0},{"$f":"SA34a!D111","v":0},{"$f":"SA34a!E111","v":0},{"$f":"SA34a!F111","v":0},{"$f":"SA34a!G111","v":0},{"$f":"SA34a!H111","v":0},{"$f":"SA34a!I111","v":0},{"$f":"SA34a!J111","v":0},{"$f":"SA34a!K111","v":0}]
["Non-revenue Generating",null,{"$f":"SA34a!C114","v":0},{"$f":"SA34a!D114","v":0},{"$f":"SA34a!E114","v":0},{"$f":"SA34a!F114","v":0},{"$f":"SA34a!G114","v":0},{"$f":"SA34a!H114","v":0},{"$f":"SA34a!I114","v":0},{"$f":"SA34a!J114","v":0},{"$f":"SA34a!K114","v":0}]
["Investment properties",null,{"$f":"SUM(C20:C21)","v":0},{"$f":"SUM(D20:D21)","v":0},0,0,0,0,0,0,0]
["Operational Buildings",null,{"$f":"SA34a!C119","v":555985},{"$f":"SA34a!D119","v":2237941},{"$f":"SA34a!E119","v":500000},{"$f":"SA34a!F119","v":3302000},{"$f":"SA34a!G119","v":3436000},{"$f":"SA34a!H119","v":3436000},{"$f":"SA34a!I119","v":1360000},{"$f":"SA34a!J119","v":1213360},{"$f":"SA34a!K119","v":1269174.56}]
["Housing",null,{"$f":"SA34a!C131","v":0},{"$f":"SA34a!D131","v":0},{"$f":"SA34a!E131","v":12000},{"$f":"SA34a!F131","v":0},{"$f":"SA34a!G131","v":0},{"$f":"SA34a!H131","v":0},{"$f":"SA34a!I131","v":105000},{"$f":"SA34a!J131","v":109830},{"$f":"SA34a!K131","v":114882.18000000001}]
["Other Assets",null,{"$f":"SUM(C23:C24)","v":555985},{"$f":"SUM(D23:D24)","v":2237941},512000,3302000,3436000,3436000,1465000,1323190,1384056.74]
["Biological or Cultivated Assets",null,{"$f":"SA34a!C136","v":0},{"$f":"SA34a!D136","v":0},{"$f":"SA34a!E136","v":0},{"$f":"SA34a!F136","v":0},{"$f":"SA34a!G136","v":0},{"$f":"SA34a!H136","v":0},{"$f":"SA34a!I136","v":0},{"$f":"SA34a!J136","v":0},{"$f":"SA34a!K136","v":0}]
["Servitudes",null,{"$f":"SA34a!C140","v":0},{"$f":"SA34a!D140","v":0},{"$f":"SA34a!E140","v":0},{"$f":"SA34a!F140","v":0},{"$f":"SA34a!G140","v":0},{"$f":"SA34a!H140","v":0},{"$f":"SA34a!I140","v":0},{"$f":"SA34a!J140","v":0},{"$f":"SA34a!K140","v":0}]
["Licences and Rights",null,{"$f":"SA34a!C141","v":0},{"$f":"SA34a!D141","v":0},{"$f":"SA34a!E141","v":75000},{"$f":"SA34a!F141","v":2900000},{"$f":"SA34a!G141","v":2900000},{"$f":"SA34a!H141","v":2900000},{"$f":"SA34a!I141","v":2310000},{"$f":"SA34a!J141","v":2416260},{"$f":"SA34a!K141","v":2527407.96}]
["Intangible Assets",null,{"$f":"SUM(C27:C28)","v":0},{"$f":"SUM(D27:D28)","v":0},75000,2900000,2900000,2900000,2310000,2416260,2527407.96]
["Computer Equipment",null,{"$f":"SA34a!C149","v":0},{"$f":"SA34a!D149","v":35813},{"$f":"SA34a!E149","v":1198000},{"$f":"SA34a!F149","v":640000},{"$f":"SA34a!G149","v":890000},{"$f":"SA34a!H149","v":890000},{"$f":"SA34a!I149","v":843200},{"$f":"SA34a!J149","v":0},{"$f":"SA34a!K149","v":0}]
["Furniture and Office Equipment",null,{"$f":"SA34a!C152","v":820120},{"$f":"SA34a!D152","v":360840},{"$f":"SA34a!E152","v":231382},{"$f":"SA34a!F152","v":719000},{"$f":"SA34a!G152","v":790805.89},{"$f":"SA34a!H152","v":790805.89},{"$f":"SA34a!I152","v":648000},{"$f":"SA34a!J152","v":343088},{"$f":"SA34a!K152","v":358870.05000000005}]
["Machinery and Equipment",null,{"$f":"SA34a!C155","v":0},{"$f":"SA34a!D155","v":1747810},{"$f":"SA34a!E155","v":227182},{"$f":"SA34a!F155","v":15113941},{"$f":"SA34a!G155","v":11900124.800000001},{"$f":"SA34a!H155","v":11900124.800000001},{"$f":"SA34a!I155","v":1914978},{"$f":"SA34a!J155","v":1229026.99},{"$f":"SA34a!K155","v":1285562.2299999997}]
["Transport Assets",null,{"$f":"SA34a!C158","v":1840210},{"$f":"SA34a!D158","v":1227734},{"$f":"SA34a!E158","v":650166},{"$f":"SA34a!F158","v":2510000},{"$f":"SA34a!G158","v":1950000},{"$f":"SA34a!H158","v":1950000},{"$f":"SA34a!I158","v":3940000},{"$f":"SA34a!J158","v":4121240},{"$f":"SA34a!K158","v":4310817.04}]
["Land",null,{"$f":"SA34a!C161","v":0},{"$f":"SA34a!D161","v":0},{"$f":"SA34a!E161","v":0},{"$f":"SA34a!F161","v":0},{"$f":"SA34a!G161","v":0},{"$f":"SA34a!H161","v":0},{"$f":"SA34a!I161","v":1000000},{"$f":"SA34a!J161","v":1046000},{"$f":"SA34a!K161","v":1094116}]
["Zoo's, Marine and Non-biological Animals",null,{"$f":"SA34a!C164","v":0},{"$f":"SA34a!D164","v":0},{"$f":"SA34a!E164","v":0},{"$f":"SA34a!F164","v":0},{"$f":"SA34a!G164","v":0},{"$f":"SA34a!H164","v":0},{"$f":"SA34a!I164","v":0},{"$f":"SA34a!J164","v":0},{"$f":"SA34a!K164","v":0}]
[]
["Total Renewal of Existing Assets",2,{"$f":"C47+C50+C51+C54+C57+C58+SUM(C61:C67)","v":8622659},{"$f":"D47+D50+D51+D54+D57+D58+SUM(D61:D67)","v":15974124.830000002},9754775.5800000001,16994414.859999999,15337006.719999999,15337006.719999999,11326450.08,11918945.460000001,12467216.950000001]
["Roads Infrastructure",null,{"$f":"SA34b!C7","v":8622659},{"$f":"SA34b!D7","v":10624593.700000001},{"$f":"SA34b!E7","v":4126792.1399999997},{"$f":"SA34b!F7","v":6599316.8200000003},{"$f":"SA34b!G7","v":5009741.7699999996},{"$f":"SA34b!H7","v":5009741.7699999996},{"$f":"SA34b!I7","v":786450.08000000007},{"$f":"SA34b!J7","v":822626.79},{"$f":"SA34b!K7","v":860467.62}]
["Storm water Infrastructure",null,{"$f":"SA34b!C12","v":0},{"$f":"SA34b!D12","v":0},{"$f":"SA34b!E12","v":0},{"$f":"SA34b!F12","v":0},{"$f":"SA34b!G12","v":0},{"$f":"SA34b!H12","v":0},{"$f":"SA34b!I12","v":0},{"$f":"SA34b!J12","v":0},{"$f":"SA34b!K12","v":0}]
["Electrical Infrastructure",null,{"$f":"SA34b!C16","v":0},{"$f":"SA34b!D16","v":0},{"$f":"SA34b!E16","v":0},{"$f":"SA34b!F16","v":0},{"$f":"SA34b!G16","v":0},{"$f":"SA34b!H16","v":0},{"$f":"SA34b!I16","v":0},{"$f":"SA34b!J16","v":0},{"$f":"SA34b!K16","v":0}]
["Water Supply Infrastructure",null,{"$f":"SA34b!C26","v":0},{"$f":"SA34b!D26","v":0},{"$f":"SA34b!E26","v":0},{"$f":"SA34b!F26","v":0},{"$f":"SA34b!G26","v":0},{"$f":"SA34b!H26","v":0},{"$f":"SA34b!I26","v":0},{"$f":"SA34b!J26","v":0},{"$f":"SA34b!K26","v":0}]
["Sanitation Infrastructure",null,{"$f":"SA34b!C37","v":0},{"$f":"SA34b!D37","v":0},{"$f":"SA34b!E37","v":0},{"$f":"SA34b!F37","v":0},{"$f":"SA34b!G37","v":0},{"$f":"SA34b!H37","v":0},{"$f":"SA34b!I37","v":0},{"$f":"SA34b!J37","v":0},{"$f":"SA34b!K37","v":0}]
["Solid Waste Infrastructure",null,{"$f":"SA34b!C44","v":0},{"$f":"SA34b!D44","v":0},{"$f":"SA34b!E44","v":0},{"$f":"SA34b!F44","v":0},{"$f":"SA34b!G44","v":0},{"$f":"SA34b!H44","v":0},{"$f":"SA34b!I44","v":0},{"$f":"SA34b!J44","v":0},{"$f":"SA34b!K44","v":0}]
["Rail Infrastructure",null,{"$f":"SA34b!C52","v":0},{"$f":"SA34b!D52","v":0},{"$f":"SA34b!E52","v":0},{"$f":"SA34b!F52","v":0},{"$f":"SA34b!G52","v":0},{"$f":"SA34b!H52","v":0},{"$f":"SA34b!I52","v":0},{"$f":"SA34b!J52","v":0},{"$f":"SA34b!K52","v":0}]
["Coastal Infrastructure",null,{"$f":"SA34b!C62","v":0},{"$f":"SA34b!D62","v":0},{"$f":"SA34b!E62","v":0},{"$f":"SA34b!F62","v":0},{"$f":"SA34b!G62","v":0},{"$f":"SA34b!H62","v":0},{"$f":"SA34b!I62","v":0},{"$f":"SA34b!J62","v":0},{"$f":"SA34b!K62","v":0}]
["Information and Communication Infrastructure",null,{"$f":"SA34b!C68","v":0},{"$f":"SA34b!D68","v":0},{"$f":"SA34b!E68","v":0},{"$f":"SA34b!F68","v":0},{"$f":"SA34b!G68","v":0},{"$f":"SA34b!H68","v":0},{"$f":"SA34b!I68","v":0},{"$f":"SA34b!J68","v":0},{"$f":"SA34b!K68","v":0}]
["Infrastructure",null,{"$f":"SUM(C38:C46)","v":8622659},{"$f":"SUM(D38:D46)","v":10624593.700000001},4126792.1399999997,6599316.8200000003,5009741.7699999996,5009741.7699999996,786450.08000000007,822626.79,860467.62]
["Community Facilities",null,{"$f":"SA34b!C75","v":0},{"$f":"SA34b!D75","v":647670.43999999994},{"$f":"SA34b!E75","v":0},{"$f":"SA34b!F75","v":0},{"$f":"SA34b!G75","v":0},{"$f":"SA34b!H75","v":0},{"$f":"SA34b!I75","v":0},{"$f":"SA34b!J75","v":0},{"$f":"SA34b!K75","v":0}]
["Sport and Recreation Facilities",null,{"$f":"SA34b!C98","v":0},{"$f":"SA34b!D98","v":895293.85},{"$f":"SA34b!E98","v":389587.07},{"$f":"SA34b!F98","v":395098.04},{"$f":"SA34b!G98","v":327264.95},{"$f":"SA34b!H98","v":327264.95},{"$f":"SA34b!I98","v":0},{"$f":"SA34b!J98","v":71478.67},{"$f":"SA34b!K98","v":74766.69}]
["Community Assets",null,{"$f":"SUM(C48:C49)","v":0},{"$f":"SUM(D48:D49)","v":1542964.29},389587.07,395098.04,327264.95,327264.95,0,71478.67,74766.69]
["Heritage Assets",null,{"$f":"SA34b!C103","v":0},{"$f":"SA34b!D103","v":0},{"$f":"SA34b!E103","v":0},{"$f":"SA34b!F103","v":0},{"$f":"SA34b!G103","v":0},{"$f":"SA34b!H103","v":0},{"$f":"SA34b!I103","v":0},{"$f":"SA34b!J103","v":0},{"$f":"SA34b!K103","v":0}]
["Revenue Generating",null,{"$f":"SA34b!C111","v":0},{"$f":"SA34b!D111","v":0},{"$f":"SA34b!E111","v":0},{"$f":"SA34b!F111","v":0},{"$f":"SA34b!G111","v":0},{"$f":"SA34b!H111","v":0},{"$f":"SA34b!I111","v":0},{"$f":"SA34b!J111","v":0},{"$f":"SA34b!K111","v":0}]
["Non-revenue Generating",null,{"$f":"SA34b!C114","v":0},{"$f":"SA34b!D114","v":0},{"$f":"SA34b!E114","v":0},{"$f":"SA34b!F114","v":0},{"$f":"SA34b!G114","v":0},{"$f":"SA34b!H114","v":0},{"$f":"SA34b!I114","v":0},{"$f":"SA34b!J114","v":0},{"$f":"SA34b!K114","v":0}]
["Investment properties",null,{"$f":"SUM(C52:C53)","v":0},{"$f":"SUM(D52:D53)","v":0},0,0,0,0,0,0,0]
["Operational Buildings",null,{"$f":"SA34b!C119","v":0},{"$f":"SA34b!D119","v":3806566.84},{"$f":"SA34b!E119","v":5238396.37},{"$f":"SA34b!F119","v":10000000},{"$f":"SA34b!G119","v":10000000},{"$f":"SA34b!H119","v":10000000},{"$f":"SA34b!I119","v":10540000},{"$f":"SA34b!J119","v":11024840},{"$f":"SA34b!K119","v":11531982.640000001}]
["Housing",null,{"$f":"SA34b!C131","v":0},{"$f":"SA34b!D131","v":0},{"$f":"SA34b!E131","v":0},{"$f":"SA34b!F131","v":0},{"$f":"SA34b!G131","v":0},{"$f":"SA34b!H131","v":0},{"$f":"SA34b!I131","v":0},{"$f":"SA34b!J131","v":0},{"$f":"SA34b!K131","v":0}]
["Other Assets",null,{"$f":"SUM(C55:C56)","v":0},{"$f":"SUM(D55:D56)","v":3806566.84},5238396.37,10000000,10000000,10000000,10540000,11024840,11531982.640000001]
["Biological or Cultivated Assets",null,{"$f":"SA34b!C136","v":0},{"$f":"SA34b!D136","v":0},{"$f":"SA34b!E136","v":0},{"$f":"SA34b!F136","v":0},{"$f":"SA34b!G136","v":0},{"$f":"SA34b!H136","v":0},{"$f":"SA34b!I136","v":0},{"$f":"SA34b!J136","v":0},{"$f":"SA34b!K136","v":0}]
["Servitudes",null,{"$f":"SA34b!C140","v":0},{"$f":"SA34b!D140","v":0},{"$f":"SA34b!E140","v":0},{"$f":"SA34b!F140","v":0},{"$f":"SA34b!G140","v":0},{"$f":"SA34b!H140","v":0},{"$f":"SA34b!I140","v":0},{"$f":"SA34b!J140","v":0},{"$f":"SA34b!K140","v":0}]
["Licences and Rights",null,{"$f":"SA34b!C141","v":0},{"$f":"SA34b!D141","v":0},{"$f":"SA34b!E141","v":0},{"$f":"SA34b!F141","v":0},{"$f":"SA34b!G141","v":0},{"$f":"SA34b!H141","v":0},{"$f":"SA34b!I141","v":0},{"$f":"SA34b!J141","v":0},{"$f":"SA34b!K141","v":0}]
["Intangible Assets",null,{"$f":"SUM(C59:C60)","v":0},{"$f":"SUM(D59:D60)","v":0},0,0,0,0,0,0,0]
["Computer Equipment",null,{"$f":"SA34b!C149","v":0},{"$f":"SA34b!D149","v":0},{"$f":"SA34b!E149","v":0},{"$f":"SA34b!F149","v":0},{"$f":"SA34b!G149","v":0},{"$f":"SA34b!H149","v":0},{"$f":"SA34b!I149","v":0},{"$f":"SA34b!J149","v":0},{"$f":"SA34b!K149","v":0}]
["Furniture and Office Equipment",null,{"$f":"SA34b!C152","v":0},{"$f":"SA34b!D152","v":0},{"$f":"SA34b!E152","v":0},{"$f":"SA34b!F152","v":0},{"$f":"SA34b!G152","v":0},{"$f":"SA34b!H152","v":0},{"$f":"SA34b!I152","v":0},{"$f":"SA34b!J152","v":0},{"$f":"SA34b!K152","v":0}]
["Machinery and Equipment",null,{"$f":"SA34b!C155","v":0},{"$f":"SA34b!D155","v":0},{"$f":"SA34b!E155","v":0},{"$f":"SA34b!F155","v":0},{"$f":"SA34b!G155","v":0},{"$f":"SA34b!H155","v":0},{"$f":"SA34b!I155","v":0},{"$f":"SA34b!J155","v":0},{"$f":"SA34b!K155","v":0}]
["Transport Assets",null,{"$f":"SA34b!C158","v":0},{"$f":"SA34b!D158","v":0},{"$f":"SA34b!E158","v":0},{"$f":"SA34b!F158","v":0},{"$f":"SA34b!G158","v":0},{"$f":"SA34b!H158","v":0},{"$f":"SA34b!I158","v":0},{"$f":"SA34b!J158","v":0},{"$f":"SA34b!K158","v":0}]
["Land",null,{"$f":"SA34b!C161","v":0},{"$f":"SA34b!D161","v":0},{"$f":"SA34b!E161","v":0},{"$f":"SA34b!F161","v":0},{"$f":"SA34b!G161","v":0},{"$f":"SA34b!H161","v":0},{"$f":"SA34b!I161","v":0},{"$f":"SA34b!J161","v":0},{"$f":"SA34b!K161","v":0}]
["Zoo's, Marine and Non-biological Animals",null,{"$f":"SA34b!C164","v":0},{"$f":"SA34b!D164","v":0},{"$f":"SA34b!E164","v":0},{"$f":"SA34b!F164","v":0},{"$f":"SA34b!G164","v":0},{"$f":"SA34b!H164","v":0},{"$f":"SA34b!I164","v":0},{"$f":"SA34b!J164","v":0},{"$f":"SA34b!K164","v":0}]
[]
["Total Upgrading of Existing Assets",6,{"$f":"C79+C82+C83+C86+C89+C90+SUM(C93:C99)","v":0},{"$f":"D79+D82+D83+D86+D89+D90+SUM(D93:D99)","v":3988563.64},3336701.91,5666592.6600000001,7350406.9100000001,7350406.9100000001,797201.06,833872.31,872230.42999999993]
["Roads Infrastructure",null,{"$f":"SA34e!C7","v":0},{"$f":"SA34e!D7","v":3988563.64},{"$f":"SA34e!E7","v":3336701.91},{"$f":"SA34e!F7","v":5118259.66},{"$f":"SA34e!G7","v":4919365.33},{"$f":"SA34e!H7","v":4919365.33},{"$f":"SA34e!I7","v":797201.06},{"$f":"SA34e!J7","v":833872.31},{"$f":"SA34e!K7","v":872230.42999999993}]
["Storm water Infrastructure",null,{"$f":"SA34e!C12","v":0},{"$f":"SA34e!D12","v":0},{"$f":"SA34e!E12","v":0},{"$f":"SA34e!F12","v":0},{"$f":"SA34e!G12","v":0},{"$f":"SA34e!H12","v":0},{"$f":"SA34e!I12","v":0},{"$f":"SA34e!J12","v":0},{"$f":"SA34e!K12","v":0}]
["Electrical Infrastructure",null,{"$f":"SA34e!C16","v":0},{"$f":"SA34e!D16","v":0},{"$f":"SA34e!E16","v":0},{"$f":"SA34e!F16","v":0},{"$f":"SA34e!G16","v":0},{"$f":"SA34e!H16","v":0},{"$f":"SA34e!I16","v":0},{"$f":"SA34e!J16","v":0},{"$f":"SA34e!K16","v":0}]
["Water Supply Infrastructure",null,{"$f":"SA34e!C26","v":0},{"$f":"SA34e!D26","v":0},{"$f":"SA34e!E26","v":0},{"$f":"SA34e!F26","v":0},{"$f":"SA34e!G26","v":0},{"$f":"SA34e!H26","v":0},{"$f":"SA34e!I26","v":0},{"$f":"SA34e!J26","v":0},{"$f":"SA34e!K26","v":0}]
["Sanitation Infrastructure",null,{"$f":"SA34e!C37","v":0},{"$f":"SA34e!D37","v":0},{"$f":"SA34e!E37","v":0},{"$f":"SA34e!F37","v":0},{"$f":"SA34e!G37","v":0},{"$f":"SA34e!H37","v":0},{"$f":"SA34e!I37","v":0},{"$f":"SA34e!J37","v":0},{"$f":"SA34e!K37","v":0}]
["Solid Waste Infrastructure",null,{"$f":"SA34e!C44","v":0},{"$f":"SA34e!D44","v":0},{"$f":"SA34e!E44","v":0},{"$f":"SA34e!F44","v":0},{"$f":"SA34e!G44","v":0},{"$f":"SA34e!H44","v":0},{"$f":"SA34e!I44","v":0},{"$f":"SA34e!J44","v":0},{"$f":"SA34e!K44","v":0}]
["Rail Infrastructure",null,{"$f":"SA34e!C52","v":0},{"$f":"SA34e!D52","v":0},{"$f":"SA34e!E52","v":0},{"$f":"SA34e!F52","v":0},{"$f":"SA34e!G52","v":0},{"$f":"SA34e!H52","v":0},{"$f":"SA34e!I52","v":0},{"$f":"SA34e!J52","v":0},{"$f":"SA34e!K52","v":0}]
["Coastal Infrastructure",null,{"$f":"SA34e!C62","v":0},{"$f":"SA34e!D62","v":0},{"$f":"SA34e!E62","v":0},{"$f":"SA34e!F62","v":0},{"$f":"SA34e!G62","v":0},{"$f":"SA34e!H62","v":0},{"$f":"SA34e!I62","v":0},{"$f":"SA34e!J62","v":0},{"$f":"SA34e!K62","v":0}]
["Information and Communication Infrastructure",null,{"$f":"SA34e!C68","v":0},{"$f":"SA34e!D68","v":0},{"$f":"SA34e!E68","v":0},{"$f":"SA34e!F68","v":0},{"$f":"SA34e!G68","v":0},{"$f":"SA34e!H68","v":0},{"$f":"SA34e!I68","v":0},{"$f":"SA34e!J68","v":0},{"$f":"SA34e!K68","v":0}]
["Infrastructure",null,{"$f":"SUM(C70:C78)","v":0},3988563.64,3336701.91,5118259.66,4919365.33,4919365.33,797201.06,833872.31,872230.42999999993]
["Community Facilities",null,{"$f":"SA34e!C75","v":0},{"$f":"SA34e!D75","v":0},{"$f":"SA34e!E75","v":0},{"$f":"SA34e!F75","v":0},{"$f":"SA34e!G75","v":0},{"$f":"SA34e!H75","v":0},{"$f":"SA34e!I75","v":0},{"$f":"SA34e!J75","v":0},{"$f":"SA34e!K75","v":0}]
["Sport and Recreation Facilities",null,{"$f":"SA34e!C98","v":0},{"$f":"SA34e!D98","v":0},{"$f":"SA34e!E98","v":0},{"$f":"SA34e!F98","v":0},{"$f":"SA34e!G98","v":0},{"$f":"SA34e!H98","v":0},{"$f":"SA34e!I98","v":0},{"$f":"SA34e!J98","v":0},{"$f":"SA34e!K98","v":0}]
["Community Assets",null,{"$f":"SUM(C80:C81)","v":0},0,0,0,0,0,0,0,0]
["Heritage Assets",null,{"$f":"SA34e!C103","v":0},{"$f":"SA34e!D103","v":0},{"$f":"SA34e!E103","v":0},{"$f":"SA34e!F103","v":0},{"$f":"SA34e!G103","v":0},{"$f":"SA34e!H103","v":0},{"$f":"SA34e!I103","v":0},{"$f":"SA34e!J103","v":0},{"$f":"SA34e!K103","v":0}]
["Revenue Generating",null,{"$f":"SA34e!C111","v":0},{"$f":"SA34e!D111","v":0},{"$f":"SA34e!E111","v":0},{"$f":"SA34e!F111","v":0},{"$f":"SA34e!G111","v":0},{"$f":"SA34e!H111","v":0},{"$f":"SA34e!I111","v":0},{"$f":"SA34e!J111","v":0},{"$f":"SA34e!K111","v":0}]
["Non-revenue Generating",null,{"$f":"SA34e!C114","v":0},{"$f":"SA34e!D114","v":0},{"$f":"SA34e!E114","v":0},{"$f":"SA34e!F114","v":0},{"$f":"SA34e!G114","v":0},{"$f":"SA34e!H114","v":0},{"$f":"SA34e!I114","v":0},{"$f":"SA34e!J114","v":0},{"$f":"SA34e!K114","v":0}]
["Investment properties",null,{"$f":"SUM(C84:C85)","v":0},0,0,0,0,0,0,0,0]
["Operational Buildings",null,{"$f":"SA34e!C119","v":0},{"$f":"SA34e!D119","v":0},{"$f":"SA34e!E119","v":0},{"$f":"SA34e!F119","v":548333},{"$f":"SA34e!G119","v":2431041.58},{"$f":"SA34e!H119","v":2431041.58},{"$f":"SA34e!I119","v":0},{"$f":"SA34e!J119","v":0},{"$f":"SA34e!K119","v":0}]
["Housing",null,{"$f":"SA34e!C131","v":0},{"$f":"SA34e!D131","v":0},{"$f":"SA34e!E131","v":0},{"$f":"SA34e!F131","v":0},{"$f":"SA34e!G131","v":0},{"$f":"SA34e!H131","v":0},{"$f":"SA34e!I131","v":0},{"$f":"SA34e!J131","v":0},{"$f":"SA34e!K131","v":0}]
["Other Assets",null,{"$f":"SUM(C87:C88)","v":0},0,0,548333,2431041.58,2431041.58,0,0,0]
["Biological or Cultivated Assets",null,{"$f":"SA34e!C136","v":0},{"$f":"SA34e!D136","v":0},{"$f":"SA34e!E136","v":0},{"$f":"SA34e!F136","v":0},{"$f":"SA34e!G136","v":0},{"$f":"SA34e!H136","v":0},{"$f":"SA34e!I136","v":0},{"$f":"SA34e!J136","v":0},{"$f":"SA34e!K136","v":0}]
["Servitudes",null,{"$f":"SA34e!C140","v":0},{"$f":"SA34e!D140","v":0},{"$f":"SA34e!E140","v":0},{"$f":"SA34e!F140","v":0},{"$f":"SA34e!G140","v":0},{"$f":"SA34e!H140","v":0},{"$f":"SA34e!I140","v":0},{"$f":"SA34e!J140","v":0},{"$f":"SA34e!K140","v":0}]
["Licences and Rights",null,{"$f":"SA34e!C141","v":0},{"$f":"SA34e!D141","v":0},{"$f":"SA34e!E141","v":0},{"$f":"SA34e!F141","v":0},{"$f":"SA34e!G141","v":0},{"$f":"SA34e!H141","v":0},{"$f":"SA34e!I141","v":0},{"$f":"SA34e!J141","v":0},{"$f":"SA34e!K141","v":0}]
["Intangible Assets",null,{"$f":"SUM(C91:C92)","v":0},0,0,0,0,0,0,0,0]
["Computer Equipment",null,{"$f":"SA34e!C149","v":0},{"$f":"SA34e!D149","v":0},{"$f":"SA34e!E149","v":0},{"$f":"SA34e!F149","v":0},{"$f":"SA34e!G149","v":0},{"$f":"SA34e!H149","v":0},{"$f":"SA34e!I149","v":0},{"$f":"SA34e!J149","v":0},{"$f":"SA34e!K149","v":0}]
["Furniture and Office Equipment",null,{"$f":"SA34e!C152","v":0},{"$f":"SA34e!D152","v":0},{"$f":"SA34e!E152","v":0},{"$f":"SA34e!F152","v":0},{"$f":"SA34e!G152","v":0},{"$f":"SA34e!H152","v":0},{"$f":"SA34e!I152","v":0},{"$f":"SA34e!J152","v":0},{"$f":"SA34e!K152","v":0}]
["Machinery and Equipment",null,{"$f":"SA34e!C155","v":0},{"$f":"SA34e!D155","v":0},{"$f":"SA34e!E155","v":0},{"$f":"SA34e!F155","v":0},{"$f":"SA34e!G155","v":0},{"$f":"SA34e!H155","v":0},{"$f":"SA34e!I155","v":0},{"$f":"SA34e!J155","v":0},{"$f":"SA34e!K155","v":0}]
["Transport Assets",null,{"$f":"SA34e!C158","v":0},{"$f":"SA34e!D158","v":0},{"$f":"SA34e!E158","v":0},{"$f":"SA34e!F158","v":0},{"$f":"SA34e!G158","v":0},{"$f":"SA34e!H158","v":0},{"$f":"SA34e!I158","v":0},{"$f":"SA34e!J158","v":0},{"$f":"SA34e!K158","v":0}]
["Land",null,{"$f":"SA34e!C161","v":0},{"$f":"SA34e!D161","v":0},{"$f":"SA34e!E161","v":0},{"$f":"SA34e!F161","v":0},{"$f":"SA34e!G161","v":0},{"$f":"SA34e!H161","v":0},{"$f":"SA34e!I161","v":0},{"$f":"SA34e!J161","v":0},{"$f":"SA34e!K161","v":0}]
["Zoo's, Marine and Non-biological Animals",null,{"$f":"SA34e!C164","v":0},{"$f":"SA34e!D164","v":0},{"$f":"SA34e!E164","v":0},{"$f":"SA34e!F164","v":0},{"$f":"SA34e!G164","v":0},{"$f":"SA34e!H164","v":0},{"$f":"SA34e!I164","v":0},{"$f":"SA34e!J164","v":0},{"$f":"SA34e!K164","v":0}]
[]
["Total Capital Expenditure",4,{"$f":"+C5+C37+C69","v":73317502},{"$f":"+D5+D37+D69","v":38020019.469999999},60899447.489999995,78295829.00999999,76454174.239999995,76454174.239999995,59178682.590000004,45075588.920000002,47149065.989999995]
["Roads Infrastructure",null,{"$f":"+C6+C38+C70","v":18742761},{"$f":"+D6+D38+D70","v":18936889.34},30925653.050000001,22888873.32,20876539.079999998,20876539.079999998,22695020.09,14276998.65,14933740.569999997]
["Storm water Infrastructure",null,{"$f":"+C7+C39+C71","v":0},0,0,0,0,0,0,0,0]
["Electrical Infrastructure",null,0,0,6727218,0,0,0,5004638.8,0,0]
["Water Supply Infrastructure",null,0,0,0,0,0,0,0,0,0]
["Sanitation Infrastructure",null,0,0,0,0,0,0,0,0,0]
["Solid Waste Infrastructure",null,0,0,0,0,0,0,0,0,0]
["Rail Infrastructure",null,0,0,0,0,0,0,0,0,0]
["Coastal Infrastructure",null,0,0,9724863,0,0,0,0,0,0]
["Information and Communication Infrastructure",null,0,0,0,0,0,0,0,0,0]
["Infrastructure",null,{"$f":"SUM(C102:C110)","v":18742761},{"$f":"SUM(D102:D110)","v":18936889.34},47377734.049999997,22888873.32,20876539.079999998,20876539.079999998,27699658.890000001,14276998.65,14933740.569999997]
["Community Facilities",null,{"$f":"+C16+C48+C80","v":51358426},{"$f":"+D16+D48+D80","v":8771131.4399999995},3000000,15915618.890000001,16004866.350000001,16004866.350000001,5333312.8100000005,5578645.2000000002,5835262.8799999999]
["Sport and Recreation Facilities",null,{"$f":"+C17+C49+C81","v":0},{"$f":"+D17+D49+D81","v":895293.85},2389587.0699999998,3758062.8,5274796.54,5274796.54,3484532.8899999997,3716300.08,3887249.88]
["Community Assets",null,{"$f":"SUM(C112:C113)","v":51358426},{"$f":"SUM(D112:D113)","v":9666425.2899999991},5389587.0700000003,19673681.690000001,21279662.890000001,21279662.890000001,8817845.6999999993,9294945.2800000012,9722512.7599999998]
["Heritage Assets",null,{"$f":"+C19+C51+C83","v":0},{"$f":"+D19+D51+D83","v":0},0,0,0,0,0,0,0]
["Revenue Generating",null,{"$f":"+C20+C52+C84","v":0},{"$f":"+D20+D52+D84","v":0},0,0,0,0,0,0,0]
["Non-revenue Generating",null,{"$f":"+C21+C53+C85","v":0},{"$f":"+D21+D53+D85","v":0},0,0,0,0,0,0,0]
["Investment properties",null,{"$f":"SUM(C116:C117)","v":0},{"$f":"SUM(D116:D117)","v":0},0,0,0,0,0,0,0]
["Operational Buildings",null,{"$f":"+C23+C55+C87","v":555985},{"$f":"+D23+D55+D87","v":6044507.8399999999},5738396.3700000001,13850333,15867041.58,15867041.58,11900000,12238200,12801157.200000001]
["Housing",null,{"$f":"+C24+C56+C88","v":0},{"$f":"+D24+D56+D88","v":0},12000,0,0,0,105000,109830,114882.18000000001]
["Other Assets",null,{"$f":"SUM(C119:C120)","v":555985},6044507.8399999999,5750396.3700000001,13850333,15867041.58,15867041.58,12005000,12348030,12916039.380000001]
["Biological or Cultivated Assets",null,{"$f":"+C26+C58+C90","v":0},{"$f":"+D26+D58+D90","v":0},0,0,0,0,0,0,0]
["Servitudes",null,{"$f":"+C27+C59+C91","v":0},{"$f":"+D27+D59+D91","v":0},0,0,0,0,0,0,0]
["Licences and Rights",null,{"$f":"+C28+C60+C92","v":0},{"$f":"+D28+D60+D92","v":0},75000,2900000,2900000,2900000,2310000,2416260,2527407.96]
["Intangible Assets",null,{"$f":"SUM(C123:C124)","v":0},{"$f":"SUM(D123:D124)","v":0},75000,2900000,2900000,2900000,2310000,2416260,2527407.96]
["Computer Equipment",null,{"$f":"+C30+C62+C94","v":0},{"$f":"+D30+D62+D94","v":35813},1198000,640000,890000,890000,843200,0,0]
["Furniture and Office Equipment",null,{"$f":"+C31+C63+C95","v":820120},360840,231382,719000,790805.89,790805.89,648000,343088,358870.05000000005]
["Machinery and Equipment",null,0,1747810,227182,15113941,11900124.800000001,11900124.800000001,1914978,1229026.99,1285562.2299999997]
["Transport Assets",null,1840210,1227734,650166,2510000,1950000,1950000,3940000,4121240,4310817.04]
["Land",null,0,0,0,0,0,0,1000000,1046000,1094116]
["Zoo's, Marine and Non-biological Animals",null,0,0,0,0,0,0,0,0,0]
["TOTAL CAPITAL EXPENDITURE - Asset class",null,{"$f":"+C5+C37+C69","v":73317502},{"$f":"+D5+D37+D69","v":38020019.469999999},60899447.489999995,78295829.00999999,76454174.239999995,76454174.239999995,59178682.590000004,45075588.920000002,47149065.989999995]
[]
["ASSET REGISTER SUMMARY - PPE (WDV)",5,{"$f":"C144+C147+C148+C151+C154+C155+C158+C159+C160+C161+C162+C163+C164","v":127145077.54999995},{"$f":"D144+D147+D148+D151+D154+D155+D158+D159+D160+D161+D162+D163+D164","v":6500091.4400000004},17656715.77,43481885.399999999,38179656.510000005,38179656.510000005,34955343.189999998,20757684.43,21712537.899999999]
["Roads Infrastructure",null,118745692.77999997,5513567.75,16060825.149999999,23348944.399999999,21748725.82,21748725.82,22447726.390000001,14018329.439999999,14663172.579999996]
["Storm water Infrastructure",null,-3271934.62,0,0,0,0,0,0,0,0]
["Electrical Infrastructure",null,0,4587907.99,585220.31000000006,1300000,1300000,1300000,5004638.8,0,0]
["Water Supply Infrastructure",null,0,0,0,0,0,0,0,0,0]
["Sanitation Infrastructure",null,0,0,0,0,0,0,0,0,0]
["Solid Waste Infrastructure",null,0,0,0,0,0,0,0,0,0]
["Rail Infrastructure",null,0,0,0,0,0,0,0,0,0]
["Coastal Infrastructure",null,0,0,0,0,0,0,0,0,0]
["Information and Communication Infrastructure",null,0,7370.51,65234,75000,75000,75000,0,0,0]
["Infrastructure",null,{"$f":"SUM(C135:C143)","v":115473758.15999997},{"$f":"SUM(D135:D143)","v":10108846.25},16711279.459999999,24723944.399999999,23123725.82,23123725.82,27452365.190000001,14018329.439999999,14663172.579999996]
[]
[]
["Community Assets",null,0,0,0,0,0,0,0,0,0]
["Heritage Assets",null,0,0,0,0,0,0,0,0,0]
[]
[]
["Investment properties",null,0,0,0,0,0,0,0,0,0]
[]
[]
["Other Assets",null,0,0,0,0,0,0,0,0,0]
["Biological or Cultivated Assets",null,0,0,0,0,0,0,0,0,0]
[]
[]
["Intangible Assets",null,0,0,0,0,0,0,0,0,0]
["Computer Equipment",null,593884.64000000013,341851.58000000007,21400,490000,490000,490000,0,0,0]
["Furniture and Office Equipment",null,2883131.4299999997,-1164600.99,450232.45,648500,720305.89,720305.89,648000,343088,358870.05000000005]
["Machinery and Equipment",null,5217443,-631053.69999999995,473803.86,15109441,11895624.800000001,11895624.800000001,1914978,1229026.99,1285562.2299999997]
["Transport Assets",null,2976860.3200000003,-2154951.7000000002,0,2510000,1950000,1950000,3940000,4121240,4310817.04]
["Land",null,0,0,0,0,0,0,1000000,1046000,1094116]
["Zoo's, Marine and Non-biological Animals",null,0,0,0,0,0,0,0,0,0]
["TOTAL ASSET REGISTER SUMMARY - PPE (WDV)",5,{"$f":"C144+C147+C148+C151+C154+C155+C158+C159+C160+C161+C162+C163+C164","v":127145077.54999995},{"$f":"D144+D147+D148+D151+D154+D155+D158+D159+D160+D161+D162+D163+D164","v":6500091.4400000004},17656715.77,43481885.399999999,38179656.510000005,38179656.510000005,34955343.189999998,20757684.43,21712537.899999999]
[]
["EXPENDITURE OTHER ITEMS",null,{"$f":"SUM(C168:C169)","v":20897531.829999998},{"$f":"SUM(D168:D169)","v":21766330.829999998},20575732.829999998,21186156.559999999,23366157,23366157,24615633.109999996,25747952.220000003,26932358.030000005]
["Depreciation",7,{"$f":"SA34d!C167","v":20172670},{"$f":"SA34d!D167","v":21041469},{"$f":"SA34d!E167","v":20000039},{"$f":"SA34d!F167","v":20000000},{"$f":"SA34d!G167","v":22000000},{"$f":"SA34d!H167","v":22000000},{"$f":"SA34d!I167","v":23187999.999999996},{"$f":"SA34d!J167","v":24254647.990000002},{"$f":"SA34d!K167","v":25370361.810000006}]
["Repairs and Maintenance by Asset Class",3,{"$f":"C179+C182+C183+C186+C189+C190+SUM(C193:C199)","v":724861.83000000007},{"$f":"D179+D182+D183+D186+D189+D190+SUM(D193:D199)","v":724861.83000000007},575693.82999999996,1186156.56,1366157,1366157,1427633.11,1493304.23,1561996.2199999997]
["Roads Infrastructure",null,{"$f":"SA34c!C7","v":0},{"$f":"SA34c!D7","v":0},{"$f":"SA34c!E7","v":0},{"$f":"SA34c!F7","v":0},{"$f":"SA34c!G7","v":0},{"$f":"SA34c!H7","v":0},{"$f":"SA34c!I7","v":0},{"$f":"SA34c!J7","v":0},{"$f":"SA34c!K7","v":0}]
["Storm water Infrastructure",null,{"$f":"SA34c!C12","v":0},{"$f":"SA34c!D12","v":0},{"$f":"SA34c!E12","v":0},{"$f":"SA34c!F12","v":0},{"$f":"SA34c!G12","v":0},{"$f":"SA34c!H12","v":0},{"$f":"SA34c!I12","v":0},{"$f":"SA34c!J12","v":0},{"$f":"SA34c!K12","v":0}]
["Electrical Infrastructure",null,{"$f":"SA34c!C16","v":0},{"$f":"SA34c!D16","v":0},{"$f":"SA34c!E16","v":0},{"$f":"SA34c!F16","v":0},{"$f":"SA34c!G16","v":0},{"$f":"SA34c!H16","v":0},{"$f":"SA34c!I16","v":0},{"$f":"SA34c!J16","v":0},{"$f":"SA34c!K16","v":0}]
["Water Supply Infrastructure",null,{"$f":"SA34c!C26","v":0},{"$f":"SA34c!D26","v":0},{"$f":"SA34c!E26","v":0},{"$f":"SA34c!F26","v":0},{"$f":"SA34c!G26","v":0},{"$f":"SA34c!H26","v":0},{"$f":"SA34c!I26","v":0},{"$f":"SA34c!J26","v":0},{"$f":"SA34c!K26","v":0}]
["Sanitation Infrastructure",null,{"$f":"SA34c!C37","v":0},{"$f":"SA34c!D37","v":0},{"$f":"SA34c!E37","v":0},{"$f":"SA34c!F37","v":0},{"$f":"SA34c!G37","v":0},{"$f":"SA34c!H37","v":0},{"$f":"SA34c!I37","v":0},{"$f":"SA34c!J37","v":0},{"$f":"SA34c!K37","v":0}]
["Solid Waste Infrastructure",null,{"$f":"SA34c!C44","v":0},{"$f":"SA34c!D44","v":0},{"$f":"SA34c!E44","v":0},{"$f":"SA34c!F44","v":0},{"$f":"SA34c!G44","v":0},{"$f":"SA34c!H44","v":0},{"$f":"SA34c!I44","v":0},{"$f":"SA34c!J44","v":0},{"$f":"SA34c!K44","v":0}]
["Rail Infrastructure",null,{"$f":"SA34c!C52","v":0},{"$f":"SA34c!D52","v":0},{"$f":"SA34c!E52","v":0},{"$f":"SA34c!F52","v":0},{"$f":"SA34c!G52","v":0},{"$f":"SA34c!H52","v":0},{"$f":"SA34c!I52","v":0},{"$f":"SA34c!J52","v":0},{"$f":"SA34c!K52","v":0}]
["Coastal Infrastructure",null,{"$f":"SA34c!C62","v":0},{"$f":"SA34c!D62","v":0},{"$f":"SA34c!E62","v":0},{"$f":"SA34c!F62","v":0},{"$f":"SA34c!G62","v":0},{"$f":"SA34c!H62","v":0},{"$f":"SA34c!I62","v":0},{"$f":"SA34c!J62","v":0},{"$f":"SA34c!K62","v":0}]
["Information and Communication Infrastructure",null,{"$f":"SA34c!C68","v":0},{"$f":"SA34c!D68","v":0},{"$f":"SA34c!E68","v":0},{"$f":"SA34c!F68","v":0},{"$f":"SA34c!G68","v":0},{"$f":"SA34c!H68","v":0},{"$f":"SA34c!I68","v":0},{"$f":"SA34c!J68","v":0},{"$f":"SA34c!K68","v":0}]
["Infrastructure",null,{"$f":"SUM(C170:C178)","v":0},{"$f":"SUM(D170:D178)","v":0},0,0,0,0,0,0,0]
["Community Facilities",null,{"$f":"SA34c!C75","v":0},{"$f":"SA34c!D75","v":0},{"$f":"SA34c!E75","v":0},{"$f":"SA34c!F75","v":0},{"$f":"SA34c!G75","v":0},{"$f":"SA34c!H75","v":0},{"$f":"SA34c!I75","v":0},{"$f":"SA34c!J75","v":0},{"$f":"SA34c!K75","v":0}]
["Sport and Recreation Facilities",null,{"$f":"SA34c!C98","v":0},{"$f":"SA34c!D98","v":0},{"$f":"SA34c!E98","v":0},{"$f":"SA34c!F98","v":0},{"$f":"SA34c!G98","v":0},{"$f":"SA34c!H98","v":0},{"$f":"SA34c!I98","v":0},{"$f":"SA34c!J98","v":0},{"$f":"SA34c!K98","v":0}]
["Community Assets",null,{"$f":"SUM(C180:C181)","v":0},0,0,0,0,0,0,0,0]
["Heritage Assets",null,{"$f":"SA34c!C103","v":0},{"$f":"SA34c!D103","v":0},{"$f":"SA34c!E103","v":0},{"$f":"SA34c!F103","v":0},{"$f":"SA34c!G103","v":0},{"$f":"SA34c!H103","v":0},{"$f":"SA34c!I103","v":0},{"$f":"SA34c!J103","v":0},{"$f":"SA34c!K103","v":0}]
["Revenue Generating",null,{"$f":"SA34c!C111","v":0},{"$f":"SA34c!D111","v":0},{"$f":"SA34c!E111","v":0},{"$f":"SA34c!F111","v":0},{"$f":"SA34c!G111","v":0},{"$f":"SA34c!H111","v":0},{"$f":"SA34c!I111","v":0},{"$f":"SA34c!J111","v":0},{"$f":"SA34c!K111","v":0}]
["Non-revenue Generating",null,{"$f":"SA34c!C114","v":0},{"$f":"SA34c!D114","v":0},{"$f":"SA34c!E114","v":0},{"$f":"SA34c!F114","v":0},{"$f":"SA34c!G114","v":0},{"$f":"SA34c!H114","v":0},{"$f":"SA34c!I114","v":0},{"$f":"SA34c!J114","v":0},{"$f":"SA34c!K114","v":0}]
["Investment properties",null,{"$f":"SUM(C184:C185)","v":0},0,0,0,0,0,0,0,0]
["Operational Buildings",null,{"$f":"SA34c!C119","v":278889.68},{"$f":"SA34c!D119","v":278889.68},{"$f":"SA34c!E119","v":305785.67},{"$f":"SA34c!F119","v":500000},{"$f":"SA34c!G119","v":680000},{"$f":"SA34c!H119","v":680000},{"$f":"SA34c!I119","v":710600},{"$f":"SA34c!J119","v":743287.6},{"$f":"SA34c!K119","v":777478.83}]
["Housing",null,{"$f":"SA34c!C131","v":0},{"$f":"SA34c!D131","v":0},{"$f":"SA34c!E131","v":0},{"$f":"SA34c!F131","v":0},{"$f":"SA34c!G131","v":0},{"$f":"SA34c!H131","v":0},{"$f":"SA34c!I131","v":0},{"$f":"SA34c!J131","v":0},{"$f":"SA34c!K131","v":0}]
["Other Assets",null,{"$f":"SUM(C187:C188)","v":278889.68},278889.68,305785.67,500000,680000,680000,710600,743287.6,777478.83]
["Biological or Cultivated Assets",null,{"$f":"SA34c!C136","v":0},{"$f":"SA34c!D136","v":0},{"$f":"SA34c!E136","v":0},{"$f":"SA34c!F136","v":0},{"$f":"SA34c!G136","v":0},{"$f":"SA34c!H136","v":0},{"$f":"SA34c!I136","v":0},{"$f":"SA34c!J136","v":0},{"$f":"SA34c!K136","v":0}]
["Servitudes",null,{"$f":"SA34c!C140","v":0},{"$f":"SA34c!D140","v":0},{"$f":"SA34c!E140","v":0},{"$f":"SA34c!F140","v":0},{"$f":"SA34c!G140","v":0},{"$f":"SA34c!H140","v":0},{"$f":"SA34c!I140","v":0},{"$f":"SA34c!J140","v":0},{"$f":"SA34c!K140","v":0}]
["Licences and Rights",null,{"$f":"SA34c!C141","v":0},{"$f":"SA34c!D141","v":0},{"$f":"SA34c!E141","v":0},{"$f":"SA34c!F141","v":0},{"$f":"SA34c!G141","v":0},{"$f":"SA34c!H141","v":0},{"$f":"SA34c!I141","v":0},{"$f":"SA34c!J141","v":0},{"$f":"SA34c!K141","v":0}]
["Intangible Assets",null,{"$f":"SUM(C191:C192)","v":0},0,0,0,0,0,0,0,0]
["Computer Equipment",null,{"$f":"SA34c!C149","v":55271.64},{"$f":"SA34c!D149","v":55271.64},{"$f":"SA34c!E149","v":77366.8},{"$f":"SA34c!F149","v":200000},{"$f":"SA34c!G149","v":200000},{"$f":"SA34c!H149","v":200000},{"$f":"SA34c!I149","v":209000},{"$f":"SA34c!J149","v":218614},{"$f":"SA34c!K149","v":228670.24}]
["Furniture and Office Equipment",null,{"$f":"SA34c!C152","v":124520.21},{"$f":"SA34c!D152","v":124520.21},{"$f":"SA34c!E152","v":29047},{"$f":"SA34c!F152","v":147196},{"$f":"SA34c!G152","v":147196},{"$f":"SA34c!H152","v":147196},{"$f":"SA34c!I152","v":124575.04000000001},{"$f":"SA34c!J152","v":130305.48999999999},{"$f":"SA34c!K152","v":136299.53999999998}]
["Machinery and Equipment",null,{"$f":"SA34c!C155","v":266180.3},{"$f":"SA34c!D155","v":266180.3},{"$f":"SA34c!E155","v":163494.35999999999},{"$f":"SA34c!F155","v":336046},{"$f":"SA34c!G155","v":336046},{"$f":"SA34c!H155","v":336046},{"$f":"SA34c!I155","v":383458.07},{"$f":"SA34c!J155","v":401097.14},{"$f":"SA34c!K155","v":419547.61}]
["Transport Assets",null,{"$f":"SA34c!C158","v":0},{"$f":"SA34c!D158","v":0},{"$f":"SA34c!E158","v":0},{"$f":"SA34c!F158","v":2914.56},{"$f":"SA34c!G158","v":2915},{"$f":"SA34c!H158","v":2915},{"$f":"SA34c!I158","v":0},{"$f":"SA34c!J158","v":0},{"$f":"SA34c!K158","v":0}]
["Land",null,{"$f":"SA34c!C161","v":0},{"$f":"SA34c!D161","v":0},{"$f":"SA34c!E161","v":0},{"$f":"SA34c!F161","v":0},{"$f":"SA34c!G161","v":0},{"$f":"SA34c!H161","v":0},{"$f":"SA34c!I161","v":0},{"$f":"SA34c!J161","v":0},{"$f":"SA34c!K161","v":0}]
["Zoo's, Marine and Non-biological Animals",null,{"$f":"SA34c!C164","v":0},{"$f":"SA34c!D164","v":0},{"$f":"SA34c!E164","v":0},{"$f":"SA34c!F164","v":0},{"$f":"SA34c!G164","v":0},{"$f":"SA34c!H164","v":0},{"$f":"SA34c!I164","v":0},{"$f":"SA34c!J164","v":0},{"$f":"SA34c!K164","v":0}]
[]
["TOTAL EXPENDITURE OTHER ITEMS",null,{"$f":"SUM(C168:C169)","v":20897531.829999998},21766330.829999998,20575732.829999998,21186156.559999999,23366157,23366157,24615633.109999996,25747952.220000003,26932358.030000005]
[]
["Renewal and upgrading of Existing Assets as % of total capex",null,{"$f":"IF(ISERROR((C37+C69)/C132),0,((C37+C69)/C132))","v":0.11760710287156265},{"$f":"IF(ISERROR((D37+D69)/D132),0,((D37+D69)/D132))","v":0.52505729213925634},0.21496873994053375,0.28942802964773157,0.29674525760727122,0.29674525760727122,0.20486517457637105,0.28292071330745466,0.28292071327201285]
["Renewal and upgrading of Existing Assets as % of deprecn",null,{"$f":"IF(ISERROR((C37+C69)/C168),0,((C37+C69)/C168))","v":0.42744262410479128},{"$f":"IF(ISERROR((D37+D69)/D168),0,((D37+D69)/D168))","v":0.94873074071016628},0.65457259808343371,1.1330503759999999,1.0312460740909091,1.0312460740909091,0.52284160514059008,0.52578861483612904,0.52578861428543411]
["R&M as a % of PPE",null,{"$f":"IF(ISERROR(ROUND(C169/'A6-FinPos'!C19,3)),0,(ROUND(C169/'A6-FinPos'!C19,3)))","v":3.0000000000000001E-3},{"$f":"IF(ISERROR(ROUND(D169/'A6-FinPos'!D19,3)),0,(ROUND(D169/'A6-FinPos'!D19,3)))","v":3.0000000000000001E-3},{"$f":"IF(ISERROR(ROUND(E169/'A6-FinPos'!E19,3)),0,(ROUND(E169/'A6-FinPos'!E19,3)))","v":2E-3},{"$f":"IF(ISERROR(ROUND(F169/'A6-FinPos'!F19,3)),0,(ROUND(F169/'A6-FinPos'!F19,3)))","v":1.6E-2},{"$f":"IF(ISERROR(ROUND(G169/'A6-FinPos'!G19,3)),0,(ROUND(G169/'A6-FinPos'!G19,3)))","v":4.0000000000000001E-3},{"$f":"IF(ISERROR(ROUND(H169/'A6-FinPos'!H19,3)),0,(ROUND(H169/'A6-FinPos'!H19,3)))","v":4.0000000000000001E-3},{"$f":"IF(ISERROR(ROUND(I169/'A6-FinPos'!J19,3)),0,(ROUND(I169/'A6-FinPos'!J19,3)))","v":5.0000000000000001E-3},{"$f":"IF(ISERROR(ROUND(J169/'A6-FinPos'!K19,3)),0,(ROUND(J169/'A6-FinPos'!K19,3)))","v":5.0000000000000001E-3},{"$f":"IF(ISERROR(ROUND(K169/'A6-FinPos'!L19,3)),0,(ROUND(K169/'A6-FinPos'!L19,3)))","v":5.0000000000000001E-3}]
["Renewal and upgrading and R&M as a % of PPE",null,{"$f":"IF(ISERROR(ROUND((C37+C69+C169)/C165,2)),0,(ROUND((C37+C69+C169)/C165,2)))","v":7.0000000000000007E-2},{"$f":"IF(ISERROR(ROUND((D37+D69+D169)/D165,2)),0,(ROUND((D37+D69+D169)/D165,2)))","v":3.18},0.77,0.55000000000000004,0.63,0.63,0.39,0.69,0.69]
[]
[{"$f":"head27a","v":"References"}]
["1. Detail of new assets provided in Table SA34a"]
["2. Detail of renewal of existing assets provided in Table SA34b"]
["3. Detail of Repairs and Maintenance by Asset Class provided in Table SA34c"]
["4. Must reconcile to total capital expenditure on Budgeted Capital Expenditure"]
["5. Must reconcile to 'Budgeted Financial Position' (written down value)"]
["6. Detail of upgrading of existing assets provided in Table SA34e"]
["7. Detail of depreciation provided in Table SA34d"]
[]
["Check balance to A6",null,{"$f":"C165-'A6-FinPos'!D17-'A6-FinPos'!D19-'A6-FinPos'!D20-'A6-FinPos'!D21-'A6-FinPos'!D22-C148","v":-145515265.45000005},{"$f":"D165-'A6-FinPos'!E17-'A6-FinPos'!E19-'A6-FinPos'!E20-'A6-FinPos'!E21-'A6-FinPos'!E22-D148","v":-326322436.56},{"$f":"E165-'A6-FinPos'!F17-'A6-FinPos'!F19-'A6-FinPos'!F20-'A6-FinPos'!F21-'A6-FinPos'!F22-E148","v":-60639113.239999995},{"$f":"F165-'A6-FinPos'!G17-'A6-FinPos'!G19-'A6-FinPos'!G20-'A6-FinPos'!G21-'A6-FinPos'!G22-F148","v":-302741891.60000002},{"$f":"G165-'A6-FinPos'!H17-'A6-FinPos'!H19-'A6-FinPos'!H20-'A6-FinPos'!H21-'A6-FinPos'!H22-G148","v":-308044120.49000001},{"$f":"H165-'A6-FinPos'!I17-'A6-FinPos'!I19-'A6-FinPos'!I20-'A6-FinPos'!I21-'A6-FinPos'!I22-H148","v":-306970274.53999996},{"$f":"I165-'A6-FinPos'!J17-'A6-FinPos'!J19-'A6-FinPos'!J20-'A6-FinPos'!J21-'A6-FinPos'!J22-I148","v":-291502764.41618198},{"$f":"J165-'A6-FinPos'!K17-'A6-FinPos'!K19-'A6-FinPos'!K20-'A6-FinPos'!K21-'A6-FinPos'!K22-J148","v":-320391038.01846015},{"$f":"K165-'A6-FinPos'!L17-'A6-FinPos'!L19-'A6-FinPos'!L20-'A6-FinPos'!L21-'A6-FinPos'!L22-K148","v":-334787877.0586409}]

{"sheet":"A10-SerDel","index":19,"n_rows":89,"n_cols":11,"rows_kept":89,"cut":false,"hidden":false,"merged":[[1,5,1,7],[1,8,1,10],[1,0,2,0],[1,1,2,1]]}
[{"$f":"muni&\" - \"&Approve10","v":"KZN434 Ubuhlebezwe - Table A10 Basic service delivery measurement"}]
[{"$f":"desc","v":"Description"},{"$f":"head27","v":"Ref"},{"$f":"head1b","v":"2016/17"},{"$f":"head1A","v":"2017/18"},{"$f":"Head1","v":"2018/19"},{"$f":"Head2","v":"Current Year 2019/20"},null,null,{"$f":"Head3","v":"2020/21 Medium Term Revenue & Expenditure Framework"}]
[null,null,{"$f":"Head5A","v":"Outcome"},{"$f":"Head5A","v":"Outcome"},{"$f":"Head5A","v":"Outcome"},{"$f":"Head6","v":"Original Budget"},{"$f":"Head7","v":"Adjusted Budget"},{"$f":"Head8","v":"Full Year Forecast"},{"$f":"Head9","v":"Budget Year 2020/21"},{"$f":"Head10","v":"Budget Year +1 2021/22"},{"$f":"Head11","v":"Budget Year +2 2022/23"}]
["Household service targets",1]
["Water:"]
["Piped water inside dwelling",null,{"$f":"'SA9'!E67","v":0},{"$f":"'SA9'!F67","v":3133},{"$f":"'SA9'!G67","v":3133},{"$f":"'SA9'!H67","v":3289.65},{"$f":"'SA9'!I67","v":3454.1325000000002},{"$f":"'SA9'!J67","v":3133},{"$f":"'SA9'!K67","v":3289.65},{"$f":"'SA9'!L67","v":3454.1325000000002},{"$f":"'SA9'!M67","v":3454.1325000000002}]
["Piped water inside yard (but not in dwelling)",null,{"$f":"'SA9'!E68","v":0},{"$f":"'SA9'!F68","v":10035},{"$f":"'SA9'!G68","v":10035},{"$f":"'SA9'!H68","v":11063.5875},{"$f":"'SA9'!I68","v":11063.5875},{"$f":"'SA9'!J68","v":10035},{"$f":"'SA9'!K68","v":11063.5875},{"$f":"'SA9'!L68","v":11063.5875},{"$f":"'SA9'!M68","v":11063.5875}]
["Using public tap (at least min.service level)",2,{"$f":"'SA9'!E69","v":0},{"$f":"'SA9'!F69","v":2394},{"$f":"'SA9'!G69","v":2394},{"$f":"'SA9'!H69","v":2513.6999999999998},{"$f":"'SA9'!I69","v":2639.3849999999998},{"$f":"'SA9'!J69","v":2394},{"$f":"'SA9'!K69","v":2513.6999999999998},{"$f":"'SA9'!L69","v":2639.3849999999998},{"$f":"'SA9'!M69","v":2639.3849999999998}]
["Other water supply (at least min.service level)",4,{"$f":"'SA9'!E70","v":0},{"$f":"'SA9'!F70","v":0},{"$f":"'SA9'!G70","v":0},{"$f":"'SA9'!H70","v":0},{"$f":"'SA9'!I70","v":0},{"$f":"'SA9'!J70","v":0},{"$f":"'SA9'!K70","v":0},{"$f":"'SA9'!L70","v":0},{"$f":"'SA9'!M70","v":0}]
["Minimum Service Level and Above sub-total",null,{"$f":"SUM(C6:C9)","v":0},{"$f":"SUM(D6:D9)","v":15562},15562,16866.9375,17157.105,15562,16866.9375,17157.105,17157.105]
["Using public tap (< min.service level)",3,{"$f":"'SA9'!E72","v":0},{"$f":"'SA9'!F72","v":0},{"$f":"'SA9'!G72","v":0},{"$f":"'SA9'!H72","v":0},{"$f":"'SA9'!I72","v":0},{"$f":"'SA9'!J72","v":0},{"$f":"'SA9'!K72","v":0},{"$f":"'SA9'!L72","v":0},{"$f":"'SA9'!M72","v":0}]
["Other water supply (< min.service level)",{"$f":"B9","v":4},{"$f":"'SA9'!E73","v":0},{"$f":"'SA9'!F73","v":10670},{"$f":"'SA9'!G73","v":10670},{"$f":"'SA9'!H73","v":11763.674999999999},{"$f":"'SA9'!I73","v":10670},{"$f":"'SA9'!J73","v":11203.5},{"$f":"'SA9'!K73","v":11763.674999999999},{"$f":"'SA9'!L73","v":11203.5},{"$f":"'SA9'!M73","v":11763.674999999999}]
["No water supply",null,{"$f":"'SA9'!E74","v":0},{"$f":"'SA9'!F74","v":0},{"$f":"'SA9'!G74","v":0},{"$f":"'SA9'!H74","v":0},{"$f":"'SA9'!I74","v":0},{"$f":"'SA9'!J74","v":0},{"$f":"'SA9'!K74","v":0},{"$f":"'SA9'!L74","v":0},{"$f":"'SA9'!M74","v":0}]
["Below Minimum Service Level sub-total",null,{"$f":"SUM(C11:C13)","v":0},{"$f":"SUM(D11:D13)","v":10670},10670,11763.674999999999,10670,11203.5,11763.674999999999,11203.5,11763.674999999999]
["Total number of households",5,{"$f":"C10+C14","v":0},{"$f":"D10+D14","v":26232},26232,28630.612499999999,27827.105,26765.5,28630.612499999999,28360.605,28920.78]
["Sanitation/sewerage:"]
["Flush toilet (connected to sewerage)",null,{"$f":"'SA9'!E78","v":0},{"$f":"'SA9'!F78","v":1857},{"$f":"'SA9'!G78","v":1857},{"$f":"'SA9'!H78","v":2047.3425},{"$f":"'SA9'!I78","v":1857},{"$f":"'SA9'!J78","v":1949.85},{"$f":"'SA9'!K78","v":2047.3425},{"$f":"'SA9'!L78","v":1949.85},{"$f":"'SA9'!M78","v":2047.3425}]
["Flush toilet (with septic tank)",null,{"$f":"'SA9'!E79","v":0},{"$f":"'SA9'!F79","v":2861},{"$f":"'SA9'!G79","v":2861},{"$f":"'SA9'!H79","v":3154.2525000000001},{"$f":"'SA9'!I79","v":2861},{"$f":"'SA9'!J79","v":3004.05},{"$f":"'SA9'!K79","v":3154.2525000000001},{"$f":"'SA9'!L79","v":3004.05},{"$f":"'SA9'!M79","v":3154.2525000000001}]
["Chemical toilet",null,{"$f":"'SA9'!E80","v":0},{"$f":"'SA9'!F80","v":0},{"$f":"'SA9'!G80","v":0},{"$f":"'SA9'!H80","v":0},{"$f":"'SA9'!I80","v":0},{"$f":"'SA9'!J80","v":0},{"$f":"'SA9'!K80","v":0},{"$f":"'SA9'!L80","v":0},{"$f":"'SA9'!M80","v":0}]
["Pit toilet (ventilated)",null,{"$f":"'SA9'!E81","v":0},{"$f":"'SA9'!F81","v":1556},{"$f":"'SA9'!G81","v":1556},{"$f":"'SA9'!H81","v":1715.49},{"$f":"'SA9'!I81","v":1556},{"$f":"'SA9'!J81","v":1633.8},{"$f":"'SA9'!K81","v":1715.49},{"$f":"'SA9'!L81","v":1633.8},{"$f":"'SA9'!M81","v":1715.49}]
["Other toilet provisions (> min.service level)",null,{"$f":"'SA9'!E82","v":0},{"$f":"'SA9'!F82","v":6488},{"$f":"'SA9'!G82","v":6488},{"$f":"'SA9'!H82","v":7153.0199999999995},{"$f":"'SA9'!I82","v":6488},{"$f":"'SA9'!J82","v":6812.4},{"$f":"'SA9'!K82","v":7153.0199999999995},{"$f":"'SA9'!L82","v":6812.4},{"$f":"'SA9'!M82","v":7153.0199999999995}]
[{"$f":"$A$10","v":"Minimum Service Level and Above sub-total"},null,{"$f":"SUM(C17:C21)","v":0},{"$f":"SUM(D17:D21)","v":12762},12762,14070.105,12762,13400.099999999999,14070.105,13400.099999999999,14070.105]
["Bucket toilet",null,{"$f":"'SA9'!E84","v":0},{"$f":"'SA9'!F84","v":1766},{"$f":"'SA9'!G84","v":1766},{"$f":"'SA9'!H84","v":1947.0149999999999},{"$f":"'SA9'!I84","v":1854.3},{"$f":"'SA9'!J84","v":1766},{"$f":"'SA9'!K84","v":1947.0149999999999},{"$f":"'SA9'!L84","v":1854.3},{"$f":"'SA9'!M84","v":1947.0149999999999}]
["Other toilet provisions (< min.service level)",null,{"$f":"'SA9'!E85","v":0},{"$f":"'SA9'!F85","v":5486},{"$f":"'SA9'!G85","v":5486},{"$f":"'SA9'!H85","v":6048.3150000000005},{"$f":"'SA9'!I85","v":5760.3},{"$f":"'SA9'!J85","v":5486},{"$f":"'SA9'!K85","v":6048.3150000000005},{"$f":"'SA9'!L85","v":5760.3},{"$f":"'SA9'!M85","v":6048.3150000000005}]
["No toilet provisions",null,{"$f":"'SA9'!E86","v":0},{"$f":"'SA9'!F86","v":6217},{"$f":"'SA9'!G86","v":6217},{"$f":"'SA9'!H86","v":6854.2425000000003},{"$f":"'SA9'!I86","v":6527.85},{"$f":"'SA9'!J86","v":6217},{"$f":"'SA9'!K86","v":6854.2425000000003},{"$f":"'SA9'!L86","v":6527.85},{"$f":"'SA9'!M86","v":6854.2425000000003}]
[{"$f":"$A$14","v":"Below Minimum Service Level sub-total"},null,{"$f":"SUM(C23:C25)","v":0},{"$f":"SUM(D23:D25)","v":13469},13469,14849.5725,14142.45,13469,14849.5725,14142.45,14849.5725]
[{"$f":"$A$15","v":"Total number of households"},{"$f":"$B$15","v":5},{"$f":"C22+C26","v":0},{"$f":"D22+D26","v":26231},26231,28919.677499999998,26904.45,26869.1,28919.677499999998,27542.55,28919.677499999998]
["Energy:"]
["Electricity (at least min.service level)",null,{"$f":"'SA9'!E90","v":0},{"$f":"'SA9'!F90","v":0},{"$f":"'SA9'!G90","v":0},{"$f":"'SA9'!H90","v":0},{"$f":"'SA9'!I90","v":0},{"$f":"'SA9'!J90","v":0},{"$f":"'SA9'!K90","v":0},{"$f":"'SA9'!L90","v":0},{"$f":"'SA9'!M90","v":0}]
["Electricity - prepaid (min.service level)",null,{"$f":"'SA9'!E91","v":0},{"$f":"'SA9'!F91","v":0},{"$f":"'SA9'!G91","v":0},{"$f":"'SA9'!H91","v":0},{"$f":"'SA9'!I91","v":0},{"$f":"'SA9'!J91","v":0},{"$f":"'SA9'!K91","v":0},{"$f":"'SA9'!L91","v":0},{"$f":"'SA9'!M91","v":0}]
[{"$f":"$A$10","v":"Minimum Service Level and Above sub-total"},null,{"$f":"SUM(C29:C30)","v":0},{"$f":"SUM(D29:D30)","v":0},0,0,0,0,0,0,0]
["Electricity (< min.service level)",null,{"$f":"'SA9'!E93","v":0},{"$f":"'SA9'!F93","v":0},{"$f":"'SA9'!G93","v":0},{"$f":"'SA9'!H93","v":0},{"$f":"'SA9'!I93","v":0},{"$f":"'SA9'!J93","v":0},{"$f":"'SA9'!K93","v":0},{"$f":"'SA9'!L93","v":0},{"$f":"'SA9'!M93","v":0}]
["Electricity - prepaid (< min. service level)",null,{"$f":"'SA9'!E94","v":0},{"$f":"'SA9'!F94","v":0},{"$f":"'SA9'!G94","v":0},{"$f":"'SA9'!H94","v":0},{"$f":"'SA9'!I94","v":0},{"$f":"'SA9'!J94","v":0},{"$f":"'SA9'!K94","v":0},{"$f":"'SA9'!L94","v":0},{"$f":"'SA9'!M94","v":0}]
["Other energy sources",null,{"$f":"'SA9'!E95","v":0},{"$f":"'SA9'!F95","v":0},{"$f":"'SA9'!G95","v":0},{"$f":"'SA9'!H95","v":0},{"$f":"'SA9'!I95","v":0},{"$f":"'SA9'!J95","v":0},{"$f":"'SA9'!K95","v":0},{"$f":"'SA9'!L95","v":0},{"$f":"'SA9'!M95","v":0}]
[{"$f":"$A$14","v":"Below Minimum Service Level sub-total"},null,{"$f":"SUM(C32:C34)","v":0},{"$f":"SUM(D32:D34)","v":0},0,0,0,0,0,0,0]
[{"$f":"$A$15","v":"Total number of households"},{"$f":"$B$15","v":5},{"$f":"C31+C35","v":0},{"$f":"D31+D35","v":0},0,0,0,0,0,0,0]
["Refuse:"]
["Removed at least once a week",null,{"$f":"'SA9'!E99","v":0},{"$f":"'SA9'!F99","v":1346},{"$f":"'SA9'!G99","v":1346},{"$f":"'SA9'!H99","v":1346},{"$f":"'SA9'!I99","v":1413},{"$f":"'SA9'!J99","v":1484},{"$f":"'SA9'!K99","v":1346},{"$f":"'SA9'!L99","v":1413},{"$f":"'SA9'!M99","v":1484}]
[{"$f":"$A$10","v":"Minimum Service Level and Above sub-total"},null,{"$f":"SUM(C38)","v":0},{"$f":"SUM(D38)","v":1346},1346,1346,1413,1484,1346,1413,1484]
["Removed less frequently than once a week",null,{"$f":"'SA9'!E101","v":0},{"$f":"'SA9'!F101","v":0},{"$f":"'SA9'!G101","v":0},{"$f":"'SA9'!H101","v":0},{"$f":"'SA9'!I101","v":0},{"$f":"'SA9'!J101","v":0},{"$f":"'SA9'!K101","v":0},{"$f":"'SA9'!L101","v":0},{"$f":"'SA9'!M101","v":0}]
["Using communal refuse dump",null,{"$f":"'SA9'!E102","v":0},{"$f":"'SA9'!F102","v":0},{"$f":"'SA9'!G102","v":0},{"$f":"'SA9'!H102","v":0},{"$f":"'SA9'!I102","v":0},{"$f":"'SA9'!J102","v":0},{"$f":"'SA9'!K102","v":0},{"$f":"'SA9'!L102","v":0},{"$f":"'SA9'!M102","v":0}]
["Using own refuse dump",null,{"$f":"'SA9'!E103","v":0},{"$f":"'SA9'!F103","v":0},{"$f":"'SA9'!G103","v":0},{"$f":"'SA9'!H103","v":0},{"$f":"'SA9'!I103","v":0},{"$f":"'SA9'!J103","v":0},{"$f":"'SA9'!K103","v":0},{"$f":"'SA9'!L103","v":0},{"$f":"'SA9'!M103","v":0}]
["Other rubbish disposal",null,{"$f":"'SA9'!E104","v":0},{"$f":"'SA9'!F104","v":1},{"$f":"'SA9'!G104","v":1},{"$f":"'SA9'!H104","v":1},{"$f":"'SA9'!I104","v":1},{"$f":"'SA9'!J104","v":1},{"$f":"'SA9'!K104","v":1},{"$f":"'SA9'!L104","v":1},{"$f":"'SA9'!M104","v":1}]
["No rubbish disposal",null,{"$f":"'SA9'!E105","v":0},{"$f":"'SA9'!F105","v":0},{"$f":"'SA9'!G105","v":0},{"$f":"'SA9'!H105","v":0},{"$f":"'SA9'!I105","v":0},{"$f":"'SA9'!J105","v":0},{"$f":"'SA9'!K105","v":0},{"$f":"'SA9'!L105","v":0},{"$f":"'SA9'!M105","v":0}]
[{"$f":"$A$14","v":"Below Minimum Service Level sub-total"},null,{"$f":"SUM(C40:C44)","v":0},1,1,1,1,1,1,1,1]
[{"$f":"$A$15","v":"Total number of households"},{"$f":"$B$15","v":5},{"$f":"C39+C45","v":0},{"$f":"D39+D45","v":1347},1347,1347,1414,1485,1347,1414,1485]
[]
["Households receiving Free Basic Service",7]
["Water (6 kilolitres per household per month)",null,{"$f":"'SA9'!E263","v":0},{"$f":"'SA9'!F263","v":0},{"$f":"'SA9'!G263","v":0},{"$f":"'SA9'!H263","v":0},{"$f":"'SA9'!I263","v":0},{"$f":"'SA9'!J263","v":0},{"$f":"'SA9'!K263","v":0},{"$f":"'SA9'!L263","v":0},{"$f":"'SA9'!M263","v":0}]
["Sanitation (free minimum level service)",null,{"$f":"'SA9'!E275","v":0},{"$f":"'SA9'!F275","v":0},{"$f":"'SA9'!G275","v":0},{"$f":"'SA9'!H275","v":0},{"$f":"'SA9'!I275","v":0},{"$f":"'SA9'!J275","v":0},{"$f":"'SA9'!K275","v":0},{"$f":"'SA9'!L275","v":0},{"$f":"'SA9'!M275","v":0}]
["Electricity/other energy (50kwh per household per month)",null,{"$f":"'SA9'!E251","v":0},{"$f":"'SA9'!F251","v":0},{"$f":"'SA9'!G251","v":0},{"$f":"'SA9'!H251","v":0},{"$f":"'SA9'!I251","v":0},{"$f":"'SA9'!J251","v":33},{"$f":"'SA9'!K251","v":49},{"$f":"'SA9'!L251","v":62},{"$f":"'SA9'!M251","v":75}]
["Refuse (removed at least once a week)",null,{"$f":"'SA9'!E287","v":0},{"$f":"'SA9'!F287","v":0},{"$f":"'SA9'!G287","v":0},{"$f":"'SA9'!H287","v":0},{"$f":"'SA9'!I287","v":0},{"$f":"'SA9'!J287","v":0},{"$f":"'SA9'!K287","v":0},{"$f":"'SA9'!L287","v":0},{"$f":"'SA9'!M287","v":0}]
[]
["Cost of Free Basic Services provided - Formal Settlements (R'000)",8]
["Water (6 kilolitres per indigent household per month)",null,{"$f":"'SA1'!C20","v":0},{"$f":"'SA1'!D20","v":0},{"$f":"'SA1'!E20","v":0},{"$f":"'SA1'!F20","v":0},{"$f":"'SA1'!G20","v":0},{"$f":"'SA1'!H20","v":0},{"$f":"'SA1'!J20","v":0},{"$f":"'SA1'!K20","v":0},{"$f":"'SA1'!L20","v":0}]
["Sanitation (free sanitation service to indigent households)",null,{"$f":"'SA1'!C26","v":0},{"$f":"'SA1'!D26","v":0},{"$f":"'SA1'!E26","v":0},{"$f":"'SA1'!F26","v":0},{"$f":"'SA1'!G26","v":0},{"$f":"'SA1'!H26","v":0},{"$f":"'SA1'!J26","v":0},{"$f":"'SA1'!K26","v":0},{"$f":"'SA1'!L26","v":0}]
["Electricity/other energy (50kwh per indigent household per month)",null,{"$f":"'SA1'!C14","v":0},{"$f":"'SA1'!D14","v":0},{"$f":"'SA1'!E14","v":0},{"$f":"'SA1'!F14","v":0},{"$f":"'SA1'!G14","v":0},{"$f":"'SA1'!H14","v":0},{"$f":"'SA1'!J14","v":0},{"$f":"'SA1'!K14","v":0},{"$f":"'SA1'!L14","v":0}]
["Refuse (removed once a week for indigent households)",null,{"$f":"'SA1'!C33","v":0},{"$f":"'SA1'!D33","v":0},{"$f":"'SA1'!E33","v":0},{"$f":"'SA1'!F33","v":0},{"$f":"'SA1'!G33","v":0},{"$f":"'SA1'!H33","v":0},{"$f":"'SA1'!J33","v":0},{"$f":"'SA1'!K33","v":0},{"$f":"'SA1'!L33","v":0}]
["Cost of Free Basic Services provided - Informal Formal Settlements (R'000)",null,{"$f":"'SA9'!E260+'SA9'!E272+'SA9'!E284+'SA9'!E296","v":0},{"$f":"'SA9'!F260+'SA9'!F272+'SA9'!F284+'SA9'!F296","v":813554},{"$f":"'SA9'!G260+'SA9'!G272+'SA9'!G284+'SA9'!G296","v":813554},{"$f":"'SA9'!H260+'SA9'!H272+'SA9'!H284+'SA9'!H296","v":768237},{"$f":"'SA9'!I260+'SA9'!I272+'SA9'!I284+'SA9'!I296","v":1114277},{"$f":"'SA9'!J260+'SA9'!J272+'SA9'!J284+'SA9'!J296","v":1000247},{"$f":"'SA9'!K260+'SA9'!K272+'SA9'!K284+'SA9'!K296","v":1400350},{"$f":"'SA9'!L260+'SA9'!L272+'SA9'!L284+'SA9'!L296","v":1400363},{"$f":"'SA9'!M260+'SA9'!M272+'SA9'!M284+'SA9'!M296","v":1400376}]
["Total cost of FBS provided  ",null,{"$f":"SUM(C55:C59)","v":0},813554,813554,768237,1114277,1000247,1400350,1400363,1400376]
[]
["Highest level of free service provided per household"]
["Property rates (R value threshold)"]
["Water (kilolitres per household per month)"]
["Sanitation (kilolitres per household per month)"]
["Sanitation (Rand per household per month)"]
["Electricity (kwh per household per month)"]
["Refuse (average litres per week)"]
["Revenue  cost of subsidised services provided (R'000)",9]
["Property rates (tariff adjustment) ( impermissable values per section 17 of MPRA)"]
["Property rates  exemptions, reductions and rebates and impermissable values in excess of section 17 of MPRA)",null,{"$f":"'SA1'!C8","v":0},{"$f":"'SA1'!D8","v":0},{"$f":"'SA1'!E8","v":5685897},{"$f":"'SA1'!F8","v":5970191.75},{"$f":"'SA1'!G8","v":5970191.75},{"$f":"'SA1'!H8","v":5970191.75},{"$f":"'SA1'!J8","v":8721174.1699999999},{"$f":"'SA1'!K8","v":9113627.0099999998},{"$f":"'SA1'!L8","v":9523740.2200000007}]
["Water (in excess of 6 kilolitres per indigent household per month)",null,{"$f":"'SA1'!C19","v":0},{"$f":"'SA1'!D19","v":0},{"$f":"'SA1'!E19","v":0},{"$f":"'SA1'!F19","v":0},{"$f":"'SA1'!G19","v":0},{"$f":"'SA1'!H19","v":0},{"$f":"'SA1'!J19","v":0},{"$f":"'SA1'!K19","v":0},{"$f":"'SA1'!L19","v":0}]
["Sanitation (in excess of free sanitation service to indigent households)",null,{"$f":"'SA1'!C25","v":0},{"$f":"'SA1'!D25","v":0},{"$f":"'SA1'!E25","v":0},{"$f":"'SA1'!F25","v":0},{"$f":"'SA1'!G25","v":0},{"$f":"'SA1'!H25","v":0},{"$f":"'SA1'!J25","v":0},{"$f":"'SA1'!K25","v":0},{"$f":"'SA1'!L25","v":0}]
["Electricity/other energy (in excess of 50 kwh per indigent household per month)",null,{"$f":"'SA1'!C13","v":0},{"$f":"'SA1'!D13","v":0},{"$f":"'SA1'!E13","v":0},{"$f":"'SA1'!F13","v":0},{"$f":"'SA1'!G13","v":0},{"$f":"'SA1'!H13","v":0},{"$f":"'SA1'!J13","v":0},{"$f":"'SA1'!K13","v":0},{"$f":"'SA1'!L13","v":0}]
["Refuse (in excess of one removal a week for indigent households)",null,{"$f":"'SA1'!C32","v":0},{"$f":"'SA1'!D32","v":0},{"$f":"'SA1'!E32","v":0},{"$f":"'SA1'!F32","v":0},{"$f":"'SA1'!G32","v":0},{"$f":"'SA1'!H32","v":0},{"$f":"'SA1'!J32","v":0},{"$f":"'SA1'!K32","v":0},{"$f":"'SA1'!L32","v":0}]
["Municipal Housing - rental rebates"]
["Housing - top structure subsidies",6]
["Other"]
["Total revenue cost of subsidised services provided ",null,{"$f":"SUM(C70:C78)","v":0},{"$f":"SUM(D70:D78)","v":0},5685897,5970191.75,5970191.75,5970191.75,8721174.1699999999,{"$f":"SUM(J70:J78)","v":9113627.0099999998},{"$f":"SUM(K70:K78)","v":9523740.2200000007}]
[{"$f":"head27a","v":"References"}]
["1. Include services provided by another entity; e.g. Eskom"]
["2. Stand distance <= 200m from dwelling"]
["3. Stand distance > 200m from dwelling"]
["4. Borehole, spring, rain-water tank etc."]
["5. Must agree to total number of households in municipal area (informal settlements receiving services must be included)"]
["6. Include value of subsidy provided by municipality above provincial subsidy level"]
["7. Show number of households receiving at least these levels of services completely free (informal settlements must be included)"]
["8. Must reflect the cost to the municipality of providing the Free Basic Service"]
["9. Reflect the cost to the municipality in terms of 'revenue foregone' of providing free services (note this will not equal 'Revenue Foregone' on SA1)"]

{"sheet":"SA1","index":20,"n_rows":196,"n_cols":12,"rows_kept":196,"cut":false,"hidden":false,"merged":[[1,9,1,11],[1,5,1,8],[1,0,2,0],[1,1,2,1]]}
[{"$f":"muni&\" - \"&TableA1","v":"KZN434 Ubuhlebezwe - Supporting Table SA1 Supportinging detail to 'Budgeted Financial Performance'"}]
[{"$f":"desc","v":"Description"},{"$f":"head27","v":"Ref"},{"$f":"head1b","v":"2016/17"},{"$f":"head1A","v":"2017/18"},{"$f":"Head1","v":"2018/19"},{"$f":"Head2","v":"Current Year 2019/20"},null,null,null,{"$f":"Head3","v":"2020/21 Medium Term Revenue & Expenditure Framework"}]
[null,null,{"$f":"Head5","v":"Audited Outcome"},{"$f":"Head5","v":"Audited Outcome"},{"$f":"Head5","v":"Audited Outcome"},{"$f":"Head6","v":"Original Budget"},{"$f":"Head7","v":"Adjusted Budget"},{"$f":"Head8","v":"Full Year Forecast"},{"$f":"Head5b","v":"Pre-audit outcome"},{"$f":"Head9","v":"Budget Year 2020/21"},{"$f":"Head10","v":"Budget Year +1 2021/22"},{"$f":"Head11","v":"Budget Year +2 2022/23"}]
["R thousand"]
["REVENUE ITEMS:"]
[{"$f":"'A4-FinPerf RE'!A5","v":"Property rates"},6]
["Total Property Rates",null,13122243,12744064,27612619,28993251.079999998,28993251.079999998,28993251.079999998,28993251.079999998,32294198.109999999,33747437.020000003,35266071.689999998]
["less Revenue Foregone (exemptions, reductions and rebates and impermissable values in excess of section 17 of MPRA)",null,0,0,5685897,5970191.75,5970191.75,5970191.75,5970191.75,8721174.1699999999,9113627.0099999998,9523740.2200000007]
["Net Property Rates",null,{"$f":"C7-C8","v":13122243},{"$f":"D7-D8","v":12744064},21926722,23023059.329999998,23023059.329999998,23023059.329999998,23023059.329999998,23573023.939999998,24633810.010000005,25742331.469999999]
[]
[{"$f":"'A4-FinPerf RE'!A6","v":"Service charges - electricity revenue"},6]
[{"$f":"\"Total \"&A11","v":"Total Service charges - electricity revenue"},null,0,0,0,0,0,0,0,0,0,0]
["less Revenue Foregone (in excess of 50 kwh per indigent household per month)",null,0,0,0,0,0,0,0,0,0,0]
["less Cost of Free Basis Services (50 kwh per indigent household per month)",null,{"$f":"'SA9'!E250","v":0},{"$f":"'SA9'!F250","v":0},{"$f":"'SA9'!G250","v":0},{"$f":"'SA9'!H250","v":0},{"$f":"'SA9'!I250","v":0},{"$f":"'SA9'!J250","v":0},null,{"$f":"'SA9'!K250","v":0},{"$f":"'SA9'!L250","v":0},{"$f":"'SA9'!M250","v":0}]
[{"$f":"\"Net \"& A11","v":"Net Service charges - electricity revenue"},null,{"$f":"C12-C13-C14","v":0},{"$f":"D12-D13-D14","v":0},0,0,0,0,0,0,0,0]
[]
[{"$f":"'A4-FinPerf RE'!A7","v":"Service charges - water revenue"},6]
[{"$f":"\"Total \"&A17","v":"Total Service charges - water revenue"},null,0,0,0,0,0,0,0,0,0,0]
["less Revenue Foregone (in excess of 6 kilolitres per indigent household per month)",null,0,0,0,0,0,0,0,0,0,0]
["less Cost of Free Basis Services (6 kilolitres per indigent household per month)",null,{"$f":"'SA9'!E262","v":0},{"$f":"'SA9'!F262","v":0},{"$f":"'SA9'!G262","v":0},{"$f":"'SA9'!H262","v":0},{"$f":"'SA9'!I262","v":0},{"$f":"'SA9'!J262","v":0},null,{"$f":"'SA9'!K262","v":0},{"$f":"'SA9'!L262","v":0},{"$f":"'SA9'!M262","v":0}]
[{"$f":"\"Net \"& A17","v":"Net Service charges - water revenue"},null,{"$f":"C18-C19-C20","v":0},{"$f":"D18-D19-D20","v":0},0,0,0,0,0,0,0,0]
[]
[{"$f":"'A4-FinPerf RE'!A8","v":"Service charges - sanitation revenue"}]
[{"$f":"\"Total \"&A23","v":"Total Service charges - sanitation revenue"},null,0,0,0,0,0,0,0,0,0,0]
["less Revenue Foregone (in excess of free sanitation service to indigent households)",null,0,0,0,0,0,0,0,0,0,0]
["less Cost of Free Basis Services (free sanitation service to indigent households)",null,{"$f":"'SA9'!E274","v":0},{"$f":"'SA9'!F274","v":0},{"$f":"'SA9'!G274","v":0},{"$f":"'SA9'!H274","v":0},{"$f":"'SA9'!I274","v":0},{"$f":"'SA9'!J274","v":0},null,{"$f":"'SA9'!K274","v":0},{"$f":"'SA9'!L274","v":0},{"$f":"'SA9'!M274","v":0}]
[{"$f":"\"Net \"& A23","v":"Net Service charges - sanitation revenue"},null,{"$f":"C24-C25-C26","v":0},{"$f":"D24-D25-D26","v":0},0,0,0,0,0,0,0,0]
[]
[{"$f":"'A4-FinPerf RE'!A9","v":"Service charges - refuse revenue"},6]
["Total refuse removal revenue",null,1726005,2155141,2000000,2100000,2100000,2100000,2100000,3299864.16,{"$f":"J30*1.045","v":3448358.0471999999},{"$f":"K30*1.045","v":3603534.1593239997}]
["Total landfill revenue",null,0,0,0,0,0,0,0,0,0,0]
["less Revenue Foregone (in excess of one removal a week to indigent households)",null,0,0,0,0,0,0,0,0,0,0]
["less Cost of Free Basis Services  (removed once a week to indigent households)",null,{"$f":"'SA9'!E286","v":0},{"$f":"'SA9'!F286","v":0},{"$f":"'SA9'!G286","v":0},{"$f":"'SA9'!H286","v":0},{"$f":"'SA9'!I286","v":0},{"$f":"'SA9'!J286","v":0},null,{"$f":"'SA9'!K286","v":0},{"$f":"'SA9'!L286","v":0},{"$f":"'SA9'!M286","v":0}]
[{"$f":"\"Net \"& A29","v":"Net Service charges - refuse revenue"},null,{"$f":"SUM(C30:C31)-C32-C33","v":1726005},{"$f":"SUM(D30:D31)-D32-D33","v":2155141},2000000,2100000,2100000,2100000,2100000,3299864.16,3448358.0471999999,3603534.1593239997]
[]
["Other Revenue by source"]
["Tender Documents",null,0,0,0,0,0,0,0,0,0,0]
["Other Revenue",null,0,0,0,0,0,0,0,0,0,0]
["Discontinued Operations",null,0,0,0,0,0,0,0,0,0,0]
["Interest, Dividend and Rent on Land",null,0,0,0,0,0,0,0,0,0,0]
["Operational Revenue",null,5975327,0,1028156,0,0,0,0,0,0,0]
["Intercompany/Parent-subsidiary Transactions",null,0,0,0,0,0,0,0,0,0,0]
["Building Plan Approval",null,0,0,0,0,0,0,0,0,0,0]
["Sales of Goods and Rendering of Services",null,0,0,364036,0,0,0,0,0,0,0]
["Gains and Losses : Gains",null,0,0,0,0,0,0,0,0,0,0]
["Rates Clearance",null,0,3289,0,0,0,0,0,0,0,0]
["Sundry income",null,0,155518,0,0,0,0,0,0,0,0]
["Skills development",null,0,62094,0,0,0,0,0,0,0,0]
["Sale of Property",null,0,0,0,0,0,0,0,0,0,0]
["Merchandising, Jobbing and Contracts",null,0,0,0,0,0,0,0,0,0,0]
["Bursary Repayment",null,0,0,0,0,0,0,0,0,0,0]
["Recovery Infrastructure Maintenance",null,0,0,0,0,0,0,0,0,0,0]
["Skills Development Levy Refund",null,0,0,0,0,0,0,0,0,0,0]
["Arbor City Awards Competition",null,0,0,0,0,0,0,0,0,0,0]
["Other Revenue",null,0,0,0,1268872,1323872,1323872,1323872,824716,862781.6,902469.55]
[null,3]
["Total 'Other' Revenue",1,{"$f":"SUM(C37:C56)","v":5975327},220901,1392192,1268872,1323872,1323872,1323872,824716,862781.6,902469.55]
[]
["EXPENDITURE ITEMS:"]
[{"$f":"'A4-FinPerf RE'!A24","v":"Employee related costs"}]
["Basic Salaries and Wages",2,52842444,62912128,46979559,53363809.979999997,53598457.409999996,53598457.409999996,53598457.409999996,58037053.519999988,59282703.440000013,62009707.780000001]
["Pension and UIF Contributions",null,0,null,7596446,8107221.9799999977,8045486.4099999992,8045486.4099999992,8045486.4099999992,9057086.370000001,9170439.0500000007,9592279.25]
["Medical Aid Contributions",null,0,null,2662099,2904744.1199999996,3325232.2800000003,3325232.2800000003,3325232.2800000003,3446439.6,3604938.1800000006,3770765.2999999993]
["Overtime",null,0,null,2828400,2893200,2893200,2893200,2893200,3148800,3195843.8,3342852.6199999996]
["Performance Bonus",null,0,null,4228328,0,0,0,0,0,0,0]
["Motor Vehicle Allowance",null,0,null,1347322,1641600,1500145.6,1500145.6,1500145.6,1732817,1988254.5899999999,2079714.2799999996]
["Cellphone Allowance",null,0,null,46200,46200,46200,46200,46200,47400,49580.4,51861.110000000008]
["Housing Allowances",null,0,null,103325,92024.76,97367.8,97367.8,97367.8,92592.36,96851.6,101306.79000000001]
["Other benefits and allowances",null,0,null,352265,6738837.8400000008,6593996.3500000015,6593996.3500000015,6593996.3500000015,7119308.0599999987,7163729.8599999994,7493261.4399999985]
["Payments in lieu of leave",null,0,null,1536648,1656519.9999999998,1778567.15,1778567.15,1778567.15,1830703.6600000001,1869384.8800000001,1955376.6]
["Long service awards",null,0,null,175759,15131.7,15132,15132,15132,40140.71,41987.18,43918.59]
["Post-retirement benefit obligations",4,0,null,0,0,0,0,0,0,0,0]
["sub-total",5,{"$f":"SUM(C61:C72)","v":52842444},{"$f":"SUM(D61:D72)","v":62912128},67856351,77459290.379999995,77893785,77893785,77893785,84552341.279999971,86463712.980000019,90441043.760000005]
["Less: Employees costs capitalised to PPE",null,0,0,0,0,0,0,0,0,0,0]
[{"$f":"\"Total \"&A60","v":"Total Employee related costs"},1,{"$f":"C73-C74","v":52842444},{"$f":"D73-D74","v":62912128},67856351,77459290.379999995,77893785,77893785,77893785,84552341.279999971,86463712.980000019,90441043.760000005]
[]
["Contributions recognised - capital"]
["List contributions by contract",null,0,0,0,0,0,0,0,0,0,0]
[null,null,0,0,0,0,0,0,0,0,0,0]
[null,null,0,0,0,0,0,0,0,0,0,0]
[null,null,0,0,0,0,0,0,0,0,0,0]
[null,null,0,0,0,0,0,0,0,0,0,0]
[null,null,0,0,0,0,0,0,0,0,0,0]
[{"$f":"\"Total \"&A77","v":"Total Contributions recognised - capital"},null,{"$f":"SUM(C78:C83)","v":0},0,0,0,0,0,0,0,0,0]
[]
[{"$f":"'A4-FinPerf RE'!A27","v":"Depreciation & asset impairment"}]
["Depreciation of Property, Plant & Equipment",null,20172670,21270935,20000000,20000000,22000000,22000000,22000000,23188000,24254647.989999998,25370361.810000002]
["Lease amortisation",null,0,0,0,0,0,0,0,0,0,0]
["Capital asset impairment",null,0,0,0,0,0,0,0,0,0,0]
["Depreciation resulting from revaluation of PPE",10,0,0,0,0,0,0,0,0,0,0]
[{"$f":"\"Total \"&LEFT(A86,35)","v":"Total Depreciation & asset impairment"},1,{"$f":"SUM(C87:C89)-C90","v":20172670},{"$f":"SUM(D87:D89)-D90","v":21270935},20000000,20000000,22000000,22000000,22000000,{"$f":"SUM(J87:J89)-J90","v":23188000},24254647.989999998,25370361.810000002]
[]
[{"$f":"'A4-FinPerf RE'!A29","v":"Bulk purchases"}]
["Electricity Bulk Purchases",null,0,0,0,0,0,0,0,0,0,0]
["Water Bulk Purchases",null,0,0,0,0,0,0,0,0,0,0]
["Total bulk purchases",1,{"$f":"SUM(C94:C95)","v":0},{"$f":"SUM(D94:D95)","v":0},0,0,0,0,0,0,0,0]
[]
["Transfers and grants"]
["Cash transfers and grants",null,{"$f":"'SA21'!C32","v":0},{"$f":"'SA21'!D32","v":0},{"$f":"'SA21'!E32","v":20531000},{"$f":"'SA21'!F32","v":86040321.170000002},{"$f":"'SA21'!G32","v":14603947.279999999},{"$f":"'SA21'!H32","v":14603947.279999999},{"$f":"'SA21'!I32","v":14603947.279999999},{"$f":"'SA21'!J32","v":3844875.2},{"$f":"'SA21'!K32","v":4021739.46},{"$f":"'SA21'!L32","v":4206739.47}]
["Non-cash transfers and grants",null,{"$f":"'SA21'!C63","v":1296000},{"$f":"'SA21'!D63","v":0},{"$f":"'SA21'!E63","v":20236000},{"$f":"'SA21'!F63","v":0},{"$f":"'SA21'!G63","v":0},{"$f":"'SA21'!H63","v":0},{"$f":"'SA21'!I63","v":0},{"$f":"'SA21'!J63","v":0},{"$f":"'SA21'!K63","v":0},{"$f":"'SA21'!L63","v":0}]
["Total transfers and grants",1,{"$f":"SUM(C99:C100)","v":1296000},{"$f":"SUM(D99:D100)","v":0},40767000,86040321.170000002,14603947.279999999,14603947.279999999,14603947.279999999,3844875.2,4021739.46,4206739.47]
[]
[{"$f":"'A4-FinPerf RE'!A31","v":"Contracted services"}]
["List services provided by contract",null,0,0,0,0,0,0,0,0,0,0]
["Outsourced Services",null,6764739,0,21021934,21116107.779999997,21481988.960000001,21481988.960000001,21481988.960000001,21360882.310000002,21053262.829999998,22021712.909999978]
["Consultants and Professional Services",null,0,0,0,0,0,0,0,0,0,0]
["Contractors",null,0,0,0,0,0,0,0,0,0,0]
[null,null,0,0,0,0,0,0,0,0,0,0]
["Security services",null,0,3141085,null,0,0,0,0,0,0,0]
["Legal fees",null,0,752080,null,0,0,0,0,0,0,0]
["Valuation services",null,0,512647,null,0,0,0,0,0,0,0]
["Other Contractors",null,0,623210,null,0,0,0,0,0,0,0]
["Repairs",null,0,3111623,null,0,0,0,0,0,0,0]
["Catering ",null,0,672964,null,0,0,0,0,0,0,0]
["Event promoters",null,0,695823,null,0,0,0,0,0,0,0]
["Palnts and decoration",null,0,100225,null,0,0,0,0,0,0,0]
["Consultants and professional services",null,0,4240448,null,0,0,0,0,0,0,0]
["Pest control and fumigation",null,0,13287,null,0,0,0,0,0,0,0]
["Audit committees",null,0,1391515,null,0,0,0,0,0,0,0]
[null,null,0,94772,null,0,0,0,0,0,0,0]
[null,null,0,0,null,0,0,0,0,0,0,0]
[null,null,0,0,null,0,0,0,0,0,0,0]
[null,null,0,0,null,0,0,0,0,0,0,0]
[null,null,0,0,null,0,0,0,0,0,0,0]
[null,null,0,0,null,0,0,0,0,0,0,0]
[null,null,0,0,0,0,0,0,0,0,0,0]
[null,null,0,0,0,0,0,0,0,0,0,0]
[null,null,0,0,0,0,0,0,0,0,0,0]
["sub-total",1,{"$f":"SUM(C104:C128)","v":6764739},15349679,21021934,21116107.779999997,21481988.960000001,21481988.960000001,21481988.960000001,21360882.310000002,21053262.829999998,22021712.909999978]
["Allocations to organs of state:"]
["Electricity",null,0,0,0,0,0,0,0,0,0,0]
["Water",null,0,0,0,0,0,0,0,0,0,0]
["Sanitation",null,0,0,0,0,0,0,0,0,0,0]
["Other",null,0,0,0,0,0,0,0,0,0,0]
["Total contracted services",null,{"$f":"SUM(C129:C134)","v":6764739},{"$f":"SUM(D129:D134)","v":15349679},21021934,21116107.779999997,21481988.960000001,21481988.960000001,21481988.960000001,21360882.310000002,21053262.829999998,22021712.909999978]
[]
["Other Expenditure By Type"]
["Collection costs",null,0,0,0,0,0,0,0,0,0,0]
["Contributions to 'other' provisions",null,0,0,0,0,0,0,0,0,0,0]
["Consultant fees",null,0,0,0,0,0,0,0,0,0,0]
["Audit fees",null,0,0,0,0,0,0,0,0,0,0]
["General expenses",3,30712792,19243304,25177572,{"$f":"25579753.87+346000","v":25925753.870000001},25600653.879999999,25600653.879999999,25600653.879999999,26828356.729999997,26866761.660000019,28102632.749999996]
["Mscoa implementation and system development ",null,0,518510,null,0,0,0,0,0,0,0]
["Advertsing",null,0,null,null,0,0,0,0,0,0,0]
["Audit fees",null,0,null,null,0,0,0,0,0,0,0]
["Bank Charges",null,0,null,null,0,0,0,0,0,0,0]
["Consumables",null,0,null,null,0,0,0,0,0,0,0]
["Entertainment",null,0,null,null,0,0,0,0,0,0,0]
["Road traffic levy",null,0,null,null,0,0,0,0,0,0,0]
["Free basic services",null,0,null,null,0,0,0,0,0,0,0]
["Insurance",null,0,0,0,0,0,0,0,0,0,0]
["Operating leases: Furniture and office",null,0,0,0,0,0,0,0,0,0,0]
["Parking fees",null,0,0,0,0,0,0,0,0,0,0]
["SDL",null,0,0,0,0,0,0,0,0,0,0]
["Spcialised computer service",null,0,0,0,0,0,0,0,0,0,0]
["Fuel  and oil",null,0,0,0,0,0,0,0,0,0,0]
["Postage",null,0,0,0,0,0,0,0,0,0,0]
["Printing and stationery",null,0,0,0,0,0,0,0,0,0,0]
["Bursary youth",null,0,0,0,0,0,0,0,0,0,0]
["Employment creation and assistant programme",null,0,0,0,0,0,0,0,0,0,0]
["Conferences",null,0,0,0,0,0,0,0,0,0,0]
["Softwares expense",null,0,0,0,0,0,0,0,0,0,0]
["Ward committees",null,0,0,0,0,0,0,0,0,0,0]
["Subscriptions and membership fees"]
["Travel-local"]
["Water and electricity"]
["Uniforms/Protective clothing"]
["Communication"]
["Computer and network extensions and internet costs"]
["Licence and permits"]
["Other expenses"]
[]
[null,null,0,0,0,0,0,0,0,0,0,0]
["Total 'Other' Expenditure",1,{"$f":"SUM(C138:C173)","v":30712792},19761814,25177572,25925753.870000001,25600653.879999999,25600653.879999999,25600653.879999999,26828356.729999997,26866761.660000019,28102632.749999996]
[]
["Repairs and Maintenance \nby Expenditure Item",8]
["Employee related costs",null,0,0,0,0,0,0,0,0,0,0]
["Other materials",null,0,0,0,0,0,0,0,0,0,0]
["Contracted Services",null,0,0,0,0,0,0,0,0,0,0]
["Other Expenditure",null,724861.83,724861.83,575693.82999999996,1186156.56,1366157,1366157,1366157,1427633.11,1493304.23,1561996.22]
["Total Repairs and Maintenance Expenditure",9,{"$f":"SUM(C177:C180)","v":724861.83},{"$f":"SUM(D177:D180)","v":724861.83},575693.82999999996,1186156.56,1366157,1366157,1366157,1427633.11,1493304.23,1561996.22]
[]
["check",null,{"$f":"C181-SA34c!C167","v":0},{"$f":"D181-SA34c!D167","v":0},{"$f":"E181-SA34c!E167","v":0},{"$f":"F181-SA34c!F167","v":0},{"$f":"G181-SA34c!G167","v":0},{"$f":"H181-SA34c!H167","v":0},null,{"$f":"J181-SA34c!I167","v":0},{"$f":"K181-SA34c!J167","v":0},{"$f":"L181-SA34c!K167","v":0}]
[]
[]
[{"$f":"head27a","v":"References"}]
["1. Must reconcile with 'Budgeted Financial Performance (Revenue and Expenditure)"]
["2. Must reconcile to supporting documentation on staff salaries"]
["3. Insert other categories where revenue or expenditure is of a material nature (list separate items until 'General expenses' is not > 10% of Total Expenditure)"]
["4. Expenditure to meet any 'unfunded obligations'"]
["5 This sub-total must agree with the total on SA22, but excluding councillor and board member items"]
["6. Include a note for each revenue item that is affected by 'revenue foregone'"]
["7. Special consideration may have to be given to including 'goodwill arising' or 'joint venture' budgets where circumstances require this (include separately under relevant notes)"]
["8. Repairs and Maintenance is not a GRAP item. However to facilitate transparency, municipalities must provide a breakdown of the amounts included in the relevant GRAP items that will be spent on Repairs and Maintenance."]
["9. Must reconcile with Repairs and Maintenance by Asset Class (Total Repairs and Maintenance) on Table SA34c."]
["10. Only applicable to municipalities that have adopted the 'revaluation method' in GRAP 17. The aim is to prevent overstating 'depreciation and asset impairment'"]

{"sheet":"SA2","index":21,"n_rows":44,"n_cols":18,"rows_kept":44,"cut":false,"hidden":false,"merged":[[1,16,2,16],[1,17,2,17],[1,8,2,8],[1,9,2,9],[1,10,2,10],[1,11,2,11],[1,12,2,12],[1,13,2,13],[1,14,2,14],[1,15,2,15],[1,6,2,6],[1,7,2,7],[1,2,2,2],[1,3,2,3],[1,4,2,4],[1,5,2,5]]}
[{"$f":"muni&\" - \"&TableA2","v":"KZN434 Ubuhlebezwe - Supporting Table SA2 Matrix Financial Performance Budget (revenue source/expenditure type and dept.)"}]
[{"$f":"desc","v":"Description"},{"$f":"head27","v":"Ref"},{"$f":"'A3-FinPerf V'!A5","v":"Vote 1 - Finance & Admin"},{"$f":"'A3-FinPerf V'!A6","v":"Vote 2 - Executive & Council"},{"$f":"'A3-FinPerf V'!A7","v":"Vote 3 - Community and Social Services"},{"$f":"'A3-FinPerf V'!A8","v":"Vote 4 - Housing"},{"$f":"'A3-FinPerf V'!A9","v":"Vote 5 - Public Safety"},{"$f":"'A3-FinPerf V'!A10","v":"Vote 6 - Road Transport"},{"$f":"'A3-FinPerf V'!A11","v":"Vote 7 - Waste Management"},{"$f":"'A3-FinPerf V'!A12","v":"Vote 8 - Energy Sources"},{"$f":"'A3-FinPerf V'!A13","v":"Vote 9 - Planning and Development"},{"$f":"'A3-FinPerf V'!A14","v":"Vote 10 - Sport and Recreation"},{"$f":"'A3-FinPerf V'!A15","v":"Vote 11 - [NAME OF VOTE 11]"},{"$f":"'A3-FinPerf V'!A16","v":"Vote 12 - [NAME OF VOTE 12]"},{"$f":"'A3-FinPerf V'!A17","v":"Vote 13 - [NAME OF VOTE 13]"},{"$f":"'A3-FinPerf V'!A18","v":"Vote 14 - [NAME OF VOTE 14]"},{"$f":"'A3-FinPerf V'!A19","v":"Vote 15 - [NAME OF VOTE 15]"},"Total"]
["R thousand",1,"R'000","R'000","R'000","R'000","R'000","R'000",null,null,null,null,null,null,null,null,"R'000","R'000"]
[{"$f":"'A4-FinPerf RE'!A4","v":"Revenue By Source"}]
[{"$f":"'A4-FinPerf RE'!A5","v":"Property rates"},null,23573023.940000001,0,0,0,0,0,0,0,0,0,0,0,0,0,0,{"$f":"SUM(C5:Q5)","v":23573023.940000001}]
[{"$f":"'A4-FinPerf RE'!A6","v":"Service charges - electricity revenue"},null,0,0,0,0,0,0,0,0,0,0,0,0,0,0,0,{"$f":"SUM(C6:Q6)","v":0}]
[{"$f":"'A4-FinPerf RE'!A7","v":"Service charges - water revenue"},null,0,0,0,0,0,0,0,0,0,0,0,0,0,0,0,0]
[{"$f":"'A4-FinPerf RE'!A8","v":"Service charges - sanitation revenue"},null,0,0,0,0,0,0,0,0,0,0,0,0,0,0,0,0]
[{"$f":"'A4-FinPerf RE'!A9","v":"Service charges - refuse revenue"},null,0,0,0,0,0,0,2600000,0,0,0,0,0,0,0,0,2600000]
[]
[{"$f":"'A4-FinPerf RE'!A11","v":"Rental of facilities and equipment"},null,0,0,1200000,0,0,0,0,0,0,0,0,0,0,0,0,1200000]
[{"$f":"'A4-FinPerf RE'!A12","v":"Interest earned - external investments"},null,13500000,0,0,0,0,0,0,0,0,0,0,0,0,0,0,13500000]
[{"$f":"'A4-FinPerf RE'!A13","v":"Interest earned - outstanding debtors"},null,0,0,0,0,0,0,0,0,0,0,0,0,0,0,0,0]
[{"$f":"'A4-FinPerf RE'!A14","v":"Dividends received"},null,0,0,0,0,0,0,0,0,0,0,0,0,0,0,0,0]
[{"$f":"'A4-FinPerf RE'!A15","v":"Fines, penalties and forfeits"},null,0,0,0,0,1000000,0,0,0,0,0,0,0,0,0,0,1000000]
[{"$f":"'A4-FinPerf RE'!A16","v":"Licences and permits"},null,0,0,0,0,3936400,66654.720000000001,0,0,65780,0,0,0,0,0,0,4068834.72]
[{"$f":"'A4-FinPerf RE'!A17","v":"Agency services"},null,28900,0,0,0,0,0,0,0,0,0,0,0,0,0,0,28900]
[{"$f":"'A4-FinPerf RE'!A19","v":"Other revenue"},null,660000,0,38416,0,26300,0,0,0,100000,0,0,0,0,0,0,824716]
[{"$f":"'A4-FinPerf RE'!A18","v":"Transfers and subsidies"},null,118950000,0,3034000,0,0,0,0,0,121000,0,0,0,0,0,0,122105000]
[{"$f":"'A4-FinPerf RE'!A20","v":"Gains on disposal of PPE"},null,0,0,0,0,0,0,0,0,0,0,0,0,0,0,0,0]
[{"$f":"'A4-FinPerf RE'!A21","v":"Total Revenue (excluding capital transfers and contributions)"},null,{"$f":"SUM(C5:C9)+SUM(C11:C20)","v":156711923.94},{"$f":"SUM(D5:D9)+SUM(D11:D20)","v":0},4272416,0,4962700,66654.720000000001,2600000,0,286780,0,0,0,0,0,0,{"$f":"SUM(R5:R9)+SUM(R11:R20)","v":168900474.66}]
[]
[{"$f":"'A4-FinPerf RE'!A23","v":"Expenditure By Type"}]
[{"$f":"'A4-FinPerf RE'!A24","v":"Employee related costs"},null,24086390.579999998,7833684.8399999999,5569219.9700000007,2212391.41,16675930.729999999,11848499.65,10391548.91,0,5880720.5899999999,53954.6,0,0,0,0,0,{"$f":"SUM(C24:Q24)","v":84552341.279999986}]
[{"$f":"'A4-FinPerf RE'!A25","v":"Remuneration of councillors"},null,0,11097335.060000001,0,0,0,0,0,0,0,0,0,0,0,0,0,{"$f":"SUM(C25:Q25)","v":11097335.060000001}]
[{"$f":"'A4-FinPerf RE'!A26","v":"Debt impairment"},null,2090000,0,0,0,0,0,0,0,0,0,0,0,0,0,0,2090000]
[{"$f":"'A4-FinPerf RE'!A27","v":"Depreciation & asset impairment"},null,23188000,0,0,0,0,0,0,0,0,0,0,0,0,0,0,23188000]
[{"$f":"'A4-FinPerf RE'!A28","v":"Finance charges"},null,0,0,0,0,0,0,0,0,0,0,0,0,0,0,0,0]
[{"$f":"'A4-FinPerf RE'!A29","v":"Bulk purchases"},null,0,0,0,0,0,0,0,0,0,0,0,0,0,0,0,0]
[{"$f":"'A4-FinPerf RE'!A30","v":"Other materials"},null,9927.5,512050,71060,0,8360,104500,260612.5,0,0,0,0,0,0,0,0,966510]
[{"$f":"'A4-FinPerf RE'!A31","v":"Contracted services"},null,9980122.4499999993,2651891.3200000003,561484.31000000006,0,72036.03,1179250,1254000,0,5351495,287613.2,0,0,0,0,0,21337892.309999999]
[{"$f":"'A4-FinPerf RE'!A32","v":"Transfers and subsidies"},null,1199340,52250,690285.2,0,0,1903000,0,0,0,0,0,0,0,0,0,3844875.2]
[{"$f":"'A4-FinPerf RE'!A33","v":"Other expenditure"},null,13290877.83,4441572.74,2663439.5099999998,47387.88,1274340.3800000001,339271.74,1060750.7,0,3300219.6899999995,279871.26,0,0,0,0,0,26697731.729999993]
[{"$f":"'A4-FinPerf RE'!A34","v":"Loss on disposal of PPE"},null,0,0,0,0,0,0,0,0,0,0,0,0,0,0,0,0]
["Total Expenditure",null,{"$f":"SUM(C24:C34)","v":73844658.359999999},26588783.960000001,9555488.9900000021,2259779.29,18030667.139999997,15374521.390000001,12966912.109999999,0,14532435.279999999,621439.06000000006,0,0,0,0,0,173774685.57999995]
[]
[{"$f":"'A4-FinPerf RE'!A37","v":"Surplus/(Deficit)"},null,{"$f":"C21-C35","v":82867265.579999998},-26588783.960000001,-5283072.9900000021,-2259779.29,-13067967.139999997,-15307866.67,{"$f":"I21-I35","v":-10366912.109999999},0,-14245655.279999999,-621439.06000000006,0,0,0,0,0,{"$f":"R21-R35","v":-4874210.9199999571}]
[{"$f":"'A4-FinPerf RE'!A38","v":"Transfers and subsidies - capital (monetary allocations) (National / Provincial and District)"},null,0,0,0,0,0,26759000,0,0,0,0,0,0,0,0,0,{"$f":"SUM(C38:Q38)","v":26759000}]
[{"$f":"'A4-FinPerf RE'!A39","v":"Transfers and subsidies - capital (monetary allocations) (National / Provincial Departmental Agencies, Households, Non-profit Institutions, Private Enterprises, Public Corporatons, Higher Educational Institutions)"},null,0,0,0,0,0,0,0,0,0,0,0,0,0,0,0,{"$f":"SUM(C39:Q39)","v":0}]
[{"$f":"'A4-FinPerf RE'!A40","v":"Transfers and subsidies - capital (in-kind - all) "},null,0,0,0,0,0,0,0,0,0,0,0,0,0,0,0,{"$f":"SUM(C40:Q40)","v":0}]
[{"$f":"'A4-FinPerf RE'!A41","v":"Surplus/(Deficit) after capital transfers & contributions"},null,{"$f":"SUM(C37:C40)","v":82867265.579999998},-26588783.960000001,-5283072.9900000021,-2259779.29,-13067967.139999997,11451133.33,-10366912.109999999,0,-14245655.279999999,-621439.06000000006,0,0,0,0,{"$f":"SUM(Q37:Q40)","v":0},{"$f":"SUM(R37:R40)","v":21884789.080000043}]
[{"$f":"head27a","v":"References"}]
["1. Departmental columns to be based on municipal organisation structure"]
["check balance",null,null,null,null,null,null,null,null,null,null,null,null,null,null,null,null,{"$f":"'A4-FinPerf RE'!J41-'SA2'!R41","v":-1150243.6400000155}]

{"sheet":"SA3","index":22,"n_rows":84,"n_cols":12,"rows_kept":84,"cut":false,"hidden":false,"merged":[[1,0,2,0],[1,1,2,1],[1,9,1,11],[1,5,1,8]]}
[{"$f":"muni&\" - \"&TableA3","v":"KZN434 Ubuhlebezwe - Supporting Table SA3 Supportinging detail to 'Budgeted Financial Position'"}]
[{"$f":"desc","v":"Description"},{"$f":"head27","v":"Ref"},{"$f":"head1b","v":"2016/17"},{"$f":"head1A","v":"2017/18"},{"$f":"Head1","v":"2018/19"},{"$f":"Head2","v":"Current Year 2019/20"},null,null,null,{"$f":"Head3","v":"2020/21 Medium Term Revenue & Expenditure Framework"}]
[null,null,{"$f":"Head5","v":"Audited Outcome"},{"$f":"Head5","v":"Audited Outcome"},{"$f":"Head5","v":"Audited Outcome"},{"$f":"Head6","v":"Original Budget"},{"$f":"Head7","v":"Adjusted Budget"},{"$f":"Head8","v":"Full Year Forecast"},{"$f":"Head5b","v":"Pre-audit outcome"},{"$f":"Head9","v":"Budget Year 2020/21"},{"$f":"Head10","v":"Budget Year +1 2021/22"},{"$f":"Head11","v":"Budget Year +2 2022/23"}]
["R thousand"]
["ASSETS"]
[{"$f":"'A6-FinPos'!A7","v":"Call investment deposits"}]
["Call deposits",null,null,null,null,105302255,146881746,146881746,146881746,162118518.47589934,{"$f":"J7*1.045","v":169413851.80731478},{"$f":"K7*1.045","v":177037475.13864395}]
["Other current investments",null,111904376,0,101904376,0,0,0,0,0,0,0]
[{"$f":"\"Total \"&A6","v":"Total Call investment deposits"},2,{"$f":"SUM(C7:C8)","v":111904376},{"$f":"SUM(D7:D8)","v":0},101904376,105302255,146881746,146881746,146881746,162118518.47589934,169413851.80731478,177037475.13864395]
[]
[{"$f":"'A6-FinPos'!A8","v":"Consumer debtors"}]
[{"$f":"A11","v":"Consumer debtors"},null,13978664,null,27099227,0,29062837.079999998,29062837.079999998,29062837.079999998,27728498.778445207,{"$f":"J12*1.045","v":28976281.22347524},{"$f":"K12*1.045","v":30280213.878531624}]
["Less: Provision for debt impairment",null,0,null,0,0,0,0,0,-2090000,{"$f":"J13*1.045","v":-2184050},{"$f":"K13*1.045","v":-2282332.25}]
[{"$f":"\"Total \"&A11","v":"Total Consumer debtors"},2,{"$f":"SUM(C12:C13)","v":13978664},{"$f":"SUM(D12:D13)","v":0},27099227,{"$f":"SUM(F12:F13)","v":0},29062837.079999998,29062837.079999998,29062837.079999998,25638498.778445207,26792231.22347524,27997881.628531624]
[]
["Debt impairment provision"]
["Balance at the beginning of the year",null,null,null,null,0,0,0,0,-27022268,{"$f":"J17*1.045","v":-28238270.059999999},{"$f":"K17*1.045","v":-29508992.212699998}]
["Contributions to the provision",null,null,null,null,0,0,0,0,-2090000,{"$f":"J18*1.045","v":-2184050},{"$f":"K18*1.045","v":-2282332.25}]
["Bad debts written off",null,0,0,0,0,0,0,0,0,0,0]
["Balance at end of year",null,{"$f":"SUM(C17:C19)","v":0},{"$f":"SUM(D17:D19)","v":0},0,0,0,0,0,-29112268,-30422320.059999999,-31791324.462699998]
[]
[{"$f":"'A6-FinPos'!A19&\" (PPE)\"","v":"Property, plant and equipment (PPE)"}]
["PPE at cost/valuation (excl. finance leases)",null,240093018,251702032,312601018,74860033.00999999,344252967,344252967,344252967,{"$f":"301230449.606182+J25","v":324418449.60618198},{"$f":"J23*1.045","v":339017279.83846015},{"$f":"K23*1.045","v":354273057.43119085}]
["Leases recognised as PPE",3,0,null,null,385796,0,0,0]
["Less: Accumulated depreciation",null,0,0,0,0,22000000,22000000,22000000,23188000,{"$f":"J25*1.045","v":24231460},{"$f":"K25*1.045","v":25321875.699999999}]
[{"$f":"\"Total \"&A22","v":"Total Property, plant and equipment (PPE)"},2,{"$f":"SUM(C23:C24)-C25","v":240093018},{"$f":"SUM(D23:D24)-D25","v":251702032},312601018,75245829.00999999,322252967,322252967,322252967,301230449.60618198,314785819.83846015,328951181.73119086]
[]
["LIABILITIES"]
[{"$f":"'A6-FinPos'!A28&\" - \"&'A6-FinPos'!A30","v":"Current liabilities - Borrowing"}]
["Short term loans (other than bank overdraft)",null,0,0,0,0,0,0,0,0,0,0]
["Current portion of long-term liabilities",null,0,0,0,0,0,0,0,0,0,0]
[{"$f":"\"Total \"&A29","v":"Total Current liabilities - Borrowing"},null,{"$f":"SUM(C30:C31)","v":0},{"$f":"SUM(D30:D31)","v":0},0,0,0,0,0,0,0,0]
[]
[{"$f":"'A6-FinPos'!A32","v":"Trade and other payables"}]
["Trade Payables",5,30379225,28799622,0,-27338825,32087527,32087527,32087527,32137702,{"$f":"J35*1.045","v":33583898.589999996},{"$f":"K35*1.045","v":35095174.026549995}]
[" Other creditors",null,0,0,24646234,0,0,0,0,0,0,0]
["Unspent conditional transfers",null,7200000,1163515,1483600,0,1285554,1285554,1285554,1285554,1285554,1285554]
["VAT",null,0,0,0,0,0,0,0,0,0,0]
[{"$f":"\"Total \"&A34","v":"Total Trade and other payables"},2,{"$f":"SUM(C35:C38)","v":37579225},29963137,26129834,-27338825,33373081,33373081,33373081,33423256,34869452.589999996,{"$f":"SUM(L35:L38)","v":36380728.026549995}]
[]
[{"$f":"'A6-FinPos'!A36&\" - \"&'A6-FinPos'!A37","v":"Non current liabilities - Borrowing"}]
["Borrowing",4,0,0,0,0,0,0,0,0,0,0]
["Finance leases (including PPP asset element)",null,0,0,0,0,0,0,0,0,0,0]
[{"$f":"\"Total \"&A41","v":"Total Non current liabilities - Borrowing"},null,{"$f":"SUM(C42:C43)","v":0},{"$f":"SUM(D42:D43)","v":0},0,0,0,0,0,0,0,0]
[]
[{"$f":"'A6-FinPos'!A38&\" - non-current\"","v":"Provisions - non-current"}]
["Retirement benefits",null,6700000,6089000,0,0,0,0,0,7217000,{"$f":"J47*1.045","v":7541764.9999999991},{"$f":"K47*1.045","v":7881144.4249999989}]
["List other major provision items"]
["Refuse landfill site rehabilitation",null,0,0,9410201,0,0,0,0,0,0,0]
["Other",null,0,2355000,0,0,0,0,0,0,0,0]
[{"$f":"\"Total \"&A46","v":"Total Provisions - non-current"},null,{"$f":"SUM(C47:C50)","v":6700000},8444000,9410201,0,0,0,0,7217000,7541764.9999999991,7881144.4249999989]
[]
["CHANGES IN NET ASSETS"]
[{"$f":"'A6-FinPos'!A45","v":"Accumulated Surplus/(Deficit)"}]
[{"$f":"A54&\" - opening balance\"","v":"Accumulated Surplus/(Deficit) - opening balance"},null,0,0,0,0,0,0,0,443983197,{"$f":"J63","v":464717742.44000006},{"$f":"K63","v":490709225.28719997}]
["GRAP adjustments",null,0,0,0,0,0,0,0,0,0,0]
["Restated balance",null,{"$f":"SUM(C55:C56)","v":0},{"$f":"SUM(D55:D56)","v":0},{"$f":"SUM(E55:E56)","v":0},{"$f":"SUM(F55:F56)","v":0},0,0,0,443983197,464717742.44000006,490709225.28719997]
[{"$f":"'A4-FinPerf RE'!A37","v":"Surplus/(Deficit)"},null,{"$f":"'A4-FinPerf RE'!C45","v":34662337},{"$f":"'A4-FinPerf RE'!D45","v":25241445},{"$f":"'A4-FinPerf RE'!E45","v":32782865},{"$f":"'A4-FinPerf RE'!F45","v":23861529.469999999},{"$f":"'A4-FinPerf RE'!G45","v":18239892.209999979},{"$f":"'A4-FinPerf RE'!H45","v":18239892.209999979},{"$f":"'A4-FinPerf RE'!I45","v":18239892.209999979},{"$f":"'A4-FinPerf RE'!J45","v":20734545.440000027},{"$f":"'A4-FinPerf RE'!K45","v":25991482.847199947},{"$f":"'A4-FinPerf RE'!L45","v":27018913.034323998}]
["Appropriations to Reserves",null,366196707.44,0,0,132398433,128711811.64,128711811.64,128711811.64,0,0,0]
["Transfers from Reserves",null,0,0,337798.03,0,0,0,0,0,0,0]
["Depreciation offsets",null,0,0,0,0,0,0,0,0,0,0]
["Other adjustments",null,0,0,0,0,0,0,0,0,0,0]
["Accumulated Surplus/(Deficit)",1,{"$f":"SUM(C57:C62)","v":400859044.44},{"$f":"SUM(D57:D62)","v":25241445},{"$f":"SUM(E57:E62)","v":33120663.030000001},156259962.47,146951703.84999996,146951703.84999996,146951703.84999996,464717742.44000006,490709225.28719997,517728138.32152396]
["Reserves"]
["Housing Development Fund",null,0,373787,387000,0,0,0,0,373787,373787,373787]
["Capital replacement",null,0,0,0,0,0,0,0,0,0,0]
["Self-insurance",null,0,0,0,0,0,0,0,0,0,0]
["Other reserves",null,329591746,385889162,428993702.86400002,0,0,0,0,0,0,0]
["Revaluation",null,0,0,0,0,0,0,0,0,0,0]
["Total Reserves",2,{"$f":"SUM(C65:C69)","v":329591746},386262949,429380702.86400002,0,0,0,0,373787,373787,373787]
[{"$f":"'A6-FinPos'!A48","v":"TOTAL COMMUNITY WEALTH/EQUITY"},2,{"$f":"C63+C70","v":730450790.44000006},411504394,462501365.89400005,156259962.47,146951703.84999996,146951703.84999996,146951703.84999996,465091529.44000006,491083012.28719997,518101925.32152396]
[]
["Total capital expenditure includes expenditure on nationally significant priorities:"]
["Provision of basic services"]
[]
[]
[{"$f":"head27a","v":"References"}]
[{"$f":"\"1. Must reconcile with \"&'Template names'!F103","v":"1. Must reconcile with Table A4 Budgeted Financial Performance (revenue and expenditure)"}]
[{"$f":"\"2. Must reconcile with \"&'Template names'!F105","v":"2. Must reconcile with Table A6 Budgeted Financial Position"}]
["3. Leases treated as assets to be depreciated as the same as purchased/constructed assets.  Includes PPP asset element accounted for as finance leases"]
["4. Borrowing must reconcile to Table A17"]
["5. Trade Payable should only include Trade Payables from Exchance Transactions (\"True Creditors\")"]
["check",null,{"$f":"C71-'A6-FinPos'!C48","v":34662337},{"$f":"D71-'A6-FinPos'!D48","v":25241445},{"$f":"E71-'A6-FinPos'!E48","v":32782865.00000006},{"$f":"F71-'A6-FinPos'!F48","v":23861529.469999999},{"$f":"G71-'A6-FinPos'!G48","v":-447725352.15000004},{"$f":"H71-'A6-FinPos'!H48","v":-447725352.15000004},{"$f":"I71-'A6-FinPos'!I48","v":-447725352.15000004},{"$f":"J71-'A6-FinPos'!J48","v":-39602866.175759912},{"$f":"K71-'A6-FinPos'!K48","v":-36305810.716269135},{"$f":"L71-'A6-FinPos'!L48","v":-33002574.302101195}]
[null,null,{"$f":"TREND(D84:H84)","v":0},{"$f":"TREND(E84:H84)","v":0},{"$f":"E74","v":0},{"$f":"H74","v":0},{"$f":"J74","v":0},{"$f":"K74","v":0},{"$f":"L74","v":0}]

{"sheet":"SA4","index":23,"n_rows":26,"n_cols":13,"rows_kept":26,"cut":false,"hidden":false,"merged":[[1,7,1,9],[1,10,1,12],[1,3,2,3]]}
[{"$f":"muni&\" - \"&TableA4","v":"KZN434 Ubuhlebezwe - Supporting Table SA4 Reconciliation of IDP strategic objectives and budget (revenue)"}]
["Strategic Objective","Goal","Goal\nCode",{"$f":"head27","v":"Ref"},{"$f":"head1b","v":"2016/17"},{"$f":"head1A","v":"2017/18"},{"$f":"Head1","v":"2018/19"},{"$f":"Head2","v":"Current Year 2019/20"},null,null,{"$f":"Head3","v":"2020/21 Medium Term Revenue & Expenditure Framework"}]
["R thousand",null,null,null,{"$f":"Head5","v":"Audited Outcome"},{"$f":"Head5","v":"Audited Outcome"},{"$f":"Head5","v":"Audited Outcome"},{"$f":"Head6","v":"Original Budget"},{"$f":"Head7","v":"Adjusted Budget"},{"$f":"Head8","v":"Full Year Forecast"},{"$f":"Head9","v":"Budget Year 2020/21"},{"$f":"Head10","v":"Budget Year +1 2021/22"},{"$f":"Head11","v":"Budget Year +2 2022/23"}]
["Provide qualiy basic services and infrastructure","Provision of waste removal , roads, community assets and maintaining the infrastructure.",null,null,120964461,138590018,138590018,152440115.33000001,149490116,149490116,156711923.94,63749102.539999999,66681561.249999993]
["Economic growth and a well developed leading to sustainable job creation "," To ensur that there is economic growth and development within the municipal area",null,null,0,0,0,0,0,0,0,0,0]
["Fight poverty and build clean, healthy, safe and sustainable comminity as well as ensure intergrated social services ","Effective Indigent Policy, extending waste removal services and and effective cleaning oif the municipal area",null,null,2274446,1935496,1935496,3866416,3932416,3932416,4272416,4468947.1399999997,4674518.71]
["Promote accountable, finacial sustainability and optimal institutional transformation ","Publishing all the outcomes of the tender processes on municipal website and review the of the orgasational structure to optimise the use of personnel",null,null,0,22166907,22166907,58529511.640000001,0,0,0,116628572.95999999,121993487.31999999]
["Foster Participatory democracy throuph public participation  and Improve level of development within the municipality Area. ","Optimising effective communuty participation in the ward ward committee system.  To move the municipality from being most rural municipality to a better position",null,null,4580553,6626300,6626300,10362700,10862700,10862700,4962700,5190984.2,5429769.4700000007]
["Provide qualiy basic services and infrastructure","Provision of waste removal , roads, community assets and maintaining the infrastructure.",null,null,28994365,2389520,2389520,39983654.719999999,26983655,26983655,26825654.719999999,43749634.840000004,45762118.039999999]
["Economic growth and a well developed leading to sustainable job creation "," To ensur that there is economic growth and development within the municipal area",null,null,2037394,2000000,2000000,2100000,2100000,2100000,2600000,2719600,2844701.6]
["Promote accountable, finacial sustainability and optimal institutional transformation ","Publishing all the outcomes of the tender processes on municipal website and review the of the orgasational structure to optimise the use of personnel",null,null,0,16000000,16000000,0,0,0,0,0,0]
["Foster Participatory democracy throuph public participation  and Improve level of development within the municipality Area. ","Optimising effective communuty participation in the ward ward committee system.  To move the municipality from being most rural municipality to a better position",null,null,67054,26554780,26554780,615780,665780,665780,286780,173405.88,181382.55]
["Promote accountable, finacial sustainability and optimal institutional transformation ","Publishing all the outcomes of the tender processes on municipal website and review the of the orgasational structure to optimise the use of personnel",null,null,0,2050000,2050000,50000,28777,28777]
[]
[]
[]
[]
[]
[]
[]
["Allocations to other priorities",null,null,2]
[{"$f":"'A4-FinPerf RE'!A21","v":"Total Revenue (excluding capital transfers and contributions)"},null,null,1,{"$f":"SUM(E4:E21)","v":158918273},218313021,218313021,267948177.69000003,194063444,194063444,195659474.66,236680247.55999997,247567538.93999997]
[{"$f":"head27a","v":"References"}]
[{"$f":"\"1. Total revenue must reconcile to \"&'Template names'!F103","v":"1. Total revenue must reconcile to Table A4 Budgeted Financial Performance (revenue and expenditure)"}]
["2. Balance of allocations not directly linked to an IDP strategic objective"]
["check op revenue balance",null,null,null,{"$f":"E22-'A4-FinPerf RE'!C59","v":-1936165},{"$f":"F22-'A4-FinPerf RE'!D59","v":59394751},{"$f":"G22-'A4-FinPerf RE'!E59","v":-1999999},{"$f":"H22-'A4-FinPerf RE'!F59","v":0},{"$f":"I22-'A4-FinPerf RE'!G59","v":0.67000001668930054},{"$f":"J22-'A4-FinPerf RE'!H59","v":0.67000001668930054},{"$f":"K22-'A4-FinPerf RE'!J59","v":842135.84000000358},{"$f":"L22-'A4-FinPerf RE'!K59","v":33062118.382799983},{"$f":"M22-'A4-FinPerf RE'!L59","v":34751153.825675994}]

{"sheet":"SA5","index":24,"n_rows":27,"n_cols":13,"rows_kept":27,"cut":false,"hidden":false,"merged":[[1,7,1,9],[1,10,1,12],[1,3,2,3]]}
[{"$f":"muni&\" - \"&TableA5","v":"KZN434 Ubuhlebezwe - Supporting Table SA5 Reconciliation of IDP strategic objectives and budget (operating expenditure)"}]
["Strategic Objective","Goal","Goal\nCode",{"$f":"head27","v":"Ref"},{"$f":"head1b","v":"2016/17"},{"$f":"head1A","v":"2017/18"},{"$f":"Head1","v":"2018/19"},{"$f":"Head2","v":"Current Year 2019/20"},null,null,{"$f":"Head3","v":"2020/21 Medium Term Revenue & Expenditure Framework"}]
["R thousand",null,null,null,{"$f":"Head5","v":"Audited Outcome"},{"$f":"Head5","v":"Audited Outcome"},{"$f":"Head5","v":"Audited Outcome"},{"$f":"Head6","v":"Original Budget"},{"$f":"Head7","v":"Adjusted Budget"},{"$f":"Head8","v":"Full Year Forecast"},{"$f":"Head9","v":"Budget Year 2020/21"},{"$f":"Head10","v":"Budget Year +1 2021/22"},{"$f":"Head11","v":"Budget Year +2 2022/23"}]
["Provide qualiy basic services and infrastructure","Provision of waste removal , roads, community assets and maintaining the infrastructure.",null,null,62298597.670000002,63095968,66166747.280000016,70300119.260000005,70300119.260000005,70300119.260000005,73844658.360000014,75609909.99000001,79087965.850000024]
["Economic growth and a well developed leading to sustainable job creation "," To ensur that there is economic growth and development within the municipal area",null,null,20477677,23431044,25414361.140000004,25060441.279999997,25060441.279999997,25060441.279999997,26588783.960000001,26573994.66,27796398.430000003]
["Fight poverty and build clean, healthy, safe and sustainable comminity as well as ensure intergrated social services ","Effective Indigent Policy, extending waste removal services and and effective cleaning oif the municipal area",null,null,7079850,8874120,8961879.8699999992,9406508.6900000013,9406508.6900000013,9406508.6900000013,9555488.9899999984,9491297.1000000015,9927896.7999999989]
["Promote accountable, finacial sustainability and optimal institutional transformation ","Publishing all the outcomes of the tender processes on municipal website and review the of the orgasational structure to optimise the use of personnel",null,null,1180442,1217078,60255094.780000001,1715523.1900000002,1715523.1900000002,1715523.1900000002,2259779.29,33259797.600000001,34789748.280000001]
["Foster Participatory democracy throuph public participation  and Improve level of development within the municipality Area. ","Optimising effective communuty participation in the ward ward committee system.  To move the municipality from being most rural municipality to a better position",null,null,14429177,14588201,16427881.220000003,16405224.07,16405224.07,16405224.07,18030667.140000001,18605305.34,19461149.390000001]
["Fight poverty and build clean, healthy, safe and sustainable comminity as well as ensure intergrated social services ","Effective Indigent Policy, extending waste removal services and and effective cleaning oif the municipal area",null,null,17566059,10215307,16145900.140000004,16046107.160000004,16046107.160000004,16046107.160000004,15374521.389999999,16081632.399999997,16821387.470000006]
["Fight poverty and build clean, healthy, safe and sustainable comminity as well as ensure intergrated social services ","Effective Indigent Policy, extending waste removal services and and effective cleaning oif the municipal area",null,null,9359355,10893472,12076761.4,12146487.039999999,12146487.039999999,12146487.039999999,12966912.109999999,13201382.389999999,13808645.959999999]
["Promote accountable, finacial sustainability and optimal institutional transformation ","Publishing all the outcomes of the tender processes on municipal website and review the of the orgasational structure to optimise the use of personnel",null,null,0,0,13000000.000000002,0,0,0,0,0,0]
["Foster Participatory democracy throuph public participation  and Improve level of development within the municipality Area. ","Optimising effective communuty participation in the ward ward committee system.  To move the municipality from being most rural municipality to a better position",null,null,6218244,53944760,24953119.059999995,24075696.789999999,24075696.789999999,24075696.789999999,14532435.279999997,14727089.289999999,15404535.4]
["Economic growth and a well developed leading to sustainable job creation "," To ensur that there is economic growth and development within the municipal area",null,null,370714,617356,685538.53,667678,667678,667678,621439.05999999994,650025.26,679926.43]
[null,null,null,null,null,null,null,null,null,null,308107.79999995203,322280.76000005001,337105.679999977]
[]
[]
[]
[]
[]
[]
[]
["Allocations to other priorities"]
[{"$f":"'A4-FinPerf RE'!A35","v":"Total Expenditure"},null,null,1,{"$f":"SUM(E4:E22)","v":138980115.67000002},186877306,244087283.42000005,175823785.47999999,175823785.47999999,175823785.47999999,174082793.37999997,208522714.79000002,218114759.69]
[{"$f":"head27a","v":"References"}]
[{"$f":"\"1. Total expenditure must reconcile to \"&'Template names'!F103","v":"1. Total expenditure must reconcile to Table A4 Budgeted Financial Performance (revenue and expenditure)"}]
["2. Balance of allocations not directly linked to an IDP strategic objective"]
["check op expenditure balance",null,null,null,{"$f":"E23-'A4-FinPerf RE'!C35","v":12788014.670000017},{"$f":"F23-'A4-FinPerf RE'!D35","v":53200481},{"$f":"G23-'A4-FinPerf RE'!E35","v":56557128.420000046},{"$f":"H23-'A4-FinPerf RE'!F35","v":-68262862.74000001},{"$f":"I23-'A4-FinPerf RE'!G35","v":234.35999998450279},{"$f":"J23-'A4-FinPerf RE'!H35","v":234.35999998450279},{"$f":"K23-'A4-FinPerf RE'!J35","v":0},{"$f":"L23-'A4-FinPerf RE'!K35","v":30896068.459999979},{"$f":"M23-'A4-FinPerf RE'!L35","v":32317287.610000014}]

{"sheet":"SA6","index":25,"n_rows":26,"n_cols":13,"rows_kept":26,"cut":false,"hidden":false,"merged":[[1,7,1,9],[1,10,1,12],[1,3,2,3]]}
[{"$f":"muni&\" - \"&TableA6","v":"KZN434 Ubuhlebezwe - Supporting Table SA6 Reconciliation of IDP strategic objectives and budget (capital expenditure)"}]
["Strategic Objective","Goal","Goal Code",{"$f":"head27","v":"Ref"},{"$f":"head1b","v":"2016/17"},{"$f":"head1A","v":"2017/18"},{"$f":"Head1","v":"2018/19"},{"$f":"Head2","v":"Current Year 2019/20"},null,null,{"$f":"Head3","v":"2020/21 Medium Term Revenue & Expenditure Framework"}]
["R thousand",null,null,null,{"$f":"Head5","v":"Audited Outcome"},{"$f":"Head5","v":"Audited Outcome"},{"$f":"Head5","v":"Audited Outcome"},{"$f":"Head6","v":"Original Budget"},{"$f":"Head7","v":"Adjusted Budget"},{"$f":"Head8","v":"Full Year Forecast"},{"$f":"Head9","v":"Budget Year 2020/21"},{"$f":"Head10","v":"Budget Year +1 2021/22"},{"$f":"Head11","v":"Budget Year +2 2022/23"}]
["Provide qualiy basic services and infrastructure","Provision of waste removal , roads, community assets and maintaining the infrastructure.","A",null,1982443,2402370.71,4520000,26379000,3879805.89,3879805.89,5563800,3891747.6,4070767.9899999993]
[null,null,"B",null,1013248,243160.33,null,null,660000,660000,850000,889100,929998.6]
["Economic growth and a well developed leading to sustainable job creation "," To ensur that there is economic growth and development within the municipal area","C",null,15619505,8171567,8973020,45197000,4968827.7,4968827.7,5605621.5700000003,5872198.8400000008,6142319.9800000004]
[null,null,"D",null,null,null,null,null,10000000,10000000,10540000,11024840,11531982.640000001]
["Fight poverty and build clean, healthy, safe and sustainable comminity as well as ensure intergrated social services ","Effective Indigent Policy, extending waste removal services and and effective cleaning oif the municipal area","E",null,54702306,923190,27137149,5620000,15512546.940000001,15512546.940000001,1470000,1537620,1608350.52]
[null,null,"F",null,null,null,null,null,31204663.879999999,31204663.879999999,22795020.09,14381598.65,15043152.169999996]
["Foster Participatory democracy throuph public participation ","Optimising effective communuty participation in the ward ward committee system","G",null,null,20245184.550000001,17002960,1100000,1103000,1103000,2117378,2214777.39,2316657.15]
[null,null,"H",null,null,6034547,null,null,0,0,0,0,0]
["Economic growth and a well developed leading to sustainable job creation ","Increase level of Sport and Recreation Participaltion with in the Municipality and full utalise condiitional grants","I",null,null,null,3265871,null,5332541.58,5332541.58,6964638.7999999998,1840960,1925644.16]
["Economic growth and a well developed leading to sustainable job creation "," To ensur that there is economic growth and development within the municipal area","J",null,null,null,null,null,3792788.25,3792788.25,3272224.13,3422746.44,3580192.78]
[null,null,"K",null,null,null,null,null,null,null,0,0,0]
[null,null,"L"]
[null,null,"M"]
[null,null,"N"]
[null,null,"O"]
[null,null,"P"]
["Allocations to other priorities",null,null,3]
["Total Capital Expenditure",null,null,1,{"$f":"SUM(E4:E20)","v":73317502},38020019.590000004,60899000,78296000,76454174.239999995,76454174.239999995,59178682.589999996,45075588.920000002,47149065.989999995]
[{"$f":"head27a","v":"References"}]
["1. Total capital expenditure must reconcile to Budgeted Capital Expenditure"]
["2. Goal code must be used on Table SA36"]
["3. Balance of allocations not directly linked to an IDP strategic objective"]
["check capital balance",null,null,null,{"$f":"E21-'A5-Capex'!C40","v":0},{"$f":"F21-'A5-Capex'!D40","v":0},{"$f":"G21-'A5-Capex'!E40","v":-447},{"$f":"H21-'A5-Capex'!F40","v":170.98999999463558},{"$f":"I21-'A5-Capex'!G40","v":0},{"$f":"J21-'A5-Capex'!H40","v":0},{"$f":"K21-'A5-Capex'!J40","v":0},{"$f":"L21-'A5-Capex'!K40","v":0},{"$f":"M21-'A5-Capex'!L40","v":0}]

{"sheet":"SA7","index":26,"n_rows":89,"n_cols":11,"rows_kept":89,"cut":false,"hidden":false,"merged":[[1,1,2,1],[1,0,2,0],[1,5,1,7],[1,8,1,10],[87,0,87,10],[67,0,67,10],[72,0,73,0],[72,1,73,1],[72,5,72,7],[72,8,72,10]]}
[{"$f":"muni&\" - \"&TableA7","v":"KZN434 Ubuhlebezwe - Supporting Table SA7 Measureable performance objectives"}]
["Description","Unit of measurement",{"$f":"head1b","v":"2016/17"},{"$f":"head1A","v":"2017/18"},{"$f":"Head1","v":"2018/19"},{"$f":"Head2","v":"Current Year 2019/20"},null,null,{"$f":"Head3","v":"2020/21 Medium Term Revenue & Expenditure Framework"}]
[null,null,{"$f":"Head5","v":"Audited Outcome"},{"$f":"Head5","v":"Audited Outcome"},{"$f":"Head5","v":"Audited Outcome"},{"$f":"Head6","v":"Original Budget"},{"$f":"Head7","v":"Adjusted Budget"},{"$f":"Head8","v":"Full Year Forecast"},{"$f":"Head9","v":"Budget Year 2020/21"},{"$f":"Head10","v":"Budget Year +1 2021/22"},{"$f":"Head11","v":"Budget Year +2 2022/23"}]
["Vote 1 - vote name"]
["Function 1 - (name)"]
["Sub-function 1 - (name)"]
["Insert measure/s description"]
[]
["Sub-function 2 - (name)"]
["Insert measure/s description"]
[]
["Sub-function 3 - (name)"]
["Insert measure/s description"]
[]
["Function 2 - (name)"]
["Sub-function 1 - (name)"]
["Insert measure/s description"]
[]
["Sub-function 2 - (name)"]
["Insert measure/s description"]
[]
["Sub-function 3 - (name)"]
["Insert measure/s description"]
[]
["Vote 2 - vote name"]
["Function 1 - (name)"]
["Sub-function 1 - (name)"]
["Insert measure/s description"]
[]
["Sub-function 2 - (name)"]
["Insert measure/s description"]
[]
["Sub-function 3 - (name)"]
["Insert measure/s description"]
[]
["Function 2 - (name)"]
["Sub-function 1 - (name)"]
["Insert measure/s description"]
[]
["Sub-function 2 - (name)"]
["Insert measure/s description"]
[]
["Sub-function 3 - (name)"]
["Insert measure/s description"]
[]
["Vote 3 - vote name"]
["Function 1 - (name)"]
["Sub-function 1 - (name)"]
["Insert measure/s description"]
[]
["Sub-function 2 - (name)"]
["Insert measure/s description"]
[]
["Sub-function 3 - (name)"]
["Insert measure/s description"]
[]
["Function 2 - (name)"]
["Sub-function 1 - (name)"]
["Insert measure/s description"]
[]
["Sub-function 2 - (name)"]
["Insert measure/s description"]
[]
["Sub-function 3 - (name)"]
["Insert measure/s description"]
[]
["And so on for the rest of the Votes"]
["1. Include a measurable performance objective for each revenue source (within a relevant function) and each vote (MFMA s17(3)(b))"]
["2. Include all Basic Services performance targets from 'Basic Service Delivery' to ensure Table SA7 represents all strategic responsibilities"]
["3. Only include prior year comparative information for individual measures where relevant activity occurred in that year/s"]
[]
[{"$f":"muni&\" - \"&\"Entities measureable performance objectives\"","v":"KZN434 Ubuhlebezwe - Entities measureable performance objectives"}]
[{"$f":"A2","v":"Description"},"Unit of measurement",{"$f":"head1b","v":"2016/17"},{"$f":"head1A","v":"2017/18"},{"$f":"Head1","v":"2018/19"},{"$f":"Head2","v":"Current Year 2019/20"},null,null,{"$f":"Head3","v":"2020/21 Medium Term Revenue & Expenditure Framework"}]
[null,null,{"$f":"Head5","v":"Audited Outcome"},{"$f":"Head5","v":"Audited Outcome"},{"$f":"Head5","v":"Audited Outcome"},{"$f":"Head6","v":"Original Budget"},{"$f":"Head7","v":"Adjusted Budget"},{"$f":"Head8","v":"Full Year Forecast"},{"$f":"Head9","v":"Budget Year 2020/21"},{"$f":"Head10","v":"Budget Year +1 2021/22"},{"$f":"Head11","v":"Budget Year +2 2022/23"}]
["Entity 1 - (name of entity)"]
["Insert measure/s description"]
[]
[]
["Entity 2 - (name of entity)"]
[{"$f":"$A$10","v":"Insert measure/s description"}]
[]
[]
["Entity 3 - (name of entity)"]
[{"$f":"$A$10","v":"Insert measure/s description"}]
[]
[]
["And so on for the rest of the Entities"]
["1. Include a measurable performance objective as agreed with the parent municipality (MFMA s87(5)(d))"]
["2. Only include prior year comparative information for individual measures where relevant activity occurred in that year/s"]

{"sheet":"SA8","index":27,"n_rows":49,"n_cols":12,"rows_kept":49,"cut":false,"hidden":false,"merged":[[28,0,30,0],[1,0,2,0],[1,9,1,11],[1,1,2,1],[1,5,1,8],[25,0,27,0]]}
[{"$f":"muni&\" - \"&TableA8","v":"KZN434 Ubuhlebezwe - Supporting Table SA8 Performance indicators and benchmarks"}]
["Description of financial indicator","Basis of calculation",{"$f":"head1b","v":"2016/17"},{"$f":"head1A","v":"2017/18"},{"$f":"Head1","v":"2018/19"},{"$f":"Head2","v":"Current Year 2019/20"},null,null,null,{"$f":"Head3","v":"2020/21 Medium Term Revenue & Expenditure Framework"}]
[null,null,{"$f":"Head5","v":"Audited Outcome"},{"$f":"Head5","v":"Audited Outcome"},{"$f":"Head5","v":"Audited Outcome"},{"$f":"Head6","v":"Original Budget"},{"$f":"Head7","v":"Adjusted Budget"},{"$f":"Head8","v":"Full Year Forecast"},{"$f":"Head5b","v":"Pre-audit outcome"},{"$f":"Head9","v":"Budget Year 2020/21"},{"$f":"Head10","v":"Budget Year +1 2021/22"},{"$f":"Head11","v":"Budget Year +2 2022/23"}]
["Borrowing Management"]
[]
["Credit Rating"]
["Capital Charges to Operating Expenditure","Interest & Principal Paid /Operating Expenditure",{"$f":"IF(ISERROR(('A4-FinPerf RE'!C28-'A7-CFlow'!C35)/'A4-FinPerf RE'!C35),0,(('A4-FinPerf RE'!C28-'A7-CFlow'!C35)/'A4-FinPerf RE'!C35))","v":0},{"$f":"IF(ISERROR(('A4-FinPerf RE'!D28-'A7-CFlow'!D35)/'A4-FinPerf RE'!D35),0,(('A4-FinPerf RE'!D28-'A7-CFlow'!D35)/'A4-FinPerf RE'!D35))","v":2.1364959857477166E-5},{"$f":"IF(ISERROR(('A4-FinPerf RE'!E28-'A7-CFlow'!E35)/'A4-FinPerf RE'!E35),0,(('A4-FinPerf RE'!E28-'A7-CFlow'!E35)/'A4-FinPerf RE'!E35))","v":0},{"$f":"IF(ISERROR(('A4-FinPerf RE'!F28-'A7-CFlow'!F35)/'A4-FinPerf RE'!F35),0,(('A4-FinPerf RE'!F28-'A7-CFlow'!F35)/'A4-FinPerf RE'!F35))","v":0},{"$f":"IF(ISERROR(('A4-FinPerf RE'!G28-'A7-CFlow'!G35)/'A4-FinPerf RE'!G35),0,(('A4-FinPerf RE'!G28-'A7-CFlow'!G35)/'A4-FinPerf RE'!G35))","v":0},{"$f":"IF(ISERROR(('A4-FinPerf RE'!H28-'A7-CFlow'!H35)/'A4-FinPerf RE'!H35),0,(('A4-FinPerf RE'!H28-'A7-CFlow'!H35)/'A4-FinPerf RE'!H35))","v":0},{"$f":"IF(ISERROR(('A4-FinPerf RE'!I28-'A7-CFlow'!I35)/'A4-FinPerf RE'!I35),0,(('A4-FinPerf RE'!I28-'A7-CFlow'!I35)/'A4-FinPerf RE'!I35))","v":0},{"$f":"IF(ISERROR(('A4-FinPerf RE'!J28-'A7-CFlow'!J35)/'A4-FinPerf RE'!J35),0,(('A4-FinPerf RE'!J28-'A7-CFlow'!J35)/'A4-FinPerf RE'!J35))","v":0},{"$f":"IF(ISERROR(('A4-FinPerf RE'!K28-'A7-CFlow'!K35)/'A4-FinPerf RE'!K35),0,(('A4-FinPerf RE'!K28-'A7-CFlow'!K35)/'A4-FinPerf RE'!K35))","v":0},{"$f":"IF(ISERROR(('A4-FinPerf RE'!L28-'A7-CFlow'!L35)/'A4-FinPerf RE'!L35),0,(('A4-FinPerf RE'!L28-'A7-CFlow'!L35)/'A4-FinPerf RE'!L35))","v":0}]
["Capital Charges to Own Revenue","Finance charges & Repayment of borrowing /Own Revenue",{"$f":"IF(ISERROR(('A4-FinPerf RE'!C28-'A7-CFlow'!C35)/('A4-FinPerf RE'!C21-'A4-FinPerf RE'!C18)),0,(('A4-FinPerf RE'!C28-'A7-CFlow'!C35)/('A4-FinPerf RE'!C21-'A4-FinPerf RE'!C18)))","v":0},{"$f":"IF(ISERROR(('A4-FinPerf RE'!D28-'A7-CFlow'!D35)/('A4-FinPerf RE'!D21-'A4-FinPerf RE'!D18)),0,(('A4-FinPerf RE'!D28-'A7-CFlow'!D35)/('A4-FinPerf RE'!D21-'A4-FinPerf RE'!D18)))","v":8.7946549683795824E-5},{"$f":"IF(ISERROR(('A4-FinPerf RE'!E28-'A7-CFlow'!E35)/('A4-FinPerf RE'!E21-'A4-FinPerf RE'!E18)),0,(('A4-FinPerf RE'!E28-'A7-CFlow'!E35)/('A4-FinPerf RE'!E21-'A4-FinPerf RE'!E18)))","v":0},{"$f":"IF(ISERROR(('A4-FinPerf RE'!F28-'A7-CFlow'!F35)/('A4-FinPerf RE'!F21-'A4-FinPerf RE'!F18)),0,(('A4-FinPerf RE'!F28-'A7-CFlow'!F35)/('A4-FinPerf RE'!F21-'A4-FinPerf RE'!F18)))","v":0},{"$f":"IF(ISERROR(('A4-FinPerf RE'!G28-'A7-CFlow'!G35)/('A4-FinPerf RE'!G21-'A4-FinPerf RE'!G18)),0,(('A4-FinPerf RE'!G28-'A7-CFlow'!G35)/('A4-FinPerf RE'!G21-'A4-FinPerf RE'!G18)))","v":0},{"$f":"IF(ISERROR(('A4-FinPerf RE'!H28-'A7-CFlow'!H35)/('A4-FinPerf RE'!H21-'A4-FinPerf RE'!H18)),0,(('A4-FinPerf RE'!H28-'A7-CFlow'!H35)/('A4-FinPerf RE'!H21-'A4-FinPerf RE'!H18)))","v":0},{"$f":"IF(ISERROR(('A4-FinPerf RE'!I28-'A7-CFlow'!I35)/('A4-FinPerf RE'!I21-'A4-FinPerf RE'!I18)),0,(('A4-FinPerf RE'!I28-'A7-CFlow'!I35)/('A4-FinPerf RE'!I21-'A4-FinPerf RE'!I18)))","v":0},{"$f":"IF(ISERROR(('A4-FinPerf RE'!J28-'A7-CFlow'!J35)/('A4-FinPerf RE'!J21-'A4-FinPerf RE'!J18)),0,(('A4-FinPerf RE'!J28-'A7-CFlow'!J35)/('A4-FinPerf RE'!J21-'A4-FinPerf RE'!J18)))","v":0},{"$f":"IF(ISERROR(('A4-FinPerf RE'!K28-'A7-CFlow'!K35)/('A4-FinPerf RE'!K21-'A4-FinPerf RE'!K18)),0,(('A4-FinPerf RE'!K28-'A7-CFlow'!K35)/('A4-FinPerf RE'!K21-'A4-FinPerf RE'!K18)))","v":0},{"$f":"IF(ISERROR(('A4-FinPerf RE'!L28-'A7-CFlow'!L35)/('A4-FinPerf RE'!L21-'A4-FinPerf RE'!L18)),0,(('A4-FinPerf RE'!L28-'A7-CFlow'!L35)/('A4-FinPerf RE'!L21-'A4-FinPerf RE'!L18)))","v":0}]
["Borrowed funding of 'own' capital expenditure","Borrowing/Capital expenditure excl. transfers and grants and contributions",{"$f":"IF(ISERROR(C49/C48),0,(C49/C48))","v":0},{"$f":"IF(ISERROR(D49/D48),0,(D49/D48))","v":0},{"$f":"IF(ISERROR(E49/E48),0,(E49/E48))","v":0},0,0,0,0,0,0,0]
["Safety of Capital"]
["Gearing","Long Term Borrowing/ Funds & Reserves",{"$f":"IF(ISERROR(('A6-FinPos'!C37/'A6-FinPos'!C46)),0,(('A6-FinPos'!C37/'A6-FinPos'!C46)))","v":0},{"$f":"IF(ISERROR(('A6-FinPos'!D37/'A6-FinPos'!D46)),0,(('A6-FinPos'!D37/'A6-FinPos'!D46)))","v":0},{"$f":"IF(ISERROR(('A6-FinPos'!E37/'A6-FinPos'!E46)),0,(('A6-FinPos'!E37/'A6-FinPos'!E46)))","v":0},{"$f":"IF(ISERROR(('A6-FinPos'!F37/'A6-FinPos'!F46)),0,(('A6-FinPos'!F37/'A6-FinPos'!F46)))","v":0},{"$f":"IF(ISERROR(('A6-FinPos'!G37/'A6-FinPos'!G46)),0,(('A6-FinPos'!G37/'A6-FinPos'!G46)))","v":0},{"$f":"IF(ISERROR(('A6-FinPos'!H37/'A6-FinPos'!H46)),0,(('A6-FinPos'!H37/'A6-FinPos'!H46)))","v":0},{"$f":"IF(ISERROR(('A6-FinPos'!I37/'A6-FinPos'!I46)),0,(('A6-FinPos'!I37/'A6-FinPos'!I46)))","v":0},{"$f":"IF(ISERROR(('A6-FinPos'!J37/'A6-FinPos'!J46)),0,(('A6-FinPos'!J37/'A6-FinPos'!J46)))","v":0},{"$f":"IF(ISERROR(('A6-FinPos'!K37/'A6-FinPos'!K46)),0,(('A6-FinPos'!K37/'A6-FinPos'!K46)))","v":0},{"$f":"IF(ISERROR(('A6-FinPos'!L37/'A6-FinPos'!L46)),0,(('A6-FinPos'!L37/'A6-FinPos'!L46)))","v":0}]
["Liquidity"]
["Current Ratio","Current assets/current liabilities",{"$f":"IF(ISERROR('A6-FinPos'!C12/'A6-FinPos'!C34),0,('A6-FinPos'!C12/'A6-FinPos'!C34))","v":3.5973616805562116},{"$f":"IF(ISERROR('A6-FinPos'!D12/'A6-FinPos'!D34),0,('A6-FinPos'!D12/'A6-FinPos'!D34))","v":1.6342436749169529},{"$f":"IF(ISERROR('A6-FinPos'!E12/'A6-FinPos'!E34),0,('A6-FinPos'!E12/'A6-FinPos'!E34))","v":5.1615410568624354},{"$f":"IF(ISERROR('A6-FinPos'!F12/'A6-FinPos'!F34),0,('A6-FinPos'!F12/'A6-FinPos'!F34))","v":-3.8517476519199345},{"$f":"IF(ISERROR('A6-FinPos'!G12/'A6-FinPos'!G34),0,('A6-FinPos'!G12/'A6-FinPos'!G34))","v":6.024264708433722},{"$f":"IF(ISERROR('A6-FinPos'!H12/'A6-FinPos'!H34),0,('A6-FinPos'!H12/'A6-FinPos'!H34))","v":6.024264708433722},{"$f":"IF(ISERROR('A6-FinPos'!I12/'A6-FinPos'!I34),0,('A6-FinPos'!I12/'A6-FinPos'!I34))","v":6.1113029249531969},{"$f":"IF(ISERROR('A6-FinPos'!J12/'A6-FinPos'!J34),0,('A6-FinPos'!J12/'A6-FinPos'!J34))","v":5.9136421731124669},{"$f":"IF(ISERROR('A6-FinPos'!K12/'A6-FinPos'!K34),0,('A6-FinPos'!K12/'A6-FinPos'!K34))","v":5.9225788452102481},{"$f":"IF(ISERROR('A6-FinPos'!L12/'A6-FinPos'!L34),0,('A6-FinPos'!L12/'A6-FinPos'!L34))","v":5.9311560116596738}]
["Current Ratio adjusted for aged debtors","Current assets less debtors > 90 days/current liabilities",{"$f":"IF(ISERROR(('A6-FinPos'!C12-'SA8'!C45)/'A6-FinPos'!C34),0,(('A6-FinPos'!C12-'SA8'!C45)/'A6-FinPos'!C34))","v":3.5973616805562116},{"$f":"IF(ISERROR(('A6-FinPos'!D12-'SA8'!D45)/'A6-FinPos'!D34),0,(('A6-FinPos'!D12-'SA8'!D45)/'A6-FinPos'!D34))","v":1.6342436749169529},{"$f":"IF(ISERROR(('A6-FinPos'!E12-'SA8'!E45)/'A6-FinPos'!E34),0,(('A6-FinPos'!E12-'SA8'!E45)/'A6-FinPos'!E34))","v":5.1615410568624354},{"$f":"IF(ISERROR(('A6-FinPos'!F12-'SA8'!F45)/'A6-FinPos'!F34),0,(('A6-FinPos'!F12-'SA8'!F45)/'A6-FinPos'!F34))","v":-3.8517476519199345},{"$f":"IF(ISERROR(('A6-FinPos'!G12-'SA8'!G45)/'A6-FinPos'!G34),0,(('A6-FinPos'!G12-'SA8'!G45)/'A6-FinPos'!G34))","v":6.024264708433722},{"$f":"IF(ISERROR(('A6-FinPos'!H12-'SA8'!H45)/'A6-FinPos'!H34),0,(('A6-FinPos'!H12-'SA8'!H45)/'A6-FinPos'!H34))","v":6.024264708433722},{"$f":"IF(ISERROR(('A6-FinPos'!I12-'SA8'!I45)/'A6-FinPos'!I34),0,(('A6-FinPos'!I12-'SA8'!I45)/'A6-FinPos'!I34))","v":6.1113029249531969},{"$f":"IF(ISERROR(('A6-FinPos'!J12-'SA8'!J45)/'A6-FinPos'!J34),0,(('A6-FinPos'!J12-'SA8'!J45)/'A6-FinPos'!J34))","v":5.9136421731124669},{"$f":"IF(ISERROR(('A6-FinPos'!K12-'SA8'!K45)/'A6-FinPos'!K34),0,(('A6-FinPos'!K12-'SA8'!K45)/'A6-FinPos'!K34))","v":5.9225788452102481},{"$f":"IF(ISERROR(('A6-FinPos'!L12-'SA8'!L45)/'A6-FinPos'!L34),0,(('A6-FinPos'!L12-'SA8'!L45)/'A6-FinPos'!L34))","v":5.9311560116596738}]
["Liquidity Ratio","Monetary Assets/Current Liabilities",{"$f":"IF(ISERROR(('A6-FinPos'!C6+'A6-FinPos'!C7)/'A6-FinPos'!C34),0,(('A6-FinPos'!C6+'A6-FinPos'!C7)/'A6-FinPos'!C34))","v":3.1480319777749539},{"$f":"IF(ISERROR(('A6-FinPos'!D6+'A6-FinPos'!D7)/'A6-FinPos'!D34),0,(('A6-FinPos'!D6+'A6-FinPos'!D7)/'A6-FinPos'!D34))","v":1.6342436749169529},{"$f":"IF(ISERROR(('A6-FinPos'!E6+'A6-FinPos'!E7)/'A6-FinPos'!E34),0,(('A6-FinPos'!E6+'A6-FinPos'!E7)/'A6-FinPos'!E34))","v":3.9956004312924454},{"$f":"IF(ISERROR(('A6-FinPos'!F6+'A6-FinPos'!F7)/'A6-FinPos'!F34),0,(('A6-FinPos'!F6+'A6-FinPos'!F7)/'A6-FinPos'!F34))","v":-3.8517476519199345},{"$f":"IF(ISERROR(('A6-FinPos'!G6+'A6-FinPos'!G7)/'A6-FinPos'!G34),0,(('A6-FinPos'!G6+'A6-FinPos'!G7)/'A6-FinPos'!G34))","v":5.1375334210227699},{"$f":"IF(ISERROR(('A6-FinPos'!H6+'A6-FinPos'!H7)/'A6-FinPos'!H34),0,(('A6-FinPos'!H6+'A6-FinPos'!H7)/'A6-FinPos'!H34))","v":5.1375334210227699},{"$f":"IF(ISERROR(('A6-FinPos'!I6+'A6-FinPos'!I7)/'A6-FinPos'!I34),0,(('A6-FinPos'!I6+'A6-FinPos'!I7)/'A6-FinPos'!I34))","v":5.1375334210227699},{"$f":"IF(ISERROR(('A6-FinPos'!J6+'A6-FinPos'!J7)/'A6-FinPos'!J34),0,(('A6-FinPos'!J6+'A6-FinPos'!J7)/'A6-FinPos'!J34))","v":4.5456195749228883},{"$f":"IF(ISERROR(('A6-FinPos'!K6+'A6-FinPos'!K7)/'A6-FinPos'!K34),0,(('A6-FinPos'!K6+'A6-FinPos'!K7)/'A6-FinPos'!K34))","v":4.5524888968116963},{"$f":"IF(ISERROR(('A6-FinPos'!L6+'A6-FinPos'!L7)/'A6-FinPos'!L34),0,(('A6-FinPos'!L6+'A6-FinPos'!L7)/'A6-FinPos'!L34))","v":4.5590818786946983}]
["Revenue Management"]
["Annual Debtors Collection Rate (Payment Level %)","Last 12 Mths Receipts/Last 12 Mths Billing",null,{"$f":"IF(ISERROR(('A7-CFlow'!C6+'A7-CFlow'!C7+'A7-CFlow'!C22+'A7-CFlow'!C23)/SUM('A4-FinPerf RE'!C5:C10)),0,('A7-CFlow'!C6+'A7-CFlow'!C7+'A7-CFlow'!C22+'A7-CFlow'!C23)/(SUM('A4-FinPerf RE'!C5:C10)))","v":1},{"$f":"IF(ISERROR(('A7-CFlow'!D6+'A7-CFlow'!D7+'A7-CFlow'!D22+'A7-CFlow'!D23)/SUM('A4-FinPerf RE'!D5:D10)),0,('A7-CFlow'!D6+'A7-CFlow'!D7+'A7-CFlow'!D22+'A7-CFlow'!D23)/(SUM('A4-FinPerf RE'!D5:D10)))","v":0.96971093424112231},{"$f":"IF(ISERROR(('A7-CFlow'!E6+'A7-CFlow'!E7+'A7-CFlow'!E22+'A7-CFlow'!E23)/SUM('A4-FinPerf RE'!E5:E10)),0,('A7-CFlow'!E6+'A7-CFlow'!E7+'A7-CFlow'!E22+'A7-CFlow'!E23)/(SUM('A4-FinPerf RE'!E5:E10)))","v":0.54649632950138338},{"$f":"IF(ISERROR(('A7-CFlow'!F6+'A7-CFlow'!F7+'A7-CFlow'!F22+'A7-CFlow'!F23)/SUM('A4-FinPerf RE'!F5:F10)),0,('A7-CFlow'!F6+'A7-CFlow'!F7+'A7-CFlow'!F22+'A7-CFlow'!F23)/(SUM('A4-FinPerf RE'!F5:F10)))","v":0.9999976384245558},{"$f":"IF(ISERROR(('A7-CFlow'!G6+'A7-CFlow'!G7+'A7-CFlow'!G22+'A7-CFlow'!G23)/SUM('A4-FinPerf RE'!G5:G10)),0,('A7-CFlow'!G6+'A7-CFlow'!G7+'A7-CFlow'!G22+'A7-CFlow'!G23)/(SUM('A4-FinPerf RE'!G5:G10)))","v":0.78152631580797216},{"$f":"IF(ISERROR(('A7-CFlow'!H6+'A7-CFlow'!H7+'A7-CFlow'!H22+'A7-CFlow'!H23)/SUM('A4-FinPerf RE'!H5:H10)),0,('A7-CFlow'!H6+'A7-CFlow'!H7+'A7-CFlow'!H22+'A7-CFlow'!H23)/(SUM('A4-FinPerf RE'!H5:H10)))","v":0.78152631580797216},{"$f":"IF(ISERROR(('A7-CFlow'!I6+'A7-CFlow'!I7+'A7-CFlow'!I22+'A7-CFlow'!I23)/SUM('A4-FinPerf RE'!I5:I10)),0,('A7-CFlow'!I6+'A7-CFlow'!I7+'A7-CFlow'!I22+'A7-CFlow'!I23)/(SUM('A4-FinPerf RE'!I5:I10)))","v":0.78152631580797216},{"$f":"IF(ISERROR(('A7-CFlow'!J6+'A7-CFlow'!J7+'A7-CFlow'!J22+'A7-CFlow'!J23)/SUM('A4-FinPerf RE'!J5:J10)),0,('A7-CFlow'!J6+'A7-CFlow'!J7+'A7-CFlow'!J22+'A7-CFlow'!J23)/(SUM('A4-FinPerf RE'!J5:J10)))","v":0.50765366935011358},{"$f":"IF(ISERROR(('A7-CFlow'!K6+'A7-CFlow'!K7+'A7-CFlow'!K22+'A7-CFlow'!K23)/SUM('A4-FinPerf RE'!K5:K10)),0,('A7-CFlow'!K6+'A7-CFlow'!K7+'A7-CFlow'!K22+'A7-CFlow'!K23)/(SUM('A4-FinPerf RE'!K5:K10)))","v":0.51202580634843153}]
["Current Debtors Collection Rate (Cash receipts % of Ratepayer & Other revenue)",null,{"$f":"IF(ISERROR(('A7-CFlow'!C6+'A7-CFlow'!C7)/SUM('A4-FinPerf RE'!C5:C10)),0,(('A7-CFlow'!C6+'A7-CFlow'!C7)/SUM('A4-FinPerf RE'!C5:C10)))","v":1},{"$f":"IF(ISERROR(('A7-CFlow'!D6+'A7-CFlow'!D7)/SUM('A4-FinPerf RE'!D5:D10)),0,(('A7-CFlow'!D6+'A7-CFlow'!D7)/SUM('A4-FinPerf RE'!D5:D10)))","v":0.96971093424112231},{"$f":"IF(ISERROR(('A7-CFlow'!E6+'A7-CFlow'!E7)/SUM('A4-FinPerf RE'!E5:E10)),0,(('A7-CFlow'!E6+'A7-CFlow'!E7)/SUM('A4-FinPerf RE'!E5:E10)))","v":0.54649632950138338},{"$f":"IF(ISERROR(('A7-CFlow'!F6+'A7-CFlow'!F7)/SUM('A4-FinPerf RE'!F5:F10)),0,(('A7-CFlow'!F6+'A7-CFlow'!F7)/SUM('A4-FinPerf RE'!F5:F10)))","v":0.9999976384245558},{"$f":"IF(ISERROR(('A7-CFlow'!G6+'A7-CFlow'!G7)/SUM('A4-FinPerf RE'!G5:G10)),0,(('A7-CFlow'!G6+'A7-CFlow'!G7)/SUM('A4-FinPerf RE'!G5:G10)))","v":0.78152631580797216},{"$f":"IF(ISERROR(('A7-CFlow'!H6+'A7-CFlow'!H7)/SUM('A4-FinPerf RE'!H5:H10)),0,(('A7-CFlow'!H6+'A7-CFlow'!H7)/SUM('A4-FinPerf RE'!H5:H10)))","v":0.78152631580797216},{"$f":"IF(ISERROR(('A7-CFlow'!I6+'A7-CFlow'!I7)/SUM('A4-FinPerf RE'!I5:I10)),0,(('A7-CFlow'!I6+'A7-CFlow'!I7)/SUM('A4-FinPerf RE'!I5:I10)))","v":0.78152631580797216},{"$f":"IF(ISERROR(('A7-CFlow'!J6+'A7-CFlow'!J7)/SUM('A4-FinPerf RE'!J5:J10)),0,(('A7-CFlow'!J6+'A7-CFlow'!J7)/SUM('A4-FinPerf RE'!J5:J10)))","v":0.50765366935011358},{"$f":"IF(ISERROR(('A7-CFlow'!K6+'A7-CFlow'!K7)/SUM('A4-FinPerf RE'!K5:K10)),0,(('A7-CFlow'!K6+'A7-CFlow'!K7)/SUM('A4-FinPerf RE'!K5:K10)))","v":0.51202580634843153},{"$f":"IF(ISERROR(('A7-CFlow'!L6+'A7-CFlow'!L7)/SUM('A4-FinPerf RE'!L5:L10)),0,(('A7-CFlow'!L6+'A7-CFlow'!L7)/SUM('A4-FinPerf RE'!L5:L10)))","v":0.51692557466201228}]
["Outstanding Debtors to Revenue","Total Outstanding Debtors to Annual Revenue",{"$f":"IF(ISERROR(('A6-FinPos'!C8+'A6-FinPos'!C9+'A6-FinPos'!C10+'A6-FinPos'!C15)/'A4-FinPerf RE'!C21),0,(('A6-FinPos'!C8+'A6-FinPos'!C9+'A6-FinPos'!C10+'A6-FinPos'!C15)/'A4-FinPerf RE'!C21))","v":0.10944768351513241},{"$f":"IF(ISERROR(('A6-FinPos'!D8+'A6-FinPos'!D9+'A6-FinPos'!D10+'A6-FinPos'!D15)/'A4-FinPerf RE'!D21),0,(('A6-FinPos'!D8+'A6-FinPos'!D9+'A6-FinPos'!D10+'A6-FinPos'!D15)/'A4-FinPerf RE'!D21))","v":0},{"$f":"IF(ISERROR(('A6-FinPos'!E8+'A6-FinPos'!E9+'A6-FinPos'!E10+'A6-FinPos'!E15)/'A4-FinPerf RE'!E21),0,(('A6-FinPos'!E8+'A6-FinPos'!E9+'A6-FinPos'!E10+'A6-FinPos'!E15)/'A4-FinPerf RE'!E21))","v":0.14478630782571367},{"$f":"IF(ISERROR(('A6-FinPos'!F8+'A6-FinPos'!F9+'A6-FinPos'!F10+'A6-FinPos'!F15)/'A4-FinPerf RE'!F21),0,(('A6-FinPos'!F8+'A6-FinPos'!F9+'A6-FinPos'!F10+'A6-FinPos'!F15)/'A4-FinPerf RE'!F21))","v":0},{"$f":"IF(ISERROR(('A6-FinPos'!G8+'A6-FinPos'!G9+'A6-FinPos'!G10+'A6-FinPos'!G15)/'A4-FinPerf RE'!G21),0,(('A6-FinPos'!G8+'A6-FinPos'!G9+'A6-FinPos'!G10+'A6-FinPos'!G15)/'A4-FinPerf RE'!G21))","v":0.1840971063928796},{"$f":"IF(ISERROR(('A6-FinPos'!H8+'A6-FinPos'!H9+'A6-FinPos'!H10+'A6-FinPos'!H15)/'A4-FinPerf RE'!H21),0,(('A6-FinPos'!H8+'A6-FinPos'!H9+'A6-FinPos'!H10+'A6-FinPos'!H15)/'A4-FinPerf RE'!H21))","v":0.1840971063928796},{"$f":"IF(ISERROR(('A6-FinPos'!I8+'A6-FinPos'!I9+'A6-FinPos'!I10+'A6-FinPos'!I15)/'A4-FinPerf RE'!I21),0,(('A6-FinPos'!I8+'A6-FinPos'!I9+'A6-FinPos'!I10+'A6-FinPos'!I15)/'A4-FinPerf RE'!I21))","v":0.1840971063928796},{"$f":"IF(ISERROR(('A6-FinPos'!J8+'A6-FinPos'!J9+'A6-FinPos'!J10+'A6-FinPos'!J15)/'A4-FinPerf RE'!J21),0,(('A6-FinPos'!J8+'A6-FinPos'!J9+'A6-FinPos'!J10+'A6-FinPos'!J15)/'A4-FinPerf RE'!J21))","v":0.24509497608325109},{"$f":"IF(ISERROR(('A6-FinPos'!K8+'A6-FinPos'!K9+'A6-FinPos'!K10+'A6-FinPos'!K15)/'A4-FinPerf RE'!K21),0,(('A6-FinPos'!K8+'A6-FinPos'!K9+'A6-FinPos'!K10+'A6-FinPos'!K15)/'A4-FinPerf RE'!K21))","v":0.24508485691929011},{"$f":"IF(ISERROR(('A6-FinPos'!L8+'A6-FinPos'!L9+'A6-FinPos'!L10+'A6-FinPos'!L15)/'A4-FinPerf RE'!L21),0,(('A6-FinPos'!L8+'A6-FinPos'!L9+'A6-FinPos'!L10+'A6-FinPos'!L15)/'A4-FinPerf RE'!L21))","v":0.24507490843251134}]
["Longstanding Debtors Recovered","Debtors > 12 Mths Recovered/Total Debtors > 12 Months Old"]
["Creditors Management"]
["Creditors System Efficiency","% of Creditors Paid Within Terms (within`MFMA' s 65(e))"]
["Creditors to Cash and Investments",null,{"$f":"IF(ISERROR('SA3'!C35/'A7-CFlow'!C40),0,('SA3'!C35/'A7-CFlow'!C40))","v":0.22561470584364718},{"$f":"IF(ISERROR('SA3'!D35/'A7-CFlow'!D40),0,('SA3'!D35/'A7-CFlow'!D40))","v":9.4974631270451013E-2},{"$f":"IF(ISERROR('SA3'!E35/'A7-CFlow'!E40),0,('SA3'!E35/'A7-CFlow'!E40))","v":0},{"$f":"IF(ISERROR('SA3'!F35/'A7-CFlow'!F40),0,('SA3'!F35/'A7-CFlow'!F40))","v":-6.0705523681142348E-2},{"$f":"IF(ISERROR('SA3'!G35/'A7-CFlow'!G40),0,('SA3'!G35/'A7-CFlow'!G40))","v":0.10562543820398174},{"$f":"IF(ISERROR('SA3'!H35/'A7-CFlow'!H40),0,('SA3'!H35/'A7-CFlow'!H40))","v":0.13871358846759302},{"$f":"IF(ISERROR('SA3'!I35/'A7-CFlow'!I40),0,('SA3'!I35/'A7-CFlow'!I40))","v":0.19802572240408656},{"$f":"IF(ISERROR('SA3'!J35/'A7-CFlow'!J40),0,('SA3'!J35/'A7-CFlow'!J40))","v":0.19673962833731476},{"$f":"IF(ISERROR('SA3'!K35/'A7-CFlow'!K40),0,('SA3'!K35/'A7-CFlow'!K40))","v":0.20877280577875656},{"$f":"IF(ISERROR('SA3'!L35/'A7-CFlow'!L40),0,('SA3'!L35/'A7-CFlow'!L40))","v":0.21990653838215524}]
[]
["Other Indicators"]
["Electricity Distribution Losses (2)","Total Volume Losses (kW)"]
[null,"Total Cost of Losses (Rand '000)"]
[null,"% Volume (units purchased and generated less units sold)/units purchased and generated"]
["Water Distribution Losses (2)","Total Volume Losses (kℓ)"]
[null,"Total Cost of Losses (Rand '000)"]
[null,"% Volume (units purchased and generated less units sold)/units purchased and generated"]
["Employee costs","Employee costs/(Total Revenue - capital revenue)",{"$f":"IF(ISERROR('A4-FinPerf RE'!C24/'A4-FinPerf RE'!C21),0,('A4-FinPerf RE'!C24/'A4-FinPerf RE'!C21))","v":0.4029605677930696},{"$f":"IF(ISERROR('A4-FinPerf RE'!D24/'A4-FinPerf RE'!D21),0,('A4-FinPerf RE'!D24/'A4-FinPerf RE'!D21))","v":0.47809829857934905},{"$f":"IF(ISERROR('A4-FinPerf RE'!E24/'A4-FinPerf RE'!E21),0,('A4-FinPerf RE'!E24/'A4-FinPerf RE'!E21))","v":0.35926778600889631},{"$f":"IF(ISERROR('A4-FinPerf RE'!F24/'A4-FinPerf RE'!F21),0,('A4-FinPerf RE'!F24/'A4-FinPerf RE'!F21))","v":0.33013212967946209},{"$f":"IF(ISERROR('A4-FinPerf RE'!G24/'A4-FinPerf RE'!G21),0,('A4-FinPerf RE'!G24/'A4-FinPerf RE'!G21))","v":0.4845754804048143},{"$f":"IF(ISERROR('A4-FinPerf RE'!H24/'A4-FinPerf RE'!H21),0,('A4-FinPerf RE'!H24/'A4-FinPerf RE'!H21))","v":0.4845754804048143},{"$f":"IF(ISERROR('A4-FinPerf RE'!I24/'A4-FinPerf RE'!I21),0,('A4-FinPerf RE'!I24/'A4-FinPerf RE'!I21))","v":0.4845754804048143},{"$f":"IF(ISERROR('A4-FinPerf RE'!J24/'A4-FinPerf RE'!J21),0,('A4-FinPerf RE'!J24/'A4-FinPerf RE'!J21))","v":0.50311303725642753},{"$f":"IF(ISERROR('A4-FinPerf RE'!K24/'A4-FinPerf RE'!K21),0,('A4-FinPerf RE'!K24/'A4-FinPerf RE'!K21))","v":0.49231106113993417},{"$f":"IF(ISERROR('A4-FinPerf RE'!L24/'A4-FinPerf RE'!L21),0,('A4-FinPerf RE'!L24/'A4-FinPerf RE'!L21))","v":0.49276216909167508}]
["Remuneration","Total remuneration/(Total Revenue - capital revenue)",{"$f":"IF(ISERROR('SA22'!C102/'A4-FinPerf RE'!C21),0,('SA22'!C102/'A4-FinPerf RE'!C21))","v":0.49850883651882544},{"$f":"IF(ISERROR('SA22'!D102/'A4-FinPerf RE'!D21),0,('SA22'!D102/'A4-FinPerf RE'!D21))","v":0.59143773985325587},{"$f":"IF(ISERROR('SA22'!E102/'A4-FinPerf RE'!E21),0,('SA22'!E102/'A4-FinPerf RE'!E21))","v":0.41519915232386118},{"$f":"IF(ISERROR('SA22'!F102/'A4-FinPerf RE'!F21),0,('SA22'!F102/'A4-FinPerf RE'!F21))","v":0.37729834696973857},{"$f":"IF(ISERROR('SA22'!G102/'A4-FinPerf RE'!G21),0,('SA22'!G102/'A4-FinPerf RE'!G21))","v":0.55342096009782993},{"$f":"IF(ISERROR('SA22'!H102/'A4-FinPerf RE'!H21),0,('SA22'!H102/'A4-FinPerf RE'!H21))","v":0.55342096009782993},null,{"$f":"IF(ISERROR('SA22'!I102/'A4-FinPerf RE'!J21),0,('SA22'!I102/'A4-FinPerf RE'!J21))","v":0.56895177598066893},{"$f":"IF(ISERROR('SA22'!J102/'A4-FinPerf RE'!K21),0,('SA22'!J102/'A4-FinPerf RE'!K21))","v":0.55821008253762194},{"$f":"IF(ISERROR('SA22'!K102/'A4-FinPerf RE'!L21),0,('SA22'!K102/'A4-FinPerf RE'!L21))","v":0.558721574299609}]
["Repairs & Maintenance","R&M/(Total Revenue excluding capital revenue)",{"$f":"IF(ISERROR('A9-Asset'!C169/'A4-FinPerf RE'!C21),0,('A9-Asset'!C169/'A4-FinPerf RE'!C21))","v":5.52757806940806E-3},{"$f":"IF(ISERROR('A9-Asset'!D169/'A4-FinPerf RE'!D21),0,('A9-Asset'!D169/'A4-FinPerf RE'!D21))","v":5.5085596155341207E-3},{"$f":"IF(ISERROR('A9-Asset'!E169/'A4-FinPerf RE'!E21),0,('A9-Asset'!E169/'A4-FinPerf RE'!E21))","v":3.0480307985185045E-3},{"$f":"IF(ISERROR('A9-Asset'!F169/'A4-FinPerf RE'!F21),0,('A9-Asset'!F169/'A4-FinPerf RE'!F21))","v":5.0554089685692872E-3},{"$f":"IF(ISERROR('A9-Asset'!G169/'A4-FinPerf RE'!G21),0,('A9-Asset'!G169/'A4-FinPerf RE'!G21))","v":8.4988318976077469E-3},{"$f":"IF(ISERROR('A9-Asset'!H169/'A4-FinPerf RE'!H21),0,('A9-Asset'!H169/'A4-FinPerf RE'!H21))","v":8.4988318976077469E-3},null,{"$f":"IF(ISERROR('A9-Asset'!I169/'A4-FinPerf RE'!J21),0,('A9-Asset'!I169/'A4-FinPerf RE'!J21))","v":8.4948662471850088E-3},{"$f":"IF(ISERROR('A9-Asset'!J169/'A4-FinPerf RE'!K21),0,('A9-Asset'!J169/'A4-FinPerf RE'!K21))","v":8.5026442277132495E-3},{"$f":"IF(ISERROR('A9-Asset'!K169/'A4-FinPerf RE'!L21),0,('A9-Asset'!K169/'A4-FinPerf RE'!L21))","v":8.5104352347226513E-3}]
["Finance charges & Depreciation","FC&D/(Total Revenue - capital revenue)",{"$f":"IF(ISERROR(('A4-FinPerf RE'!C28+'A4-FinPerf RE'!C27)/'A4-FinPerf RE'!C21),0,(('A4-FinPerf RE'!C28+'A4-FinPerf RE'!C27)/'A4-FinPerf RE'!C21))","v":0.15383070769970861},{"$f":"IF(ISERROR(('A4-FinPerf RE'!D28+'A4-FinPerf RE'!D27)/'A4-FinPerf RE'!D21),0,(('A4-FinPerf RE'!D28+'A4-FinPerf RE'!D27)/'A4-FinPerf RE'!D21))","v":0.16166935700271765},{"$f":"IF(ISERROR(('A4-FinPerf RE'!E28+'A4-FinPerf RE'!E27)/'A4-FinPerf RE'!E21),0,(('A4-FinPerf RE'!E28+'A4-FinPerf RE'!E27)/'A4-FinPerf RE'!E21))","v":0.10589068840701331},{"$f":"IF(ISERROR(('A4-FinPerf RE'!F28+'A4-FinPerf RE'!F27)/'A4-FinPerf RE'!F21),0,(('A4-FinPerf RE'!F28+'A4-FinPerf RE'!F27)/'A4-FinPerf RE'!F21))","v":8.5240163719522602E-2},{"$f":"IF(ISERROR(('A4-FinPerf RE'!G28+'A4-FinPerf RE'!G27)/'A4-FinPerf RE'!G21),0,(('A4-FinPerf RE'!G28+'A4-FinPerf RE'!G27)/'A4-FinPerf RE'!G21))","v":0.13686150401994093},{"$f":"IF(ISERROR(('A4-FinPerf RE'!H28+'A4-FinPerf RE'!H27)/'A4-FinPerf RE'!H21),0,(('A4-FinPerf RE'!H28+'A4-FinPerf RE'!H27)/'A4-FinPerf RE'!H21))","v":0.13686150401994093},{"$f":"IF(ISERROR(('A4-FinPerf RE'!I28+'A4-FinPerf RE'!I27)/'A4-FinPerf RE'!I21),0,(('A4-FinPerf RE'!I28+'A4-FinPerf RE'!I27)/'A4-FinPerf RE'!I21))","v":0.13686150401994093},{"$f":"IF(ISERROR(('A4-FinPerf RE'!J28+'A4-FinPerf RE'!J27)/'A4-FinPerf RE'!J21),0,(('A4-FinPerf RE'!J28+'A4-FinPerf RE'!J27)/'A4-FinPerf RE'!J21))","v":0.13797589672021965},{"$f":"IF(ISERROR(('A4-FinPerf RE'!K28+'A4-FinPerf RE'!K27)/'A4-FinPerf RE'!K21),0,(('A4-FinPerf RE'!K28+'A4-FinPerf RE'!K27)/'A4-FinPerf RE'!K21))","v":0.13810222899280897},{"$f":"IF(ISERROR(('A4-FinPerf RE'!L28+'A4-FinPerf RE'!L27)/'A4-FinPerf RE'!L21),0,(('A4-FinPerf RE'!L28+'A4-FinPerf RE'!L27)/'A4-FinPerf RE'!L21))","v":0.13822877309234843}]
["IDP regulation financial viability indicators"]
["i. Debt coverage","(Total Operating Revenue - Operating Grants)/Debt service payments due within financial year)",{"$f":"IF(ISERROR(('A4-FinPerf RE'!C21-'A4-FinPerf RE'!C18)/('A7-CFlow'!D11-'A7-CFlow'!D35)),0,(('A4-FinPerf RE'!C21-'A4-FinPerf RE'!C18)/('A7-CFlow'!D11-'A7-CFlow'!D35)))","v":3.2809208878282283},{"$f":"IF(ISERROR(('A4-FinPerf RE'!D21-'A4-FinPerf RE'!D18)/('A7-CFlow'!E11-'A7-CFlow'!E35)),0,(('A4-FinPerf RE'!D21-'A4-FinPerf RE'!D18)/('A7-CFlow'!E11-'A7-CFlow'!E35)))","v":2.5979416},{"$f":"IF(ISERROR(('A4-FinPerf RE'!E21-'A4-FinPerf RE'!E18)/('A7-CFlow'!F11-'A7-CFlow'!F35)),0,(('A4-FinPerf RE'!E21-'A4-FinPerf RE'!E18)/('A7-CFlow'!F11-'A7-CFlow'!F35)))","v":2.9214446249999999},{"$f":"IF(ISERROR(('A4-FinPerf RE'!F21-'A4-FinPerf RE'!F18)/('A7-CFlow'!G11-'A7-CFlow'!G35)),0,(('A4-FinPerf RE'!F21-'A4-FinPerf RE'!F18)/('A7-CFlow'!G11-'A7-CFlow'!G35)))","v":3.6803589269230779},{"$f":"F37","v":3.6803589269230779},{"$f":"G37","v":3.6803589269230779},{"$f":"IF(ISERROR(('A4-FinPerf RE'!I21-'A4-FinPerf RE'!I18)/('A7-CFlow'!J11-'A7-CFlow'!J35)),0,(('A4-FinPerf RE'!I21-'A4-FinPerf RE'!I18)/('A7-CFlow'!J11-'A7-CFlow'!J35)))","v":3.7870555274999984},{"$f":"IF(ISERROR(('A4-FinPerf RE'!J21-'A4-FinPerf RE'!J18)/('A7-CFlow'!K11-'A7-CFlow'!K35)),0,(('A4-FinPerf RE'!J21-'A4-FinPerf RE'!J18)/('A7-CFlow'!K11-'A7-CFlow'!K35)))","v":3.6678898580542261},{"$f":"IF(ISERROR(('A4-FinPerf RE'!K21-'A4-FinPerf RE'!K18)/('A7-CFlow'!L11-'A7-CFlow'!L35)),0,(('A4-FinPerf RE'!K21-'A4-FinPerf RE'!K18)/('A7-CFlow'!L11-'A7-CFlow'!L35)))","v":3.6684431962943465},{"$f":"IF(ISERROR(('A4-FinPerf RE'!L21-'A4-FinPerf RE'!L18)/('A7-CFlow'!L11-'A7-CFlow'!L35)),0,(('A4-FinPerf RE'!L21-'A4-FinPerf RE'!L18)/('A7-CFlow'!L11-'A7-CFlow'!L35)))","v":3.8340916721476161}]
["ii.O/S Service Debtors to Revenue","Total outstanding service debtors/annual revenue received for services",{"$f":"IF(ISERROR(('A6-FinPos'!C8+'A6-FinPos'!C9+'A6-FinPos'!C10)/SUM('A4-FinPerf RE'!C5:C11)),0,(('A6-FinPos'!C8+'A6-FinPos'!C9+'A6-FinPos'!C10)/SUM('A4-FinPerf RE'!C5:C11)))","v":0.89582779259157919},{"$f":"IF(ISERROR(('A6-FinPos'!D8+'A6-FinPos'!D9+'A6-FinPos'!D10)/SUM('A4-FinPerf RE'!D5:D11)),0,(('A6-FinPos'!D8+'A6-FinPos'!D9+'A6-FinPos'!D10)/SUM('A4-FinPerf RE'!D5:D11)))","v":0},{"$f":"IF(ISERROR(('A6-FinPos'!E8+'A6-FinPos'!E9+'A6-FinPos'!E10)/SUM('A4-FinPerf RE'!E5:E11)),0,(('A6-FinPos'!E8+'A6-FinPos'!E9+'A6-FinPos'!E10)/SUM('A4-FinPerf RE'!E5:E11)))","v":1.0970705253582882},{"$f":"IF(ISERROR(('A6-FinPos'!F8+'A6-FinPos'!F9+'A6-FinPos'!F10)/SUM('A4-FinPerf RE'!F5:F11)),0,(('A6-FinPos'!F8+'A6-FinPos'!F9+'A6-FinPos'!F10)/SUM('A4-FinPerf RE'!F5:F11)))","v":0},{"$f":"IF(ISERROR(('A6-FinPos'!G8+'A6-FinPos'!G9+'A6-FinPos'!G10)/SUM('A4-FinPerf RE'!G5:G11)),0,(('A6-FinPos'!G8+'A6-FinPos'!G9+'A6-FinPos'!G10)/SUM('A4-FinPerf RE'!G5:G11)))","v":1.1328288431368807},{"$f":"IF(ISERROR(('A6-FinPos'!H8+'A6-FinPos'!H9+'A6-FinPos'!H10)/SUM('A4-FinPerf RE'!H5:H11)),0,(('A6-FinPos'!H8+'A6-FinPos'!H9+'A6-FinPos'!H10)/SUM('A4-FinPerf RE'!H5:H11)))","v":1.1328288431368807},{"$f":"IF(ISERROR(('A6-FinPos'!I8+'A6-FinPos'!I9+'A6-FinPos'!I10)/SUM('A4-FinPerf RE'!I5:I11)),0,(('A6-FinPos'!I8+'A6-FinPos'!I9+'A6-FinPos'!I10)/SUM('A4-FinPerf RE'!I5:I11)))","v":1.1328288431368807},{"$f":"IF(ISERROR(('A6-FinPos'!J8+'A6-FinPos'!J9+'A6-FinPos'!J10)/SUM('A4-FinPerf RE'!J5:J11)),0,(('A6-FinPos'!J8+'A6-FinPos'!J9+'A6-FinPos'!J10)/SUM('A4-FinPerf RE'!J5:J11)))","v":1.4672610237661585},{"$f":"IF(ISERROR(('A6-FinPos'!K8+'A6-FinPos'!K9+'A6-FinPos'!K10)/SUM('A4-FinPerf RE'!K5:K11)),0,(('A6-FinPos'!K8+'A6-FinPos'!K9+'A6-FinPos'!K10)/SUM('A4-FinPerf RE'!K5:K11)))","v":1.4672010080717004},{"$f":"IF(ISERROR(('A6-FinPos'!L8+'A6-FinPos'!L9+'A6-FinPos'!L10)/SUM('A4-FinPerf RE'!L5:L11)),0,(('A6-FinPos'!L8+'A6-FinPos'!L9+'A6-FinPos'!L10)/SUM('A4-FinPerf RE'!L5:L11)))","v":1.4671409390400685}]
["iii. Cost coverage","(Available cash + Investments)/monthly fixed operational expenditure",{"$f":"IF(ISERROR('A7-CFlow'!C40/'SA8'!C46),0,('A7-CFlow'!C40/'SA8'!C46))","v":19.517187369385777},{"$f":"IF(ISERROR('A7-CFlow'!D40/'SA8'!D46),0,('A7-CFlow'!D40/'SA8'!D46))","v":36.189577986178598},{"$f":"IF(ISERROR('A7-CFlow'!E40/'SA8'!E46),0,('A7-CFlow'!E40/'SA8'!E46))","v":32.627656422496948},{"$f":"IF(ISERROR('A7-CFlow'!F40/'SA8'!F46),0,('A7-CFlow'!F40/'SA8'!F46))","v":25.980657969308552},{"$f":"IF(ISERROR('A7-CFlow'!G40/'SA8'!G46),0,('A7-CFlow'!G40/'SA8'!G46))","v":26.459186394167499},{"$f":"IF(ISERROR('A7-CFlow'!H40/'SA8'!H46),0,('A7-CFlow'!H40/'SA8'!H46))","v":20.147724446316232},{"$f":"IF(ISERROR('A7-CFlow'!I40/'SA8'!I46),0,('A7-CFlow'!I40/'SA8'!I46))","v":14.113131988489084},{"$f":"IF(ISERROR('A7-CFlow'!J40/'SA8'!J46),0,('A7-CFlow'!J40/'SA8'!J46))","v":14.614834730773913},{"$f":"IF(ISERROR('A7-CFlow'!K40/'SA8'!K46),0,('A7-CFlow'!K40/'SA8'!K46))","v":14.136822736958875},{"$f":"IF(ISERROR('A7-CFlow'!L40/'SA8'!L46),0,('A7-CFlow'!L40/'SA8'!L46))","v":13.408253245178793}]
[{"$f":"head27a","v":"References"}]
["1. Consumer debtors > 12 months old are excluded from current assets"]
["2. Only include if services provided by the municipality"]
[]
["Calculation data"]
["Debtors > 90 days"]
["Monthly fixed operational expenditure",null,{"$f":"(('A4-FinPerf RE'!C24+'A4-FinPerf RE'!C25+'A4-FinPerf RE'!C26+'A4-FinPerf RE'!C28+'A4-FinPerf RE'!C29+'A4-FinPerf RE'!C31+'SA1'!C99+'A7-CFlow'!C35)+(('A4-FinPerf RE'!C30+'A4-FinPerf RE'!C33)*'SA8'!C47))/12","v":6899093.8833333328},{"$f":"(('A4-FinPerf RE'!D24+'A4-FinPerf RE'!D25+'A4-FinPerf RE'!D26+'A4-FinPerf RE'!D28+'A4-FinPerf RE'!D29+'A4-FinPerf RE'!D31+'SA1'!D99+'A7-CFlow'!D35)+(('A4-FinPerf RE'!D30+'A4-FinPerf RE'!D33)*'SA8'!D47))/12","v":8379066.7999999998},{"$f":"(('A4-FinPerf RE'!E24+'A4-FinPerf RE'!E25+'A4-FinPerf RE'!E26+'A4-FinPerf RE'!E28+'A4-FinPerf RE'!E29+'A4-FinPerf RE'!E31+'SA1'!E99+'A7-CFlow'!E35)+(('A4-FinPerf RE'!E30+'A4-FinPerf RE'!E33)*'SA8'!E47))/12","v":10977111.616666667},{"$f":"(('A4-FinPerf RE'!F24+'A4-FinPerf RE'!F25+'A4-FinPerf RE'!F26+'A4-FinPerf RE'!F28+'A4-FinPerf RE'!F29+'A4-FinPerf RE'!F31+'SA1'!F99+'A7-CFlow'!F35)+(('A4-FinPerf RE'!F30+'A4-FinPerf RE'!F33)*'SA8'!F47))/12","v":17334107.658166666},{"$f":"(('A4-FinPerf RE'!G24+'A4-FinPerf RE'!G25+'A4-FinPerf RE'!G26+'A4-FinPerf RE'!G28+'A4-FinPerf RE'!G29+'A4-FinPerf RE'!G31+'SA1'!G99+'A7-CFlow'!G35)+(('A4-FinPerf RE'!G30+'A4-FinPerf RE'!G33)*'SA8'!G47))/12","v":11481304.566},{"$f":"(('A4-FinPerf RE'!H24+'A4-FinPerf RE'!H25+'A4-FinPerf RE'!H26+'A4-FinPerf RE'!H28+'A4-FinPerf RE'!H29+'A4-FinPerf RE'!H31+'SA1'!H99+'A7-CFlow'!H35)+(('A4-FinPerf RE'!H30+'A4-FinPerf RE'!H33)*'SA8'!H47))/12","v":11481304.566},{"$f":"(('A4-FinPerf RE'!I24+'A4-FinPerf RE'!I25+'A4-FinPerf RE'!I26+'A4-FinPerf RE'!I28+'A4-FinPerf RE'!I29+'A4-FinPerf RE'!I31+'SA1'!I99+'A7-CFlow'!I35)+(('A4-FinPerf RE'!I30+'A4-FinPerf RE'!I33)*'SA8'!I47))/12","v":11481304.566},{"$f":"(('A4-FinPerf RE'!J24+'A4-FinPerf RE'!J25+'A4-FinPerf RE'!J26+'A4-FinPerf RE'!J28+'A4-FinPerf RE'!J29+'A4-FinPerf RE'!J31+'SA1'!J99+'A7-CFlow'!J35)+(('A4-FinPerf RE'!J30+'A4-FinPerf RE'!J33)*'SA8'!J47))/12","v":11177098.138499998},{"$f":"(('A4-FinPerf RE'!K24+'A4-FinPerf RE'!K25+'A4-FinPerf RE'!K26+'A4-FinPerf RE'!K28+'A4-FinPerf RE'!K29+'A4-FinPerf RE'!K31+'SA1'!K99+'A7-CFlow'!K35)+(('A4-FinPerf RE'!K30+'A4-FinPerf RE'!K33)*'SA8'!K47))/12","v":11379033.331666669},{"$f":"(('A4-FinPerf RE'!L24+'A4-FinPerf RE'!L25+'A4-FinPerf RE'!L26+'A4-FinPerf RE'!L28+'A4-FinPerf RE'!L29+'A4-FinPerf RE'!L31+'SA1'!L99+'A7-CFlow'!L35)+(('A4-FinPerf RE'!L30+'A4-FinPerf RE'!L33)*'SA8'!L47))/12","v":11902468.863833331}]
["Fixed operational expenditure % assumption",null,0.4,{"$f":"$C$47","v":0.4},{"$f":"$C$47","v":0.4},0.4,0.4,0.4,0.4,0.4,0.4,0.4]
["Own capex",null,{"$f":"'A5-Capex'!C40-'A5-Capex'!C70-'A5-Capex'!C71","v":17227610},{"$f":"'A5-Capex'!D40-'A5-Capex'!D70-'A5-Capex'!D71","v":11740288.040000003},{"$f":"'A5-Capex'!E40-'A5-Capex'!E70-'A5-Capex'!E71","v":29460444},{"$f":"'A5-Capex'!F40-'A5-Capex'!F70-'A5-Capex'!F71","v":44978829.000000007},{"$f":"'A5-Capex'!G40-'A5-Capex'!G70-'A5-Capex'!G71","v":43137173.239999995},{"$f":"'A5-Capex'!H40-'A5-Capex'!H70-'A5-Capex'!H71","v":43137173.239999995},{"$f":"'A5-Capex'!I40-'A5-Capex'!I70-'A5-Capex'!I71","v":43137173.239999995},{"$f":"'A5-Capex'!J40-'A5-Capex'!J70-'A5-Capex'!J71","v":32419682.609999992},{"$f":"'A5-Capex'!K40-'A5-Capex'!K70-'A5-Capex'!K71","v":22249048.430000003},{"$f":"'A5-Capex'!L40-'A5-Capex'!L70-'A5-Capex'!L71","v":23272504.649999987}]
["Borrowing",null,{"$f":"'A7-CFlow'!C31+'A7-CFlow'!C32","v":0},{"$f":"'A7-CFlow'!D31+'A7-CFlow'!D32","v":0},{"$f":"'A7-CFlow'!E31+'A7-CFlow'!E32","v":0},{"$f":"'A7-CFlow'!F31+'A7-CFlow'!F32","v":0},{"$f":"'A7-CFlow'!G31+'A7-CFlow'!G32","v":0},{"$f":"'A7-CFlow'!H31+'A7-CFlow'!H32","v":0},{"$f":"'A7-CFlow'!I31+'A7-CFlow'!I32","v":0},{"$f":"'A7-CFlow'!J31+'A7-CFlow'!J32","v":0},{"$f":"'A7-CFlow'!K31+'A7-CFlow'!K32","v":0},{"$f":"'A7-CFlow'!L31+'A7-CFlow'!L32","v":0}]

{"sheet":"SA9","index":28,"n_rows":310,"n_cols":13,"rows_kept":310,"cut":false,"hidden":false,"merged":[[108,10,108,12],[200,7,200,9],[200,10,200,12],[154,10,154,12],[200,0,201,0],[108,0,109,0],[108,7,108,9],[246,7,246,9],[246,10,246,12],[246,0,247,0],[154,0,155,0],[154,7,154,9],[1,0,2,0],[62,0,63,0],[1,3,2,3],[1,4,2,4],[1,10,1,12],[1,1,2,1],[1,2,2,2],[1,5,2,5],[62,7,62,9],[62,10,62,12]]}
[{"$f":"muni&\" - \"&TableA9","v":"KZN434 Ubuhlebezwe - Supporting Table SA9 Social, economic and demographic statistics and assumptions"}]
["Description of economic indicator","Ref.","Basis of calculation",{"$f":"Head44","v":"2001 Census"},"2007 Survey",{"$f":"Head45","v":"2011 Census"},{"$f":"head1b","v":"2016/17"},{"$f":"head1A","v":"2017/18"},{"$f":"Head1","v":"2018/19"},{"$f":"Head2","v":"Current Year 2019/20"},{"$f":"Head3","v":"2020/21 Medium Term Revenue & Expenditure Framework"}]
[null,null,null,null,null,null,{"$f":"Head5A","v":"Outcome"},"Outcome","Outcome",{"$f":"Head6","v":"Original Budget"},"Outcome","Outcome","Outcome"]
["Demographics"]
["Population",null,null,null,null,11916,11916,11916,11916,11916,11916,11916,11916]
["Females aged 5 - 14",null,null,null,null,12342,12342,12342,12342,12342,12342,12342,12342]
["Males aged 5 - 14",null,null,null,null,17983,17983,17983,17983,17983,17983,17983,17983]
["Females aged 15 - 34",null,null,null,null,16922,16922,16922,16922,16922,16922,16922,16922]
["Males aged 15 - 34",null,null,null,null,6483,6483,6483,6483,6483,6483,6483,6483]
["Unemployment",null,null,null,null,null,null,null,null,0,0,0,0]
[]
["Monthly household income (no. of households)","1, 12"]
["No income",null,null,null,null,43438,43438,43438,43438,43438,43438,43438,43438]
["R1 - R1 600",null,null,null,null,44234,44234,44234,44234,44234,44234,44234,44234]
["R1 601 - R3 200",null,null,null,null,16021,16021,16021,16021,16021,16021,16021,16021]
["R3 201 - R6 400",null,null,null,null,3902,3902,3902,3902,3902,3902,3902,3902]
["R6 401 - R12 800",null,null,null,null,2445,2445,2445,2445,2445,2445,2445,2445]
["R12 801 - R25 600",null,null,null,null,1873,1873,1873,1873,1873,1873,1873,1873]
["R25 601 - R51 200",null,null,null,null,935,935,935,935,935,935,935,935]
["R52 201 - R102 400",null,null,null,null,277,277,277,277,277,277,277,277]
["R102 401 - R204 800",null,null,null,null,72,72,72,72,72,72,72,72]
["R204 801 - R409 600",null,null,null,null,72,72,72,72,72,72,72,72]
["R409 601 - R819 200",null,null,null,null,7152,7152,7152,7152,7152,7152,7152,7152]
[" > R819 200",null,null,null,null,742,742,742,742,742,742,742,742]
[]
[]
["Poverty profiles (no. of households)"]
["< R2 060 per household per month",13]
["Insert description",2]
[]
["Household/demographics (000)"]
["Number of people in municipal area"]
["Number of poor people in municipal area"]
["Number of households in municipal area"]
["Number of poor households in municipal area"]
["Definition of poor household (R per month)"]
[]
["Housing statistics",3]
["Formal"]
["Informal"]
["Total number of households",null,null,{"$f":"SUM(D39:D40)","v":0},{"$f":"SUM(E39:E40)","v":0},0,0,0,0,0,0,0,0]
["Dwellings provided by municipality",4]
["Dwellings provided by province/s"]
["Dwellings provided by private sector",5]
["Total new housing dwellings",null,null,{"$f":"SUM(D42:D44)","v":0},{"$f":"SUM(E42:E44)","v":0},0,0,0,0,0,0,0,0]
[]
["Economic",6]
["Inflation/inflation outlook (CPIX)"]
["Interest rate - borrowing"]
["Interest rate - investment"]
["Remuneration increases"]
["Consumption growth (electricity)"]
["Consumption growth (water)"]
[]
["Collection rates",7]
["Property tax/service charges"]
["Rental of facilities & equipment"]
["Interest - external investments"]
["Interest - debtors"]
["Revenue from agency services"]
[]
["Detail on the provision of municipal services for A10"]
["Total municipal services",null,null,null,{"$f":"head1b","v":"2016/17"},{"$f":"head1A","v":"2017/18"},{"$f":"Head1","v":"2018/19"},{"$f":"Head2","v":"Current Year 2019/20"},null,null,{"$f":"Head3","v":"2020/21 Medium Term Revenue & Expenditure Framework"}]
[null,"Ref.",null,null,{"$f":"Head5A","v":"Outcome"},{"$f":"Head5A","v":"Outcome"},{"$f":"Head5A","v":"Outcome"},{"$f":"Head6","v":"Original Budget"},{"$f":"Head7","v":"Adjusted Budget"},{"$f":"Head8","v":"Full Year Forecast"},{"$f":"Head9","v":"Budget Year 2020/21"},{"$f":"Head10","v":"Budget Year +1 2021/22"},{"$f":"Head11","v":"Budget Year +2 2022/23"}]
[null,null,"Household service targets (000)"]
[null,null,"Water:"]
[null,null,"Piped water inside dwelling",null,{"$f":"E113+E159+E205","v":0},{"$f":"F113+F159+F205","v":3133},3133,3289.65,3454.1325000000002,3133,3289.65,3454.1325000000002,3454.1325000000002]
[null,null,"Piped water inside yard (but not in dwelling)",null,{"$f":"E114+E160+E206","v":0},10035,10035,11063.5875,11063.5875,10035,11063.5875,11063.5875,11063.5875]
[null,8,"Using public tap (at least min.service level)",null,0,2394,2394,2513.6999999999998,2639.3849999999998,2394,2513.6999999999998,2639.3849999999998,2639.3849999999998]
[null,10,"Other water supply (at least min.service level)",null,0,0,0,0,0,0,0,0,0]
[null,null,"Minimum Service Level and Above sub-total",null,{"$f":"SUM(E67:E70)","v":0},{"$f":"SUM(F67:F70)","v":15562},15562,16866.9375,17157.105,15562,16866.9375,17157.105,17157.105]
[null,9,"Using public tap (< min.service level)",null,{"$f":"E118+E164+E210","v":0},0,0,0,0,0,0,0,0]
[null,10,"Other water supply (< min.service level)",null,0,10670,10670,11763.674999999999,10670,11203.5,11763.674999999999,11203.5,11763.674999999999]
[null,null,"No water supply",null,0,0,0,0,0,0,0,0,0]
[null,null,"Below Minimum Service Level sub-total",null,{"$f":"SUM(E72:E74)","v":0},{"$f":"SUM(F72:F74)","v":10670},10670,11763.674999999999,10670,11203.5,11763.674999999999,11203.5,11763.674999999999]
[null,null,"Total number of households",null,{"$f":"E71+E75","v":0},{"$f":"F71+F75","v":26232},26232,28630.612499999999,27827.105,26765.5,28630.612499999999,28360.605,28920.78]
[null,null,"Sanitation/sewerage:"]
[null,null,"Flush toilet (connected to sewerage)",null,{"$f":"E124+E170+E216","v":0},1857,1857,2047.3425,1857,1949.85,2047.3425,1949.85,2047.3425]
[null,null,"Flush toilet (with septic tank)",null,{"$f":"E125+E171+E217","v":0},2861,2861,3154.2525000000001,2861,3004.05,3154.2525000000001,3004.05,3154.2525000000001]
[null,null,"Chemical toilet",null,{"$f":"E126+E172+E218","v":0},0,0,0,0,0,0,0,0]
[null,null,"Pit toilet (ventilated)",null,{"$f":"E127+E173+E219","v":0},1556,1556,1715.49,1556,1633.8,1715.49,1633.8,1715.49]
[null,null,"Other toilet provisions (> min.service level)",null,{"$f":"E128+E174+E220","v":0},6488,6488,7153.0199999999995,6488,6812.4,7153.0199999999995,6812.4,7153.0199999999995]
[null,null,"Minimum Service Level and Above sub-total",null,{"$f":"SUM(E78:E82)","v":0},{"$f":"SUM(F78:F82)","v":12762},12762,14070.105,12762,13400.099999999999,14070.105,13400.099999999999,14070.105]
[null,null,"Bucket toilet",null,{"$f":"E130+E176+E222","v":0},1766,1766,1947.0149999999999,1854.3,1766,1947.0149999999999,1854.3,1947.0149999999999]
[null,null,"Other toilet provisions (< min.service level)",null,{"$f":"E131+E177+E223","v":0},5486,5486,6048.3150000000005,5760.3,5486,6048.3150000000005,5760.3,6048.3150000000005]
[null,null,"No toilet provisions",null,{"$f":"E132+E178+E224","v":0},6217,6217,6854.2425000000003,6527.85,6217,6854.2425000000003,6527.85,6854.2425000000003]
[null,null,"Below Minimum Service Level sub-total",null,{"$f":"SUM(E84:E86)","v":0},{"$f":"SUM(F84:F86)","v":13469},13469,14849.5725,14142.45,13469,14849.5725,14142.45,14849.5725]
[null,null,"Total number of households",null,{"$f":"E83+E87","v":0},{"$f":"F83+F87","v":26231},26231,28919.677499999998,26904.45,26869.1,28919.677499999998,27542.55,28919.677499999998]
[null,null,"Energy:"]
[null,null,"Electricity (at least min.service level)",null,{"$f":"E136+E182+E228","v":0},0,0,0,0,0,0,0,0]
[null,null,"Electricity - prepaid (min.service level)",null,{"$f":"E137+E183+E229","v":0},0,0,0,0,0,0,0,0]
[null,null,"Minimum Service Level and Above sub-total",null,{"$f":"SUM(E90:E91)","v":0},{"$f":"SUM(F90:F91)","v":0},0,0,0,0,0,0,0]
[null,null,"Electricity (< min.service level)",null,{"$f":"E139+E185+E231","v":0},0,0,0,0,0,0,0,0]
[null,null,"Electricity - prepaid (< min. service level)",null,{"$f":"E140+E186+E232","v":0},0,0,0,0,0,0,0,0]
[null,null,"Other energy sources",null,{"$f":"E141+E187+E233","v":0},0,0,0,0,0,0,0,0]
[null,null,"Below Minimum Service Level sub-total",null,{"$f":"SUM(E93:E95)","v":0},{"$f":"SUM(F93:F95)","v":0},0,0,0,0,0,0,0]
[null,null,"Total number of households",null,{"$f":"E92+E96","v":0},{"$f":"F92+F96","v":0},0,0,0,0,0,0,0]
[null,null,"Refuse:"]
[null,null,"Removed at least once a week",null,{"$f":"E145+E191+E237","v":0},1346,1346,1346,1413,1484,1346,1413,1484]
[null,null,"Minimum Service Level and Above sub-total",null,{"$f":"SUM(E99)","v":0},{"$f":"SUM(F99)","v":1346},1346,1346,1413,1484,1346,1413,1484]
[null,null,"Removed less frequently than once a week",null,{"$f":"E147+E193+E239","v":0},0,0,0,0,0,0,0,0]
[null,null,"Using communal refuse dump",null,{"$f":"E148+E194+E240","v":0},0,0,0,0,0,0,0,0]
[null,null,"Using own refuse dump",null,{"$f":"E149+E195+E241","v":0},0,0,0,0,0,0,0,0]
[null,null,"Other rubbish disposal",null,{"$f":"E150+E196+E242","v":0},1,1,1,1,1,1,1,1]
[null,null,"No rubbish disposal",null,{"$f":"E151+E197+E243","v":0},0,0,0,0,0,0,0,0]
[null,null,"Below Minimum Service Level sub-total",null,{"$f":"SUM(E101:E105)","v":0},1,1,1,1,1,1,1,1]
[null,null,"Total number of households",null,{"$f":"E100+E106","v":0},{"$f":"F100+F106","v":1347},1347,1347,1414,1485,1347,1414,1485]
[]
["Municipal in-house services",null,null,null,{"$f":"head1b","v":"2016/17"},{"$f":"head1A","v":"2017/18"},{"$f":"Head1","v":"2018/19"},{"$f":"Head2","v":"Current Year 2019/20"},null,null,{"$f":"Head3","v":"2020/21 Medium Term Revenue & Expenditure Framework"}]
[null,"Ref.",null,null,{"$f":"Head5A","v":"Outcome"},{"$f":"Head5A","v":"Outcome"},{"$f":"Head5A","v":"Outcome"},{"$f":"Head6","v":"Original Budget"},{"$f":"Head7","v":"Adjusted Budget"},{"$f":"Head8","v":"Full Year Forecast"},{"$f":"Head9","v":"Budget Year 2020/21"},{"$f":"Head10","v":"Budget Year +1 2021/22"},{"$f":"Head11","v":"Budget Year +2 2022/23"}]
[null,null,"Household service targets (000)"]
[null,null,"Water:"]
[null,null,"Piped water inside dwelling",null,null,3133,3133,3289.65,3454.1325000000002,3133,3289.65,3454.1325000000002,3454.1325000000002]
[null,null,"Piped water inside yard (but not in dwelling)",null,null,10035,10035,11063.5875,11063.5875,10035,11063.5875,11063.5875,11063.5875]
[null,8,"Using public tap (at least min.service level)",null,null,2394,2394,2513.6999999999998,2639.3849999999998,2394,2513.6999999999998,2639.3849999999998,2639.3849999999998]
[null,10,"Other water supply (at least min.service level)"]
[null,null,"Minimum Service Level and Above sub-total",null,{"$f":"SUM(E113:E116)","v":0},{"$f":"SUM(F113:F116)","v":15562},15562,16866.9375,17157.105,15562,16866.9375,17157.105,17157.105]
[null,9,"Using public tap (< min.service level)"]
[null,10,"Other water supply (< min.service level)",null,null,10670,10670,11763.674999999999,10670,11203.5,11763.674999999999,11203.5,11763.674999999999]
[null,null,"No water supply"]
[null,null,"Below Minimum Service Level sub-total",null,{"$f":"SUM(E118:E120)","v":0},{"$f":"SUM(F118:F120)","v":10670},10670,11763.674999999999,10670,11203.5,11763.674999999999,11203.5,11763.674999999999]
[null,null,"Total number of households",null,{"$f":"E117+E121","v":0},{"$f":"F117+F121","v":26232},26232,28630.612499999999,27827.105,26765.5,28630.612499999999,28360.605,28920.78]
[null,null,"Sanitation/sewerage:"]
[null,null,"Flush toilet (connected to sewerage)",null,null,1857,1857,2047.3425,1857,1949.85,2047.3425,1949.85,2047.3425]
[null,null,"Flush toilet (with septic tank)",null,null,2861,2861,3154.2525000000001,2861,3004.05,3154.2525000000001,3004.05,3154.2525000000001]
[null,null,"Chemical toilet",null,null,0,0,0,0,0,0,0,0]
[null,null,"Pit toilet (ventilated)",null,null,1556,1556,1715.49,1556,1633.8,1715.49,1633.8,1715.49]
[null,null,"Other toilet provisions (> min.service level)",null,null,6488,6488,7153.0199999999995,6488,6812.4,7153.0199999999995,6812.4,7153.0199999999995]
[null,null,"Minimum Service Level and Above sub-total",null,{"$f":"SUM(E124:E128)","v":0},{"$f":"SUM(F124:F128)","v":12762},12762,14070.105,12762,13400.099999999999,14070.105,13400.099999999999,14070.105]
[null,null,"Bucket toilet",null,null,1766,1766,1947.0149999999999,1854.3,1766,1947.0149999999999,1854.3,1947.0149999999999]
[null,null,"Other toilet provisions (< min.service level)",null,null,5486,5486,6048.3150000000005,5760.3,5486,6048.3150000000005,5760.3,6048.3150000000005]
[null,null,"No toilet provisions",null,null,6217,6217,6854.2425000000003,6527.85,6217,6854.2425000000003,6527.85,6854.2425000000003]
[null,null,"Below Minimum Service Level sub-total",null,{"$f":"SUM(E130:E132)","v":0},{"$f":"SUM(F130:F132)","v":13469},13469,14849.5725,14142.45,13469,14849.5725,14142.45,14849.5725]
[null,null,"Total number of households",null,{"$f":"E129+E133","v":0},{"$f":"F129+F133","v":26231},26231,28919.677499999998,26904.45,26869.1,28919.677499999998,27542.55,28919.677499999998]
[null,null,"Energy:"]
[null,null,"Electricity (at least min.service level)"]
[null,null,"Electricity - prepaid (min.service level)"]
[null,null,"Minimum Service Level and Above sub-total",null,{"$f":"SUM(E136:E137)","v":0},{"$f":"SUM(F136:F137)","v":0},0,0,0,0,0,0,0]
[null,null,"Electricity (< min.service level)"]
[null,null,"Electricity - prepaid (< min. service level)"]
[null,null,"Other energy sources"]
[null,null,"Below Minimum Service Level sub-total",null,{"$f":"SUM(E139:E141)","v":0},{"$f":"SUM(F139:F141)","v":0},0,0,0,0,0,0,0]
[null,null,"Total number of households",null,{"$f":"E138+E142","v":0},{"$f":"F138+F142","v":0},0,0,0,0,0,0,0]
[null,null,"Refuse:"]
[null,null,"Removed at least once a week",null,null,1346,1346,1346,1413,1484,1346,1413,1484]
[null,null,"Minimum Service Level and Above sub-total",null,{"$f":"SUM(E145)","v":0},{"$f":"SUM(F145)","v":1346},1346,1346,1413,1484,1346,1413,1484]
[null,null,"Removed less frequently than once a week"]
[null,null,"Using communal refuse dump"]
[null,null,"Using own refuse dump"]
[null,null,"Other rubbish disposal",null,null,1,1,1,1,1,1,1,1]
[null,null,"No rubbish disposal"]
[null,null,"Below Minimum Service Level sub-total",null,{"$f":"SUM(E147:E151)","v":0},1,1,1,1,1,1,1,1]
[null,null,"Total number of households",null,{"$f":"E146+E152","v":0},{"$f":"F146+F152","v":1347},1347,1347,1414,1485,1347,1414,1485]
[]
["Municipal entity services",null,null,null,{"$f":"head1b","v":"2016/17"},{"$f":"head1A","v":"2017/18"},{"$f":"Head1","v":"2018/19"},{"$f":"Head2","v":"Current Year 2019/20"},null,null,{"$f":"Head3","v":"2020/21 Medium Term Revenue & Expenditure Framework"}]
[null,"Ref.",null,null,{"$f":"Head5A","v":"Outcome"},{"$f":"Head5A","v":"Outcome"},{"$f":"Head5A","v":"Outcome"},{"$f":"Head6","v":"Original Budget"},{"$f":"Head7","v":"Adjusted Budget"},{"$f":"Head8","v":"Full Year Forecast"},{"$f":"Head9","v":"Budget Year 2020/21"},{"$f":"Head10","v":"Budget Year +1 2021/22"},{"$f":"Head11","v":"Budget Year +2 2022/23"}]
[null,null,"Household service targets (000)"]
["Name of municipal entity",null,"Water:"]
[null,null,"Piped water inside dwelling"]
[null,null,"Piped water inside yard (but not in dwelling)"]
[null,8,"Using public tap (at least min.service level)"]
[null,10,"Other water supply (at least min.service level)"]
[null,null,"Minimum Service Level and Above sub-total",null,{"$f":"SUM(E159:E162)","v":0},{"$f":"SUM(F159:F162)","v":0},0,0,0,0,0,0,0]
[null,9,"Using public tap (< min.service level)"]
[null,10,"Other water supply (< min.service level)"]
[null,null,"No water supply"]
[null,null,"Below Minimum Service Level sub-total",null,{"$f":"SUM(E164:E166)","v":0},{"$f":"SUM(F164:F166)","v":0},0,0,0,0,0,0,0]
[null,null,"Total number of households",null,{"$f":"E163+E167","v":0},{"$f":"F163+F167","v":0},0,0,0,0,0,0,0]
["Name of municipal entity",null,"Sanitation/sewerage:"]
[null,null,"Flush toilet (connected to sewerage)"]
[null,null,"Flush toilet (with septic tank)"]
[null,null,"Chemical toilet"]
[null,null,"Pit toilet (ventilated)"]
[null,null,"Other toilet provisions (> min.service level)"]
[null,null,"Minimum Service Level and Above sub-total",null,{"$f":"SUM(E170:E174)","v":0},{"$f":"SUM(F170:F174)","v":0},0,0,0,0,0,0,0]
[null,null,"Bucket toilet"]
[null,null,"Other toilet provisions (< min.service level)"]
[null,null,"No toilet provisions"]
[null,null,"Below Minimum Service Level sub-total",null,{"$f":"SUM(E176:E178)","v":0},{"$f":"SUM(F176:F178)","v":0},0,0,0,0,0,0,0]
[null,null,"Total number of households",null,{"$f":"E175+E179","v":0},{"$f":"F175+F179","v":0},0,0,0,0,0,0,0]
["Name of municipal entity",null,"Energy:"]
[null,null,"Electricity (at least min.service level)"]
[null,null,"Electricity - prepaid (min.service level)"]
[null,null,"Minimum Service Level and Above sub-total",null,{"$f":"SUM(E182:E183)","v":0},{"$f":"SUM(F182:F183)","v":0},0,0,0,0,0,0,0]
[null,null,"Electricity (< min.service level)"]
[null,null,"Electricity - prepaid (< min. service level)"]
[null,null,"Other energy sources"]
[null,null,"Below Minimum Service Level sub-total",null,{"$f":"SUM(E185:E187)","v":0},{"$f":"SUM(F185:F187)","v":0},0,0,0,0,0,0,0]
[null,null,"Total number of households",null,{"$f":"E184+E188","v":0},{"$f":"F184+F188","v":0},0,0,0,0,0,0,0]
["Name of municipal entity",null,"Refuse:"]
[null,null,"Removed at least once a week"]
[null,null,"Minimum Service Level and Above sub-total",null,{"$f":"SUM(E191)","v":0},{"$f":"SUM(F191)","v":0},0,0,0,0,0,0,0]
[null,null,"Removed less frequently than once a week"]
[null,null,"Using communal refuse dump"]
[null,null,"Using own refuse dump"]
[null,null,"Other rubbish disposal"]
[null,null,"No rubbish disposal"]
[null,null,"Below Minimum Service Level sub-total",null,{"$f":"SUM(E193:E197)","v":0},0,0,0,0,0,0,0,0]
[null,null,"Total number of households",null,{"$f":"E192+E198","v":0},{"$f":"F192+F198","v":0},0,0,0,0,0,0,0]
[]
["Services provided by 'external mechanisms'",null,null,null,{"$f":"head1b","v":"2016/17"},{"$f":"head1A","v":"2017/18"},{"$f":"Head1","v":"2018/19"},{"$f":"Head2","v":"Current Year 2019/20"},null,null,{"$f":"Head3","v":"2020/21 Medium Term Revenue & Expenditure Framework"}]
[null,"Ref.",null,null,{"$f":"Head5A","v":"Outcome"},{"$f":"Head5A","v":"Outcome"},{"$f":"Head5A","v":"Outcome"},{"$f":"Head6","v":"Original Budget"},{"$f":"Head7","v":"Adjusted Budget"},{"$f":"Head8","v":"Full Year Forecast"},{"$f":"Head9","v":"Budget Year 2020/21"},{"$f":"Head10","v":"Budget Year +1 2021/22"},{"$f":"Head11","v":"Budget Year +2 2022/23"}]
["Names of service providers",null,"Household service targets (000)"]
[null,null,"Water:"]
[null,null,"Piped water inside dwelling"]
[null,null,"Piped water inside yard (but not in dwelling)"]
[null,8,"Using public tap (at least min.service level)"]
[null,10,"Other water supply (at least min.service level)"]
[null,null,"Minimum Service Level and Above sub-total",null,{"$f":"SUM(E205:E208)","v":0},{"$f":"SUM(F205:F208)","v":0},0,0,0,0,0,0,0]
[null,9,"Using public tap (< min.service level)"]
[null,10,"Other water supply (< min.service level)"]
[null,null,"No water supply"]
[null,null,"Below Minimum Service Level sub-total",null,{"$f":"SUM(E210:E212)","v":0},{"$f":"SUM(F210:F212)","v":0},0,0,0,0,0,0,0]
[null,null,"Total number of households",null,{"$f":"E209+E213","v":0},{"$f":"F209+F213","v":0},0,0,0,0,0,0,0]
["Names of service providers",null,"Sanitation/sewerage:"]
[null,null,"Flush toilet (connected to sewerage)"]
[null,null,"Flush toilet (with septic tank)"]
[null,null,"Chemical toilet"]
[null,null,"Pit toilet (ventilated)"]
[null,null,"Other toilet provisions (> min.service level)"]
[null,null,"Minimum Service Level and Above sub-total",null,{"$f":"SUM(E216:E220)","v":0},{"$f":"SUM(F216:F220)","v":0},0,0,0,0,0,0,0]
[null,null,"Bucket toilet"]
[null,null,"Other toilet provisions (< min.service level)"]
[null,null,"No toilet provisions"]
[null,null,"Below Minimum Service Level sub-total",null,{"$f":"SUM(E222:E224)","v":0},{"$f":"SUM(F222:F224)","v":0},0,0,0,0,0,0,0]
[null,null,"Total number of households",null,{"$f":"E221+E225","v":0},{"$f":"F221+F225","v":0},0,0,0,0,0,0,0]
["Names of service providers",null,"Energy:"]
[null,null,"Electricity (at least min.service level)"]
[null,null,"Electricity - prepaid (min.service level)"]
[null,null,"Minimum Service Level and Above sub-total",null,{"$f":"SUM(E228:E229)","v":0},{"$f":"SUM(F228:F229)","v":0},0,0,0,0,0,0,0]
[null,null,"Electricity (< min.service level)"]
[null,null,"Electricity - prepaid (< min. service level)"]
[null,null,"Other energy sources"]
[null,null,"Below Minimum Service Level sub-total",null,{"$f":"SUM(E231:E233)","v":0},{"$f":"SUM(F231:F233)","v":0},0,0,0,0,0,0,0]
[null,null,"Total number of households",null,{"$f":"E230+E234","v":0},{"$f":"F230+F234","v":0},0,0,0,0,0,0,0]
["Names of service providers",null,"Refuse:"]
[null,null,"Removed at least once a week"]
[null,null,"Minimum Service Level and Above sub-total",null,{"$f":"SUM(E237)","v":0},{"$f":"SUM(F237)","v":0},0,0,0,0,0,0,0]
[null,null,"Removed less frequently than once a week"]
[null,null,"Using communal refuse dump"]
[null,null,"Using own refuse dump"]
[null,null,"Other rubbish disposal"]
[null,null,"No rubbish disposal"]
[null,null,"Below Minimum Service Level sub-total",null,{"$f":"SUM(E239:E243)","v":0},0,0,0,0,0,0,0,0]
[null,null,"Total number of households",null,{"$f":"E238+E244","v":0},{"$f":"F238+F244","v":0},0,0,0,0,0,0,0]
[]
["Detail of Free Basic Services (FBS) provided",null,null,null,{"$f":"head1b","v":"2016/17"},{"$f":"head1A","v":"2017/18"},{"$f":"Head1","v":"2018/19"},{"$f":"Head2","v":"Current Year 2019/20"},null,null,{"$f":"Head3","v":"2020/21 Medium Term Revenue & Expenditure Framework"}]
[null,null,null,null,{"$f":"Head5A","v":"Outcome"},{"$f":"Head5A","v":"Outcome"},{"$f":"Head5A","v":"Outcome"},{"$f":"Head6","v":"Original Budget"},{"$f":"Head7","v":"Adjusted Budget"},{"$f":"Head8","v":"Full Year Forecast"},{"$f":"Head9","v":"Budget Year 2020/21"},{"$f":"Head10","v":"Budget Year +1 2021/22"},{"$f":"Head11","v":"Budget Year +2 2022/23"}]
["Electricity","Ref.","Location of households for each type of FBS"]
["List type of FBS service",null,"Formal settlements -  (50 kwh per indigent household per month Rands)"]
[null,null,"Number of HH receiving this type of FBS",null,null,null,null,null,null,33,49,62,75]
[null,null,"Informal settlements (Rands)"]
[null,null,"Number of HH receiving this type of FBS"]
[null,null,"Informal settlements targeted for upgrading (Rands)"]
[null,null,"Number of HH receiving this type of FBS"]
[null,null,"Living in informal backyard rental agreement (Rands)"]
[null,null,"Number of HH receiving this type of FBS",null,null,210210,210210,1841000,1841000,1841000,2212000,2212000,2212000]
[null,null,"Other (Rands)",null,null,33,33,33,33,33,49,62,75]
[null,null,"Number of HH receiving this type of FBS"]
[null,null,"Total cost of FBS - Electricity for informal settlements",null,{"$f":"E252+E254+E256+E258","v":0},{"$f":"F252+F254+F256+F258","v":33},33,33,33,33,49,62,75]
["Water","Ref.","Location of households for each type of FBS"]
["List type of FBS service",null,"Formal settlements -  (6 kilolitre per indigent household per month Rands)"]
[null,null,"Number of HH receiving this type of FBS"]
[null,null,"Informal settlements (Rands)"]
[null,null,"Number of HH receiving this type of FBS"]
[null,null,"Informal settlements targeted for upgrading (Rands)"]
[null,null,"Number of HH receiving this type of FBS"]
[null,null,"Living in informal backyard rental agreement (Rands)"]
[null,null,"Number of HH receiving this type of FBS"]
[null,null,"Other (Rands)",null,null,651020,651020,632102,964102,850214,1250301,1250301,1250301]
[null,null,"Number of HH receiving this type of FBS"]
[null,null,"Total cost of FBS - Water  for informal settlements",null,{"$f":"E264+E266+E268+E270","v":0},{"$f":"F264+F266+F268+F270","v":651020},651020,632102,964102,850214,1250301,1250301,1250301]
["Sanitation","Ref.","Location of households for each type of FBS"]
["List type of FBS service",null,"Formal settlements -  (free sanitation service to indigent households)"]
[null,null,"Number of HH receiving this type of FBS"]
[null,null,"Informal settlements (Rands)"]
[null,null,"Number of HH receiving this type of FBS"]
[null,null,"Informal settlements targeted for upgrading (Rands)"]
[null,null,"Number of HH receiving this type of FBS"]
[null,null,"Living in informal backyard rental agreement (Rands)"]
[null,null,"Number of HH receiving this type of FBS"]
[null,null,"Other (Rands)",null,null,162501,162501,136102,125030,150000,150000,150000,150000]
[null,null,"Number of HH receiving this type of FBS",null,null,36,36,21,18,28,32,32,32]
[null,null,"Total cost of FBS - Sanitation for informal settlements",null,{"$f":"E276+E278+E280+E282","v":0},{"$f":"F276+F278+F280+F282","v":162501},162501,136102,125030,150000,150000,150000,150000]
["Refuse Removal","Ref.","Location of households for each type of FBS"]
["List type of FBS service",null,"Formal settlements -  (removed once a week to indigent households)"]
[null,null,"Number of HH receiving this type of FBS"]
[null,null,"Informal settlements (Rands)"]
[null,null,"Number of HH receiving this type of FBS"]
[null,null,"Informal settlements targeted for upgrading (Rands)"]
[null,null,"Number of HH receiving this type of FBS"]
[null,null,"Living in informal backyard rental agreement (Rands)"]
[null,null,"Number of HH receiving this type of FBS"]
[null,null,"Other (Rands)",null,null,null,null,null,25112,0]
[null,null,"Number of HH receiving this type of FBS"]
[null,null,"Total cost of FBS - Refuse Removal for informal settlements",null,{"$f":"E288+E290+E292+E294","v":0},{"$f":"F288+F290+F292+F294","v":0},0,0,25112,0,0,0,0]
[{"$f":"head27a","v":"References"}]
["1. Monthly household income threshold. Should include all sources of income."]
["2. Show the poverty analysis the municipality uses to determine its indigents policy and the provision of services"]
["3. Include total of all housing units within the municipality"]
["4. Number of subsidised dwellings to be constructed by the municipality under agency agreement with province"]
["5. Provide estimate based on building approval information. Include any non-subsidised dwellings constructed by the municipality"]
["6. Insert actual or estimated % increases assumed as a basis for budget calculations"]
["7. Insert actual or estimated % collection rate assumed as a basis for budget calculations for each revenue group"]
["8. Stand distance <= 200m from dwelling"]
["9. Stand distance > 200m from dwelling"]
["10. Borehole, spring, rain-water tank etc."]
["11. Must agree to total number of households in municipal area"]
["12. Household income categories assume an average 4 person household. Stats SA - Census 2011 Questionnaire"]
["13. Based on National poverty line of R515 per capita per month (2008 prices), assuming an average household size of 4 persons"]

{"sheet":"SA10","index":29,"n_rows":138,"n_cols":13,"rows_kept":138,"cut":false,"hidden":false,"merged":[[1,0,2,0],[1,10,1,12],[1,1,2,1],[1,2,2,2],[1,6,1,9]]}
[{"$f":"muni &\" \" & TableA10","v":"KZN434 Ubuhlebezwe Supporting Table SA10 Funding measurement"}]
[{"$f":"desc","v":"Description"},"MFMA section",{"$f":"head27","v":"Ref"},{"$f":"head1b","v":"2016/17"},{"$f":"head1A","v":"2017/18"},{"$f":"Head1","v":"2018/19"},{"$f":"Head2","v":"Current Year 2019/20"},null,null,null,{"$f":"Head3","v":"2020/21 Medium Term Revenue & Expenditure Framework"}]
[null,null,null,{"$f":"Head5","v":"Audited Outcome"},{"$f":"Head5","v":"Audited Outcome"},{"$f":"Head5","v":"Audited Outcome"},{"$f":"Head6","v":"Original Budget"},{"$f":"Head7","v":"Adjusted Budget"},{"$f":"Head8","v":"Full Year Forecast"},{"$f":"Head5b","v":"Pre-audit outcome"},{"$f":"Head9","v":"Budget Year 2020/21"},{"$f":"Head10","v":"Budget Year +1 2021/22"},{"$f":"Head11","v":"Budget Year +2 2022/23"}]
["Funding measures"]
[{"$f":"LEFT('A7-CFlow'!A40,37)&\" - R'000\"","v":"Cash/cash equivalents at the year end - R'000"},"18(1)b",1,{"$f":"'A7-CFlow'!C40","v":134650908},{"$f":"'A7-CFlow'!D40","v":303234891.40999997},{"$f":"'A7-CFlow'!E40","v":358157426.34000003},{"$f":"'A7-CFlow'!F40","v":450351522.27000016},{"$f":"'A7-CFlow'!G40","v":303785977.56000036},{"$f":"'A7-CFlow'!H40","v":231322160.68000036},{"$f":"'A7-CFlow'!I40","v":162037166.74000037},{"$f":"'A7-CFlow'!J40","v":163351442.06381822},{"$f":"'A7-CFlow'!K40","v":160863377.12771827},{"$f":"'A7-CFlow'!L40","v":159591316.76913279}]
["Cash + investments at the yr end less applications - R'000","18(1)b",2,{"$f":"'A8-ResRecon'!C8-'A8-ResRecon'!C18","v":95073377},{"$f":"'A8-ResRecon'!D8-'A8-ResRecon'!D18","v":72432641},{"$f":"'A8-ResRecon'!E8-'A8-ResRecon'!E18","v":96132542},{"$f":"'A8-ResRecon'!F8-'A8-ResRecon'!F18","v":132641080},{"$f":"'A8-ResRecon'!G8-'A8-ResRecon'!G18","v":159282238},{"$f":"'A8-ResRecon'!H8-'A8-ResRecon'!H18","v":159282238},{"$f":"'A8-ResRecon'!I8-'A8-ResRecon'!I18","v":159282238},{"$f":"'A8-ResRecon'!J8-'A8-ResRecon'!J18","v":161647489.47589934},{"$f":"'A8-ResRecon'!K8-'A8-ResRecon'!K18","v":169227886.43231478},{"$f":"'A8-ResRecon'!L8-'A8-ResRecon'!L18","v":177192911.25176895}]
["Cash year end/monthly employee/supplier payments","18(1)b",3,{"$f":"IF(ISERROR('SA8'!C39),0,('SA8'!C39))","v":19.517187369385777},{"$f":"IF(ISERROR('SA8'!D39),0,('SA8'!D39))","v":36.189577986178598},{"$f":"IF(ISERROR('SA8'!E39),0,('SA8'!E39))","v":32.627656422496948},{"$f":"IF(ISERROR('SA8'!F39),0,('SA8'!F39))","v":25.980657969308552},{"$f":"IF(ISERROR('SA8'!G39),0,('SA8'!G39))","v":26.459186394167499},{"$f":"IF(ISERROR('SA8'!H39),0,('SA8'!H39))","v":20.147724446316232},{"$f":"IF(ISERROR('SA8'!I39),0,('SA8'!I39))","v":14.113131988489084},{"$f":"IF(ISERROR('SA8'!J39),0,('SA8'!J39))","v":14.614834730773913},{"$f":"IF(ISERROR('SA8'!K39),0,('SA8'!K39))","v":14.136822736958875},{"$f":"IF(ISERROR('SA8'!L39),0,('SA8'!L39))","v":13.408253245178793}]
["Surplus/(Deficit) excluding depreciation offsets: R'000","18(1)",4,{"$f":"'A4-FinPerf RE'!C41+'SA3'!C61","v":34662337},{"$f":"'A4-FinPerf RE'!D41+'SA3'!D61","v":25241445},{"$f":"'A4-FinPerf RE'!E41+'SA3'!E61","v":32782865},{"$f":"'A4-FinPerf RE'!F41+'SA3'!F61","v":23861529.469999999},{"$f":"'A4-FinPerf RE'!G41+'SA3'!G61","v":18239892.209999979},{"$f":"'A4-FinPerf RE'!H41+'SA3'!H61","v":18239892.209999979},{"$f":"'A4-FinPerf RE'!I41+'SA3'!I61","v":18239892.209999979},{"$f":"'A4-FinPerf RE'!J41+'SA3'!J61","v":20734545.440000027},{"$f":"'A4-FinPerf RE'!K41+'SA3'!K61","v":25991482.847199947},{"$f":"'A4-FinPerf RE'!L41+'SA3'!L61","v":27018913.034323998}]
["Service charge rev % change - macro CPIX target exclusive","18(1)a,(2)",5,"N.A.",{"$f":"IF(ISERROR(E36-E61),0,(E36-E61))","v":-5.6568147299263793E-2},{"$f":"IF(ISERROR(F36-F61),0,(F36-F61))","v":0.54590595270016085},-9.9999485930417076E-3,-0.06,-0.06,-0.06,{"$f":"IF(ISERROR(K36-K61),0,(K36-K61))","v":9.6503060003719221E-3},-1.5000000271648994E-2,-1.4999999659926988E-2]
["Cash receipts % of Ratepayer & Other revenue","18(1)a,(2)",6,{"$f":"IF(ISERROR(D53/D54),0,(D53/D54))","v":1},{"$f":"IF(ISERROR(E53/E54),0,(E53/E54))","v":0.98481838354222129},0.65303266773821289,0.94183517807686357,0.71639350713581529,0.71639350713581529,0.71639350713581529,0.68710796423237419,0.69288421439602166,0.69937435943570547]
["Debt impairment expense as a % of total billable revenue","18(1)a,(2)",7,{"$f":"IF(ISERROR('A4-FinPerf RE'!C26/'SA10'!D43),0,('A4-FinPerf RE'!C26/'SA10'!D43))","v":9.1921013172732574E-2},{"$f":"IF(ISERROR('A4-FinPerf RE'!D26/'SA10'!E43),0,('A4-FinPerf RE'!D26/'SA10'!E43))","v":0.30053476007612484},{"$f":"IF(ISERROR('A4-FinPerf RE'!E26/'SA10'!F43),0,('A4-FinPerf RE'!E26/'SA10'!F43))","v":6.5951366008264733E-2},{"$f":"IF(ISERROR('A4-FinPerf RE'!F26/'SA10'!G43),0,('A4-FinPerf RE'!F26/'SA10'!G43))","v":6.281082169462042E-2},{"$f":"IF(ISERROR('A4-FinPerf RE'!G26/'SA10'!H43),0,('A4-FinPerf RE'!G26/'SA10'!H43))","v":7.9608139029937172E-2},{"$f":"IF(ISERROR('A4-FinPerf RE'!H26/'SA10'!I43),0,('A4-FinPerf RE'!H26/'SA10'!I43))","v":7.9608139029937172E-2},{"$f":"IF(ISERROR('A4-FinPerf RE'!I26/'SA10'!J43),0,('A4-FinPerf RE'!I26/'SA10'!J43))","v":7.9608139029937172E-2},{"$f":"IF(ISERROR('A4-FinPerf RE'!J26/'SA10'!K43),0,('A4-FinPerf RE'!J26/'SA10'!K43))","v":7.7773553487166872E-2},{"$f":"IF(ISERROR('A4-FinPerf RE'!K26/'SA10'!L43),0,('A4-FinPerf RE'!K26/'SA10'!L43))","v":7.7847977960501302E-2},{"$f":"IF(ISERROR('A4-FinPerf RE'!L26/'SA10'!M43),0,('A4-FinPerf RE'!L26/'SA10'!M43))","v":7.7922473607832568E-2}]
["Capital payments % of capital expenditure","18(1)c;19",8,{"$f":"IF(ISERROR(-'A7-CFlow'!C26/'A5-Capex'!C40),0,(-'A7-CFlow'!C26/'A5-Capex'!C40))","v":1},{"$f":"IF(ISERROR(-'A7-CFlow'!D26/'A5-Capex'!D40),0,(-'A7-CFlow'!D26/'A5-Capex'!D40))","v":1},{"$f":"IF(ISERROR(-'A7-CFlow'!E26/'A5-Capex'!E40),0,(-'A7-CFlow'!E26/'A5-Capex'!E40))","v":1},{"$f":"IF(ISERROR(-'A7-CFlow'!F26/'A5-Capex'!F40),0,(-'A7-CFlow'!F26/'A5-Capex'!F40))","v":1},{"$f":"IF(ISERROR(-'A7-CFlow'!G26/'A5-Capex'!G40),0,(-'A7-CFlow'!G26/'A5-Capex'!G40))","v":1},{"$f":"IF(ISERROR(-'A7-CFlow'!H26/'A5-Capex'!H40),0,(-'A7-CFlow'!H26/'A5-Capex'!H40))","v":1},{"$f":"IF(ISERROR(-'A7-CFlow'!I26/'A5-Capex'!I40),0,(-'A7-CFlow'!I26/'A5-Capex'!I40))","v":1},{"$f":"IF(ISERROR(-'A7-CFlow'!J26/'A5-Capex'!J40),0,(-'A7-CFlow'!J26/'A5-Capex'!J40))","v":1.0003379598075945},{"$f":"IF(ISERROR(-'A7-CFlow'!K26/'A5-Capex'!K40),0,(-'A7-CFlow'!K26/'A5-Capex'!K40))","v":1.0000000000000002},{"$f":"IF(ISERROR(-'A7-CFlow'!L26/'A5-Capex'!L40),0,(-'A7-CFlow'!L26/'A5-Capex'!L40))","v":1.0000000000000002}]
["Borrowing receipts % of capital expenditure (excl. transfers)","18(1)c",9,{"$f":"IF(ISERROR('A7-CFlow'!C32/'SA10'!D52),0,('A7-CFlow'!C32/'SA10'!D52))","v":0},{"$f":"IF(ISERROR('A7-CFlow'!D32/'SA10'!E52),0,('A7-CFlow'!D32/'SA10'!E52))","v":0},{"$f":"IF(ISERROR('A7-CFlow'!E32/'SA10'!F52),0,('A7-CFlow'!E32/'SA10'!F52))","v":0},{"$f":"IF(ISERROR('A7-CFlow'!F32/'SA10'!G52),0,('A7-CFlow'!F32/'SA10'!G52))","v":0},{"$f":"IF(ISERROR('A7-CFlow'!G32/'SA10'!H52),0,('A7-CFlow'!G32/'SA10'!H52))","v":0},{"$f":"IF(ISERROR('A7-CFlow'!H32/'SA10'!I52),0,('A7-CFlow'!H32/'SA10'!I52))","v":0},{"$f":"IF(ISERROR('A7-CFlow'!I32/'SA10'!J52),0,('A7-CFlow'!I32/'SA10'!J52))","v":0},{"$f":"IF(ISERROR('A7-CFlow'!J32/'SA10'!K52),0,('A7-CFlow'!J32/'SA10'!K52))","v":0},{"$f":"IF(ISERROR('A7-CFlow'!K32/'SA10'!L52),0,('A7-CFlow'!K32/'SA10'!L52))","v":0},{"$f":"IF(ISERROR('A7-CFlow'!L32/'SA10'!M52),0,('A7-CFlow'!L32/'SA10'!M52))","v":0}]
["Grants % of Govt. legislated/gazetted allocations","18(1)a",10,null,null,null,null,null,null,null,{"$f":"IF(ISERROR(K56/K68),0,(K56/K68))","v":0},{"$f":"IF(ISERROR(L56/L68),0,(L56/L68))","v":0},{"$f":"IF(ISERROR(M56/M68),0,(M56/M68))","v":0}]
["Current consumer debtors % change - incr(decr)","18(1)a",11,"N.A.",{"$f":"IF(ISERROR(ROUND((SUM('A6-FinPos'!D8:D10)-SUM('A6-FinPos'!C8:C10))/SUM('A6-FinPos'!C8:C10),3)),0,(ROUND((SUM('A6-FinPos'!D8:D10)-SUM('A6-FinPos'!C8:C10))/SUM('A6-FinPos'!C8:C10),3)))","v":-1},{"$f":"IF(ISERROR(ROUND((SUM('A6-FinPos'!E8:E10)-SUM('A6-FinPos'!D8:D10))/SUM('A6-FinPos'!D8:D10),3)),0,(ROUND((SUM('A6-FinPos'!E8:E10)-SUM('A6-FinPos'!D8:D10))/SUM('A6-FinPos'!D8:D10),3)))","v":0},{"$f":"IF(ISERROR(ROUND((SUM('A6-FinPos'!F8:F10)-SUM('A6-FinPos'!E8:E10))/SUM('A6-FinPos'!E8:E10),3)),0,(ROUND((SUM('A6-FinPos'!F8:F10)-SUM('A6-FinPos'!E8:E10))/SUM('A6-FinPos'!E8:E10),3)))","v":-1},{"$f":"IF(ISERROR(ROUND((SUM('A6-FinPos'!G8:G10)-SUM('A6-FinPos'!F8:F10))/SUM('A6-FinPos'!F8:F10),3)),0,(ROUND((SUM('A6-FinPos'!G8:G10)-SUM('A6-FinPos'!F8:F10))/SUM('A6-FinPos'!F8:F10),3)))","v":0},{"$f":"IF(ISERROR(ROUND((SUM('A6-FinPos'!H8:H10)-SUM('A6-FinPos'!G8:G10))/SUM('A6-FinPos'!G8:G10),3)),0,(ROUND((SUM('A6-FinPos'!H8:H10)-SUM('A6-FinPos'!G8:G10))/SUM('A6-FinPos'!G8:G10),3)))","v":0},{"$f":"IF(ISERROR(ROUND((SUM('A6-FinPos'!I8:I10)-SUM('A6-FinPos'!H8:H10))/SUM('A6-FinPos'!H8:H10),3)),0,(ROUND((SUM('A6-FinPos'!I8:I10)-SUM('A6-FinPos'!H8:H10))/SUM('A6-FinPos'!H8:H10),3)))","v":0},{"$f":"IF(ISERROR(ROUND((SUM('A6-FinPos'!J8:J10)-SUM('A6-FinPos'!G8:G10))/SUM('A6-FinPos'!G8:G10),3)),0,(ROUND((SUM('A6-FinPos'!J8:J10)-SUM('A6-FinPos'!G8:G10))/SUM('A6-FinPos'!G8:G10),3)))","v":0.39200000000000002},{"$f":"IF(ISERROR(ROUND((SUM('A6-FinPos'!K8:K10)-SUM('A6-FinPos'!J8:J10))/SUM('A6-FinPos'!J8:J10),3)),0,(ROUND((SUM('A6-FinPos'!K8:K10)-SUM('A6-FinPos'!J8:J10))/SUM('A6-FinPos'!J8:J10),3)))","v":4.4999999999999998E-2},{"$f":"IF(ISERROR(ROUND((SUM('A6-FinPos'!L8:L10)-SUM('A6-FinPos'!K8:K10))/SUM('A6-FinPos'!K8:K10),3)),0,(ROUND((SUM('A6-FinPos'!L8:L10)-SUM('A6-FinPos'!K8:K10))/SUM('A6-FinPos'!K8:K10),3)))","v":4.4999999999999998E-2}]
["Long term receivables % change - incr(decr)","18(1)a",12,"N.A.",{"$f":"IF(ISERROR(ROUND(('A6-FinPos'!D15-'A6-FinPos'!C15)/'A6-FinPos'!C15,3)),0,(ROUND(('A6-FinPos'!D15-'A6-FinPos'!C15)/'A6-FinPos'!C15,3)))","v":0},{"$f":"IF(ISERROR(ROUND(('A6-FinPos'!E15-'A6-FinPos'!D15)/'A6-FinPos'!D15,3)),0,(ROUND(('A6-FinPos'!E15-'A6-FinPos'!D15)/'A6-FinPos'!D15,3)))","v":0},{"$f":"IF(ISERROR(ROUND(('A6-FinPos'!F15-'A6-FinPos'!E15)/'A6-FinPos'!E15,3)),0,(ROUND(('A6-FinPos'!F15-'A6-FinPos'!E15)/'A6-FinPos'!E15,3)))","v":0},{"$f":"IF(ISERROR(ROUND(('A6-FinPos'!G15-'A6-FinPos'!F15)/'A6-FinPos'!F15,3)),0,(ROUND(('A6-FinPos'!G15-'A6-FinPos'!F15)/'A6-FinPos'!F15,3)))","v":0},{"$f":"IF(ISERROR(ROUND(('A6-FinPos'!H15-'A6-FinPos'!G15)/'A6-FinPos'!G15,3)),0,(ROUND(('A6-FinPos'!H15-'A6-FinPos'!G15)/'A6-FinPos'!G15,3)))","v":0},{"$f":"IF(ISERROR(ROUND(('A6-FinPos'!I15-'A6-FinPos'!H15)/'A6-FinPos'!H15,3)),0,(ROUND(('A6-FinPos'!I15-'A6-FinPos'!H15)/'A6-FinPos'!H15,3)))","v":0},{"$f":"IF(ISERROR(ROUND(('A6-FinPos'!J15-'A6-FinPos'!G15)/'A6-FinPos'!G15,3)),0,(ROUND(('A6-FinPos'!J15-'A6-FinPos'!G15)/'A6-FinPos'!G15,3)))","v":0},{"$f":"IF(ISERROR(ROUND(('A6-FinPos'!K15-'A6-FinPos'!J15)/'A6-FinPos'!J15,3)),0,(ROUND(('A6-FinPos'!K15-'A6-FinPos'!J15)/'A6-FinPos'!J15,3)))","v":0},{"$f":"IF(ISERROR(ROUND(('A6-FinPos'!L15-'A6-FinPos'!K15)/'A6-FinPos'!K15,3)),0,(ROUND(('A6-FinPos'!L15-'A6-FinPos'!K15)/'A6-FinPos'!K15,3)))","v":0}]
["R&M % of Property Plant & Equipment","20(1)(vi)",13,{"$f":"IF(ISERROR('A9-Asset'!C169/'A6-FinPos'!C19),0,('A9-Asset'!C169/'A6-FinPos'!C19))","v":3.01908750216135E-3},{"$f":"IF(ISERROR('A9-Asset'!D169/'A6-FinPos'!D19),0,('A9-Asset'!D169/'A6-FinPos'!D19))","v":2.8798409938939232E-3},{"$f":"IF(ISERROR('A9-Asset'!E169/'A6-FinPos'!E19),0,('A9-Asset'!E169/'A6-FinPos'!E19))","v":1.8416249367428483E-3},{"$f":"IF(ISERROR('A9-Asset'!F169/'A6-FinPos'!F19),0,('A9-Asset'!F169/'A6-FinPos'!F19))","v":1.5763751633892726E-2},{"$f":"IF(ISERROR('A9-Asset'!G169/'A6-FinPos'!G19),0,('A9-Asset'!G169/'A6-FinPos'!G19))","v":4.2393930852465973E-3},{"$f":"IF(ISERROR('A9-Asset'!H169/'A6-FinPos'!H19),0,('A9-Asset'!H169/'A6-FinPos'!H19))","v":4.2393930852465973E-3},{"$f":"IF(ISERROR('A9-Asset'!I169/'A6-FinPos'!I19),0,('A9-Asset'!I169/'A6-FinPos'!I19))","v":4.4301628105723545E-3},{"$f":"IF(ISERROR('A9-Asset'!I169/'A6-FinPos'!J19),0,('A9-Asset'!I169/'A6-FinPos'!J19))","v":4.7393386421141588E-3},{"$f":"IF(ISERROR('A9-Asset'!J169/'A6-FinPos'!K19),0,('A9-Asset'!J169/'A6-FinPos'!K19))","v":4.7438738846823682E-3},{"$f":"IF(ISERROR('A9-Asset'!K169/'A6-FinPos'!L19),0,('A9-Asset'!K169/'A6-FinPos'!L19))","v":4.7484134629934742E-3}]
["Asset renewal % of capital budget",{"$f":"B17","v":"20(1)(vi)"},14,{"$f":"IF(ISERROR(D58/D57),0,(D58/D57))","v":0.11760710287156265},0.42015035768686199,0.16017839340971357,0.21705389769651023,0.20060391564566585,0.20060391564566585,0,0.19139408963311294,0.26442129200250059,{"$f":"IF(ISERROR(M58/M57),0,((M58/M57)))","v":0.26442129209185639}]
[]
[{"$f":"head27a","v":"References"}]
["1. Positive cash balances indicative of minimum compliance - subject to 2"]
["2. Deduct cash and investment applications (defined) from cash balances"]
["3. Indicative of sufficient liquidity to meet average monthly operating payments"]
["4. Indicative of funded operational requirements"]
["5. Indicative of adherence to macro-economic targets (prior to 2003/04 revenue not available for high capacity municipalities and later for other capacity classifications)"]
["6. Realistic average cash collection forecasts as % of annual billed revenue"]
["7. Realistic average increase in debt impairment (doubtful debt) provision"]
["8. Indicative of planned capital expenditure level & cash payment timing"]
["9. Indicative of compliance with borrowing 'only' for the capital budget - should not exceed 100% unless refinancing"]
["10. Substantiation of National/Province allocations included in budget"]
["11. Indicative of realistic current arrear debtor collection targets (prior to 2003/04 revenue not available for high capacity municipalities and later for other capacity classifications)"]
["12. Indicative of realistic long term arrear debtor collection targets (prior to 2003/04 revenue not available for high capacity municipalities and later for other capacity classifications)"]
["13. Indicative of a credible allowance for repairs & maintenance of assets - functioning assets revenue protection"]
["14. Indicative of a credible allowance for asset renewal (requires analysis of asset renewal projects as % of total capital projects - detailed capital plan) - functioning assets revenue protection"]
["Supporting indicators"]
["% incr total service charges (incl prop rates)","18(1)a",null,null,{"$f":"IF(ISERROR((E44/D44)-1),0,((E44/D44)-1))","v":3.4318527007362043E-3},{"$f":"IF(ISERROR((F44/E44)-1),0,((F44/E44)-1))","v":0.6059059527001609},{"$f":"IF(ISERROR((G44/F44)-1),0,((G44/F44)-1))","v":5.000005140695829E-2},{"$f":"IF(ISERROR((H44/G44)-1),0,((H44/G44)-1))","v":0},{"$f":"IF(ISERROR((I44/H44)-1),0,((I44/H44)-1))","v":0},{"$f":"IF(ISERROR((J44/I44)-1),0,((J44/I44)-1))","v":0},{"$f":"IF(ISERROR((K44/H44)-1),0,((K44/H44)-1))","v":6.965030600037192E-2},{"$f":"IF(ISERROR((L44/K44)-1),0,((L44/K44)-1))","v":4.4999999728351003E-2},{"$f":"IF(ISERROR((M44/L44)-1),0,((M44/L44)-1))","v":4.500000034007301E-2}]
["% incr Property Tax","18(1)a",null,null,-2.8819691877371878E-2,{"$f":"IF(ISERROR((F45/E45)-1),0,((F45/E45)-1))","v":0.72054393323825106},5.0000056095936163E-2,0,0,0,{"$f":"IF(ISERROR((K45/H45)-1),0,((K45/H45)-1))","v":2.388755560749356E-2},4.499999969032431E-2,4.5000000387678263E-2]
[{"$f":"\"% incr \"&'A4-FinPerf RE'!A6","v":"% incr Service charges - electricity revenue"},"18(1)a",null,null,0,0,0,0,0,0,0,0,{"$f":"IF(ISERROR((M46/L46)-1),0,((M46/L46)-1))","v":0}]
[{"$f":"\"% incr \"&'A4-FinPerf RE'!A7","v":"% incr Service charges - water revenue"},"18(1)a",null,null,0,0,0,0,0,0,0,0,0]
[{"$f":"\"% incr \"&'A4-FinPerf RE'!A8","v":"% incr Service charges - sanitation revenue"},"18(1)a",null,null,0,0,0,0,0,0,0,0,0]
[{"$f":"\"% incr \"&'A4-FinPerf RE'!A9","v":"% incr Service charges - refuse revenue"},"18(1)a",null,null,0.24862963896396595,-7.1986473274834428E-2,5.0000000000000044E-2,0,0,0,0.57136388571428576,4.4999999999999929E-2,4.4999999999999929E-2]
[{"$f":"\"% incr in \"&'A4-FinPerf RE'!A10","v":"% incr in "},"18(1)a",null,null,0,0,0,0,{"$f":"IF(ISERROR((I50/H50)-1),0,((I50/H50)-1))","v":0},0,0,{"$f":"IF(ISERROR((L50/K50)-1),0,((L50/K50)-1))","v":0},0]
["Total billable revenue","18(1)a",null,{"$f":"SUM(D45:D50)","v":14848248},{"$f":"SUM(E45:E50)","v":14899205},23926722,25123059.329999998,25123059.329999998,25123059.329999998,25123059.329999998,26872888.099999998,28082168.057200007,29345865.629323997]
["Service charges",null,null,{"$f":"SUM(D45:D50)","v":14848248},{"$f":"SUM(E45:E50)","v":14899205},23926722,25123059.329999998,25123059.329999998,25123059.329999998,{"$f":"SUM(J45:J50)","v":25123059.329999998},26872888.099999998,28082168.057200007,29345865.629323997]
["Property rates",null,null,{"$f":"'A4-FinPerf RE'!C5","v":13122243},{"$f":"'A4-FinPerf RE'!D5","v":12744064},{"$f":"'A4-FinPerf RE'!E5","v":21926722},{"$f":"'A4-FinPerf RE'!F5","v":23023059.329999998},{"$f":"'A4-FinPerf RE'!G5","v":23023059.329999998},{"$f":"'A4-FinPerf RE'!H5","v":23023059.329999998},{"$f":"'A4-FinPerf RE'!I5","v":23023059.329999998},{"$f":"'A4-FinPerf RE'!J5","v":23573023.939999998},{"$f":"'A4-FinPerf RE'!K5","v":24633810.010000005},{"$f":"'A4-FinPerf RE'!L5","v":25742331.469999999}]
["Service charges - electricity revenue",null,null,{"$f":"'A4-FinPerf RE'!C6","v":0},{"$f":"'A4-FinPerf RE'!D6","v":0},{"$f":"'A4-FinPerf RE'!E6","v":0},{"$f":"'A4-FinPerf RE'!F6","v":0},{"$f":"'A4-FinPerf RE'!G6","v":0},{"$f":"'A4-FinPerf RE'!H6","v":0},{"$f":"'A4-FinPerf RE'!I6","v":0},{"$f":"'A4-FinPerf RE'!J6","v":0},{"$f":"'A4-FinPerf RE'!K6","v":0},{"$f":"'A4-FinPerf RE'!L6","v":0}]
["Service charges - water revenue",null,null,{"$f":"'A4-FinPerf RE'!C7","v":0},{"$f":"'A4-FinPerf RE'!D7","v":0},{"$f":"'A4-FinPerf RE'!E7","v":0},{"$f":"'A4-FinPerf RE'!F7","v":0},{"$f":"'A4-FinPerf RE'!G7","v":0},{"$f":"'A4-FinPerf RE'!H7","v":0},{"$f":"'A4-FinPerf RE'!I7","v":0},{"$f":"'A4-FinPerf RE'!J7","v":0},{"$f":"'A4-FinPerf RE'!K7","v":0},{"$f":"'A4-FinPerf RE'!L7","v":0}]
["Service charges - sanitation revenue",null,null,{"$f":"'A4-FinPerf RE'!C8","v":0},{"$f":"'A4-FinPerf RE'!D8","v":0},{"$f":"'A4-FinPerf RE'!E8","v":0},{"$f":"'A4-FinPerf RE'!F8","v":0},{"$f":"'A4-FinPerf RE'!G8","v":0},{"$f":"'A4-FinPerf RE'!H8","v":0},{"$f":"'A4-FinPerf RE'!I8","v":0},{"$f":"'A4-FinPerf RE'!J8","v":0},{"$f":"'A4-FinPerf RE'!K8","v":0},{"$f":"'A4-FinPerf RE'!L8","v":0}]
["Service charges - refuse removal",null,null,{"$f":"'A4-FinPerf RE'!C9","v":1726005},{"$f":"'A4-FinPerf RE'!D9","v":2155141},{"$f":"'A4-FinPerf RE'!E9","v":2000000},{"$f":"'A4-FinPerf RE'!F9","v":2100000},{"$f":"'A4-FinPerf RE'!G9","v":2100000},{"$f":"'A4-FinPerf RE'!H9","v":2100000},{"$f":"'A4-FinPerf RE'!I9","v":2100000},{"$f":"'A4-FinPerf RE'!J9","v":3299864.16},{"$f":"'A4-FinPerf RE'!K9","v":3448358.0471999999},{"$f":"'A4-FinPerf RE'!L9","v":3603534.1593239997}]
["Service charges - other",null,null,{"$f":"'A4-FinPerf RE'!C10","v":0},{"$f":"'A4-FinPerf RE'!D10","v":0},{"$f":"'A4-FinPerf RE'!E10","v":0},{"$f":"'A4-FinPerf RE'!F10","v":0},{"$f":"'A4-FinPerf RE'!G10","v":0},{"$f":"'A4-FinPerf RE'!H10","v":0},{"$f":"'A4-FinPerf RE'!I10","v":0},{"$f":"'A4-FinPerf RE'!J10","v":0},{"$f":"'A4-FinPerf RE'!K10","v":0},{"$f":"'A4-FinPerf RE'!L10","v":0}]
[{"$f":"'A4-FinPerf RE'!A11","v":"Rental of facilities and equipment"},null,null,{"$f":"'A4-FinPerf RE'!C11","v":1173223},{"$f":"'A4-FinPerf RE'!D11","v":923761},{"$f":"'A4-FinPerf RE'!E11","v":1000000},{"$f":"'A4-FinPerf RE'!F11","v":1000000},{"$f":"'A4-FinPerf RE'!G11","v":1000000},{"$f":"'A4-FinPerf RE'!H11","v":1000000},{"$f":"'A4-FinPerf RE'!I11","v":1000000},{"$f":"'A4-FinPerf RE'!J11","v":1200000},{"$f":"'A4-FinPerf RE'!K11","v":1255200},{"$f":"'A4-FinPerf RE'!L11","v":1312939.2}]
["Capital expenditure excluding capital grant funding",null,null,{"$f":"'A5-Capex'!C40-'A5-Capex'!C70","v":17227610},{"$f":"'A5-Capex'!D40-'A5-Capex'!D70","v":11740288.040000003},{"$f":"'A5-Capex'!E40-'A5-Capex'!E70","v":29460444},{"$f":"'A5-Capex'!F40-'A5-Capex'!F70","v":44978829.000000007},{"$f":"'A5-Capex'!G40-'A5-Capex'!G70","v":43137173.239999995},{"$f":"'A5-Capex'!H40-'A5-Capex'!H70","v":43137173.239999995},{"$f":"'A5-Capex'!I40-'A5-Capex'!I70","v":43137173.239999995},{"$f":"'A5-Capex'!J40-'A5-Capex'!J70","v":32419682.609999992},{"$f":"'A5-Capex'!K40-'A5-Capex'!K70","v":22249048.430000003},{"$f":"'A5-Capex'!L40-'A5-Capex'!L70","v":23272504.649999987}]
["Cash receipts from ratepayers","18(1)a",null,{"$f":"'A7-CFlow'!C6+'A7-CFlow'!C7+'A7-CFlow'!C8","v":26881271},{"$f":"'A7-CFlow'!D6+'A7-CFlow'!D7+'A7-CFlow'!D8","v":21021039},{"$f":"'A7-CFlow'!E6+'A7-CFlow'!E7+'A7-CFlow'!E8","v":20076257.75},{"$f":"'A7-CFlow'!F6+'A7-CFlow'!F7+'A7-CFlow'!F8","v":29992426.719999999},{"$f":"'A7-CFlow'!G6+'A7-CFlow'!G7+'A7-CFlow'!G8","v":23243148.300000001},{"$f":"'A7-CFlow'!H6+'A7-CFlow'!H7+'A7-CFlow'!H8","v":23243148.300000001},{"$f":"'A7-CFlow'!I6+'A7-CFlow'!I7+'A7-CFlow'!I8","v":23243148.300000001},{"$f":"'A7-CFlow'!J6+'A7-CFlow'!J7+'A7-CFlow'!J8","v":23358468.050000001},{"$f":"'A7-CFlow'!K6+'A7-CFlow'!K7+'A7-CFlow'!K8","v":24619825.324700002},{"$f":"'A7-CFlow'!L6+'A7-CFlow'!L7+'A7-CFlow'!L8","v":25973915.717558503}]
["Ratepayer & Other revenue","18(1)a",null,{"$f":"SUM('A4-FinPerf RE'!C5:C11)+'A4-FinPerf RE'!C13+SUM('A4-FinPerf RE'!C15:C17)+'A4-FinPerf RE'!C19","v":26881271},{"$f":"SUM('A4-FinPerf RE'!D5:D11)+'A4-FinPerf RE'!D13+SUM('A4-FinPerf RE'!D15:D17)+'A4-FinPerf RE'!D19","v":21345092},{"$f":"SUM('A4-FinPerf RE'!E5:E11)+'A4-FinPerf RE'!E13+SUM('A4-FinPerf RE'!E15:E17)+'A4-FinPerf RE'!E19","v":30743114},{"$f":"SUM('A4-FinPerf RE'!F5:F11)+'A4-FinPerf RE'!F13+SUM('A4-FinPerf RE'!F15:F17)+'A4-FinPerf RE'!F19","v":31844666.049999997},{"$f":"SUM('A4-FinPerf RE'!G5:G11)+'A4-FinPerf RE'!G13+SUM('A4-FinPerf RE'!G15:G17)+'A4-FinPerf RE'!G19","v":32444666.329999998},{"$f":"SUM('A4-FinPerf RE'!H5:H11)+'A4-FinPerf RE'!H13+SUM('A4-FinPerf RE'!H15:H17)+'A4-FinPerf RE'!H19","v":32444666.329999998},{"$f":"SUM('A4-FinPerf RE'!I5:I11)+'A4-FinPerf RE'!I13+SUM('A4-FinPerf RE'!I15:I17)+'A4-FinPerf RE'!I19","v":32444666.329999998},{"$f":"SUM('A4-FinPerf RE'!J5:J11)+'A4-FinPerf RE'!J13+SUM('A4-FinPerf RE'!J15:J17)+'A4-FinPerf RE'!J19","v":33995338.82},{"$f":"SUM('A4-FinPerf RE'!K5:K11)+'A4-FinPerf RE'!K13+SUM('A4-FinPerf RE'!K15:K17)+'A4-FinPerf RE'!K19","v":35532380.177200012},{"$f":"SUM('A4-FinPerf RE'!L5:L11)+'A4-FinPerf RE'!L13+SUM('A4-FinPerf RE'!L15:L17)+'A4-FinPerf RE'!L19","v":37138787.499323994}]
["Change in consumer debtors (current and non-current)",null,null,{"$f":"D84","v":-3219372.3466666676},{"$f":"(SUM('A6-FinPos'!D8:D10)+'A6-FinPos'!D15)-(SUM('A6-FinPos'!C8:C10)+'A6-FinPos'!C15)","v":-14352479},{"$f":"(SUM('A6-FinPos'!E8:E10)+'A6-FinPos'!E15)-(SUM('A6-FinPos'!D8:D10)+'A6-FinPos'!D15)","v":27346372},{"$f":"(SUM('A6-FinPos'!F8:F10)+'A6-FinPos'!F15)-(SUM('A6-FinPos'!E8:E10)+'A6-FinPos'!E15)","v":-27346372},{"$f":"(SUM('A6-FinPos'!G8:G10)+'A6-FinPos'!G15)-(SUM('A6-FinPos'!E8:E10)+'A6-FinPos'!E15)","v":2246583.0799999982},{"$f":"(SUM('A6-FinPos'!H8:H10)+'A6-FinPos'!H15)-(SUM('A6-FinPos'!E8:E10)+'A6-FinPos'!E15)","v":2246583.0799999982},{"$f":"(SUM('A6-FinPos'!I8:I10)+'A6-FinPos'!I15)-(SUM('A6-FinPos'!E8:E10)+'A6-FinPos'!E15)","v":2246583.0799999982},{"$f":"(SUM('A6-FinPos'!J8:J10)+'A6-FinPos'!J15)-(SUM('A6-FinPos'!F8:F10)+'A6-FinPos'!F15)","v":41190254.533678807},{"$f":"(SUM('A6-FinPos'!K8:K10)+'A6-FinPos'!K15)-(SUM('A6-FinPos'!J8:J10)+'A6-FinPos'!J15)","v":1853561.4540155455},{"$f":"(SUM('A6-FinPos'!L8:L10)+'A6-FinPos'!L15)-(SUM('A6-FinPos'!K8:K10)+'A6-FinPos'!K15)","v":1936971.7194462419}]
["Operating and Capital Grant Revenue","18(1)a",null,{"$f":"'A4-FinPerf RE'!C18+'A4-FinPerf RE'!C38","v":124757917},{"$f":"'A4-FinPerf RE'!D18+'A4-FinPerf RE'!D38","v":126444000},{"$f":"'A4-FinPerf RE'!E18+'A4-FinPerf RE'!E38","v":173569906},{"$f":"'A4-FinPerf RE'!F18+'A4-FinPerf RE'!F38","v":220103511.63999999},{"$f":"'A4-FinPerf RE'!G18+'A4-FinPerf RE'!G38","v":148618777},{"$f":"'A4-FinPerf RE'!H18+'A4-FinPerf RE'!H38","v":148618777},{"$f":"'A4-FinPerf RE'!I18+'A4-FinPerf RE'!I38","v":148618777},{"$f":"'A4-FinPerf RE'!J18+'A4-FinPerf RE'!J38","v":148822000},{"$f":"'A4-FinPerf RE'!K18+'A4-FinPerf RE'!K38","v":155545749},{"$f":"'A4-FinPerf RE'!L18+'A4-FinPerf RE'!L38","v":162573297.61499998}]
["Capital expenditure - total",{"$f":"B17","v":"20(1)(vi)"},null,{"$f":"'A5-Capex'!C40","v":73317502},{"$f":"'A5-Capex'!D40","v":38020019.590000004},{"$f":"'A5-Capex'!E40","v":60899447},{"$f":"'A5-Capex'!F40","v":78295829.010000005},{"$f":"'A5-Capex'!G40","v":76454174.239999995},{"$f":"'A5-Capex'!H40","v":76454174.239999995},{"$f":"'A5-Capex'!I40","v":76454174.239999995},{"$f":"'A5-Capex'!J40","v":59178682.589999996},{"$f":"'A5-Capex'!K40","v":45075588.920000002},{"$f":"'A5-Capex'!L40","v":47149065.989999995}]
["Capital expenditure - renewal",{"$f":"B18","v":"20(1)(vi)"},null,{"$f":"'A9-Asset'!C37","v":8622659},{"$f":"'A9-Asset'!D37","v":15974124.830000002},{"$f":"'A9-Asset'!E37","v":9754775.5800000001},{"$f":"'A9-Asset'!F37","v":16994414.859999999},{"$f":"'A9-Asset'!G37","v":15337006.719999999},{"$f":"'A9-Asset'!H37","v":15337006.719999999},null,{"$f":"'A9-Asset'!I37","v":11326450.08},{"$f":"'A9-Asset'!J37","v":11918945.460000001},{"$f":"'A9-Asset'!K37","v":12467216.950000001}]
[]
["Supporting benchmarks"]
["Growth guideline maximum",null,null,0.06,0.06,0.06,0.06,0.06,0.06,0.06,0.06,0.06,0.06]
["CPI guideline",null,null,4.2999999999999997E-2,3.9E-2,4.5999999999999999E-2,0.05,0.05,0.05,0.05,5.3999999999999999E-2,5.6000000000000001E-2,5.3999999999999999E-2]
["DoRA operating grants total MFY"]
["DoRA capital grants total MFY"]
["Provincial operating grants"]
["Provincial capital grants"]
["District Municipality grants"]
["Total gazetted/advised national, provincial and district grants",null,null,null,null,null,null,null,null,null,{"$f":"SUM(K63:K67)","v":0},{"$f":"SUM(L63:L67)","v":0},{"$f":"SUM(M63:M67)","v":0}]
["Average annual collection rate (arrears inclusive)"]
[]
["DoRA operating"]
["List operating grants"]
[]
[]
[]
[null,null,null,null,null,null,null,null,null,null,{"$f":"SUM(K72:K75)","v":0},{"$f":"SUM(L72:L75)","v":0},{"$f":"SUM(M72:M75)","v":0}]
["DoRA capital"]
["List capital grants"]
[]
[]
[]
[null,null,null,null,null,null,null,null,null,null,{"$f":"SUM(K78:K81)","v":0},{"$f":"SUM(L78:L81)","v":0},{"$f":"SUM(M78:M81)","v":0}]
["Trend"]
[{"$f":"A55","v":"Change in consumer debtors (current and non-current)"},null,null,{"$f":"TREND(E84:G84)","v":-3219372.3466666676},{"$f":"E55","v":-14352479},{"$f":"F55","v":27346372},{"$f":"J55","v":2246583.0799999982},{"$f":"K55","v":41190254.533678807},1853561.4540155455,1936971.7194462419,0,0,0]
[]
["Total Operating Revenue",null,null,{"$f":"'A1-Sum'!B10","v":131135521},{"$f":"'A1-Sum'!C10","v":131588270},{"$f":"'A1-Sum'!D10","v":188874020},{"$f":"'A1-Sum'!E10","v":234631177.68999997},{"$f":"'A1-Sum'!F10","v":160746443.32999998},{"$f":"'A1-Sum'!G10","v":160746443.32999998},{"$f":"'A1-Sum'!H10","v":160746443.32999998},{"$f":"'A1-Sum'!I10","v":168058338.81999999},{"$f":"'A1-Sum'!J10","v":175628215.17719999},{"$f":"'A1-Sum'!K10","v":183538935.07432398}]
["Total Operating Expenditure",null,null,{"$f":"'A1-Sum'!B18","v":126192101},{"$f":"'A1-Sum'!C18","v":133676825},{"$f":"'A1-Sum'!D18","v":187530155},{"$f":"'A1-Sum'!E18","v":244086648.22},{"$f":"'A1-Sum'!F18","v":175823551.12},{"$f":"'A1-Sum'!G18","v":175823551.12},{"$f":"'A1-Sum'!H18","v":175823551.12},{"$f":"'A1-Sum'!I18","v":174082793.37999997},{"$f":"'A1-Sum'!J18","v":177626646.33000001},{"$f":"'A1-Sum'!K18","v":185797472.07999998}]
["Operating Performance Surplus/(Deficit)",null,null,{"$f":"D86-D87","v":4943420},{"$f":"E86-E87","v":-2088555},1343865,-9455470.530000031,-15077107.790000021,-15077107.790000021,-15077107.790000021,{"$f":"K86-K87","v":-6024454.5599999726},-1998431.1528000236,-2258537.0056760013]
["Cash and Cash Equivalents (30 June 2012)",null,null,null,null,null,null,null,null,null,{"$f":"'A7-CFlow'!J40","v":163351442.06381822}]
["Revenue"]
["% Increase in Total Operating Revenue",null,null,null,{"$f":"IF(ISERROR(('A1-Sum'!C10-'A1-Sum'!B10)/'A1-Sum'!B10),0,(('A1-Sum'!C10-'A1-Sum'!B10)/'A1-Sum'!B10))","v":3.4525275573503841E-3},{"$f":"IF(ISERROR(('A1-Sum'!D10-'A1-Sum'!C10)/'A1-Sum'!C10),0,(('A1-Sum'!D10-'A1-Sum'!C10)/'A1-Sum'!C10))","v":0.43534085522972527},{"$f":"IF(ISERROR(('A1-Sum'!E10-'A1-Sum'!D10)/'A1-Sum'!D10),0,(('A1-Sum'!E10-'A1-Sum'!D10)/'A1-Sum'!D10))","v":0.24226284636711798},{"$f":"IF(ISERROR(('A1-Sum'!F10-'A1-Sum'!E10)/'A1-Sum'!E10),0,(('A1-Sum'!F10-'A1-Sum'!E10)/'A1-Sum'!E10))","v":-0.31489734266099184},{"$f":"IF(ISERROR(('A1-Sum'!G10-'A1-Sum'!F10)/'A1-Sum'!F10),0,(('A1-Sum'!G10-'A1-Sum'!F10)/'A1-Sum'!F10))","v":0},{"$f":"IF(ISERROR(('A1-Sum'!H10-'A1-Sum'!G10)/'A1-Sum'!G10),0,(('A1-Sum'!H10-'A1-Sum'!G10)/'A1-Sum'!G10))","v":0},{"$f":"IF(ISERROR(('A1-Sum'!I10-'A1-Sum'!F10)/'A1-Sum'!F10),0,(('A1-Sum'!I10-'A1-Sum'!F10)/'A1-Sum'!F10))","v":4.5487136999910194E-2},{"$f":"IF(ISERROR(('A1-Sum'!J10-'A1-Sum'!I10)/'A1-Sum'!I10),0,(('A1-Sum'!J10-'A1-Sum'!I10)/'A1-Sum'!I10))","v":4.5043146388039475E-2},{"$f":"IF(ISERROR(('A1-Sum'!K10-'A1-Sum'!J10)/'A1-Sum'!J10),0,(('A1-Sum'!K10-'A1-Sum'!J10)/'A1-Sum'!J10))","v":4.5042420371592777E-2}]
["% Increase in Property Rates Revenue",null,null,null,{"$f":"IF(ISERROR(('A4-FinPerf RE'!D5-'A4-FinPerf RE'!C5)/'A4-FinPerf RE'!C5),0,(('A4-FinPerf RE'!D5-'A4-FinPerf RE'!C5)/'A4-FinPerf RE'!C5))","v":-2.8819691877371878E-2},{"$f":"IF(ISERROR(('A4-FinPerf RE'!E5-'A4-FinPerf RE'!D5)/'A4-FinPerf RE'!D5),0,(('A4-FinPerf RE'!E5-'A4-FinPerf RE'!D5)/'A4-FinPerf RE'!D5))","v":0.72054393323825117},{"$f":"IF(ISERROR(('A4-FinPerf RE'!F5-'A4-FinPerf RE'!E5)/'A4-FinPerf RE'!E5),0,(('A4-FinPerf RE'!F5-'A4-FinPerf RE'!E5)/'A4-FinPerf RE'!E5))","v":5.0000056095936191E-2},{"$f":"IF(ISERROR(('A4-FinPerf RE'!G5-'A4-FinPerf RE'!F5)/'A4-FinPerf RE'!F5),0,(('A4-FinPerf RE'!G5-'A4-FinPerf RE'!F5)/'A4-FinPerf RE'!F5))","v":0},{"$f":"IF(ISERROR(('A4-FinPerf RE'!H5-'A4-FinPerf RE'!G5)/'A4-FinPerf RE'!G5),0,(('A4-FinPerf RE'!H5-'A4-FinPerf RE'!G5)/'A4-FinPerf RE'!G5))","v":0},{"$f":"IF(ISERROR(('A4-FinPerf RE'!I5-'A4-FinPerf RE'!H5)/'A4-FinPerf RE'!H5),0,(('A4-FinPerf RE'!I5-'A4-FinPerf RE'!H5)/'A4-FinPerf RE'!H5))","v":0},{"$f":"IF(ISERROR(('A4-FinPerf RE'!J5-'A4-FinPerf RE'!G5)/'A4-FinPerf RE'!G5),0,(('A4-FinPerf RE'!J5-'A4-FinPerf RE'!G5)/'A4-FinPerf RE'!G5))","v":2.3887555607493605E-2},{"$f":"IF(ISERROR(('A4-FinPerf RE'!K5-'A4-FinPerf RE'!J5)/'A4-FinPerf RE'!J5),0,(('A4-FinPerf RE'!K5-'A4-FinPerf RE'!J5)/'A4-FinPerf RE'!J5))","v":4.4999999690324324E-2},{"$f":"IF(ISERROR(('A4-FinPerf RE'!L5-'A4-FinPerf RE'!K5)/'A4-FinPerf RE'!K5),0,(('A4-FinPerf RE'!L5-'A4-FinPerf RE'!K5)/'A4-FinPerf RE'!K5))","v":4.5000000387678284E-2}]
["% Increase in Electricity Revenue",null,null,null,{"$f":"IF(ISERROR(('A4-FinPerf RE'!D6-'A4-FinPerf RE'!C6)/'A4-FinPerf RE'!C6),0,(('A4-FinPerf RE'!D6-'A4-FinPerf RE'!C6)/'A4-FinPerf RE'!C6))","v":0},{"$f":"IF(ISERROR(('A4-FinPerf RE'!E6-'A4-FinPerf RE'!D6)/'A4-FinPerf RE'!D6),0,(('A4-FinPerf RE'!E6-'A4-FinPerf RE'!D6)/'A4-FinPerf RE'!D6))","v":0},{"$f":"IF(ISERROR(('A4-FinPerf RE'!F6-'A4-FinPerf RE'!E6)/'A4-FinPerf RE'!E6),0,(('A4-FinPerf RE'!F6-'A4-FinPerf RE'!E6)/'A4-FinPerf RE'!E6))","v":0},{"$f":"IF(ISERROR(('A4-FinPerf RE'!G6-'A4-FinPerf RE'!F6)/'A4-FinPerf RE'!F6),0,(('A4-FinPerf RE'!G6-'A4-FinPerf RE'!F6)/'A4-FinPerf RE'!F6))","v":0},{"$f":"IF(ISERROR(('A4-FinPerf RE'!H6-'A4-FinPerf RE'!G6)/'A4-FinPerf RE'!G6),0,(('A4-FinPerf RE'!H6-'A4-FinPerf RE'!G6)/'A4-FinPerf RE'!G6))","v":0},{"$f":"IF(ISERROR(('A4-FinPerf RE'!I6-'A4-FinPerf RE'!H6)/'A4-FinPerf RE'!H6),0,(('A4-FinPerf RE'!I6-'A4-FinPerf RE'!H6)/'A4-FinPerf RE'!H6))","v":0},{"$f":"IF(ISERROR(('A4-FinPerf RE'!J6-'A4-FinPerf RE'!G6)/'A4-FinPerf RE'!G6),0,(('A4-FinPerf RE'!J6-'A4-FinPerf RE'!G6)/'A4-FinPerf RE'!G6))","v":0},{"$f":"IF(ISERROR(('A4-FinPerf RE'!K6-'A4-FinPerf RE'!J6)/'A4-FinPerf RE'!J6),0,(('A4-FinPerf RE'!K6-'A4-FinPerf RE'!J6)/'A4-FinPerf RE'!J6))","v":0},{"$f":"IF(ISERROR(('A4-FinPerf RE'!L6-'A4-FinPerf RE'!K6)/'A4-FinPerf RE'!K6),0,(('A4-FinPerf RE'!L6-'A4-FinPerf RE'!K6)/'A4-FinPerf RE'!K6))","v":0}]
["% Increase in Property Rates & Services Charges",null,null,null,{"$f":"IF(ISERROR((('A1-Sum'!C5+'A1-Sum'!C6)-('A1-Sum'!B5+'A1-Sum'!B6))/('A1-Sum'!B5+'A1-Sum'!B6)),0,((('A1-Sum'!C5+'A1-Sum'!C6)-('A1-Sum'!B5+'A1-Sum'!B6))/('A1-Sum'!B5+'A1-Sum'!B6)))","v":3.4318527007361405E-3},{"$f":"IF(ISERROR((('A1-Sum'!D5+'A1-Sum'!D6)-('A1-Sum'!C5+'A1-Sum'!C6))/('A1-Sum'!C5+'A1-Sum'!C6)),0,((('A1-Sum'!D5+'A1-Sum'!D6)-('A1-Sum'!C5+'A1-Sum'!C6))/('A1-Sum'!C5+'A1-Sum'!C6)))","v":0.6059059527001609},{"$f":"IF(ISERROR((('A1-Sum'!E5+'A1-Sum'!E6)-('A1-Sum'!D5+'A1-Sum'!D6))/('A1-Sum'!D5+'A1-Sum'!D6)),0,((('A1-Sum'!E5+'A1-Sum'!E6)-('A1-Sum'!D5+'A1-Sum'!D6))/('A1-Sum'!D5+'A1-Sum'!D6)))","v":5.0000051406958221E-2},{"$f":"IF(ISERROR((('A1-Sum'!F5+'A1-Sum'!F6)-('A1-Sum'!E5+'A1-Sum'!E6))/('A1-Sum'!E5+'A1-Sum'!E6)),0,((('A1-Sum'!F5+'A1-Sum'!F6)-('A1-Sum'!E5+'A1-Sum'!E6))/('A1-Sum'!E5+'A1-Sum'!E6)))","v":0},{"$f":"IF(ISERROR((('A1-Sum'!G5+'A1-Sum'!G6)-('A1-Sum'!F5+'A1-Sum'!F6))/('A1-Sum'!F5+'A1-Sum'!F6)),0,((('A1-Sum'!G5+'A1-Sum'!G6)-('A1-Sum'!F5+'A1-Sum'!F6))/('A1-Sum'!F5+'A1-Sum'!F6)))","v":0},{"$f":"IF(ISERROR((('A1-Sum'!H5+'A1-Sum'!H6)-('A1-Sum'!G5+'A1-Sum'!G6))/('A1-Sum'!G5+'A1-Sum'!G6)),0,((('A1-Sum'!H5+'A1-Sum'!H6)-('A1-Sum'!G5+'A1-Sum'!G6))/('A1-Sum'!G5+'A1-Sum'!G6)))","v":0},{"$f":"IF(ISERROR((('A1-Sum'!I5+'A1-Sum'!I6)-('A1-Sum'!F5+'A1-Sum'!F6))/('A1-Sum'!F5+'A1-Sum'!F6)),0,((('A1-Sum'!I5+'A1-Sum'!I6)-('A1-Sum'!F5+'A1-Sum'!F6))/('A1-Sum'!F5+'A1-Sum'!F6)))","v":6.9650306000371962E-2},{"$f":"IF(ISERROR((('A1-Sum'!J5+'A1-Sum'!J6)-('A1-Sum'!I5+'A1-Sum'!I6))/('A1-Sum'!I5+'A1-Sum'!I6)),0,((('A1-Sum'!J5+'A1-Sum'!J6)-('A1-Sum'!I5+'A1-Sum'!I6))/('A1-Sum'!I5+'A1-Sum'!I6)))","v":4.4999999728351101E-2},{"$f":"IF(ISERROR((('A1-Sum'!K5+'A1-Sum'!K6)-('A1-Sum'!J5+'A1-Sum'!J6))/('A1-Sum'!J5+'A1-Sum'!J6)),0,((('A1-Sum'!K5+'A1-Sum'!K6)-('A1-Sum'!J5+'A1-Sum'!J6))/('A1-Sum'!J5+'A1-Sum'!J6)))","v":4.5000000340073072E-2}]
["Expenditure"]
["% Increase in Total Operating Expenditure",null,null,null,{"$f":"IF(ISERROR(('A1-Sum'!C18-'A1-Sum'!B18)/'A1-Sum'!B18),0,(('A1-Sum'!C18-'A1-Sum'!B18)/'A1-Sum'!B18))","v":5.9312143475604706E-2},{"$f":"IF(ISERROR(('A1-Sum'!D18-'A1-Sum'!C18)/'A1-Sum'!C18),0,(('A1-Sum'!D18-'A1-Sum'!C18)/'A1-Sum'!C18))","v":0.40286212662516485},{"$f":"IF(ISERROR(('A1-Sum'!E18-'A1-Sum'!D18)/'A1-Sum'!D18),0,(('A1-Sum'!E18-'A1-Sum'!D18)/'A1-Sum'!D18))","v":0.30158612741508156},{"$f":"IF(ISERROR(('A1-Sum'!F18-'A1-Sum'!E18)/'A1-Sum'!E18),0,(('A1-Sum'!F18-'A1-Sum'!E18)/'A1-Sum'!E18))","v":-0.27966747709392586},{"$f":"IF(ISERROR(('A1-Sum'!G18-'A1-Sum'!F18)/'A1-Sum'!F18),0,(('A1-Sum'!G18-'A1-Sum'!F18)/'A1-Sum'!F18))","v":0},{"$f":"IF(ISERROR(('A1-Sum'!H18-'A1-Sum'!G18)/'A1-Sum'!G18),0,(('A1-Sum'!H18-'A1-Sum'!G18)/'A1-Sum'!G18))","v":0},{"$f":"IF(ISERROR(('A1-Sum'!I18-'A1-Sum'!F18)/'A1-Sum'!F18),0,(('A1-Sum'!I18-'A1-Sum'!F18)/'A1-Sum'!F18))","v":-9.9005948231131336E-3},{"$f":"IF(ISERROR(('A1-Sum'!J18-'A1-Sum'!I18)/'A1-Sum'!I18),0,(('A1-Sum'!J18-'A1-Sum'!I18)/'A1-Sum'!I18))","v":2.0357284492007664E-2},{"$f":"IF(ISERROR(('A1-Sum'!K18-'A1-Sum'!J18)/'A1-Sum'!J18),0,(('A1-Sum'!K18-'A1-Sum'!J18)/'A1-Sum'!J18))","v":4.6000000105952399E-2}]
["% Increase in Employee Costs",null,null,null,{"$f":"IF(ISERROR(('A1-Sum'!C11-'A1-Sum'!B11)/'A1-Sum'!B11),0,(('A1-Sum'!C11-'A1-Sum'!B11)/'A1-Sum'!B11))","v":0.19056052744267468},{"$f":"IF(ISERROR(('A1-Sum'!D11-'A1-Sum'!C11)/'A1-Sum'!C11),0,(('A1-Sum'!D11-'A1-Sum'!C11)/'A1-Sum'!C11))","v":7.8589346079662101E-2},{"$f":"IF(ISERROR(('A1-Sum'!E11-'A1-Sum'!D11)/'A1-Sum'!D11),0,(('A1-Sum'!E11-'A1-Sum'!D11)/'A1-Sum'!D11))","v":0.14151865283766873},{"$f":"IF(ISERROR(('A1-Sum'!F11-'A1-Sum'!E11)/'A1-Sum'!E11),0,(('A1-Sum'!F11-'A1-Sum'!E11)/'A1-Sum'!E11))","v":5.6093286921227899E-3},{"$f":"IF(ISERROR(('A1-Sum'!G11-'A1-Sum'!F11)/'A1-Sum'!F11),0,(('A1-Sum'!G11-'A1-Sum'!F11)/'A1-Sum'!F11))","v":0},{"$f":"IF(ISERROR(('A1-Sum'!H11-'A1-Sum'!G11)/'A1-Sum'!G11),0,(('A1-Sum'!H11-'A1-Sum'!G11)/'A1-Sum'!G11))","v":0},{"$f":"IF(ISERROR(('A1-Sum'!I11-'A1-Sum'!F11)/'A1-Sum'!F11),0,(('A1-Sum'!I11-'A1-Sum'!F11)/'A1-Sum'!F11))","v":8.5482510318377405E-2},{"$f":"IF(ISERROR(('A1-Sum'!J11-'A1-Sum'!I11)/'A1-Sum'!I11),0,(('A1-Sum'!J11-'A1-Sum'!I11)/'A1-Sum'!I11))","v":2.2605780881577598E-2},{"$f":"IF(ISERROR(('A1-Sum'!K11-'A1-Sum'!J11)/'A1-Sum'!J11),0,(('A1-Sum'!K11-'A1-Sum'!J11)/'A1-Sum'!J11))","v":4.5999999802460313E-2}]
["% Increase in Electricity Bulk Purchases",null,null,null,{"$f":"IF(ISERROR(('SA1'!D94-'SA1'!C94)/'SA1'!C94),0,(('SA1'!D94-'SA1'!C94)/'SA1'!C94))","v":0},{"$f":"IF(ISERROR(('SA1'!E94-'SA1'!D94)/'SA1'!D94),0,(('SA1'!E94-'SA1'!D94)/'SA1'!D94))","v":0},{"$f":"IF(ISERROR(('SA1'!F94-'SA1'!E94)/'SA1'!E94),0,(('SA1'!F94-'SA1'!E94)/'SA1'!E94))","v":0},{"$f":"IF(ISERROR(('SA1'!G94-'SA1'!F94)/'SA1'!F94),0,(('SA1'!G94-'SA1'!F94)/'SA1'!F94))","v":0},{"$f":"IF(ISERROR(('SA1'!H94-'SA1'!G94)/'SA1'!G94),0,(('SA1'!H94-'SA1'!G94)/'SA1'!G94))","v":0},{"$f":"IF(ISERROR(('SA1'!I94-'SA1'!H94)/'SA1'!H94),0,(('SA1'!I94-'SA1'!H94)/'SA1'!H94))","v":0},{"$f":"IF(ISERROR(('SA1'!J94-'SA1'!G94)/'SA1'!G94),0,(('SA1'!J94-'SA1'!G94)/'SA1'!G94))","v":0},{"$f":"IF(ISERROR(('SA1'!K94-'SA1'!J94)/'SA1'!J94),0,(('SA1'!K94-'SA1'!J94)/'SA1'!J94))","v":0},{"$f":"IF(ISERROR(('SA1'!L94-'SA1'!K94)/'SA1'!K94),0,(('SA1'!L94-'SA1'!K94)/'SA1'!K94))","v":0}]
["Average Cost Per Budgeted Employee Position (Remuneration)",null,null,null,null,{"$f":"IF(ISERROR('A1-Sum'!D11/('SA24'!D36+'SA24'!E36-'SA24'!C5)),0,('A1-Sum'!D11/('SA24'!D36+'SA24'!E36-'SA24'!C5)))","v":282734.79583333334},{"$f":"IF(ISERROR('A1-Sum'!E11/('SA24'!F36-'SA24'!F5)),0,('A1-Sum'!E11/('SA24'!F36-'SA24'!F5)))","v":322747.04324999999},null,null,null,{"$f":"IF(ISERROR('A1-Sum'!I11/('SA24'!I36-'SA24'!I5)),0,('A1-Sum'!I11/('SA24'!I36-'SA24'!I5)))","v":0}]
["Average Cost Per Councillor (Remuneration)",null,null,null,null,{"$f":"IF(ISERROR('A1-Sum'!D12/'SA24'!C5),0,('A1-Sum'!D12/'SA24'!C5))","v":0},{"$f":"IF(ISERROR('A1-Sum'!E12/'SA24'!F5),0,('A1-Sum'!E12/'SA24'!F5))","v":411012.40814814816},null,null,null,{"$f":"IF(ISERROR('A1-Sum'!I12/'SA24'!I5),0,('A1-Sum'!I12/'SA24'!I5))","v":0}]
["R&M % of PPE",null,null,{"$f":"'A9-Asset'!C205","v":3.0000000000000001E-3},{"$f":"'A9-Asset'!D205","v":3.0000000000000001E-3},{"$f":"'A9-Asset'!E205","v":2E-3},{"$f":"'A9-Asset'!F205","v":1.6E-2},{"$f":"'A9-Asset'!G205","v":4.0000000000000001E-3},{"$f":"'A9-Asset'!H205","v":4.0000000000000001E-3},null,{"$f":"'A9-Asset'!I205","v":5.0000000000000001E-3},{"$f":"'A9-Asset'!J205","v":5.0000000000000001E-3},{"$f":"'A9-Asset'!K205","v":5.0000000000000001E-3}]
["Asset Renewal and R&M as a % of PPE",null,null,{"$f":"'A9-Asset'!C206","v":7.0000000000000007E-2},{"$f":"'A9-Asset'!D206","v":3.18},{"$f":"'A9-Asset'!E206","v":0.77},{"$f":"'A9-Asset'!F206","v":0.55000000000000004},{"$f":"'A9-Asset'!G206","v":0.63},{"$f":"'A9-Asset'!H206","v":0.63},null,{"$f":"'A9-Asset'!I206","v":0.39},{"$f":"'A9-Asset'!J206","v":0.69},{"$f":"'A9-Asset'!K206","v":0.69}]
["Debt Impairment % of Total Billable Revenue",null,null,{"$f":"'SA10'!D11","v":9.1921013172732574E-2},{"$f":"'SA10'!E11","v":0.30053476007612484},{"$f":"'SA10'!F11","v":6.5951366008264733E-2},{"$f":"'SA10'!G11","v":6.281082169462042E-2},{"$f":"'SA10'!H11","v":7.9608139029937172E-2},{"$f":"'SA10'!I11","v":7.9608139029937172E-2},{"$f":"'SA10'!J11","v":7.9608139029937172E-2},{"$f":"'SA10'!K11","v":7.7773553487166872E-2},{"$f":"'SA10'!L11","v":7.7847977960501302E-2},{"$f":"'SA10'!M11","v":7.7922473607832568E-2}]
["Capital Revenue"]
["Internally Funded & Other (R'000)",null,null,{"$f":"'A1-Sum'!B29+'A1-Sum'!B31","v":17227610},{"$f":"'A1-Sum'!C29+'A1-Sum'!C31","v":11740288.039999999},{"$f":"'A1-Sum'!D29+'A1-Sum'!D31","v":29460444},{"$f":"'A1-Sum'!E29+'A1-Sum'!E31","v":44978829},{"$f":"'A1-Sum'!F29+'A1-Sum'!F31","v":43137173.240000002},{"$f":"'A1-Sum'!G29+'A1-Sum'!G31","v":43137173.240000002},{"$f":"'A1-Sum'!H29+'A1-Sum'!H31","v":43137173.240000002},{"$f":"'A1-Sum'!I29+'A1-Sum'!I31","v":32420326.609999999},{"$f":"'A1-Sum'!J29+'A1-Sum'!J31","v":22249000},{"$f":"'A1-Sum'!K29+'A1-Sum'!K31","v":23272438.66}]
["Borrowing (R'000)",null,null,{"$f":"'A1-Sum'!B30","v":0},{"$f":"'A1-Sum'!C30","v":0},{"$f":"'A1-Sum'!D30","v":0},{"$f":"'A1-Sum'!E30","v":0},{"$f":"'A1-Sum'!F30","v":0},{"$f":"'A1-Sum'!G30","v":0},{"$f":"'A1-Sum'!H30","v":0},{"$f":"'A1-Sum'!I30","v":0},{"$f":"'A1-Sum'!J30","v":0},{"$f":"'A1-Sum'!K30","v":0}]
["Grant Funding and Other (R'000)",null,null,{"$f":"'A1-Sum'!B28","v":56089892},{"$f":"'A1-Sum'!C28","v":26279731.550000001},{"$f":"'A1-Sum'!D28","v":31439003},{"$f":"'A1-Sum'!E28","v":33317000.009999998},{"$f":"'A1-Sum'!F28","v":33317001},{"$f":"'A1-Sum'!G28","v":33317001},{"$f":"'A1-Sum'!H28","v":33317001},{"$f":"'A1-Sum'!I28","v":26758999.980000004},{"$f":"'A1-Sum'!J28","v":22826540.489999998},{"$f":"'A1-Sum'!K28","v":23876561.340000007}]
["Internally Generated funds % of Non Grant Funding",null,null,{"$f":"IF(ISERROR(('A1-Sum'!B29+'A1-Sum'!B31)/('A1-Sum'!B32-'A1-Sum'!B28)),0,(('A1-Sum'!B29+'A1-Sum'!B31)/('A1-Sum'!B32-'A1-Sum'!B28)))","v":1},{"$f":"IF(ISERROR(('A1-Sum'!C29+'A1-Sum'!C31)/('A1-Sum'!C32-'A1-Sum'!C28)),0,(('A1-Sum'!C29+'A1-Sum'!C31)/('A1-Sum'!C32-'A1-Sum'!C28)))","v":0.99999999999999967},{"$f":"IF(ISERROR(('A1-Sum'!D29+'A1-Sum'!D31)/('A1-Sum'!D32-'A1-Sum'!D28)),0,(('A1-Sum'!D29+'A1-Sum'!D31)/('A1-Sum'!D32-'A1-Sum'!D28)))","v":1},{"$f":"IF(ISERROR(('A1-Sum'!E29+'A1-Sum'!E31)/('A1-Sum'!E32-'A1-Sum'!E28)),0,(('A1-Sum'!E29+'A1-Sum'!E31)/('A1-Sum'!E32-'A1-Sum'!E28)))","v":1.0000000000000002},{"$f":"IF(ISERROR(('A1-Sum'!F29+'A1-Sum'!F31)/('A1-Sum'!F32-'A1-Sum'!F28)),0,(('A1-Sum'!F29+'A1-Sum'!F31)/('A1-Sum'!F32-'A1-Sum'!F28)))","v":0.99999999999999978},{"$f":"IF(ISERROR(('A1-Sum'!G29+'A1-Sum'!G31)/('A1-Sum'!G32-'A1-Sum'!G28)),0,(('A1-Sum'!G29+'A1-Sum'!G31)/('A1-Sum'!G32-'A1-Sum'!G28)))","v":0.99999999999999978},{"$f":"IF(ISERROR(('A1-Sum'!H29+'A1-Sum'!H31)/('A1-Sum'!H32-'A1-Sum'!H28)),0,(('A1-Sum'!H29+'A1-Sum'!H31)/('A1-Sum'!H32-'A1-Sum'!H28)))","v":0.99999999999999978},{"$f":"IF(ISERROR(('A1-Sum'!I29+'A1-Sum'!I31)/('A1-Sum'!I32-'A1-Sum'!I28)),0,(('A1-Sum'!I29+'A1-Sum'!I31)/('A1-Sum'!I32-'A1-Sum'!I28)))","v":1},{"$f":"IF(ISERROR(('A1-Sum'!J29+'A1-Sum'!J31)/('A1-Sum'!J32-'A1-Sum'!J28)),0,(('A1-Sum'!J29+'A1-Sum'!J31)/('A1-Sum'!J32-'A1-Sum'!J28)))","v":1.0000000000000002},{"$f":"IF(ISERROR(('A1-Sum'!K29+'A1-Sum'!K31)/('A1-Sum'!K32-'A1-Sum'!K28)),0,(('A1-Sum'!K29+'A1-Sum'!K31)/('A1-Sum'!K32-'A1-Sum'!K28)))","v":1}]
["Borrowing % of Non Grant Funding",null,null,{"$f":"IF(ISERROR('A1-Sum'!B30/('A1-Sum'!B32-'A1-Sum'!B28)),0,('A1-Sum'!B30/('A1-Sum'!B32-'A1-Sum'!B28)))","v":0},{"$f":"IF(ISERROR('A1-Sum'!C30/('A1-Sum'!C32-'A1-Sum'!C28)),0,('A1-Sum'!C30/('A1-Sum'!C32-'A1-Sum'!C28)))","v":0},{"$f":"IF(ISERROR('A1-Sum'!D30/('A1-Sum'!D32-'A1-Sum'!D28)),0,('A1-Sum'!D30/('A1-Sum'!D32-'A1-Sum'!D28)))","v":0},{"$f":"IF(ISERROR('A1-Sum'!E30/('A1-Sum'!E32-'A1-Sum'!E28)),0,('A1-Sum'!E30/('A1-Sum'!E32-'A1-Sum'!E28)))","v":0},{"$f":"IF(ISERROR('A1-Sum'!F30/('A1-Sum'!F32-'A1-Sum'!F28)),0,('A1-Sum'!F30/('A1-Sum'!F32-'A1-Sum'!F28)))","v":0},{"$f":"IF(ISERROR('A1-Sum'!G30/('A1-Sum'!G32-'A1-Sum'!G28)),0,('A1-Sum'!G30/('A1-Sum'!G32-'A1-Sum'!G28)))","v":0},{"$f":"IF(ISERROR('A1-Sum'!H30/('A1-Sum'!H32-'A1-Sum'!H28)),0,('A1-Sum'!H30/('A1-Sum'!H32-'A1-Sum'!H28)))","v":0},{"$f":"IF(ISERROR('A1-Sum'!I30/('A1-Sum'!I32-'A1-Sum'!I28)),0,('A1-Sum'!I30/('A1-Sum'!I32-'A1-Sum'!I28)))","v":0},{"$f":"IF(ISERROR('A1-Sum'!J30/('A1-Sum'!J32-'A1-Sum'!J28)),0,('A1-Sum'!J30/('A1-Sum'!J32-'A1-Sum'!J28)))","v":0},{"$f":"IF(ISERROR('A1-Sum'!K30/('A1-Sum'!K32-'A1-Sum'!K28)),0,('A1-Sum'!K30/('A1-Sum'!K32-'A1-Sum'!K28)))","v":0}]
["Grant Funding % of Total Funding",null,null,{"$f":"IF(ISERROR('A1-Sum'!B28/'A1-Sum'!B32),0,('A1-Sum'!B28/'A1-Sum'!B32))","v":0.76502731912497512},{"$f":"IF(ISERROR('A1-Sum'!C28/'A1-Sum'!C32),0,('A1-Sum'!C28/'A1-Sum'!C32))","v":0.6912077330152685},{"$f":"IF(ISERROR('A1-Sum'!D28/'A1-Sum'!D32),0,('A1-Sum'!D28/'A1-Sum'!D32))","v":0.51624447427248399},{"$f":"IF(ISERROR('A1-Sum'!E28/'A1-Sum'!E32),0,('A1-Sum'!E28/'A1-Sum'!E32))","v":0.42552713766840289},{"$f":"IF(ISERROR('A1-Sum'!F28/'A1-Sum'!F32),0,('A1-Sum'!F28/'A1-Sum'!F32))","v":0.43577739647561192},{"$f":"IF(ISERROR('A1-Sum'!G28/'A1-Sum'!G32),0,('A1-Sum'!G28/'A1-Sum'!G32))","v":0.43577739647561192},{"$f":"IF(ISERROR('A1-Sum'!H28/'A1-Sum'!H32),0,('A1-Sum'!H28/'A1-Sum'!H32))","v":0.43577739647561192},{"$f":"IF(ISERROR('A1-Sum'!I28/'A1-Sum'!I32),0,('A1-Sum'!I28/'A1-Sum'!I32))","v":0.45216803775732189},{"$f":"IF(ISERROR('A1-Sum'!J28/'A1-Sum'!J32),0,('A1-Sum'!J28/'A1-Sum'!J32))","v":0.50640636233888459},{"$f":"IF(ISERROR('A1-Sum'!K28/'A1-Sum'!K32),0,('A1-Sum'!K28/'A1-Sum'!K32))","v":0.50640652696769828}]
["Capital Expenditure"]
["Total Capital Programme (R'000)",null,null,{"$f":"'A1-Sum'!B27","v":73317502},{"$f":"'A1-Sum'!C27","v":38020019.590000004},{"$f":"'A1-Sum'!D27","v":60899447},{"$f":"'A1-Sum'!E27","v":78295829.00999999},{"$f":"'A1-Sum'!F27","v":76454174.24000001},{"$f":"'A1-Sum'!G27","v":76454174.24000001},{"$f":"'A1-Sum'!H27","v":76454174.24000001},{"$f":"'A1-Sum'!I27","v":59178682.589999996},{"$f":"'A1-Sum'!J27","v":45075588.920000002},{"$f":"'A1-Sum'!K27","v":47149065.989999995}]
["Asset Renewal",null,null,{"$f":"'A1-Sum'!B55","v":8622659},{"$f":"'A1-Sum'!C55","v":19962688.470000003},{"$f":"'A1-Sum'!D55","v":13091477.49},{"$f":"'A1-Sum'!E55","v":22661007.52},{"$f":"'A1-Sum'!F55","v":22687413.629999999},{"$f":"'A1-Sum'!G55","v":22687413.629999999},{"$f":"'A1-Sum'!H55","v":22687413.629999999},{"$f":"'A1-Sum'!I55","v":12123651.140000001},{"$f":"'A1-Sum'!J55","v":12752817.770000001},{"$f":"'A1-Sum'!K55","v":13339447.380000001}]
["Asset Renewal % of Total Capital Expenditure",null,null,{"$f":"IF(ISERROR('A1-Sum'!B55/'A1-Sum'!B32),0,('A1-Sum'!B55/'A1-Sum'!B32))","v":0.11760710287156265},{"$f":"IF(ISERROR('A1-Sum'!C55/'A1-Sum'!C32),0,('A1-Sum'!C55/'A1-Sum'!C32))","v":0.52505729048205363},{"$f":"IF(ISERROR('A1-Sum'!D55/'A1-Sum'!D32),0,('A1-Sum'!D55/'A1-Sum'!D32))","v":0.21496874167018298},{"$f":"IF(ISERROR('A1-Sum'!E55/'A1-Sum'!E32),0,('A1-Sum'!E55/'A1-Sum'!E32))","v":0.28942802964773157},{"$f":"IF(ISERROR('A1-Sum'!F55/'A1-Sum'!F32),0,('A1-Sum'!F55/'A1-Sum'!F32))","v":0.29674525760727116},{"$f":"IF(ISERROR('A1-Sum'!G55/'A1-Sum'!G32),0,('A1-Sum'!G55/'A1-Sum'!G32))","v":0.29674525760727116},{"$f":"IF(ISERROR('A1-Sum'!H55/'A1-Sum'!H32),0,('A1-Sum'!H55/'A1-Sum'!H32))","v":0.29674525760727116},{"$f":"IF(ISERROR('A1-Sum'!I55/'A1-Sum'!I32),0,('A1-Sum'!I55/'A1-Sum'!I32))","v":0.20486294519695716},{"$f":"IF(ISERROR('A1-Sum'!J55/'A1-Sum'!J32),0,('A1-Sum'!J55/'A1-Sum'!J32))","v":0.28292101728273705},{"$f":"IF(ISERROR('A1-Sum'!K55/'A1-Sum'!K32),0,('A1-Sum'!K55/'A1-Sum'!K32))","v":0.28292110924940078}]
["Cash"]
["Cash Receipts % of Rate Payer & Other",null,null,{"$f":"'SA10'!D10","v":1},{"$f":"'SA10'!E10","v":0.98481838354222129},{"$f":"'SA10'!F10","v":0.65303266773821289},{"$f":"'SA10'!G10","v":0.94183517807686357},{"$f":"'SA10'!H10","v":0.71639350713581529},{"$f":"'SA10'!I10","v":0.71639350713581529},{"$f":"'SA10'!J10","v":0.71639350713581529},{"$f":"'SA10'!K10","v":0.68710796423237419},{"$f":"'SA10'!L10","v":0.69288421439602166},{"$f":"'SA10'!M10","v":0.69937435943570547}]
["Cash Coverage Ratio",null,null,{"$f":"'SA10'!D7","v":19.517187369385777},{"$f":"'SA10'!E7","v":36.189577986178598},{"$f":"'SA10'!F7","v":32.627656422496948},{"$f":"'SA10'!G7","v":25.980657969308552},{"$f":"'SA10'!H7","v":26.459186394167499},{"$f":"'SA10'!I7","v":20.147724446316232},{"$f":"'SA10'!J7","v":14.113131988489084},{"$f":"'SA10'!K7","v":14.614834730773913},{"$f":"'SA10'!L7","v":14.136822736958875},{"$f":"'SA10'!M7","v":13.408253245178793}]
["Borrowing"]
[]
["Credit Rating (2009/10)",null,null,null,null,null,null,null,null,null,{"$f":"'SA8'!F6","v":0}]
["Capital Charges to Operating",null,null,{"$f":"'SA8'!C7","v":0},{"$f":"'SA8'!D7","v":2.1364959857477166E-5},{"$f":"'SA8'!E7","v":0},{"$f":"'SA8'!F7","v":0},{"$f":"'SA8'!G7","v":0},{"$f":"'SA8'!H7","v":0},{"$f":"'SA8'!I7","v":0},{"$f":"'SA8'!J7","v":0},{"$f":"'SA8'!K7","v":0},{"$f":"'SA8'!L7","v":0}]
["Borrowing Receipts % of Capital Expenditure",null,null,{"$f":"'SA10'!D13","v":0},{"$f":"'SA10'!E13","v":0},{"$f":"'SA10'!F13","v":0},{"$f":"'SA10'!G13","v":0},{"$f":"'SA10'!H13","v":0},{"$f":"'SA10'!I13","v":0},{"$f":"'SA10'!J13","v":0},{"$f":"'SA10'!K13","v":0},{"$f":"'SA10'!L13","v":0},{"$f":"'SA10'!M13","v":0}]
["Reserves"]
["Surplus/(Deficit)",null,null,{"$f":"'A8-ResRecon'!C19","v":95073377},{"$f":"'A8-ResRecon'!D19","v":72432641},{"$f":"'A8-ResRecon'!E19","v":96132542},{"$f":"'A8-ResRecon'!F19","v":132641080},{"$f":"'A8-ResRecon'!G19","v":159282238},{"$f":"'A8-ResRecon'!H19","v":159282238},{"$f":"'A8-ResRecon'!I19","v":159282238},{"$f":"'A8-ResRecon'!J19","v":161647489.47589934},{"$f":"'A8-ResRecon'!K19","v":169227886.43231478},{"$f":"'A8-ResRecon'!L19","v":177192911.25176895}]
["Free Services"]
["Free Basic Services as a % of Equitable Share",null,null,{"$f":"IF(ISERROR('A10-SerDel'!C60/'SA18'!C8),0,('A10-SerDel'!C60/'SA18'!C8))","v":0},{"$f":"IF(ISERROR('A10-SerDel'!D60/'SA18'!D8),0,('A10-SerDel'!D60/'SA18'!D8))","v":8.5239776620600772E-3},{"$f":"IF(ISERROR('A10-SerDel'!E60/'SA18'!E8),0,('A10-SerDel'!E60/'SA18'!E8))","v":8.1913229090103609E-3},{"$f":"IF(ISERROR('A10-SerDel'!F60/'SA18'!F8),0,('A10-SerDel'!F60/'SA18'!F8))","v":6.9644090690696133E-3},{"$f":"IF(ISERROR('A10-SerDel'!G60/'SA18'!G8),0,('A10-SerDel'!G60/'SA18'!G8))","v":1.0101415115720385E-2},{"$f":"IF(ISERROR('A10-SerDel'!H60/'SA18'!H8),0,('A10-SerDel'!H60/'SA18'!H8))","v":9.0676826006944131E-3},null,{"$f":"IF(ISERROR('A10-SerDel'!I60/'SA18'!I8),0,('A10-SerDel'!I60/'SA18'!I8))","v":1.1967985095036236E-2},{"$f":"IF(ISERROR('A10-SerDel'!J60/'SA18'!J8),0,('A10-SerDel'!J60/'SA18'!J8))","v":1.1255761053909158E-2},{"$f":"IF(ISERROR('A10-SerDel'!K60/'SA18'!K8),0,('A10-SerDel'!K60/'SA18'!K8))","v":1.0735786568537258E-2}]
["Free Services as a % of Operating Revenue \n(excl operational transfers)",null,null,{"$f":"IF(ISERROR('A10-SerDel'!C79/('A1-Sum'!B10-'A1-Sum'!B8)),0,('A10-SerDel'!C79/('A1-Sum'!B10-'A1-Sum'!B8)))","v":0},{"$f":"IF(ISERROR('A10-SerDel'!D79/('A1-Sum'!C10-'A1-Sum'!C8)),0,('A10-SerDel'!D79/('A1-Sum'!C10-'A1-Sum'!C8)))","v":0},{"$f":"IF(ISERROR('A10-SerDel'!E79/('A1-Sum'!D10-'A1-Sum'!D8)),0,('A10-SerDel'!E79/('A1-Sum'!D10-'A1-Sum'!D8)))","v":0.12164138230071707},{"$f":"IF(ISERROR('A10-SerDel'!F79/('A1-Sum'!E10-'A1-Sum'!E8)),0,('A10-SerDel'!F79/('A1-Sum'!E10-'A1-Sum'!E8)))","v":0.12478280742436078},{"$f":"IF(ISERROR('A10-SerDel'!G79/('A1-Sum'!F10-'A1-Sum'!F8)),0,('A10-SerDel'!G79/('A1-Sum'!F10-'A1-Sum'!F8)))","v":0.1313727711552988},{"$f":"IF(ISERROR('A10-SerDel'!H79/('A1-Sum'!G10-'A1-Sum'!G8)),0,('A10-SerDel'!H79/('A1-Sum'!G10-'A1-Sum'!G8)))","v":0.1313727711552988},null,{"$f":"IF(ISERROR('A10-SerDel'!I79/('A1-Sum'!I10-'A1-Sum'!I8)),0,('A10-SerDel'!I79/('A1-Sum'!I10-'A1-Sum'!I8)))","v":0.18960995600292876},{"$f":"IF(ISERROR('A10-SerDel'!J79/('A1-Sum'!J10-'A1-Sum'!J8)),0,('A10-SerDel'!J79/('A1-Sum'!J10-'A1-Sum'!J8)))","v":0.18958135578904525},{"$f":"IF(ISERROR('A10-SerDel'!K79/('A1-Sum'!K10-'A1-Sum'!K8)),0,('A10-SerDel'!K79/('A1-Sum'!K10-'A1-Sum'!K8)))","v":0.18955324391893982}]
[]
["High Level Outcome of Funding Compliance"]
["Total Operating Revenue",null,null,{"$f":"D86","v":131135521},{"$f":"E86","v":131588270},188874020,234631177.68999997,160746443.32999998,160746443.32999998,{"$f":"J86","v":160746443.32999998},168058338.81999999,175628215.17719999,183538935.07432398]
["Total Operating Expenditure",null,null,{"$f":"D87","v":126192101},133676825,187530155,244086648.22,175823551.12,175823551.12,175823551.12,174082793.37999997,177626646.33000001,185797472.07999998]
["Surplus/(Deficit) Budgeted Operating Statement",null,null,4943420,-2088555,1343865,-9455470.530000031,-15077107.790000021,-15077107.790000021,-15077107.790000021,-6024454.5599999726,-1998431.1528000236,-2258537.0056760013]
["Surplus/(Deficit) Considering Reserves and Cash Backing",null,null,{"$f":"'A8-ResRecon'!C19","v":95073377},{"$f":"'A8-ResRecon'!D19","v":72432641},{"$f":"'A8-ResRecon'!E19","v":96132542},{"$f":"'A8-ResRecon'!F19","v":132641080},{"$f":"'A8-ResRecon'!G19","v":159282238},{"$f":"'A8-ResRecon'!H19","v":159282238},{"$f":"'A8-ResRecon'!I19","v":159282238},{"$f":"'A8-ResRecon'!J19","v":161647489.47589934},{"$f":"'A8-ResRecon'!K19","v":169227886.43231478},{"$f":"'A8-ResRecon'!L19","v":177192911.25176895}]
["MTREF Funded (1) / Unfunded (0)",null,15,{"$f":"IF(D133>=0,1,0)","v":1},{"$f":"IF(E133>=0,1,0)","v":1},1,1,1,1,1,1,1,1]
["MTREF Funded ü / Unfunded û",null,15,{"$f":"IF(D134=1,\"ü\",\"û\")","v":"ü"},{"$f":"IF(E134=1,\"ü\",\"û\")","v":"ü"},"ü","ü","ü","ü","ü","ü","ü","ü"]
[]
[{"$f":"head27a","v":"References"}]
["15. Subject to figures provided in Schedule."]

{"sheet":"SA11","index":30,"n_rows":73,"n_cols":11,"rows_kept":73,"cut":false,"hidden":false,"merged":[[1,5,1,7],[1,8,1,10],[1,1,3,1],[1,0,2,0]]}
[{"$f":"muni&\" - \"&TableA11","v":"KZN434 Ubuhlebezwe - Supporting Table SA11 Property rates summary"}]
[{"$f":"desc","v":"Description"},{"$f":"head27","v":"Ref"},{"$f":"head1b","v":"2016/17"},{"$f":"head1A","v":"2017/18"},{"$f":"Head1","v":"2018/19"},{"$f":"Head2","v":"Current Year 2019/20"},null,null,{"$f":"Head3","v":"2020/21 Medium Term Revenue & Expenditure Framework"}]
[null,null,{"$f":"Head5","v":"Audited Outcome"},{"$f":"Head5","v":"Audited Outcome"},{"$f":"Head5","v":"Audited Outcome"},{"$f":"Head6","v":"Original Budget"},{"$f":"Head7","v":"Adjusted Budget"},{"$f":"Head8","v":"Full Year Forecast"},{"$f":"Head9","v":"Budget Year 2020/21"},{"$f":"Head10","v":"Budget Year +1 2021/22"},{"$f":"Head11","v":"Budget Year +2 2022/23"}]
[]
["Valuation:",1]
["Date of valuation:"]
["Financial year valuation used",null,2017,2018,2019,2020,null,null,2021]
["Municipal by-laws s6 in place? (Y/N)","2","Yes","Yes","Yes","Yes",null,null,"Yes"]
["Municipal/assistant valuer appointed? (Y/N)",null,"Yes","Yes","Yes","Yes",null,null,"Yes"]
["Municipal partnership s38 used? (Y/N)",null,"No","No","No","No","No","No","No","No","No"]
["No. of assistant valuers (FTE)",3,0,0,0,0,0,0,0,0,0]
["No. of data collectors (FTE)",3,0]
["No. of internal valuers (FTE)",3,0]
["No. of external valuers (FTE)",3,0]
["No. of additional valuers (FTE)",4,0]
["Valuation appeal board established? (Y/N)",null,"No"]
["Implementation time of new valuation roll (mths)",null,12]
["No. of properties",5,4100,4200,4300,4558,4558,4558,4778,0,0]
["No. of sectional title values",5,0,0,0,0,0,0,0,0,0]
["No. of unreasonably difficult properties s7(2)",null,0,0,0,0,0,0,0,0,0]
["No. of supplementary valuations",null,0,0,0,1,1,1,2,0,0]
["No. of valuation roll amendments",null,0,0,0,1,1,1,2,0,0]
["No. of objections by rate payers",null,0,0,0,0,0,0,0,0,0]
["No. of appeals by rate payers",null,0,0,0,0,0,0,0,0,0]
["No. of successful objections",8,0,0,0,0,0,0,0,0,0]
["No. of successful objections > 10%",8,0,0,0,0,0,0,0,0,0]
["Supplementary valuation",null,0,0,0,0,0,0,0,0,0]
["Public service infrastructure value (Rm)",5]
["Municipality owned property value (Rm)"]
["Valuation reductions:"]
["Valuation reductions-public infrastructure (Rm)",null,0,0,0,0,0,0,0,0,0]
["Valuation reductions-nature reserves/park (Rm)",null,0,0,0,0,0,0,0,0,0]
["Valuation reductions-mineral rights (Rm)",null,0,0,0,0,0,0,0,0,0]
["Valuation reductions-R15,000 threshold (Rm)",null,0,0,0,0,0,0,0,0,0]
["Valuation reductions-public worship (Rm)",null,0,0,0,0,0,0,0,0,0]
["Valuation reductions-other (Rm)",null,0,0,0,0,0,0,0,0,0]
["Total valuation reductions:",null,{"$f":"SUM(C31:C36)","v":0},{"$f":"SUM(D31:D36)","v":0},0,0,0,0,0,0,0]
["Total value used for rating (Rm)",5,0,0,0,0,0,0,0,0,0]
["Total land value (Rm)",5,0,0,0,0,0,0,0,0,0]
["Total value of improvements (Rm)",5,0,0,0,0,0,0,0,0,0]
["Total market value (Rm)",5,0,0,0,0,0,0,0,0,0]
[]
["Rating:"]
["Residential rate used to determine rate for other categories? (Y/N)",null,"Yes","Yes","Yes","Yes",null,null,"Yes"]
["Differential rates used? (Y/N)",5,"Yes","Yes","Yes","Yes",null,null,"Yes"]
["Limit on annual rate increase (s20)? (Y/N)",null,"No","No","No","No",null,null,"No"]
["Special rating area used? (Y/N)",null,"Yes","Yes","Yes","Yes",null,null,"Yes"]
["Phasing-in properties s21 (number)"]
["Rates policy accompanying budget? (Y/N)",null,"Yes","Yes","Yes","Yes",null,null,"Yes"]
["Fixed amount minimum value (R'000)"]
["Non-residential prescribed ratio s19? (%)",null,0,0,0,0,null,null,0]
[]
["Rate revenue:"]
["Rate revenue budget (R '000)",6,0,0,0,0,0,0,{"$f":"'A1-Sum'!I5","v":23573023.939999998},{"$f":"I54*1.045","v":24633810.017299995},{"$f":"J54*1.045","v":25742331.468078494}]
["Rate revenue expected to collect (R'000)",6,0,0,0,0,0,0,{"$f":"'A7-CFlow'!J6","v":12305546.16},{"$f":"I55*1.045","v":12859295.737199999},{"$f":"J55*1.045","v":13437964.045373999}]
["Expected cash collection rate (%)",null,0,0,0,0,0,0,0.52201814210609143,0.52201814210609143,0.52201814210609099]
["Special rating areas (R'000)",7,0,0,0,0,0,0]
["Rebates, exemptions - indigent (R'000)"]
["Rebates, exemptions - pensioners (R'000)"]
["Rebates, exemptions - bona fide farm. (R'000)"]
["Rebates, exemptions - other (R'000)"]
["Phase-in reductions/discounts (R'000)",null,{"$f":"'SA1'!C8","v":0},{"$f":"'SA1'!D8","v":0},{"$f":"'SA1'!E8","v":5685897},{"$f":"'SA1'!F8","v":5970191.75},{"$f":"'SA1'!G8","v":5970191.75},{"$f":"'SA1'!H8","v":5970191.75},{"$f":"'SA1'!J8","v":8721174.1699999999},{"$f":"'SA1'!K8","v":9113627.0099999998},{"$f":"'SA1'!L8","v":9523740.2200000007}]
["Total rebates,exemptns,reductns,discs (R'000)",null,{"$f":"SUM(C58:C62)","v":0},{"$f":"SUM(D58:D62)","v":0},5685897,5970191.75,5970191.75,5970191.75,8721174.1699999999,9113627.0099999998,9523740.2200000007]
[]
[{"$f":"head27a","v":"References"}]
["1. All numbers to be expressed as whole numbers except FTEs and Rates in the Rand"]
["2. To give effect to rates policy"]
["3. Full Time Equivalent (FTE)  should be expressed to one decimal place and takes into account full time and part time staff"]
["4. Required to implement new system (FTE)"]
["5. Provide relevant information for historical comparisons. Must reconcile to the total of Table SA12"]
[{"$f":"\"6. Current and budget year must reconcile to \"&'Template names'!F103","v":"6. Current and budget year must reconcile to Table A4 Budgeted Financial Performance (revenue and expenditure)"}]
["7. Included in rate revenue budget"]
["8. In favour of the rate-payer"]

{"sheet":"SA12a","index":31,"n_rows":56,"n_cols":19,"rows_kept":56,"cut":false,"hidden":false,"merged":[]}
[{"$f":"muni&\" - \"&TableA12a","v":"KZN434 Ubuhlebezwe - Supporting Table SA12a Property rates by category (current year)"}]
[{"$f":"desc","v":"Description"},{"$f":"head27","v":"Ref"},"Resi.","Indust.","Bus. & Comm.","Farm props.","State-owned ","Muni props.","Public service infra.","Private owned towns","Formal & Informal Settle.","Comm. Land","State trust land","Section 8(2)(n) (note 1)","Protect. Areas","National Monum/ts","Public benefit organs.","Mining Props."]
[{"$f":"Head2","v":"Current Year 2019/20"}]
["Valuation:"]
["No. of properties",null,1949,23,104,2194,0,94,74,0,6,0,32,0,0,0,0,0]
["No. of sectional title property values",null,2,0,0,0,0,0,0,0,0,0,0,0,0,0,0,0]
["No. of unreasonably difficult properties s7(2)",null,null,0,0,0,0,0,0,0,0,null,null,0,0,0,0,0]
["No. of supplementary valuations",null,null,0,0,0,0,0,0,0,0,null,null,0,0,0,0,0]
["Supplementary valuation (Rm)",null,38254000,0,8099000,10850000,0,3905000,0,0,0,0,1505000,0,0,0,8506000,0]
["No. of valuation roll amendments",null,569,0,4,12,2,6,14,0,0,0,50,0,0,0,12,0]
["No. of objections by rate-payers",null,0,0,0,0,0,0,0,0,0,null,null,0,0,0,0,0]
["No. of appeals by rate-payers",null,0,0,0,0,0,0,0,0,0,null,null,0,0,0,0,0]
["No. of appeals by rate-payers finalised",null,0,0,0,0,0,0,0,0,0,null,null,0,0,0,0,0]
["No. of successful objections",5,0,0,0,0,0,0,0,0,0,null,null,0,0,0,0,0]
["No. of successful objections > 10%",5,0,0,0,0,0,0,0,0,0,null,null,0,0,0,0,0]
["Estimated no. of properties not valued",null,0,0,0,0,0,0,0,0,0,null,null,0,0,0,0,0]
["Years since last valuation (select)",null,4,4,4,4,4,4,null,null,null,4,4]
["Frequency of valuation (select)",null,5,5,5,5,5,5,null,null,null,5,5]
["Method of valuation used (select)",null,"Market","Market","Market","Market","Market","Market",null,null,null,"Market","Market"]
["Base of valuation (select)",null,"Land & impr.","Land & impr.","Land & impr.","Land & impr.","Land & impr.","Land & impr.",null,null,null,"Land & impr.","Land & impr."]
["Phasing-in properties s21 (number)"]
["Combination of rating types used? (Y/N)",null,"No"]
["Flat rate used? (Y/N)"]
["Is balance rated by uniform rate/variable rate?"]
["Valuation reductions:"]
["Valuation reductions-public infrastructure (Rm)"]
["Valuation reductions-nature reserves/park (Rm)"]
["Valuation reductions-mineral rights (Rm)"]
["Valuation reductions-R15,000 threshold (Rm)"]
["Valuation reductions-public worship (Rm)"]
["Valuation reductions-other (Rm)",2]
["Total valuation reductions:"]
["Total value used for rating (Rm)",6]
["Total land value (Rm)",6]
["Total value of improvements (Rm)",6]
["Total market value (Rm)",6]
["Rating:"]
["Average rate",3]
["Rate revenue budget (R '000)",null,null,null,null,null,null,null,null,null,null,null,null,null,null,null,null,null,{"$f":"SUM(C39:R39)","v":0}]
["Rate revenue expected to collect (R'000)",null,null,null,null,null,null,null,null,null,null,null,null,null,null,null,null,null,{"$f":"SUM(C40:R40)","v":0}]
["Expected cash collection rate (%)",4]
["Special rating areas (R'000)"]
["Rebates, exemptions - indigent (R'000)"]
["Rebates, exemptions - pensioners (R'000)"]
["Rebates, exemptions - bona fide farm. (R'000)"]
["Rebates, exemptions - other (R'000)"]
["Phase-in reductions/discounts (R'000)"]
["Total rebates,exemptns,reductns,discs (R'000)"]
[]
[{"$f":"head27a","v":"References"}]
["1. Land & Assistance Act, Restitution of Land Rights, Communual Property Associations"]
["2. Include value of additional reductions is 'free' value greater than MPRA minimum."]
["3. Average rate - cents in  the Rand. Eg 10.26 cents in the Rand is 0.1026, expressed to 6 decimal places maximum"]
["4. Include arrears collections"]
["5. In favour of the rate-payer"]
["6. Provide relevant information for historical comparisons."]

{"sheet":"SA12b","index":32,"n_rows":56,"n_cols":19,"rows_kept":56,"cut":false,"hidden":false,"merged":[]}
[{"$f":"muni&\" - \"&TableA12b","v":"KZN434 Ubuhlebezwe - Supporting Table SA12b Property rates by category (budget year)"}]
[{"$f":"desc","v":"Description"},{"$f":"head27","v":"Ref"},"Resi.","Indust.","Bus. & Comm.","Farm props.","State-owned ","Muni props.","Public service infra.","Private owned towns","Formal & Informal Settle.","Comm. Land","State trust land","Section 8(2)(n) (note 1)","Protect. Areas","National Monum/ts","Public benefit organs.","Mining Props."]
[{"$f":"Head9","v":"Budget Year 2020/21"}]
["Valuation:"]
["No. of properties",null,1216,87,93,65,0,6,3,512,0,0,0,0,0]
["No. of sectional title property values",null,0,0,0,0,0,0,0,0,0,0,0,0,0]
["No. of unreasonably difficult properties s7(2)",null,0,0,0,0,0,0,null,null,0,0,0,0,0]
["No. of supplementary valuations",null,12,2,6,14,0,0,0,50,0,0,0,12,0]
["Supplementary valuation (Rm)",null,0,0,0,0,0,0,0,0,0,0,0,0,0]
["No. of valuation roll amendments",null,0,0,0,0,0,0,0,0,0,0,0,0,0]
["No. of objections by rate-payers",null,0,0,0,0,0,0,null,null,0,0,0,0,0]
["No. of appeals by rate-payers",null,0,0,0,0,0,0,null,null,0,0,0,0,0]
["No. of appeals by rate-payers finalised",null,0,0,0,0,0,0,null,null,0,0,0,0,0]
["No. of successful objections",5,0,0,0,0,0,0,null,null,0,0,0,0,0]
["No. of successful objections > 10%",5,0,0,0,0,0,0,null,null,0,0,0,0,0]
["Estimated no. of properties not valued",null,0,0,0,0,0,0,null,null,0,0,0,0,0]
["Years since last valuation (select)",null,"<1","<1","<1","<1",null,"<1","<1","<1"]
["Frequency of valuation (select)",null,5,5,5,null,null,null,5,5]
["Method of valuation used (select)",null,"Market","Market","Market","Market",null,"Market","Market","Market"]
["Base of valuation (select)",null,"Land & impr.","Land & impr.","Land & impr.","Land & impr.",null,"Land & impr.","Land & impr.","Land & impr."]
["Phasing-in properties s21 (number)"]
["Combination of rating types used? (Y/N)"]
["Flat rate used? (Y/N)"]
["Is balance rated by uniform rate/variable rate?"]
["Valuation reductions:"]
["Valuation reductions-public infrastructure (Rm)"]
["Valuation reductions-nature reserves/park (Rm)"]
["Valuation reductions-mineral rights (Rm)"]
["Valuation reductions-R15,000 threshold (Rm)"]
["Valuation reductions-public worship (Rm)"]
["Valuation reductions-other (Rm)",2]
["Total valuation reductions:"]
["Total value used for rating (Rm)",6]
["Total land value (Rm)",6]
["Total value of improvements (Rm)",6]
["Total market value (Rm)",6]
["Rating:"]
["Average rate",3]
["Rate revenue budget (R '000)",null,null,null,null,null,null,null,null,null,null,null,null,null,null,null,null,null,{"$f":"SUM(C39:R39)","v":0}]
["Rate revenue expected to collect (R'000)",null,null,null,null,null,null,null,null,null,null,null,null,null,null,null,null,null,{"$f":"SUM(C40:R40)","v":0}]
["Expected cash collection rate (%)",4]
["Special rating areas (R'000)"]
["Rebates, exemptions - indigent (R'000)"]
["Rebates, exemptions - pensioners (R'000)"]
["Rebates, exemptions - bona fide farm. (R'000)"]
["Rebates, exemptions - other (R'000)"]
["Phase-in reductions/discounts (R'000)"]
["Total rebates,exemptns,reductns,discs (R'000)"]
[]
[{"$f":"head27a","v":"References"}]
["1. Land & Assistance Act, Restitution of Land Rights, Communual Property Associations"]
["2. Include value of additional reductions is 'free' value greater than MPRA minimum."]
["3. Average rate - cents in  the Rand. Eg 10.26 cents in the Rand is 0.1026, expressed to 6 decimal places maximum"]
["4. Include arrears collections"]
["5. In favour of the rate-payer"]
["6. Provide relevant information for historical comparisons."]

{"sheet":"SA13a","index":33,"n_rows":90,"n_cols":19,"rows_kept":90,"cut":false,"hidden":false,"merged":[[1,6,2,6],[1,0,2,0],[1,1,2,1],[1,2,2,2],[1,3,2,3],[1,4,2,4],[1,5,2,5],[93,6,94,6],[93,0,94,0],[93,1,94,1],[93,2,94,2],[93,3,94,3],[93,4,94,4],[93,5,94,5]]}
[{"$f":"muni&\" - \"&TableA13a","v":"KZN434 Ubuhlebezwe - Supporting Table SA13a Service Tariffs by category"}]
[{"$f":"desc","v":"Description"},{"$f":"head27","v":"Ref"},"Provide description of tariff structure where appropriate",{"$f":"head1b","v":"2016/17"},{"$f":"head1A","v":"2017/18"},{"$f":"Head1","v":"2018/19"},{"$f":"Head2","v":"Current Year 2019/20"},{"$f":"Head3","v":"2020/21 Medium Term Revenue & Expenditure Framework"}]
[null,null,null,null,null,null,null,{"$f":"Head9","v":"Budget Year 2020/21"},{"$f":"Head10","v":"Budget Year +1 2021/22"},{"$f":"Head11","v":"Budget Year +2 2022/23"}]
["Property rates (rate in the Rand)",1]
["Residential properties",null,"N/A",1.44E-2,1.5869999999999999E-2,1.6660000000000001E-2,1.7500000000000002E-2,1.84E-2,1.932E-2,2.0286000000000002E-2]
["Residential properties - vacant land",null,"N/A",1.4800000000000001E-2,1.6310000000000002E-2,1.7125000000000001E-2,1.7899999999999999E-2,1.8800000000000001E-2,1.9740000000000001E-2,2.0727000000000002E-2]
["Formal/informal settlements",null,"N/A",0,0,0,0,null,0,0]
["Small holdings",null,"N/A",0,0,0,0,null,0,0]
["Farm properties - used",null,"N/A",3.5999999999999999E-3,3.96E-3,4.1580000000000002E-3,4.4000000000000003E-3,4.5999999999999999E-3,4.8300000000000001E-3,5.0715000000000005E-3]
["Farm properties - not used",null,"N/A",0,0,0,0,null,0,0]
["Industrial properties",null,"N/A",1.55E-2,1.7080000000000001E-2,1.7933999999999999E-2,1.8800000000000001E-2,1.9699999999999999E-2,2.0684999999999999E-2,2.1719249999999999E-2]
["Business and commercial properties",null,"N/A",1.4800000000000001E-2,1.7125000000000001E-2,1.7899999999999999E-2,1.7125500000000002E-2,1.8800000000000001E-2,1.9740000000000001E-2,2.0727000000000002E-2]
["Communal land - residential",null,"N/A",0,0,0,0,null,0,0]
["Communal land - small holdings",null,"N/A",0,0,0,0,null,0,0]
["Communal land - farm property",null,"N/A",0,0,0,0,null,0,0]
["Communal land - business and commercial",null,"N/A",0,0,0,0,null,0,0]
["Communal land - other",null,"N/A",3.5999999999999999E-3,4.1580000000000002E-3,4.4000000000000003E-3,4.1580000000000002E-3,4.5999999999999999E-3,4.8300000000000001E-3,5.0715000000000005E-3]
["State-owned properties",null,"N/A",1.4800000000000001E-2,1.7125000000000001E-2,1.7899999999999999E-2,1.7125500000000002E-2,1.8800000000000001E-2,1.9740000000000001E-2,2.0727000000000002E-2]
["Municipal properties",null,"N/A",0,0,0,0,null,0,0]
["Public service infrastructure",null,"N/A",3.5999999999999999E-3,4.9979999999999998E-3,5.1999999999999998E-3,4.9980000000000007E-3,5.4999999999999997E-3,5.7749999999999998E-3,6.0637499999999997E-3]
["Privately owned towns serviced by the owner"]
["State trust land"]
["Restitution and redistribution properties"]
["Protected areas"]
["National monuments properties"]
[]
["Exemptions, reductions and rebates (Rands)"]
["Residential properties"]
["R15 000 threshhold rebate",null,null,15000,15000,15000,15000,15000,15000,15000]
["General residential rebate"]
["Indigent rebate or exemption"]
["Pensioners/social grants rebate or exemption "]
["Temporary relief rebate or exemption"]
[" Bona fide farmers rebate or exemption"]
["Other rebates or exemptions",2]
[]
["Water tariffs"]
["Domestic"]
["Basic charge/fixed fee (Rands/month)",null,null,null,null,null,null,null,null,null,null,null,null,null,null,null,null,null,{"$f":"SUM(C39:R39)","v":0}]
["Service point - vacant land (Rands/month)",null,null,null,null,null,null,null,null,null,null,null,null,null,null,null,null,null,{"$f":"SUM(C40:R40)","v":0}]
["Water usage - flat rate tariff (c/kl)"]
["Water usage - life line tariff",null,"(describe structure)"]
["Water usage - Block 1 (c/kl)",null," (fill in thresholds)"]
["Water usage - Block 2 (c/kl)",null," (fill in thresholds)"]
["Water usage - Block 3 (c/kl)",null," (fill in thresholds)"]
["Water usage - Block 4 (c/kl)",null," (fill in thresholds)"]
["Other",2]
[]
["Waste water tariffs"]
["Domestic"]
["Basic charge/fixed fee (Rands/month)"]
["Service point - vacant land (Rands/month)"]
["Waste water - flat rate tariff (c/kl)"]
["Volumetric charge - Block 1 (c/kl)",null,"(fill in structure)"]
["Volumetric charge - Block 2 (c/kl)",null,"(fill in structure)"]
["Volumetric charge - Block 3 (c/kl)",null,"(fill in structure)"]
["Volumetric charge - Block 4 (c/kl)",null,"(fill in structure)"]
["Other",2]
[]
["Electricity tariffs"]
["Domestic"]
["Basic charge/fixed fee (Rands/month)"]
["Service point - vacant land (Rands/month)"]
["FBE",null,"(how is this targeted?)"]
["Life-line tariff - meter",null,"(describe structure)"]
["Life-line tariff - prepaid",null,"(describe structure)"]
["Flat rate tariff - meter (c/kwh)"]
["Flat rate tariff - prepaid(c/kwh)"]
["Meter - IBT Block 1 (c/kwh)",null,"(fill in thresholds)"]
["Meter - IBT Block 2 (c/kwh)",null,"(fill in thresholds)"]
["Meter - IBT Block 3 (c/kwh)",null,"(fill in thresholds)"]
["Meter - IBT Block 4 (c/kwh)",null,"(fill in thresholds)"]
["Meter - IBT Block 5 (c/kwh)",null,"(fill in thresholds)"]
["Prepaid - IBT Block 1 (c/kwh)",null,"(fill in thresholds)"]
["Prepaid - IBT Block 2 (c/kwh)",null,"(fill in thresholds)"]
["Prepaid - IBT Block 3 (c/kwh)",null,"(fill in thresholds)"]
["Prepaid - IBT Block 4 (c/kwh)",null,"(fill in thresholds)"]
["Prepaid - IBT Block 5 (c/kwh)",null,"(fill in thresholds)"]
["Other",2]
[]
["Waste management tariffs"]
["Domestic"]
["Street cleaning charge"]
["Basic charge/fixed fee"]
["80l bin - once a week"]
["250l bin - once a week"]
[]
[{"$f":"head27a","v":"References"}]
["1. If properties are not rated or zero rated this must be indicated as such"]
["2.Please provide detailed descriptions on Sheet SA13b"]

{"sheet":"SA13b","index":34,"n_rows":52,"n_cols":19,"rows_kept":52,"cut":false,"hidden":false,"merged":[[96,5,97,5],[96,6,97,6],[1,6,2,6],[1,5,2,5],[1,4,2,4],[96,4,97,4],[96,0,97,0],[1,0,2,0],[1,1,2,1],[1,2,2,2],[1,3,2,3],[96,1,97,1],[96,2,97,2],[96,3,97,3]]}
[{"$f":"muni&\" - \"&TableA13b","v":"KZN434 Ubuhlebezwe - Supporting Table SA13b Service Tariffs by category - explanatory"}]
[{"$f":"desc","v":"Description"},{"$f":"head27","v":"Ref"},"Provide description of tariff structure where appropriate",{"$f":"head1b","v":"2016/17"},{"$f":"head1A","v":"2017/18"},{"$f":"Head1","v":"2018/19"},{"$f":"Head2","v":"Current Year 2019/20"},{"$f":"Head3","v":"2020/21 Medium Term Revenue & Expenditure Framework"}]
[null,null,null,null,null,null,null,{"$f":"Head9","v":"Budget Year 2020/21"},{"$f":"Head10","v":"Budget Year +1 2021/22"},{"$f":"Head11","v":"Budget Year +2 2022/23"}]
["Exemptions, reductions and rebates (Rands)"]
["Residential",null,null,30102000,29563225,29563667,31041850.350000001,32593942.867500003,34223640.010875002,35934822.011418752]
["Stated Owened 20%",null,null,72635762,72661675,72688933,76323379.650000006,80139548.632500008,84146526.064125016,88353852.367331266]
["Agricultulre 50%",null,null,13189031,13351747,13523502,14199677.1,14909660.955,15655144.00275,16437901.202887502]
["Public Service Infrustructure 20%",null,null,652249,652335,656271,689084.55,723538.77750000008,759715.71637500008,797701.50219375012]
["Communual Land 50%",null,null,53086,54186,55346,58113.3,61018.965000000004,64069.913250000005,67273.408912500003]
["Special Purpose / Place of Worship(Exempt on Rate",null,null,0,0,null,0,0,0,0]
["Industrial",null,null,270000,270000,270000,283500,297675,312558.75,328186.6875]
["Business and Commercial",null,null,1649517.66,1650066.12,1650645.05,1733177.3025,1819836.167625,1910827.9760062501,2006369.3748065627]
["Vacant Land",null,null,11133000,11133000,11133000,11689650,12274132.5,12887839.125,13532231.081250001]
["Ingonyama Trust Land",null,null,75984,78173,80485,84509.25,88734.712500000009,93171.44812500001,97830.020531250018]
[]
["Water tariffs"]
["[Insert blocks as applicable]",null," (fill in thresholds)"]
[null,null," (fill in thresholds)"]
[null,null," (fill in thresholds)"]
[null,null," (fill in thresholds)"]
[null,null," (fill in thresholds)"]
[null,null," (fill in thresholds)"]
[null,null," (fill in thresholds)"]
[null,null," (fill in thresholds)"]
[null,null," (fill in thresholds)"]
[null,null," (fill in thresholds)"]
[]
["Waste water tariffs"]
["[Insert blocks as applicable]",null,"(fill in structure)"]
[null,null,"(fill in structure)"]
[null,null,"(fill in structure)"]
[null,null,"(fill in structure)"]
[null,null,"(fill in structure)"]
[null,null,"(fill in structure)"]
[null,null,"(fill in structure)"]
[null,null,"(fill in structure)"]
[null,null,"(fill in structure)"]
[]
["Electricity tariffs"]
["[Insert blocks as applicable]",null,"(fill in thresholds)"]
[null,null,"(fill in thresholds)",null,null,null,null,null,null,null,null,null,null,null,null,null,null,null,{"$f":"SUM(C41:R41)","v":0}]
[null,null,"(fill in thresholds)",null,null,null,null,null,null,null,null,null,null,null,null,null,null,null,{"$f":"SUM(C42:R42)","v":0}]
[null,null,"(fill in thresholds)"]
[null,null,"(fill in thresholds)"]
[null,null,"(fill in thresholds)"]
[null,null,"(fill in thresholds)"]
[null,null,"(fill in thresholds)"]
[null,null,"(fill in thresholds)"]
[null,null,"(fill in thresholds)"]
[null,null,"(fill in thresholds)"]
[null,null,"(fill in thresholds)"]
[null,null,"(fill in thresholds)"]

{"sheet":"SA14","index":35,"n_rows":54,"n_cols":12,"rows_kept":54,"cut":false,"hidden":false,"merged":[[1,1,3,1],[1,5,1,7],[1,0,2,0]]}
[{"$f":"muni&\" - \"&TableA14","v":"KZN434 Ubuhlebezwe - Supporting Table SA14 Household bills"}]
[{"$f":"desc","v":"Description"},{"$f":"head27","v":"Ref"},{"$f":"head1b","v":"2016/17"},{"$f":"head1A","v":"2017/18"},{"$f":"Head1","v":"2018/19"},{"$f":"Head2","v":"Current Year 2019/20"},null,null,{"$f":"Head3","v":"2020/21 Medium Term Revenue & Expenditure Framework"}]
[null,null,{"$f":"Head5","v":"Audited Outcome"},{"$f":"Head5","v":"Audited Outcome"},{"$f":"Head5","v":"Audited Outcome"},{"$f":"Head6","v":"Original Budget"},{"$f":"Head7","v":"Adjusted Budget"},{"$f":"Head8","v":"Full Year Forecast"},{"$f":"Head9","v":"Budget Year 2020/21"},{"$f":"Head9","v":"Budget Year 2020/21"},{"$f":"Head10","v":"Budget Year +1 2021/22"},{"$f":"Head11","v":"Budget Year +2 2022/23"}]
["Rand/cent",null,null,null,null,null,null,null,"% incr."]
["Monthly Account for Household - 'Middle Income Range'",1]
["Rates and services charges:"]
["Property rates"]
["Electricity: Basic levy"]
["Electricity: Consumption"]
["Water: Basic levy"]
["Water: Consumption"]
["Sanitation"]
["Refuse removal"]
["Other"]
["sub-total",null,{"$f":"SUM(C7:C14)","v":0},{"$f":"SUM(D7:D14)","v":0},{"$f":"SUM(E7:E14)","v":0},{"$f":"SUM(F7:F14)","v":0},{"$f":"SUM(G7:G14)","v":0},0,{"$f":"IF(ISERROR(ROUND((J15-F15)/F15,3)),0,(ROUND((J15-F15)/F15,3)))","v":0},0,0,0]
["VAT on Services"]
["Total large household bill:",null,{"$f":"SUM(C15:C16)","v":0},{"$f":"SUM(D15:D16)","v":0},{"$f":"SUM(E15:E16)","v":0},{"$f":"SUM(F15:F16)","v":0},{"$f":"SUM(G15:G16)","v":0},0,{"$f":"IF(ISERROR(ROUND((J17-F17)/F17,3)),0,(ROUND((J17-F17)/F17,3)))","v":0},0,0,0]
["% increase/-decrease",null,null,{"$f":"IF(ISERROR((D17/C17)-1),0,((D17/C17)-1))","v":0},{"$f":"IF(ISERROR((E17/D17)-1),0,((E17/D17)-1))","v":0},{"$f":"IF(ISERROR((F17/E17)-1),0,((F17/E17)-1))","v":0},{"$f":"IF(ISERROR((G17/F17)-1),0,((G17/F17)-1))","v":0},{"$f":"IF(ISERROR((H17/G17)-1),0,((H17/G17)-1))","v":0},null,{"$f":"IF(ISERROR((J17/H17)-1),0,((J17/H17)-1))","v":0},{"$f":"IF(ISERROR((K17/J17)-1),0,((K17/J17)-1))","v":0},{"$f":"IF(ISERROR((L17/K17)-1),0,((L17/K17)-1))","v":0}]
[]
["Monthly Account for Household - 'Affordable Range' ",2]
[{"$f":"A6","v":"Rates and services charges:"}]
[{"$f":"A7","v":"Property rates"}]
["Electricity: Basic levy"]
["Electricity: Consumption"]
["Water: Basic levy"]
["Water: Consumption"]
["Sanitation"]
["Refuse removal"]
["Other"]
["sub-total",null,{"$f":"SUM(C22:C29)","v":0},0,0,0,0,0,{"$f":"IF(ISERROR(ROUND((J30-F30)/F30,3)),0,(ROUND((J30-F30)/F30,3)))","v":0},{"$f":"SUM(J22:J29)","v":0},{"$f":"SUM(K22:K29)","v":0},{"$f":"SUM(L22:L29)","v":0}]
["VAT on Services"]
["Total small household bill:",null,{"$f":"SUM(C30:C31)","v":0},0,0,0,0,0,{"$f":"IF(ISERROR(ROUND((J32-F32)/F32,3)),0,(ROUND((J32-F32)/F32,3)))","v":0},{"$f":"SUM(J30:J31)","v":0},{"$f":"SUM(K30:K31)","v":0},{"$f":"SUM(L30:L31)","v":0}]
["% increase/-decrease",null,null,{"$f":"IF(ISERROR((D32/C32)-1),0,((D32/C32)-1))","v":0},{"$f":"IF(ISERROR((E32/D32)-1),0,((E32/D32)-1))","v":0},{"$f":"IF(ISERROR((F32/E32)-1),0,((F32/E32)-1))","v":0},{"$f":"IF(ISERROR((G32/F32)-1),0,((G32/F32)-1))","v":0},{"$f":"IF(ISERROR((H32/G32)-1),0,((H32/G32)-1))","v":0},null,{"$f":"IF(ISERROR((J32/H32)-1),0,((J32/H32)-1))","v":0},{"$f":"IF(ISERROR((K32/J32)-1),0,((K32/J32)-1))","v":0},{"$f":"IF(ISERROR((L32/K32)-1),0,((L32/K32)-1))","v":0}]
[null,null,null,null,{"$f":"IF(ISERROR((E33/D33)-1),0,((E33/D33)-1))","v":0},{"$f":"IF(ISERROR((F33/E33)-1),0,((F33/E33)-1))","v":0},{"$f":"IF(ISERROR((G33/F33)-1),0,((G33/F33)-1))","v":0},{"$f":"IF(ISERROR((H33/G33)-1),0,((H33/G33)-1))","v":0}]
["Monthly Account for Household - 'Indigent' Household receiving free basic services",3]
[{"$f":"A6","v":"Rates and services charges:"}]
[{"$f":"A7","v":"Property rates"},null,null,null,null,null,null,null,{"$f":"IF(J37>0,ROUND((J37-F37)/F37,3),\"\")","v":""}]
["Electricity: Basic levy",null,null,null,null,null,null,null,{"$f":"IF(J38>0,ROUND((J38-F38)/F38,3),\"\")","v":""}]
["Electricity: Consumption",null,null,null,null,null,null,null,""]
["Water: Basic levy",null,null,null,null,null,null,null,""]
["Water: Consumption",null,null,null,null,null,null,null,""]
["Sanitation",null,null,null,null,null,null,null,""]
["Refuse removal",null,null,null,null,null,null,null,""]
["Other",null,null,null,null,null,null,null,""]
["sub-total",null,{"$f":"SUM(C37:C44)","v":0},{"$f":"SUM(D37:D44)","v":0},{"$f":"SUM(E37:E44)","v":0},{"$f":"SUM(F37:F44)","v":0},{"$f":"SUM(G37:G44)","v":0},0,{"$f":"IF(ISERROR(ROUND((J45-F45)/F45,3)),0,(ROUND((J45-F45)/F45,3)))","v":0},0,0,0]
["VAT on Services",null,null,null,null,null,null,null,{"$f":"IF(J46>0,I13ROUND((J46-F46)/F46,3),\"\")","v":""}]
["Total small household bill:",null,{"$f":"SUM(C45:C46)","v":0},{"$f":"SUM(D45:D46)","v":0},{"$f":"SUM(E45:E46)","v":0},{"$f":"SUM(F45:F46)","v":0},{"$f":"SUM(G45:G46)","v":0},0,{"$f":"IF(ISERROR(ROUND((J47-F47)/F47,3)),0,(ROUND((J47-F47)/F47,3)))","v":0},0,0,0]
[{"$f":"A18","v":"% increase/-decrease"},null,null,{"$f":"IF(ISERROR((D47/C47)-1),0,((D47/C47)-1))","v":0},{"$f":"IF(ISERROR((E47/D47)-1),0,((E47/D47)-1))","v":0},{"$f":"IF(ISERROR((F47/E47)-1),0,((F47/E47)-1))","v":0},{"$f":"IF(ISERROR((G47/F47)-1),0,((G47/F47)-1))","v":0},{"$f":"IF(ISERROR((H47/G47)-1),0,((H47/G47)-1))","v":0},null,{"$f":"IF(ISERROR((J47/H47)-1),0,((J47/H47)-1))","v":0},{"$f":"IF(ISERROR((K47/J47)-1),0,((K47/J47)-1))","v":0},{"$f":"IF(ISERROR((L47/K47)-1),0,((L47/K47)-1))","v":0}]
[]
[{"$f":"head27a","v":"References"}]
["1. Use as basis property value of R700 000, 1 000 kWh electricity and 30kl water"]
["2. Use as basis property value  of R500 000 and R700 000, 500 kWh electricity and 25kl water"]
["3. Use as basis property value of R 300 000, 350kWh electricity and 20kl water (50 kWh electricity and 6 kl water free)"]
["4. Note this is for a SINGLE household."]

{"sheet":"SA15","index":36,"n_rows":36,"n_cols":11,"rows_kept":36,"cut":false,"hidden":false,"merged":[[1,5,1,7],[1,8,1,10],[1,1,3,1],[1,0,2,0]]}
[{"$f":"muni&\" - \"&TableA15","v":"KZN434 Ubuhlebezwe - Supporting Table SA15 Investment particulars by type"}]
["Investment type",{"$f":"head27","v":"Ref"},{"$f":"head1b","v":"2016/17"},{"$f":"head1A","v":"2017/18"},{"$f":"Head1","v":"2018/19"},{"$f":"Head2","v":"Current Year 2019/20"},null,null,{"$f":"Head3","v":"2020/21 Medium Term Revenue & Expenditure Framework"}]
[null,null,{"$f":"Head5","v":"Audited Outcome"},{"$f":"Head5","v":"Audited Outcome"},{"$f":"Head5","v":"Audited Outcome"},{"$f":"Head6","v":"Original Budget"},{"$f":"Head7","v":"Adjusted Budget"},{"$f":"Head8","v":"Full Year Forecast"},{"$f":"Head9","v":"Budget Year 2020/21"},{"$f":"Head10","v":"Budget Year +1 2021/22"},{"$f":"Head11","v":"Budget Year +2 2022/23"}]
["R thousand"]
["Parent municipality"]
["Securities - National Government"]
["Listed Corporate Bonds"]
["Deposits - Bank"]
["Deposits - Public Investment Commissioners"]
["Deposits - Corporation for Public Deposits"]
["Bankers Acceptance Certificates"]
["Negotiable Certificates of Deposit - Banks"]
["Guaranteed Endowment Policies (sinking)"]
["Repurchase Agreements - Banks"]
["Municipal Bonds"]
[]
["Municipality sub-total",1,{"$f":"SUM(C6:C15)","v":118300602},102405778,155416834,163809343.03600001,172818856.90298,182323894.03264388,182749732,192618217.528,203212219.49203998]
[]
["Entities"]
[{"$f":"A6","v":"Securities - National Government"}]
[{"$f":"A7","v":"Listed Corporate Bonds"}]
["Deposits - Bank"]
["Deposits - Public Investment Commissioners"]
["Deposits - Corporation for Public Deposits"]
["Bankers Acceptance Certificates"]
["Negotiable Certificates of Deposit - Banks"]
["Guaranteed Endowment Policies (sinking)"]
["Repurchase Agreements - Banks"]
[]
["Entities sub-total",null,{"$f":"SUM(C20:C29)","v":0},0,0,0,0,0,0,0,0]
[]
["Consolidated total:",null,{"$f":"C17+C30","v":118300602},102405778,155416834,163809343.03600001,172818856.90298,182323894.03264388,182749732,192618217.528,203212219.49203998]
[]
[{"$f":"head27a","v":"References"}]
["1. Total investments must reconcile to Budgeted Financial Position ('current' call investment deposits plus 'non-current' investments)"]
["check investment balance",null,{"$f":"C17-'A6-FinPos'!C7-'A6-FinPos'!C16","v":6396226},{"$f":"D17-'A6-FinPos'!D7-'A6-FinPos'!D16","v":102405778},{"$f":"E17-'A6-FinPos'!E7-'A6-FinPos'!E16","v":53512458},{"$f":"F17-'A6-FinPos'!F7-'A6-FinPos'!F16","v":58507088.036000013},{"$f":"G17-'A6-FinPos'!G7-'A6-FinPos'!G16","v":25937110.90298},{"$f":"H17-'A6-FinPos'!H7-'A6-FinPos'!H16","v":35442148.032643884},{"$f":"I17-'A6-FinPos'!J7-'A6-FinPos'!J16","v":20631213.524100661},{"$f":"J17-'A6-FinPos'!K7-'A6-FinPos'!K16","v":23204365.720685214},{"$f":"K17-'A6-FinPos'!L7-'A6-FinPos'!L16","v":26174744.353396028}]

{"sheet":"SA16","index":37,"n_rows":47,"n_cols":15,"rows_kept":47,"cut":false,"hidden":false,"merged":[[1,3,2,3],[1,9,2,9],[2,10,2,14]]}
[{"$f":"muni&\" - \"&TableA16","v":"KZN434 Ubuhlebezwe - Supporting Table SA16 Investment particulars by maturity"}]
["Investments by Maturity",{"$f":"head27","v":"Ref"},"Period of Investment","Type of Investment","Capital Guarantee\n(Yes/ No)","Variable or Fixed interest rate","Interest Rate ᶟ","Commission Paid (Rands)","Commission Recipient","Expiry date of investment","Opening balance","Interest to be realised","Partial / Premature Withdrawal (4)","Investment Top Up","Closing Balance"]
["Name of institution & investment ID",1,"Yrs/Months"]
["Parent municipality"]
["ABSA - 2078355849",null,"1 Month","Fixed","No","Fixed",7.35,null,null,null,10680065.039999999,60769.11,null,null,{"$f":"SUM(K5:N5)","v":10740834.149999999}]
["ABSA - 9356939209",null,"Call Account","Fixed","No","Fixed",7.5,null,null,null,36261042.359999999,203161.18,null,null,{"$f":"SUM(K6:N6)","v":36464203.539999999}]
["FNB - 62143895988",null,"Call Account","Fixed","No","Fixed",4.3099999999999996,null,null,null,5234139.82,11694.12,-5000000,null,245833.94000000041]
["FNB - 62248166218",null,"1 Year","Fixed","No","Fixed",3.9,null,null,null,716741.45,0,null,null,716741.45]
["FNB - 78843610681",null,"14 Days","Fixed","No","Fixed",6.92,null,null,null,10077062.85,44421.05,null,null,10121483.9]
["NED - 7881076763/140",null,"32 Days","Fixed","No","Fixed",6.5,null,null,null,13000000,null,null,null,13000000]
["NED - 7881076763/142",null,"32 Days","Fixed","No","Fixed",7.05,null,null,null,20770029.530000001,null,null,null,20770029.530000001]
["NED - 7881076763/141",null,"110 Days","Fixed","No","Fixed",7.57,null,null,null,25570342.469999999,null,null,null,25570342.469999999]
["STD - 068730276/001",null,"6 Months","Fixed","No","Fixed",6.35,null,null,null,125976.83,299.76,null,null,126276.59]
["STD - 068730276/004",null,"1 Month","Fixed","No","Fixed",7.22,null,null,null,6630921.2199999997,39821.86,null,null,6670743.0800000001]
["STD - 068730276/006",null,"1 Month","Fixed","No","Fixed",7.46,null,null,null,20380305.469999999,121500,null,null,20501805.469999999]
["STD - 068730276/008",null,"1 Month","Fixed","No","Fixed",3.9,null,null,null,15645.93,45.52,null,null,15691.45]
["STD - 068730276/010",null,"1 Month","Fixed","No","Fixed",6.5,null,null,null,12000000,null,null,null,12000000]
["STD - 068730276/007",null,"32 Days","Fixed","No","Fixed",7.72,null,null,null,10131462.07,null,null,null,10131462.07]
["STD - 068730276/005",null,"2 Months","Fixed","No","Fixed",7.23,null,null,null,15580715.26,93569.67,null,null,15674284.93]
[]
[null,null,null,null,null,null,null,null,null,null,null,null,null,null,0]
[null,null,null,null,null,null,null,null,null,null,null,null,null,null,0]
[null,null,null,null,null,null,null,null,null,null,null,null,null,null,0]
[null,null,null,null,null,null,null,null,null,null,null,null,null,null,0]
[]
[null,null,null,null,null,null,null,null,null,null,null,null,null,null,0]
["Municipality sub-total",null,null,null,null,null,null,null,null,null,{"$f":"SUM(K5:K26)","v":187174450.30000001},null,{"$f":"SUM(M5:M26)","v":-5000000},{"$f":"SUM(N5:N26)","v":0},{"$f":"SUM(O5:O26)","v":182749732.56999999}]
[]
["Entities"]
[null,null,null,null,null,null,null,null,null,null,null,null,null,null,{"$f":"SUM(K30:N30)","v":0}]
[null,null,null,null,null,null,null,null,null,null,null,null,null,null,{"$f":"SUM(K31:N31)","v":0}]
[null,null,null,null,null,null,null,null,null,null,null,null,null,null,0]
[null,null,null,null,null,null,null,null,null,null,null,null,null,null,0]
[null,null,null,null,null,null,null,null,null,null,null,null,null,null,0]
[null,null,null,null,null,null,null,null,null,null,null,null,null,null,0]
[null,null,null,null,null,null,null,null,null,null,null,null,null,null,0]
["Entities sub-total",null,null,null,null,null,null,null,null,null,{"$f":"SUM(K30:K36)","v":0},null,{"$f":"SUM(M30:M36)","v":0},{"$f":"SUM(N30:N36)","v":0},{"$f":"SUM(O30:O36)","v":0}]
[]
["TOTAL INVESTMENTS AND INTEREST",1,null,null,null,null,null,null,null,null,{"$f":"K27+K37","v":187174450.30000001},null,{"$f":"M27+M37","v":-5000000},{"$f":"N27+N37","v":0},{"$f":"O27+O37","v":182749732.56999999}]
[]
[{"$f":"head27a","v":"References"}]
["1. Total investments must reconcile to all items in Table SA15 for the Current Year (30 June)"]
["2. List investments in expiry date order"]
["3. If 'variable' is selected in column F, input interest rate range"]
["4. Withdrawals to be entered as negative"]
["check"]
[null,null,null,null,null,null,null,null,null,null,null,null,"`"]

{"sheet":"SA17","index":38,"n_rows":71,"n_cols":45,"rows_kept":71,"cut":false,"hidden":false,"merged":[[1,5,1,7],[1,8,1,10]]}
[{"$f":"muni&\" - \"&TableA17","v":"KZN434 Ubuhlebezwe - Supporting Table SA17 Borrowing"}]
["Borrowing - Categorised by type",{"$f":"head27","v":"Ref"},{"$f":"head1b","v":"2016/17"},{"$f":"head1A","v":"2017/18"},{"$f":"Head1","v":"2018/19"},{"$f":"Head2","v":"Current Year 2019/20"},null,null,{"$f":"Head3","v":"2020/21 Medium Term Revenue & Expenditure Framework"}]
["R thousand",null,{"$f":"Head5","v":"Audited Outcome"},{"$f":"Head5","v":"Audited Outcome"},{"$f":"Head5","v":"Audited Outcome"},{"$f":"Head6","v":"Original Budget"},{"$f":"Head7","v":"Adjusted Budget"},{"$f":"Head8","v":"Full Year Forecast"},{"$f":"Head9","v":"Budget Year 2020/21"},{"$f":"Head10","v":"Budget Year +1 2021/22"},{"$f":"Head11","v":"Budget Year +2 2022/23"}]
["Parent municipality"]
["Annuity and Bullet Loans"]
["Long-Term Loans (non-annuity)"]
["Local registered stock"]
["Instalment Credit"]
["Financial Leases"]
["PPP liabilities"]
["Finance Granted By Cap Equipment Supplier"]
["Marketable Bonds"]
["Non-Marketable Bonds"]
["Bankers Acceptances"]
["Financial derivatives"]
["Other Securities"]
["Municipality sub-total",1,{"$f":"SUM(C5:C16)","v":0},{"$f":"SUM(D5:D16)","v":0},0,0,0,0,0,0,0]
[]
["Entities"]
[{"$f":"A5","v":"Annuity and Bullet Loans"}]
["Long-Term Loans (non-annuity)"]
["Local registered stock"]
["Instalment Credit"]
["Financial Leases"]
["PPP liabilities"]
["Finance Granted By Cap Equipment Supplier"]
["Marketable Bonds"]
["Non-Marketable Bonds"]
["Bankers Acceptances"]
["Financial derivatives"]
["Other Securities"]
["Entities sub-total",1,{"$f":"SUM(C20:C31)","v":0},{"$f":"SUM(D20:D31)","v":0},0,0,0,0,0,0,0]
[]
["Total Borrowing",1,{"$f":"C17+C32","v":0},{"$f":"D17+D32","v":0},0,0,0,0,0,0,0]
[]
["Unspent Borrowing - Categorised by type"]
["Parent municipality"]
["Long-Term Loans (annuity/reducing balance)"]
["Long-Term Loans (non-annuity)"]
["Local registered stock"]
["Instalment Credit",null,null,null,null,null,null,null,null,null,null,null,null,null,null,null,null,null,null,null,null,null,null,null,null,null,null,null,null,null,null,null,null,null,null,null,null,null,null,null,null,null,439005000,null,539442200]
["Financial Leases"]
["PPP liabilities",null,null,null,null,null,null,null,null,null,null,null,null,null,null,null,null,null,null,null,null,null,0,null,0,null,null,0,null,0,null,null,0,null,0,null,null,0,null,0,null,null,1834701353,null,1241876995]
["Finance Granted By Cap Equipment Supplier",null,null,null,null,null,null,null,null,null,null,null,null,null,null,null,null,null,null,null,null,null,null,null,null,null,null,null,null,null,null,null,null,null,null,null,null,null,null,null,null,null,839041298,null,440387617]
["Marketable Bonds",null,null,null,null,null,null,null,null,null,null,null,null,null,null,null,null,null,null,null,null,null,null,null,null,null,null,null,null,null,null,null,null,null,null,null,null,null,null,null,null,null,976543638,null,782372961]
["Non-Marketable Bonds",null,null,null,null,null,null,null,null,null,null,null,null,null,null,null,null,null,null,null,null,null,null,null,null,null,null,null,null,null,null,null,null,null,null,null,null,null,null,null,null,null,19116417,null,19116417]
["Bankers Acceptances",null,null,null,null,null,null,null,null,null,null,null,null,null,null,null,null,null,null,null,null,null,null,null,null,null,null,null,null,null,null,null,null,null,null,null,null,null,null,null,null,null,2273706353,null,1781319195]
["Financial derivatives",null,null,null,null,null,null,null,null,null,null,null,null,null,null,null,null,null,null,null,null,null,null,null,null,null,null,null,null,null,null,null,null,null,null,null,null,null,null,null,null,null,180259232,null,140396729]
["Other Securities",null,null,null,null,null,null,null,null,null,null,null,null,null,null,null,null,null,null,null,null,null,null,null,null,null,null,null,null,null,null,null,null,null,null,null,null,null,null,null,null,null,125005000,null,100442200]
["Municipality sub-total",1,{"$f":"SUM(C38:C49)","v":0},{"$f":"SUM(D38:D49)","v":0},0,0,0,0,0,0,0,null,null,null,null,null,null,null,null,null,null,null,null,null,null,null,null,null,null,null,null,null,null,null,null,null,null,null,null,null,null,null,40341797,null,38954529]
[null,null,null,null,null,null,null,null,null,null,null,null,null,null,null,null,null,null,null,null,null,null,null,null,null,null,null,null,null,null,null,null,null,null,null,null,null,null,null,null,null,null,14912435,null,1000000]
["Entities"]
[{"$f":"A38","v":"Long-Term Loans (annuity/reducing balance)"}]
["Long-Term Loans (non-annuity)"]
["Local registered stock"]
["Instalment Credit"]
["Financial Leases"]
["PPP liabilities"]
["Finance Granted By Cap Equipment Supplier"]
["Marketable Bonds"]
["Non-Marketable Bonds"]
["Bankers Acceptances"]
["Financial derivatives"]
["Other Securities"]
["Entities sub-total",1,{"$f":"SUM(C53:C64)","v":0},{"$f":"SUM(D53:D64)","v":0},0,0,0,0,0,0,0]
[]
["Total Unspent Borrowing",1,{"$f":"C50+C65","v":0},{"$f":"D50+D65","v":0},0,0,0,0,0,0,0]
[]
[{"$f":"head27a","v":"References"}]
["1. Total borrowing must reconcile to Budgeted Financial Position (Borrowing - non-current)"]
["check borrowing balance",null,{"$f":"C34-'A6-FinPos'!C37","v":0},{"$f":"D34-'A6-FinPos'!D37","v":0},{"$f":"E34-'A6-FinPos'!E37","v":0},{"$f":"F34-'A6-FinPos'!F37","v":0},{"$f":"G34-'A6-FinPos'!G37","v":0},{"$f":"H34-'A6-FinPos'!H37","v":0},{"$f":"I34-'A6-FinPos'!J37","v":0},{"$f":"J34-'A6-FinPos'!K37","v":0},{"$f":"K34-'A6-FinPos'!L37","v":0}]

{"sheet":"SA18","index":39,"n_rows":59,"n_cols":11,"rows_kept":59,"cut":false,"hidden":false,"merged":[[1,5,1,7],[1,8,1,10]]}
[{"$f":"muni&\" - \"& TableA18","v":"KZN434 Ubuhlebezwe - Supporting Table SA18 Transfers and grant receipts"}]
[{"$f":"desc","v":"Description"},{"$f":"head27","v":"Ref"},{"$f":"head1b","v":"2016/17"},{"$f":"head1A","v":"2017/18"},{"$f":"Head1","v":"2018/19"},{"$f":"Head2","v":"Current Year 2019/20"},null,null,{"$f":"Head3","v":"2020/21 Medium Term Revenue & Expenditure Framework"}]
["R thousand",null,{"$f":"Head5","v":"Audited Outcome"},{"$f":"Head5","v":"Audited Outcome"},{"$f":"Head5","v":"Audited Outcome"},{"$f":"Head6","v":"Original Budget"},{"$f":"Head7","v":"Adjusted Budget"},{"$f":"Head8","v":"Full Year Forecast"},{"$f":"Head9","v":"Budget Year 2020/21"},{"$f":"Head10","v":"Budget Year +1 2021/22"},{"$f":"Head11","v":"Budget Year +2 2022/23"}]
["RECEIPTS:","1, 2"]
[]
["Operating Transfers and Grants"]
["National Government:",null,{"$f":"SUM(C8:C14)","v":99328000},{"$f":"SUM(D8:D14)","v":118343000},118879000,127072000,127072000,127072000,135811000,136383000,142440000]
["Local Government Equitable Share",{"$f":"IF(A8=\"  Levy replacement\",3,\"\")","v":""},95443000,95443000,99319000,110309000,110309000,110309000,117008000,124413000,130440000]
["Finance Management ","",1900000,1900000,1970000,1970000,1970000,1970000,1900000,1970000,2000000]
["Integrated National Electrification Programme","",null,20000000,16000000,13000000,13000000,13000000,15000000,10000000,10000000]
["EPWP Incentive","",1985000,1000000,1590000,1793000,1793000,1793000,1903000]
[null,""]
[null,""]
["  Other transfers/grants [insert description]"]
["Provincial Government:",null,{"$f":"SUM(C16:C24)","v":771000},771000,1937096,59714511,74222137.840000004,74222137.840000004,87455591.344239995,91391092.954730794,95503692.137693688]
["Housing",{"$f":"IF(A16=\"  Housing\",4,\"\")","v":""},null,null,852096,58529511,73021137.840000004,73021137.840000004,86203591.344239995,{"$f":"I16*1.045","v":90082752.954730794},{"$f":"J16*1.045","v":94136476.837693676}]
["Sport and Recreation",{"$f":"IF(A17=\"  Housing\",4,\"\")","v":""},null,null,50000,50000,0,0,null,{"$f":"I17*1.045","v":0},0]
["Spacial Development Grant",{"$f":"IF(A18=\"  Housing\",4,\"\")","v":""},null,null,null,null,null,null,null,{"$f":"I18*1.045","v":0},0]
["Community Library Grant",null,188000,188000,838000,197000,221000,221000,226000,{"$f":"I19*1.045","v":236169.99999999997},246797.64999999997]
["Provincialisation Library Grants",null,583000,583000,197000,838000,880000,880000,905000,{"$f":"I20*1.045","v":945724.99999999988},988282.62499999977]
["Building Plans Information Systems-Training",null,null,null,null,100000,100000,100000,null,{"$f":"I21*1.045","v":0},0]
[null,null,null,null,null,null,null,null,121000,{"$f":"I22*1.045","v":126444.99999999999},132135.02499999997]
[null,{"$f":"IF(A23=\"  Housing\",4,\"\")","v":""}]
[{"$f":"A14","v":"  Other transfers/grants [insert description]"}]
["District Municipality:",null,{"$f":"SUM(C26:C27)","v":0},{"$f":"SUM(D26:D27)","v":0},0,0,0,0,0,0,0]
["  [insert description]"]
[]
["Other grant providers:",null,{"$f":"SUM(C29:C30)","v":0},{"$f":"SUM(D29:D30)","v":0},0,0,0,0,0,0,0]
["  [insert description]"]
[]
["Total Operating Transfers and Grants",5,{"$f":"C7+C15+C25+C28","v":100099000},119114000,120816096,186786511,201294137.84,201294137.84,223266591.34424001,227774092.95473081,237943692.1376937]
[]
["Capital Transfers and Grants"]
[{"$f":"A7","v":"National Government:"},null,{"$f":"SUM(C35:C40)","v":54057000},{"$f":"SUM(D35:D40)","v":27330000},26439000,26917000,26917000,26917000,26759000,28799000,30291000]
[" Municipal Infrastructure Grant (MIG)",null,54057000,27330000,26439000,26917000,26917000,26917000,26759000,28799000,30291000]
[]
[]
[]
[]
["  Other capital transfers/grants [insert desc]"]
[{"$f":"A15","v":"Provincial Government:"},null,{"$f":"SUM(C42)","v":0},{"$f":"SUM(D42)","v":0},{"$f":"SUM(E42:E44)","v":5000000},{"$f":"SUM(F42:F44)","v":6400000},{"$f":"SUM(G42:G44)","v":6400000},6400000,0,0,0]
["Disaster Management",null,null,null,3000000,6000000,6000000,6000000]
["Gym Park",null,null,null,2000000]
["Building Plans Information System-Intangible asset",null,null,null,null,400000,400000,400000]
[{"$f":"A25","v":"District Municipality:"},null,{"$f":"SUM(C46:C47)","v":0},0,0,0,0,0,0,0,0]
[{"$f":"A26","v":"  [insert description]"}]
[]
[{"$f":"A28","v":"Other grant providers:"},null,{"$f":"SUM(C49:C50)","v":0},{"$f":"SUM(D49:D50)","v":0},0,0,0,0,0,0,0]
[{"$f":"LEFT(A29,22)","v":"  [insert description]"}]
[]
["Total Capital Transfers and Grants",5,{"$f":"C34+C41+C45+C48","v":54057000},27330000,31439000,33317000,33317000,33317000,26759000,28799000,30291000]
["TOTAL RECEIPTS OF TRANSFERS & GRANTS",null,{"$f":"C31+C51","v":154156000},146444000,152255096,220103511,234611137.84,234611137.84,250025591.34424001,256573092.95473081,268234692.1376937]
[{"$f":"head27a","v":"References"}]
["1. Each transfer/grant is listed by name as gazetted together with the name of the transferring department or municipality, donor or other organisation"]
["2. Amounts actually RECEIVED; not revenue recognised (objective is to confirm grants transferred)"]
["3. Replacement of RSC levies"]
["4. Housing subsidies for housing where ownership transferred to organisations or persons outside the control of the municipality"]
["5. Total transfers and grants must reconcile to Budgeted Cash Flows"]
["6. Motor vehicle licensing refunds to be included under 'agency' services (Not Grant Receipts)"]

{"sheet":"SA19","index":40,"n_rows":53,"n_cols":11,"rows_kept":53,"cut":false,"hidden":false,"merged":[[1,5,1,7],[1,8,1,10]]}
[{"$f":"muni&\" - \"& TableA19","v":"KZN434 Ubuhlebezwe - Supporting Table SA19 Expenditure on transfers and grant programme"}]
[{"$f":"desc","v":"Description"},{"$f":"head27","v":"Ref"},{"$f":"head1b","v":"2016/17"},{"$f":"head1A","v":"2017/18"},{"$f":"Head1","v":"2018/19"},{"$f":"Head2","v":"Current Year 2019/20"},null,null,{"$f":"Head3","v":"2020/21 Medium Term Revenue & Expenditure Framework"}]
["R thousand",null,{"$f":"Head5","v":"Audited Outcome"},{"$f":"Head5","v":"Audited Outcome"},{"$f":"Head5","v":"Audited Outcome"},{"$f":"Head6","v":"Original Budget"},{"$f":"Head7","v":"Adjusted Budget"},{"$f":"Head8","v":"Full Year Forecast"},{"$f":"Head9","v":"Budget Year 2020/21"},{"$f":"Head10","v":"Budget Year +1 2021/22"},{"$f":"Head11","v":"Budget Year +2 2022/23"}]
["EXPENDITURE:",1]
[]
["Operating expenditure of Transfers and Grants"]
[{"$f":"'SA18'!A7","v":"National Government:"},null,{"$f":"SUM(C8:C14)","v":99328000},{"$f":"SUM(D8:D14)","v":118343000},118879000,127072000,127072000,127072000,135811000,136383000,142440000]
[{"$f":"IF('SA18'!A8=\"\",\"\",'SA18'!A8)","v":"Local Government Equitable Share"},null,95443000,95443000,99319000,110309000,110309000,110309000,117008000,124413000,130440000]
[{"$f":"IF('SA18'!A9=\"\",\"\",'SA18'!A9)","v":"Finance Management "},null,1900000,1900000,1970000,1970000,1970000,1970000,1900000,1970000,2000000]
[{"$f":"IF('SA18'!A10=\"\",\"\",'SA18'!A10)","v":"Integrated National Electrification Programme"},null,null,20000000,16000000,13000000,13000000,13000000,15000000,10000000,10000000]
[{"$f":"IF('SA18'!A11=\"\",\"\",'SA18'!A11)","v":"EPWP Incentive"},null,1985000,1000000,1590000,1793000,1793000,1793000,1903000]
[{"$f":"IF('SA18'!A12=\"\",\"\",'SA18'!A12)","v":""}]
[{"$f":"IF('SA18'!A13=\"\",\"\",'SA18'!A13)","v":""}]
[{"$f":"'SA18'!A14","v":"  Other transfers/grants [insert description]"}]
[{"$f":"'SA18'!A15","v":"Provincial Government:"},null,{"$f":"SUM(C16:C23)","v":771000},{"$f":"SUM(D16:D23)","v":771000},1937096,59714511,74222137.840000004,74222137.840000004,87455591.344239995,0,0]
[{"$f":"IF('SA18'!A16=\"\",\"\",'SA18'!A16)","v":"Housing"},null,null,null,852096,58529511,73021137.840000004,73021137.840000004,86203591.344239995]
[{"$f":"IF('SA18'!A17=\"\",\"\",'SA18'!A17)","v":"Sport and Recreation"},null,null,null,50000,50000,0,0]
[{"$f":"IF('SA18'!A18=\"\",\"\",'SA18'!A18)","v":"Spacial Development Grant"}]
["Community Library Grant",null,188000,188000,838000,197000,221000,221000,226000]
["Provincialisation Library Grants",null,583000,583000,197000,838000,880000,880000,905000]
["Building Plans Information Systems-Training",null,null,null,null,100000,100000,100000]
["Title deeds restoration programme",null,null,null,null,null,null,null,121000]
[{"$f":"'SA18'!A24","v":"  Other transfers/grants [insert description]"}]
[{"$f":"'SA18'!A25","v":"District Municipality:"},null,{"$f":"SUM(C25:C26)","v":0},{"$f":"SUM(D25:D26)","v":0},0,0,0,0,0,0,0]
[{"$f":"'SA18'!A26","v":"  [insert description]"}]
[]
[{"$f":"'SA18'!A28","v":"Other grant providers:"},null,{"$f":"SUM(C28:C29)","v":0},{"$f":"SUM(D28:D29)","v":0},0,0,0,0,0,0,0]
[{"$f":"'SA18'!A29","v":"  [insert description]"}]
[]
["Total operating expenditure of Transfers and Grants:",null,{"$f":"C7+C15+C24+C27","v":100099000},119114000,120816096,186786511,201294137.84,201294137.84,223266591.34424001,136383000,142440000]
[]
["Capital expenditure of Transfers and Grants"]
[{"$f":"'SA18'!A34","v":"National Government:"},null,{"$f":"SUM(C34:C39)","v":0},{"$f":"SUM(D34:D39)","v":0},0,26917000,26917000,26917000,26759000,28799000,30291000]
[{"$f":"IF('SA18'!A35=\"\",\"\",'SA18'!A35)","v":" Municipal Infrastructure Grant (MIG)"},null,null,null,null,26917000,26917000,26917000,26759000,28799000,30291000]
[{"$f":"IF('SA18'!A36=\"\",\"\",'SA18'!A36)","v":""}]
[{"$f":"IF('SA18'!A37=\"\",\"\",'SA18'!A37)","v":""}]
[{"$f":"IF('SA18'!A38=\"\",\"\",'SA18'!A38)","v":""}]
[{"$f":"IF('SA18'!A39=\"\",\"\",'SA18'!A39)","v":""}]
[{"$f":"'SA18'!A40","v":"  Other capital transfers/grants [insert desc]"}]
[{"$f":"'SA18'!A41","v":"Provincial Government:"},null,{"$f":"SUM(C41)","v":0},{"$f":"SUM(D41)","v":0},0,{"$f":"SUM(F41:F42)","v":6400000},{"$f":"SUM(G41:G42)","v":6400000},6400000,0,0,0]
[{"$f":"'SA18'!A42","v":"Disaster Management"},null,null,null,null,6000000,6000000,6000000]
["Building Plans Information System-Intangible asset",null,null,null,null,400000,400000,400000]
[{"$f":"'SA18'!A45","v":"District Municipality:"},null,{"$f":"SUM(C44:C45)","v":0},{"$f":"SUM(D44:D45)","v":0},0,0,0,0,0,0,0]
[{"$f":"'SA18'!A46","v":"  [insert description]"}]
[]
[{"$f":"'SA18'!A48","v":"Other grant providers:"},null,{"$f":"SUM(C47:C48)","v":0},{"$f":"SUM(D47:D48)","v":0},0,0,0,0,0,0,0]
[{"$f":"'SA18'!A49","v":"  [insert description]"}]
[]
["Total capital expenditure of Transfers and Grants",null,{"$f":"C33+C40+C43+C46","v":0},{"$f":"D33+D40+D43+D46","v":0},0,33317000,33317000,33317000,26759000,28799000,30291000]
[]
["TOTAL EXPENDITURE OF TRANSFERS AND GRANTS",null,{"$f":"C30+C49","v":100099000},119114000,120816096,220103511,234611137.84,234611137.84,250025591.34424001,165182000,172731000]
[{"$f":"head27a","v":"References"}]
["1. Expenditure must be separately listed for each transfer or grant received or recognised"]

{"sheet":"SA20","index":41,"n_rows":60,"n_cols":11,"rows_kept":60,"cut":false,"hidden":false,"merged":[[56,0,56,10],[1,5,1,7],[1,8,1,10],[54,0,54,10],[55,0,55,10]]}
[{"$f":"muni&\" - \"& TableA20","v":"KZN434 Ubuhlebezwe - Supporting Table SA20 Reconciliation of transfers, grant receipts and unspent funds"}]
[{"$f":"desc","v":"Description"},{"$f":"head27","v":"Ref"},{"$f":"head1b","v":"2016/17"},{"$f":"head1A","v":"2017/18"},{"$f":"Head1","v":"2018/19"},{"$f":"Head2","v":"Current Year 2019/20"},null,null,{"$f":"Head3","v":"2020/21 Medium Term Revenue & Expenditure Framework"}]
["R thousand",null,{"$f":"Head5","v":"Audited Outcome"},{"$f":"Head5","v":"Audited Outcome"},{"$f":"Head5","v":"Audited Outcome"},{"$f":"Head6","v":"Original Budget"},{"$f":"Head7","v":"Adjusted Budget"},{"$f":"Head8","v":"Full Year Forecast"},{"$f":"Head9","v":"Budget Year 2020/21"},{"$f":"Head10","v":"Budget Year +1 2021/22"},{"$f":"Head11","v":"Budget Year +2 2022/23"}]
["Operating transfers and grants:","1,3"]
[{"$f":"'SA18'!A7","v":"National Government:"}]
["Balance unspent at beginning of the year"]
["Current year receipts",null,99328000,118343000,118879000,127072000,127072000,127072000,135811000,136383000,142440000]
["Conditions met - transferred to revenue",null,{"$f":"C6+C7-C9","v":99328000},{"$f":"D6+D7-D9","v":118343000},118879000,127072000,127072000,127072000,135811000,136383000,142440000]
["Conditions still to be met - transferred to liabilities"]
["Provincial Government:"]
["Balance unspent at beginning of the year"]
[{"$f":"A7","v":"Current year receipts"},null,771000,771000,1937096,59714511,74222137.840000004,74222137.840000004,112751591]
[{"$f":"A8","v":"Conditions met - transferred to revenue"},null,{"$f":"C11+C12-C14","v":771000},771000,1937096,59714511,74222137.840000004,74222137.840000004,112751591,0,0]
[{"$f":"A9","v":"Conditions still to be met - transferred to liabilities"}]
["District Municipality:"]
[{"$f":"A11","v":"Balance unspent at beginning of the year"}]
[{"$f":"A12","v":"Current year receipts"}]
[{"$f":"A13","v":"Conditions met - transferred to revenue"},null,{"$f":"C16+C17-C19","v":0},0,0,0,0,0,0,0,0]
[{"$f":"A14","v":"Conditions still to be met - transferred to liabilities"}]
["Other grant providers:"]
[{"$f":"A11","v":"Balance unspent at beginning of the year"}]
[{"$f":"A12","v":"Current year receipts"}]
[{"$f":"A13","v":"Conditions met - transferred to revenue"},null,{"$f":"C21+C22-C24","v":0},0,0,0,0,0,0,0,0]
[{"$f":"A14","v":"Conditions still to be met - transferred to liabilities"}]
["Total operating transfers and grants revenue",null,{"$f":"C8+C13+C18+C23","v":100099000},119114000,120816096,186786511,201294137.84,201294137.84,248562591,136383000,142440000]
["Total operating transfers and grants - CTBM",2,0,0,0,0,0,0,0,0,0]
[]
["Capital transfers and grants:","1,3"]
[{"$f":"A5","v":"National Government:"}]
["Balance unspent at beginning of the year"]
["Current year receipts",null,54057000,27330000,26439000,26917000,26917000,26917000,26759000,28799000,30291000]
["Conditions met - transferred to revenue",null,{"$f":"C30+C31-C33","v":54057000},27330000,26439000,26917000,26917000,26917000,26759000,28799000,30291000]
["Conditions still to be met - transferred to liabilities"]
["Provincial Government:"]
["Balance unspent at beginning of the year"]
[{"$f":"A31","v":"Current year receipts"},null,null,null,5000000,6400000,6400000,6400000]
[{"$f":"A32","v":"Conditions met - transferred to revenue"},null,{"$f":"C35+C36-C38","v":0},0,5000000,6400000,6400000,6400000,0,0,0]
[{"$f":"A33","v":"Conditions still to be met - transferred to liabilities"}]
["District Municipality:"]
[{"$f":"A35","v":"Balance unspent at beginning of the year"}]
[{"$f":"A36","v":"Current year receipts"}]
[{"$f":"A37","v":"Conditions met - transferred to revenue"},null,{"$f":"C40+C41-C43","v":0},0,0,0,0,0,0,0,0]
[{"$f":"A38","v":"Conditions still to be met - transferred to liabilities"}]
["Other grant providers:"]
[{"$f":"A35","v":"Balance unspent at beginning of the year"}]
[{"$f":"A36","v":"Current year receipts"}]
[{"$f":"A37","v":"Conditions met - transferred to revenue"},null,{"$f":"C45+C46-C48","v":0},0,0,0,0,0,0,0,0]
[{"$f":"A38","v":"Conditions still to be met - transferred to liabilities"}]
["Total capital transfers and grants revenue",null,{"$f":"C32+C37+C42+C47","v":54057000},27330000,31439000,33317000,33317000,33317000,26759000,28799000,30291000]
["Total capital transfers and grants - CTBM",2,0,0,0,0,0,0,0,0,0]
[]
["TOTAL TRANSFERS AND GRANTS REVENUE",null,{"$f":"C25+C49","v":154156000},146444000,152255096,220103511,234611137.84,234611137.84,275321591,165182000,172731000]
["TOTAL TRANSFERS AND GRANTS - CTBM",null,{"$f":"C26+C50","v":0},{"$f":"D26+D50","v":0},0,0,0,0,0,0,0]
[{"$f":"head27a","v":"References"}]
["1. Total capital transfers and grants revenue must reconcile to Budgeted Financial Performance and Financial Position; total recurrent grants revenue must reconcile to Budgeted Financial Performance"]
["2. CTBM = conditions to be met"]
["3. National Treasury database will require this reconciliation for each transfer/grant"]
[]
["Check opex",null,{"$f":"C25-'A4-FinPerf RE'!C18","v":5060000},{"$f":"D25-'A4-FinPerf RE'!D18","v":20000000},{"$f":"E25-'A4-FinPerf RE'!E18","v":-21314810},{"$f":"F25-'A4-FinPerf RE'!F18","v":-0.63999998569488525},{"$f":"G25-'A4-FinPerf RE'!G18","v":85992360.840000004},{"$f":"H25-'A4-FinPerf RE'!H18","v":85992360.840000004},{"$f":"I25-'A4-FinPerf RE'!J18","v":126499591},{"$f":"J25-'A4-FinPerf RE'!K18","v":8827165.0000000149},{"$f":"K25-'A4-FinPerf RE'!L18","v":9144152.4250000268}]
["Check capex",null,{"$f":"C49-'A5-Capex'!C70","v":-2032892},{"$f":"D49-'A5-Capex'!D70","v":1050268.4499999993},{"$f":"E49-'A5-Capex'!E70","v":-3},{"$f":"F49-'A5-Capex'!F70","v":-9.9999979138374329E-3},{"$f":"G49-'A5-Capex'!G70","v":-1},{"$f":"H49-'A5-Capex'!H70","v":-1},{"$f":"I49-'A5-Capex'!J70","v":1.9999995827674866E-2},{"$f":"J49-'A5-Capex'!K70","v":5972459.5100000016},{"$f":"K49-'A5-Capex'!L70","v":6414438.6599999927}]

{"sheet":"SA21","index":42,"n_rows":71,"n_cols":12,"rows_kept":71,"cut":false,"hidden":false,"merged":[[1,9,1,11],[1,5,1,8]]}
[{"$f":"muni&\" - \"& TableA21","v":"KZN434 Ubuhlebezwe - Supporting Table SA21 Transfers and grants made by the municipality"}]
[{"$f":"desc","v":"Description"},{"$f":"head27","v":"Ref"},{"$f":"head1b","v":"2016/17"},{"$f":"head1A","v":"2017/18"},{"$f":"Head1","v":"2018/19"},{"$f":"Head2","v":"Current Year 2019/20"},null,null,null,{"$f":"Head3","v":"2020/21 Medium Term Revenue & Expenditure Framework"}]
["R thousand",null,{"$f":"Head5","v":"Audited Outcome"},{"$f":"Head5","v":"Audited Outcome"},{"$f":"Head5","v":"Audited Outcome"},{"$f":"Head6","v":"Original Budget"},{"$f":"Head7","v":"Adjusted Budget"},{"$f":"Head8","v":"Full Year Forecast"},{"$f":"Head5b","v":"Pre-audit outcome"},{"$f":"Head9","v":"Budget Year 2020/21"},{"$f":"Head10","v":"Budget Year +1 2021/22"},{"$f":"Head11","v":"Budget Year +2 2022/23"}]
[]
["Cash Transfers to other municipalities"]
["Insert description",1,0,0,0,0,0,0,0,0,0,0]
[null,null,0,0,0,0,0,0,0,0,0,0]
[null,null,0,0,0,0,0,0,0,0,0,0]
["Total Cash Transfers To Municipalities:",null,{"$f":"SUM(C6:C8)","v":0},{"$f":"SUM(D6:D8)","v":0},0,0,0,0,0,0,0,0]
[]
["Cash Transfers to Entities/Other External Mechanisms"]
[{"$f":"$A$6","v":"Insert description"},2,0,0,0,23877979.530000001,10968387.279999999,10968387.279999999,10968387.279999999,0,0,0]
[null,null,0,0,0,0,0,0,0,0,0,0]
[null,null,0,0,0,0,0,0,0,0,0,0]
["Total Cash Transfers To Entities/Ems'",null,{"$f":"SUM(C12:C14)","v":0},{"$f":"SUM(D12:D14)","v":0},0,23877979.530000001,10968387.279999999,10968387.279999999,10968387.279999999,0,0,0]
[]
["Cash Transfers to other Organs of State"]
[{"$f":"$A$6","v":"Insert description"},3,0,0,0,{"$f":"49430831.64+80000","v":49510831.640000001},0,0,0,0,0,0]
[null,null,0,0,0,0,0,0,0,0,0,0]
[null,null,0,0,0,0,0,0,0,0,0,0]
["Total Cash Transfers To Other Organs Of State:",null,{"$f":"SUM(C18:C20)","v":0},{"$f":"SUM(D18:D20)","v":0},0,49510831.640000001,0,0,0,0,{"$f":"SUM(K18:K20)","v":0},0]
[]
["Cash Transfers to Organisations"]
[{"$f":"$A$6","v":"Insert description"},null,0,0,20531000,650000,730000,730000,730000,779250,815095.5,852589.89]
[null,null,0,0,0,0,0,0,0,0,0,0]
["Total Cash Transfers To Organisations",null,{"$f":"SUM(C24:C25)","v":0},0,20531000,650000,730000,730000,730000,779250,815095.5,852589.89]
[]
["Cash Transfers to Groups of Individuals"]
[{"$f":"$A$6","v":"Insert description"},null,0,0,0,12001510,2905560,2905560,2905560,3065625.2,3206643.96,3354149.58]
[null,null,0,0,0,0,0,0,0,0,0,0]
["Total Cash Transfers To Groups Of Individuals:",null,{"$f":"SUM(C29:C30)","v":0},0,0,12001510,2905560,2905560,2905560,3065625.2,3206643.96,3354149.58]
["TOTAL CASH TRANSFERS AND GRANTS",6,{"$f":"C9+C15+C21+C26+C31","v":0},0,20531000,86040321.170000002,14603947.279999999,14603947.279999999,14603947.279999999,3844875.2,4021739.46,4206739.47]
[]
["Non-Cash Transfers to other municipalities"]
["Insert description",1,0,0,0,0,0,0,0,0,0,0]
[null,null,0,0,20236000,0,0,0,0,0,0,0]
[null,null,0,0,0,0,0,0,0,0,0,0]
["Total Non-Cash Transfers To Municipalities:",null,{"$f":"SUM(C35:C37)","v":0},{"$f":"SUM(D35:D37)","v":0},20236000,0,0,0,0,0,0,0]
[]
["Non-Cash Transfers to Entities/Other External Mechanisms"]
[{"$f":"$A$6","v":"Insert description"},2,0,0,0,0,0,0,0,0,0,0]
[null,null,0,0,0,0,0,0,0,0,0,0]
[null,null,0,0,0,0,0,0,0,0,0,0]
["Total Non-Cash Transfers To Entities/Ems'",null,{"$f":"SUM(C41:C43)","v":0},{"$f":"SUM(D41:D43)","v":0},0,0,0,0,0,0,0,0]
[]
["Non-Cash Transfers to other Organs of State"]
[{"$f":"$A$6","v":"Insert description"},3,0,0,0,0,0,0,0,0,0,0]
[null,null,0,0,0,0,0,0,0,0,0,0]
[null,null,0,0,0,0,0,0,0,0,0,0]
["Total Non-Cash Transfers To Other Organs Of State:",null,{"$f":"SUM(C47:C49)","v":0},{"$f":"SUM(D47:D49)","v":0},0,0,0,0,0,0,{"$f":"SUM(K47:K49)","v":0},{"$f":"SUM(L47:L49)","v":0}]
[]
["Non-Cash Grants to Organisations"]
[{"$f":"$A$6","v":"Insert description"},4,1296000,0,0,0,0,0,0,0,0,0]
[null,null,0,0,0,0,0,0,0,0,0,0]
[null,null,0,0,0,0,0,0,0,0,0,0]
["Total Non-Cash Grants To Organisations",null,{"$f":"SUM(C53:C55)","v":1296000},{"$f":"SUM(D53:D55)","v":0},0,0,0,0,0,0,{"$f":"SUM(K53:K55)","v":0},{"$f":"SUM(L53:L55)","v":0}]
[]
["Groups of Individuals"]
[{"$f":"$A$6","v":"Insert description"},5,0,0,0,0,0,0,0,0,0,0]
[null,null,0,0,0,0,0,0,0,0,0,0]
[null,null,0,0,0,0,0,0,0,0,0,0]
["Total Non-Cash Grants To Groups Of Individuals:",null,{"$f":"SUM(C59:C61)","v":0},0,0,0,0,0,0,0,0,0]
["TOTAL NON-CASH TRANSFERS AND GRANTS",null,{"$f":"C38+C44+C50+C56+C62","v":1296000},0,20236000,0,0,0,0,0,0,0]
["TOTAL TRANSFERS AND GRANTS",6,{"$f":"C32+C63","v":1296000},{"$f":"D32+D63","v":0},40767000,86040321.170000002,14603947.279999999,14603947.279999999,14603947.279999999,3844875.2,4021739.46,4206739.47]
[{"$f":"head27a","v":"References"}]
["1. Insert description listed by municipal name and demarcation code of recipient"]
["2. Insert description of each entity or external mechanism (an external mechanism may be provided with resources to ensure a minimum level of service)"]
["3. Insert description of each Organ of State (e.g. transfer to electricity provider to compensate for FBS provided)"]
["4. Insert description of each other organisation (e.g. charity)"]
["5 Insert description of each other organisation (e.g. the aged, child-headed households)"]
["6. All descriptions should separate transfers for 'capital purposes' and 'operating purposes'"]

{"sheet":"SA22","index":43,"n_rows":120,"n_cols":11,"rows_kept":120,"cut":false,"hidden":false,"merged":[[1,5,1,7],[1,8,1,10]]}
[{"$f":"muni&\" - \"&TableA22","v":"KZN434 Ubuhlebezwe - Supporting Table SA22 Summary councillor and staff benefits"}]
["Summary of Employee and Councillor remuneration",{"$f":"head27","v":"Ref"},{"$f":"head1b","v":"2016/17"},{"$f":"head1A","v":"2017/18"},{"$f":"Head1","v":"2018/19"},{"$f":"Head2","v":"Current Year 2019/20"},null,null,{"$f":"Head3","v":"2020/21 Medium Term Revenue & Expenditure Framework"}]
["R thousand",null,{"$f":"Head5","v":"Audited Outcome"},{"$f":"Head5","v":"Audited Outcome"},{"$f":"Head5","v":"Audited Outcome"},{"$f":"Head6","v":"Original Budget"},{"$f":"Head7","v":"Adjusted Budget"},{"$f":"Head8","v":"Full Year Forecast"},{"$f":"Head9","v":"Budget Year 2020/21"},{"$f":"Head10","v":"Budget Year +1 2021/22"},{"$f":"Head11","v":"Budget Year +2 2022/23"}]
[null,1,"A","B","C","D","E","F","G","H","I"]
["Councillors (Political Office Bearers plus Other)"]
["Basic Salaries and Wages",null,8378802,9901684,6271020,7051863.7800000003,7051864,7051864,7051863.7800000003,7376249.5200000005,7715556.9900000002]
["Pension and UIF Contributions",null,0,0,596482,496049.98,496050,496050,496049.98,518868.27999999997,542736.23]
["Medical Aid Contributions",null,0,0,0,0,0,0,0,0,0]
["Motor Vehicle Allowance",null,0,0,2273441,0,0,0,0,0,0]
["Cellphone Allowance",null,0,0,1217901,1198800,1198800,1198800,1198800,1253944.8,1311626.26]
["Housing Allowances",null,0,0,0,0,0,0,0,0,0]
["Other benefits and allowances",null,0,0,0,2350621.2599999998,2350622,2350622,2350621.2999999998,2458749.87,2571852.37]
["Sub Total - Councillors",null,{"$f":"SUM(C6:C12)","v":8378802},9901684,10358844,11097335.02,11097336,11097336,11097335.059999999,11607812.470000003,12141771.850000001]
["% increase",4,null,{"$f":"IF(ISERROR((D13/C13)-1),0,((D13/C13)-1))","v":0.1817541457597398},{"$f":"IF(ISERROR((E13/D13)-1),0,((E13/D13)-1))","v":4.6169924227030368E-2},7.1290871838595171E-2,8.8309490386961897E-8,0,-8.4705014002928181E-8,4.5999999751292098E-2,4.6000000549629716E-2]
[]
["Senior Managers of the Municipality",2]
["Basic Salaries and Wages",null,4150970,5012457,4150970,4144645.76,4144646.12,4144646.12,4403683.91,4705345.71,4921791.6100000003]
["Pension and UIF Contributions",null,0,0,8926,8923.2000000000007,8895,8895,8921.64,9332.0199999999986,9761.3000000000011]
["Medical Aid Contributions",null,0,0,0,0,0,0,0,0,0]
["Overtime",null,0,0,0,0,0,0,0,0,0]
["Performance Bonus",null,0,0,589886,0,0,0,0,0,0]
["Motor Vehicle Allowance",3,0,0,648000,528000,381000,381000,648000,539736,564563.8600000001]
["Cellphone Allowance",3,0,0,0,1800,1800,1800,0,0,0]
["Housing Allowances",3,0,0,0,10220.64,10893.6,10893.6,0,0,0]
["Other benefits and allowances",3,0,0,420,601917.34,574349.53,574349.53,798983.31,679390.39,710642.34]
["Payments in lieu of leave",null,0,0,104680,97965.11,97966,97966,108300.95999999999,116453.08,121809.93000000001]
["Long service awards",null,0,0,0,0,0,0,0,0,0]
["Post-retirement benefit obligations",6,0,0,0,0,0,0,0,0,0]
["Sub Total - Senior Managers of Municipality",null,{"$f":"SUM(C17:C28)","v":4150970},{"$f":"SUM(D17:D28)","v":5012457},5502882,5393472.0499999998,5219550.25,5219550.25,5967889.8199999994,6050257.1999999993,6328569.04]
[{"$f":"$A$14","v":"% increase"},{"$f":"$B$14","v":4},null,{"$f":"IF(ISERROR((D29/C29)-1),0,((D29/C29)-1))","v":0.20753871986547723},{"$f":"IF(ISERROR((E29/D29)-1),0,((E29/D29)-1))","v":9.7841238338802761E-2},-1.988229985669332E-2,-3.2246723147476009E-2,0,0.14337242370642933,1.3801759496960608E-2,4.6000001454483685E-2]
[]
["Other Municipal Staff"]
["Basic Salaries and Wages",null,52842444,62912128,42828589,49219164.219999999,49453811.289999999,49453811.289999999,53633369.609999992,54577357.730000004,57087916.170000002]
["Pension and UIF Contributions",null,0,0,7587520,8098298.7799999993,8036591.4099999992,8036591.4099999992,9048164.7300000004,9161107.0299999993,9582517.9499999993]
["Medical Aid Contributions",null,0,0,2662099,2904744.1199999996,3325232.2800000003,3325232.2800000003,3446439.6,3604938.1800000006,3770765.2999999993]
["Overtime",null,0,0,2828400,2893200,2893200,2893200,3148800,3195843.8,3342852.6199999996]
["Performance Bonus",null,0,0,3638442,0,0,0,0,0,0]
["Motor Vehicle Allowance",3,0,0,699322,1113600,1119145.6000000001,1119145.6000000001,1084817,1448518.5899999999,1515150.42]
["Cellphone Allowance",3,0,0,46200,44400,44400,44400,47400,49580.4,51861.110000000008]
["Housing Allowances",3,0,0,103325,81804.12,86474.2,86474.2,92592.36,96851.6,101306.79000000001]
["Other benefits and allowances",3,0,0,556983,6136920.5,6019646.8200000003,6019646.8200000003,6320324.7499999991,6484339.4699999997,6782619.0999999987]
["Payments in lieu of leave",null,0,0,1431968,1527884.9799999997,1649931.15,1649931.15,1689816.7000000002,1718846.84,1797913.81]
["Long service awards",null,0,0,175759,15131.7,15132,15132,40140.71,41987.18,43918.59]
["Post-retirement benefit obligations",6,0,0,0,0,0,0,0,0,0]
["Sub Total - Other Municipal Staff",null,{"$f":"SUM(C33:C44)","v":52842444},62912128,62558607,72035148.420000002,72643564.75,72643564.75,78551865.459999993,80379370.820000023,84076821.860000014]
[{"$f":"$A$14","v":"% increase"},{"$f":"$B$14","v":4},null,{"$f":"IF(ISERROR((D45/C45)-1),0,((D45/C45)-1))","v":0.19056052744267471},{"$f":"IF(ISERROR((E45/D45)-1),0,((E45/D45)-1))","v":-5.619282183556118E-3},0.15148261565351029,8.4461036500214082E-3,0,8.1332747509475611E-2,2.3264951752554275E-2,4.5999999779545275E-2]
[]
["Total Parent Municipality",null,{"$f":"C13+C29+C45","v":65372216},77826269,78420333,88525955.49000001,88960451,88960451,95617090.339999989,98037440.490000024,102547162.75000001]
[null,null,null,{"$f":"IF(ISERROR((D48/C48)-1),0,((D48/C48)-1))","v":0.19050987961001664},{"$f":"IF(ISERROR((E48/D48)-1),0,((E48/D48)-1))","v":7.6332067261248859E-3},0.12886482501929719,4.9081143218958623E-3,0,7.4826951360666971E-2,2.5312945012169186E-2,4.5999999974091432E-2]
[]
["Board Members of Entities"]
["Basic Salaries and Wages",null,0,0,0,0,0,0,0,0,0]
["Pension and UIF Contributions",null,0,0,0,0,0,0,0,0,0]
["Medical Aid Contributions",null,0,0,0,0,0,0,0,0,0]
["Overtime",null,0,0,0,0,0,0,0,0,0]
["Performance Bonus",null,0,0,0,0,0,0,0,0,0]
["Motor Vehicle Allowance",3,0,0,0,0,0,0,0,0,0]
["Cellphone Allowance",3,0,0,0,0,0,0,0,0,0]
["Housing Allowances",3,0,0,0,0,0,0,0,0,0]
["Other benefits and allowances",3,0,0,0,0,0,0,0,0,0]
["Board Fees",null,0,0,0,0,0,0,0,0,0]
["Payments in lieu of leave",null,0,0,0,0,0,0,0,0,0]
["Long service awards",null,0,0,0,0,0,0,0,0,0]
["Post-retirement benefit obligations",6,0,0,0,0,0,0,0,0,0]
["Sub Total - Board Members of Entities",null,{"$f":"SUM(C52:C64)","v":0},{"$f":"SUM(D52:D64)","v":0},0,0,0,0,0,0,0]
[{"$f":"$A$14","v":"% increase"},{"$f":"$B$14","v":4},null,{"$f":"IF(ISERROR((D65/C65)-1),0,((D65/C65)-1))","v":0},{"$f":"IF(ISERROR((E65/D65)-1),0,((E65/D65)-1))","v":0},0,0,0,0,0,0]
[]
["Senior Managers of Entities"]
["Basic Salaries and Wages",null,0,0,0,0,0,0,0,0,0]
["Pension and UIF Contributions",null,0,0,0,0,0,0,0,0,0]
["Medical Aid Contributions",null,0,0,0,0,0,0,0,0,0]
["Overtime",null,0,0,0,0,0,0,0,0,0]
["Performance Bonus",null,0,0,0,0,0,0,0,0,0]
["Motor Vehicle Allowance",3,0,0,0,0,0,0,0,0,0]
["Cellphone Allowance",3,0,0,0,0,0,0,0,0,0]
["Housing Allowances",3,0,0,0,0,0,0,0,0,0]
["Other benefits and allowances",3,0,0,0,0,0,0,0,0,0]
["Payments in lieu of leave",null,0,0,0,0,0,0,0,0,0]
["Long service awards",null,0,0,0,0,0,0,0,0,0]
["Post-retirement benefit obligations",6,0,0,0,0,0,0,0,0,0]
["Sub Total - Senior Managers of Entities",null,{"$f":"SUM(C69:C80)","v":0},{"$f":"SUM(D69:D80)","v":0},0,0,0,0,0,0,0]
[{"$f":"$A$14","v":"% increase"},{"$f":"$B$14","v":4},null,{"$f":"IF(ISERROR((D81/C81)-1),0,((D81/C81)-1))","v":0},{"$f":"IF(ISERROR((E81/D81)-1),0,((E81/D81)-1))","v":0},0,0,0,0,0,0]
[]
["Other Staff of Entities"]
["Basic Salaries and Wages",null,0,0,0,0,0,0,0,0,0]
["Pension and UIF Contributions",null,0,0,0,0,0,0,0,0,0]
["Medical Aid Contributions",null,0,0,0,0,0,0,0,0,0]
["Overtime",null,0,0,0,0,0,0,0,0,0]
["Performance Bonus",null,0,0,0,0,0,0,0,0,0]
["Motor Vehicle Allowance",3,0,0,0,0,0,0,0,0,0]
["Cellphone Allowance",3,0,0,0,0,0,0,0,0,0]
["Housing Allowances",3,0,0,0,0,0,0,0,0,0]
["Other benefits and allowances",3,0,0,0,0,0,0,0,0,0]
["Payments in lieu of leave",null,0,0,0,0,0,0,0,0,0]
["Long service awards",null,0,0,0,0,0,0,0,0,0]
["Post-retirement benefit obligations",6,0,0,0,0,0,0,0,0,0]
["Sub Total - Other Staff of Entities",null,{"$f":"SUM(C85:C96)","v":0},{"$f":"SUM(D85:D96)","v":0},0,0,0,0,0,0,0]
[{"$f":"$A$14","v":"% increase"},{"$f":"$B$14","v":4},null,{"$f":"IF(ISERROR((D97/C97)-1),0,((D97/C97)-1))","v":0},{"$f":"IF(ISERROR((E97/D97)-1),0,((E97/D97)-1))","v":0},0,0,0,0,0,0]
[]
["Total Municipal Entities",null,{"$f":"C65+C81+C97","v":0},{"$f":"D65+D81+D97","v":0},0,0,0,0,0,0,0]
[]
["TOTAL SALARY, ALLOWANCES & BENEFITS",null,{"$f":"C48+C100","v":65372216},{"$f":"D48+D100","v":77826269},{"$f":"E48+E100","v":78420333},88525955.49000001,88960451,88960451,95617090.339999989,98037440.490000024,102547162.75000001]
[{"$f":"$A$14","v":"% increase"},{"$f":"$B$14","v":4},null,{"$f":"IF(ISERROR((D102/C102)-1),0,((D102/C102)-1))","v":0.19050987961001664},{"$f":"IF(ISERROR((E102/D102)-1),0,((E102/D102)-1))","v":7.6332067261248859E-3},0.12886482501929719,4.9081143218958623E-3,0,7.4826951360666971E-2,2.5312945012169186E-2,4.5999999974091432E-2]
["TOTAL MANAGERS AND STAFF","5,7",{"$f":"C29+C45+C81+C97","v":56993414},67924585,68061489,77428620.469999999,77863115,77863115,84519755.279999986,86429628.020000026,90405390.900000021]
[{"$f":"head27a","v":"References"}]
["1. Include 'Loans and advances' where applicable if any reportable amounts until phased compliance with s164 of MFMA achieved"]
["2. s57 of the Systems Act"]
["3. In kind benefits (e.g. provision of living quarters) must be shown as the cost (full market value) to the municipality, as part of the relevant allowance"]
["4. B/A, C/B, D/C, E/C, F/C, G/D, H/D, I/D"]
["5. Must agree to the sub-total appearing on Table A1 (Employee costs)"]
["6. Includes pension payments and employer contributions to medical aid"]
["7. Correct as at 30 June"]
[]
["Column Definitions:"]
["A, B and C. Audited actual as per the audited financial statements. If audited amounts are unavailable, unaudited amounts must be provided with a note stating these are unaudited"]
["D. The original budget approved by council for the budget year."]
["E. The budget for the budget year as adjusted by council resolution in terms of section 28 of the MFMA."]
["F. An estimate of final actual amounts (pre audit) for the current year at the point in time of preparing the budget for the budget year. This may differ from E."]
["G. The amount to be appropriated for the budget year."]
["H and I. The indicative projection"]

{"sheet":"SA23","index":44,"n_rows":70,"n_cols":9,"rows_kept":70,"cut":false,"hidden":false,"merged":[[1,2,2,2],[1,5,2,5],[1,3,2,3],[1,6,2,6]]}
[{"$f":"muni&\" - \"&TableA23","v":"KZN434 Ubuhlebezwe - Supporting Table SA23 Salaries, allowances & benefits (political office bearers/councillors/senior managers)"}]
["Disclosure of Salaries, Allowances & Benefits 1.",{"$f":"head27","v":"Ref"},"No.","Salary","\nContributions\n","Allowances","Performance  Bonuses","In-kind benefits","Total Package"]
["Rand per annum",null,null,null,"1.",null,null,null,"2."]
["Councillors",3]
["Speaker",4,null,516516,71632.2,216572,null,null,{"$f":"SUM(D5:F5)","v":804720.2}]
["Chief Whip",null,null,null,null,null,null,null,0]
["Executive Mayor",null,null,645644.22,null,259614.74,null,null,905258.96]
["Deputy Executive Mayor",null,null,516516,71632.2,216572,null,null,804720.2]
["Executive Committee",null,null,1024522.98,0,474707.66,null,null,1499230.64]
["Total for all other councillors",null,null,4348664.58,352785.58,2381954.8600000003,null,null,7083405.0200000005]
[{"$f":"\"Total \"&A4","v":"Total Councillors"},8,{"$f":"SUM(C5:C10)","v":0},7051863.7800000003,496049.98,3549421.2600000002,null,null,11097335.02]
[]
["Senior Managers of the Municipality",5]
["Municipal Manager (MM)",null,null,1018552,12081,181692,154005,null,{"$f":"SUM(D14:H14)","v":1366330}]
["Chief Finance Officer",null,null,789901,9795,212602,119433,null,1131731]
["Social Development Director",null,null,789291,11106,164799,119341,null,1084537]
["Corporate Services Director",null,null,920987,11106,172602,139253,null,1243948]
["Technical Services",null,null,884953,10746,128602,117153,null,1141454]
[null,null,null,null,null,null,null,null,0]
[]
["List of each offical with packages >= senior manager"]
[null,null,null,null,null,null,null,null,{"$f":"SUM(D22:H22)","v":0}]
[null,null,null,null,null,null,null,null,{"$f":"SUM(D23:H23)","v":0}]
[null,null,null,null,null,null,null,null,0]
[null,null,null,null,null,null,null,null,0]
[null,null,null,null,null,null,null,null,0]
[null,null,null,null,null,null,null,null,0]
[null,null,null,null,null,null,null,null,0]
[null,null,null,null,null,null,null,null,0]
[null,null,null,null,null,null,null,null,0]
[null,null,null,null,null,null,null,null,0]
[null,null,null,null,null,null,null,null,0]
[null,null,null,null,null,null,null,null,{"$f":"SUM(D33:H33)","v":0}]
[null,null,null,null,null,null,null,null,{"$f":"SUM(D34:H34)","v":0}]
[{"$f":"\"Total \"&A13","v":"Total Senior Managers of the Municipality"},"8,10",{"$f":"SUM(C14:C34)","v":0},{"$f":"SUM(D14:D34)","v":4403684},{"$f":"SUM(E14:E34)","v":54834},{"$f":"SUM(F14:F34)","v":860297},{"$f":"SUM(G14:G34)","v":649185},null,{"$f":"SUM(I14:I34)","v":5968000}]
[]
["A Heading for Each Entity","6,7"]
["List each member of board by designation"]
[null,null,null,null,null,null,null,null,{"$f":"SUM(D39:G39)","v":0}]
[null,null,null,null,null,null,null,null,{"$f":"SUM(D40:G40)","v":0}]
[null,null,null,null,null,null,null,null,0]
[null,null,null,null,null,null,null,null,0]
[null,null,null,null,null,null,null,null,0]
[null,null,null,null,null,null,null,null,0]
[null,null,null,null,null,null,null,null,0]
[null,null,null,null,null,null,null,null,0]
[null,null,null,null,null,null,null,null,0]
[null,null,null,null,null,null,null,null,0]
[null,null,null,null,null,null,null,null,0]
[null,null,null,null,null,null,null,null,0]
[null,null,null,null,null,null,null,null,0]
[null,null,null,null,null,null,null,null,0]
[null,null,null,null,null,null,null,null,0]
[null,null,null,null,null,null,null,null,0]
["Total for municipal entities","8,10",{"$f":"SUM(C38:C54)","v":0},{"$f":"SUM(D39:D54)","v":0},0,0,0,null,0]
[]
["TOTAL COST OF COUNCILLOR, DIRECTOR and EXECUTIVE REMUNERATION",10,{"$f":"C11+C35+C55","v":0},11455547.780000001,550883.98,4409718.26,649185,null,17065335.02]
[]
[{"$f":"head27a","v":"References"}]
["1. Pension and medical aid"]
["2. Total package must equal the total cost to the municipality"]
["3. List each political office bearer by designation. Provide a total for all other councillors"]
["4. Political office bearer is defined in MFMA s 1: speaker, executive mayor, deputy executive mayor, member of executive committee,"]
["    mayor, deputy mayor, member of mayoral committee, the councillor designated to exercise powers and duties of mayor (MSA s 57)"]
["5. Also list each senior manager reporting to MM by designation and each official with package >= senior manager by designation"]
["6. List each entity where municipality has an interest and state percentage ownership and control"]
["7. List each senior manager reporting to the CEO of an Entity by designation"]
["8. Must reconcile to relevant section of Table SA24"]
["9. Must reconcile to totals shown for the budget year of Table SA22"]
["10. Correct as at 30 June"]

{"sheet":"SA24","index":45,"n_rows":53,"n_cols":11,"rows_kept":53,"cut":false,"hidden":false,"merged":[[1,5,1,7],[1,8,1,10],[1,2,1,4]]}
[{"$f":"muni&\" - \"&TableA24","v":"KZN434 Ubuhlebezwe - Supporting Table SA24 Summary of personnel numbers"}]
["Summary of Personnel Numbers",{"$f":"head27","v":"Ref"},{"$f":"Head1","v":"2018/19"},null,null,{"$f":"Head2","v":"Current Year 2019/20"},null,null,{"$f":"Head9","v":"Budget Year 2020/21"}]
["Number","1,2","Positions","Permanent employees","Contract employees","Positions","Permanent employees","Contract employees","Positions","Permanent employees","Contract employees"]
["Municipal Council and Boards of Municipal Entities"]
["Councillors (Political Office Bearers plus Other Councillors)"]
["Board Members of municipal entities",4]
["Municipal employees",5]
["Municipal Manager and Senior Managers",3]
["Other Managers",7]
["Professionals",null,{"$f":"SUM(C11:C19)","v":0},{"$f":"SUM(D11:D19)","v":0},0,0,0,0,0,0,0]
["Finance"]
["Spatial/town planning"]
["Information Technology"]
["Roads"]
["Electricity"]
["Water"]
["Sanitation"]
["Refuse"]
["Other"]
["Technicians",null,{"$f":"SUM(C21:C29)","v":178},{"$f":"SUM(D21:D29)","v":176},2,178,176,2,0,0,0]
["Finance"]
["Spatial/town planning"]
["Information Technology"]
["Roads"]
["Electricity"]
["Water"]
["Sanitation"]
["Refuse"]
["Other"]
["Clerks (Clerical and administrative)"]
["Service and sales workers"]
["Skilled agricultural and fishery workers"]
["Craft and related trades"]
["Plant and Machine Operators"]
["Elementary Occupations"]
["TOTAL PERSONNEL NUMBERS",9,{"$f":"SUM(C5:C9)+SUM(C11:C19)+SUM(C21:C35)","v":240},{"$f":"SUM(D5:D9)+SUM(D11:D19)+SUM(D21:D35)","v":206},34,240,206,{"$f":"SUM(H5:H9)+SUM(H11:H19)+SUM(H21:H35)","v":34},0,0,0]
["% increase",null,null,null,null,{"$f":"IF(ISERROR((F36/C36)-1),0,((F36/C36)-1))","v":0},0,0,-1,-1,-1]
[]
["Total municipal employees headcount","6, 10"]
["Finance personnel headcount","8, 10"]
["Human Resources personnel headcount","8, 10"]
[]
[{"$f":"head27a","v":"References"}]
["1. Positions must be funded and aligned to the municipality's current organisational structure"]
["2. Full Time Equivalent (FTE). E.g. One full time person = 1FTE. A person working half time (say 4 hours out of 8) = 0.5FTE."]
["3. s57 of the Systems Act"]
["4. Include only in Consolidated Statements"]
["5. Include municipal entity employees in Consolidated Statements"]
["6.  Include headcount (number fo persons, Not FTE) of managers and staff only (exclude councillors)"]
["7. Managers who provide the direction of a critical technical function"]
["8. Total number of employees working on these functions"]
["9. Correct as at 30 June"]
["10. Must account for all budgeted positions, as per the municipal organogram"]

{"sheet":"SA25","index":46,"n_rows":48,"n_cols":17,"rows_kept":48,"cut":false,"hidden":false,"merged":[[1,2,1,13],[1,14,1,16]]}
[{"$f":"muni&\" - \"& TableA25","v":"KZN434 Ubuhlebezwe - Supporting Table SA25 Budgeted monthly revenue and expenditure"}]
[{"$f":"desc","v":"Description"},{"$f":"head27","v":"Ref"},{"$f":"Head9","v":"Budget Year 2020/21"},null,null,null,null,null,null,null,null,null,null,null,"Medium Term Revenue and Expenditure Framework"]
["R thousand",null,"July","August","Sept.","October","November","December","January","February","March","April","May","June",{"$f":"Head9","v":"Budget Year 2020/21"},{"$f":"Head10","v":"Budget Year +1 2021/22"},{"$f":"Head11","v":"Budget Year +2 2022/23"}]
[{"$f":"'A4-FinPerf RE'!A4","v":"Revenue By Source"}]
[{"$f":"'A4-FinPerf RE'!A5","v":"Property rates"},null,1964419,1964419,1964419,1964419,1964419,1964419,1964419,1964419,1964419,1964419,1964419,{"$f":"O5-SUM(C5:M5)","v":1964414.9399999976},{"$f":"'A4-FinPerf RE'!J5","v":23573023.939999998},{"$f":"'A4-FinPerf RE'!K5","v":24633810.010000005},{"$f":"'A4-FinPerf RE'!L5","v":25742331.469999999}]
[{"$f":"'A4-FinPerf RE'!A6","v":"Service charges - electricity revenue"},null,0,0,0,0,0,0,0,0,0,0,0,0,{"$f":"'A4-FinPerf RE'!J6","v":0},{"$f":"'A4-FinPerf RE'!K6","v":0},{"$f":"'A4-FinPerf RE'!L6","v":0}]
[{"$f":"'A4-FinPerf RE'!A7","v":"Service charges - water revenue"},null,0,0,0,0,0,0,0,0,0,0,0,0,{"$f":"'A4-FinPerf RE'!J7","v":0},{"$f":"'A4-FinPerf RE'!K7","v":0},{"$f":"'A4-FinPerf RE'!L7","v":0}]
[{"$f":"'A4-FinPerf RE'!A8","v":"Service charges - sanitation revenue"},null,0,0,0,0,0,0,0,0,0,0,0,0,{"$f":"'A4-FinPerf RE'!J8","v":0},{"$f":"'A4-FinPerf RE'!K8","v":0},{"$f":"'A4-FinPerf RE'!L8","v":0}]
[{"$f":"'A4-FinPerf RE'!A9","v":"Service charges - refuse revenue"},null,216667,216667,216667,216667,216667,216667,216667,216667,216667,216667,216667,916527.16000000015,{"$f":"'A4-FinPerf RE'!J9","v":3299864.16},{"$f":"'A4-FinPerf RE'!K9","v":3448358.0471999999},{"$f":"'A4-FinPerf RE'!L9","v":3603534.1593239997}]
[]
[{"$f":"'A4-FinPerf RE'!A11","v":"Rental of facilities and equipment"},null,100000,100000,100000,100000,100000,100000,100000,100000,100000,100000,100000,100000,{"$f":"'A4-FinPerf RE'!J11","v":1200000},{"$f":"'A4-FinPerf RE'!K11","v":1255200},{"$f":"'A4-FinPerf RE'!L11","v":1312939.2}]
[{"$f":"'A4-FinPerf RE'!A12","v":"Interest earned - external investments"},null,1125000,1125000,1125000,1125000,1125000,1125000,1125000,1125000,1125000,1125000,1125000,-375000,{"$f":"'A4-FinPerf RE'!J12","v":12000000},{"$f":"'A4-FinPerf RE'!K12","v":12540000},{"$f":"'A4-FinPerf RE'!L12","v":13104300}]
[{"$f":"'A4-FinPerf RE'!A13","v":"Interest earned - outstanding debtors"},null,0,0,0,0,0,0,0,0,0,0,0,0,{"$f":"'A4-FinPerf RE'!J13","v":0},{"$f":"'A4-FinPerf RE'!K13","v":0},{"$f":"'A4-FinPerf RE'!L13","v":0}]
[{"$f":"'A4-FinPerf RE'!A14","v":"Dividends received"},null,0,0,0,0,0,0,0,0,0,0,0,0,{"$f":"'A4-FinPerf RE'!J14","v":0},{"$f":"'A4-FinPerf RE'!K14","v":0},{"$f":"'A4-FinPerf RE'!L14","v":0}]
[{"$f":"'A4-FinPerf RE'!A15","v":"Fines, penalties and forfeits"},null,83333,83333,83333,83333,83333,83333,83333,83333,83333,83333,83333,83337,{"$f":"'A4-FinPerf RE'!J15","v":1000000},{"$f":"'A4-FinPerf RE'!K15","v":1046000},{"$f":"'A4-FinPerf RE'!L15","v":1094116}]
[{"$f":"'A4-FinPerf RE'!A16","v":"Licences and permits"},null,339070,339070,339070,339070,339070,339070,339070,339070,339070,339070,339070,339064.7200000002,{"$f":"'A4-FinPerf RE'!J16","v":4068834.72},{"$f":"'A4-FinPerf RE'!K16","v":4256001.12},{"$f":"'A4-FinPerf RE'!L16","v":4451777.1700000009}]
[{"$f":"'A4-FinPerf RE'!A17","v":"Agency services"},null,2408,2408,2408,2408,2408,2408,2408,2408,2408,2408,2408,2412,{"$f":"'A4-FinPerf RE'!J17","v":28900},{"$f":"'A4-FinPerf RE'!K17","v":30229.4},{"$f":"'A4-FinPerf RE'!L17","v":31619.95}]
[{"$f":"'A4-FinPerf RE'!A18","v":"Transfers and subsidies"},null,10175417,10175417,10175417,10175417,10175417,10175417,10175417,10175417,10175417,10175417,10175417,10133413,{"$f":"'A4-FinPerf RE'!J18","v":122063000},{"$f":"'A4-FinPerf RE'!K18","v":127555834.99999999},{"$f":"'A4-FinPerf RE'!L18","v":133295847.57499997}]
[{"$f":"'A4-FinPerf RE'!A19","v":"Other revenue"},null,68726,68726,68726,68726,68726,68726,68726,68726,68726,68726,68726,68730,{"$f":"'A4-FinPerf RE'!J19","v":824716},{"$f":"'A4-FinPerf RE'!K19","v":862781.6},{"$f":"'A4-FinPerf RE'!L19","v":902469.55}]
[{"$f":"'A4-FinPerf RE'!A20","v":"Gains on disposal of PPE"},null,0,0,0,0,0,0,0,0,0,0,0,0,{"$f":"'A4-FinPerf RE'!J20","v":0},{"$f":"'A4-FinPerf RE'!K20","v":0},{"$f":"'A4-FinPerf RE'!L20","v":0}]
[{"$f":"'A4-FinPerf RE'!A21","v":"Total Revenue (excluding capital transfers and contributions)"},null,{"$f":"SUM(C5:C9)+SUM(C11:C20)","v":14075040},{"$f":"SUM(D5:D9)+SUM(D11:D20)","v":14075040},14075040,14075040,14075040,14075040,14075040,14075040,14075040,14075040,14075040,13232898.819999998,168058338.81999999,175628215.17719999,183538935.07432398]
[]
[{"$f":"'A4-FinPerf RE'!A23","v":"Expenditure By Type"}]
[{"$f":"'A4-FinPerf RE'!A24","v":"Employee related costs"},null,7046028,7046028,7046028,7046028,7046028,7046028,7046028,7046028,7046028,7046028,7046028,{"$f":"O24-SUM(C24:M24)","v":7046033.2799999714},{"$f":"'A4-FinPerf RE'!J24","v":84552341.279999971},{"$f":"'A4-FinPerf RE'!K24","v":86463712.980000019},{"$f":"'A4-FinPerf RE'!L24","v":90441043.760000005}]
[{"$f":"'A4-FinPerf RE'!A25","v":"Remuneration of councillors"},null,924778,924778,924778,924778,924778,924778,924778,924778,924778,924778,924778,924777.06000000052,{"$f":"'A4-FinPerf RE'!J25","v":11097335.060000001},{"$f":"'A4-FinPerf RE'!K25","v":11607812.470000001},{"$f":"'A4-FinPerf RE'!L25","v":12141771.85}]
[{"$f":"'A4-FinPerf RE'!A26","v":"Debt impairment"},null,174167,174167,174167,174167,174167,174167,174167,174167,174167,174167,174167,174163,{"$f":"'A4-FinPerf RE'!J26","v":2090000},{"$f":"'A4-FinPerf RE'!K26","v":2186140},{"$f":"'A4-FinPerf RE'!L26","v":2286702.44}]
[{"$f":"'A4-FinPerf RE'!A27","v":"Depreciation & asset impairment"},null,1932333,1932333,1932333,1932333,1932333,1932333,1932333,1932333,1932333,1932333,1932333,1932337,{"$f":"'A4-FinPerf RE'!J27","v":23188000},{"$f":"'A4-FinPerf RE'!K27","v":24254647.989999998},{"$f":"'A4-FinPerf RE'!L27","v":25370361.810000002}]
[{"$f":"'A4-FinPerf RE'!A28","v":"Finance charges"},null,0,0,0,0,0,0,0,0,0,0,0,0,{"$f":"'A4-FinPerf RE'!J28","v":0},{"$f":"'A4-FinPerf RE'!K28","v":0},{"$f":"'A4-FinPerf RE'!L28","v":0}]
[{"$f":"'A4-FinPerf RE'!A29","v":"Bulk purchases"},null,0,0,0,0,0,0,0,0,0,0,0,0,{"$f":"'A4-FinPerf RE'!J29","v":0},{"$f":"'A4-FinPerf RE'!K29","v":0},{"$f":"'A4-FinPerf RE'!L29","v":0}]
[{"$f":"'A4-FinPerf RE'!A30","v":"Other materials"},null,93417,93417,93417,93417,93417,93417,93417,93417,93417,93417,93417,93415.800000000047,{"$f":"'A4-FinPerf RE'!J30","v":1121002.8},{"$f":"'A4-FinPerf RE'!K30","v":1172568.94},{"$f":"'A4-FinPerf RE'!L30","v":1226507.0899999999}]
[{"$f":"'A4-FinPerf RE'!A31","v":"Contracted services"},null,1780074,1780074,1780074,1780074,1780074,1780074,1780074,1780074,1780074,1780074,1780074,1780068.3100000024,{"$f":"'A4-FinPerf RE'!J31","v":21360882.310000002},{"$f":"'A4-FinPerf RE'!K31","v":21053262.829999998},{"$f":"'A4-FinPerf RE'!L31","v":22021712.909999978}]
[{"$f":"'A4-FinPerf RE'!A32","v":"Transfers and subsidies"},null,320406,320406,320406,320406,320406,320406,320406,320406,320406,320406,320406,320409.20000000019,{"$f":"'A4-FinPerf RE'!J32","v":3844875.2},{"$f":"'A4-FinPerf RE'!K32","v":4021739.46},{"$f":"'A4-FinPerf RE'!L32","v":4206739.47}]
[{"$f":"'A4-FinPerf RE'!A33","v":"Other expenditure"},null,2235696,2235696,2235696,2235696,2235696,2235696,2235696,2235696,2235696,2235696,2235696,2235700.7299999967,{"$f":"'A4-FinPerf RE'!J33","v":26828356.729999997},{"$f":"'A4-FinPerf RE'!K33","v":26866761.660000019},{"$f":"'A4-FinPerf RE'!L33","v":28102632.749999996}]
[{"$f":"'A4-FinPerf RE'!A34","v":"Loss on disposal of PPE"},null,0,0,0,0,0,0,0,0,0,0,0,0,{"$f":"'A4-FinPerf RE'!J34","v":0},{"$f":"'A4-FinPerf RE'!K34","v":0},{"$f":"'A4-FinPerf RE'!L34","v":0}]
[{"$f":"'A4-FinPerf RE'!A35","v":"Total Expenditure"},null,{"$f":"SUM(C24:C34)","v":14506899},{"$f":"SUM(D24:D34)","v":14506899},14506899,14506899,14506899,14506899,14506899,14506899,14506899,14506899,14506899,14506904.379999973,174082793.37999997,177626646.33000004,185797472.07999998]
[]
[{"$f":"'A4-FinPerf RE'!A37","v":"Surplus/(Deficit)"},null,{"$f":"C21-C35","v":-431859},-431859,-431859,-431859,-431859,-431859,-431859,-431859,-431859,-431859,-431859,-1274005.5599999744,-6024454.5599999726,-1998431.1528000534,-2258537.0056760013]
[{"$f":"'A4-FinPerf RE'!A38","v":"Transfers and subsidies - capital (monetary allocations) (National / Provincial and District)"},null,2229917,2229917,2229917,2229917,2229917,2229917,2229917,2229917,2229917,2229917,2229917,{"$f":"O38-SUM(C38:M38)","v":2229913},{"$f":"'A4-FinPerf RE'!J38","v":26759000},{"$f":"'A4-FinPerf RE'!K38","v":27989914},{"$f":"'A4-FinPerf RE'!L38","v":29277450.039999999}]
[{"$f":"'A4-FinPerf RE'!A39","v":"Transfers and subsidies - capital (monetary allocations) (National / Provincial Departmental Agencies, Households, Non-profit Institutions, Private Enterprises, Public Corporatons, Higher Educational Institutions)"},null,0,0,0,0,0,0,0,0,0,0,0,{"$f":"O39-SUM(C39:M39)","v":0},{"$f":"'A4-FinPerf RE'!J39","v":0},{"$f":"'A4-FinPerf RE'!K39","v":0},{"$f":"'A4-FinPerf RE'!L39","v":0}]
[{"$f":"'A4-FinPerf RE'!A40","v":"Transfers and subsidies - capital (in-kind - all) "},null,0,0,0,0,0,0,0,0,0,0,0,{"$f":"O40-SUM(C40:M40)","v":0},{"$f":"'A4-FinPerf RE'!J40","v":0},{"$f":"'A4-FinPerf RE'!K40","v":0},{"$f":"'A4-FinPerf RE'!L40","v":0}]
[{"$f":"'A4-FinPerf RE'!A41","v":"Surplus/(Deficit) after capital transfers & contributions"},null,{"$f":"C37+SUM(C38:C40)","v":1798058},1798058,1798058,1798058,1798058,1798058,1798058,1798058,1798058,1798058,1798058,955907.44000002556,{"$f":"O37+SUM(O38:O40)","v":20734545.440000027},{"$f":"P37+SUM(P38:P40)","v":25991482.847199947},{"$f":"Q37+SUM(Q38:Q40)","v":27018913.034323998}]
[{"$f":"'A4-FinPerf RE'!A42","v":"Taxation"},null,0,0,0,0,0,0,0,0,0,0,0,{"$f":"O42-SUM(C42:M42)","v":0},{"$f":"'A4-FinPerf RE'!J42","v":0},{"$f":"'A4-FinPerf RE'!K42","v":0},{"$f":"'A4-FinPerf RE'!L42","v":0}]
[{"$f":"'A4-FinPerf RE'!A44","v":"Attributable to minorities"},null,0,0,0,0,0,0,0,0,0,0,0,{"$f":"O43-SUM(C43:M43)","v":0},{"$f":"'A4-FinPerf RE'!J44","v":0},{"$f":"'A4-FinPerf RE'!K44","v":0},{"$f":"'A4-FinPerf RE'!L44","v":0}]
[{"$f":"'A4-FinPerf RE'!A46","v":"Share of surplus/ (deficit) of associate"},null,0,0,0,0,0,0,0,0,0,0,0,{"$f":"O44-SUM(C44:M44)","v":0},{"$f":"'A4-FinPerf RE'!J46","v":0},{"$f":"'A4-FinPerf RE'!K46","v":0},{"$f":"'A4-FinPerf RE'!L46","v":0}]
[{"$f":"'A4-FinPerf RE'!A37","v":"Surplus/(Deficit)"},1,{"$f":"C41-C42+SUM(C43:C44)","v":1798058},{"$f":"D41-D42+SUM(D43:D44)","v":1798058},1798058,1798058,1798058,1798058,1798058,1798058,1798058,1798058,1798058,{"$f":"N41-N42+SUM(N43:N44)","v":955907.44000002556},{"$f":"O41-O42+SUM(O43:O44)","v":20734545.440000027},{"$f":"P41-P42+SUM(P43:P44)","v":25991482.847199947},{"$f":"Q41-Q42+SUM(Q43:Q44)","v":27018913.034323998}]
[{"$f":"head27a","v":"References"}]
["1. Surplus (Deficit) must reconcile with Budgeted Financial Performance"]
["check",null,null,null,null,null,null,null,null,null,null,null,null,null,{"$f":"O45-'A4-FinPerf RE'!J47","v":0},{"$f":"P45-'A4-FinPerf RE'!K47","v":0},{"$f":"Q45-'A4-FinPerf RE'!L47","v":0}]

{"sheet":"SA26","index":47,"n_rows":48,"n_cols":17,"rows_kept":48,"cut":false,"hidden":false,"merged":[[1,2,1,13],[1,14,1,16]]}
[{"$f":"muni&\" - \"&TableA26","v":"KZN434 Ubuhlebezwe - Supporting Table SA26 Budgeted monthly revenue and expenditure (municipal vote)"}]
[{"$f":"desc","v":"Description"},{"$f":"head27","v":"Ref"},{"$f":"Head9","v":"Budget Year 2020/21"},null,null,null,null,null,null,null,null,null,null,null,"Medium Term Revenue and Expenditure Framework"]
["R thousand",null,"July","August","Sept.","October","November","December","January","February","March","April","May","June",{"$f":"Head9","v":"Budget Year 2020/21"},{"$f":"Head10","v":"Budget Year +1 2021/22"},{"$f":"Head11","v":"Budget Year +2 2022/23"}]
[{"$f":"'A3-FinPerf V'!A4","v":"Revenue by Vote"}]
[{"$f":"'A3-FinPerf V'!A5","v":"Vote 1 - Finance & Admin"},null,13059327,13059327,13059327,13059327,13059327,13059327,13059327,13059327,13059327,13059327,13059327,{"$f":"O5-SUM(C5:M5)","v":13059326.939999998},{"$f":"'A3-FinPerf V'!I5","v":156711923.94},{"$f":"'A3-FinPerf V'!J5","v":63749102.539999999},{"$f":"'A3-FinPerf V'!K5","v":66681561.249999993}]
[{"$f":"'A3-FinPerf V'!A6","v":"Vote 2 - Executive & Council"},null,0,0,0,0,0,0,0,0,0,0,0,0,{"$f":"'A3-FinPerf V'!I6","v":0},{"$f":"'A3-FinPerf V'!J6","v":0},{"$f":"'A3-FinPerf V'!K6","v":0}]
[{"$f":"'A3-FinPerf V'!A7","v":"Vote 3 - Community and Social Services"},null,356035,356035,356035,356035,356035,356035,356035,356035,356035,356035,356035,356031,{"$f":"'A3-FinPerf V'!I7","v":4272416},{"$f":"'A3-FinPerf V'!J7","v":4468947.1399999997},{"$f":"'A3-FinPerf V'!K7","v":4674518.71}]
[{"$f":"'A3-FinPerf V'!A8","v":"Vote 4 - Housing"},null,0,0,0,0,0,0,0,0,0,0,0,0,{"$f":"'A3-FinPerf V'!I8","v":0},{"$f":"'A3-FinPerf V'!J8","v":116628572.95999999},{"$f":"'A3-FinPerf V'!K8","v":121993487.31999999}]
[{"$f":"'A3-FinPerf V'!A9","v":"Vote 5 - Public Safety"},null,413558,413558,413558,413558,413558,413558,413558,413558,413558,413558,413558,413562,{"$f":"'A3-FinPerf V'!I9","v":4962700},{"$f":"'A3-FinPerf V'!J9","v":5190984.2},{"$f":"'A3-FinPerf V'!K9","v":5429769.4700000007}]
[{"$f":"'A3-FinPerf V'!A10","v":"Vote 6 - Road Transport"},null,2235471,2235471,2235471,2235471,2235471,2235471,2235471,2235471,2235471,2235471,2235471,2235473.7199999988,{"$f":"'A3-FinPerf V'!I10","v":26825654.719999999},{"$f":"'A3-FinPerf V'!J10","v":43749634.840000004},{"$f":"'A3-FinPerf V'!K10","v":45762118.039999999}]
[{"$f":"'A3-FinPerf V'!A11","v":"Vote 7 - Waste Management"},null,216667,216667,216667,216667,216667,216667,216667,216667,216667,216667,216667,{"$f":"O11-SUM(C11:M11)","v":216663},{"$f":"'A3-FinPerf V'!I11","v":2600000},{"$f":"'A3-FinPerf V'!J11","v":2719600},{"$f":"'A3-FinPerf V'!K11","v":2844701.6}]
[{"$f":"'A3-FinPerf V'!A12","v":"Vote 8 - Energy Sources"},null,0,0,0,0,0,0,0,0,0,0,0,{"$f":"O12-SUM(C12:M12)","v":0},{"$f":"'A3-FinPerf V'!I12","v":0},{"$f":"'A3-FinPerf V'!J12","v":0},{"$f":"'A3-FinPerf V'!K12","v":0}]
[{"$f":"'A3-FinPerf V'!A13","v":"Vote 9 - Planning and Development"},null,23898,23898,23898,23898,23898,23898,23898,23898,23898,23898,23898,{"$f":"O13-SUM(C13:M13)","v":23902},{"$f":"'A3-FinPerf V'!I13","v":286780},{"$f":"'A3-FinPerf V'!J13","v":173405.88},{"$f":"'A3-FinPerf V'!K13","v":181382.55}]
[{"$f":"'A3-FinPerf V'!A14","v":"Vote 10 - Sport and Recreation"},null,0,0,0,0,0,0,0,0,0,0,0,{"$f":"O14-SUM(C14:M14)","v":0},{"$f":"'A3-FinPerf V'!I14","v":0},{"$f":"'A3-FinPerf V'!J14","v":0},{"$f":"'A3-FinPerf V'!K14","v":0}]
[{"$f":"'A3-FinPerf V'!A15","v":"Vote 11 - [NAME OF VOTE 11]"},null,0,0,0,0,0,0,0,0,0,0,0,0,{"$f":"'A3-FinPerf V'!I15","v":0},{"$f":"'A3-FinPerf V'!J15","v":0},{"$f":"'A3-FinPerf V'!K15","v":0}]
[{"$f":"'A3-FinPerf V'!A16","v":"Vote 12 - [NAME OF VOTE 12]"},null,0,0,0,0,0,0,0,0,0,0,0,0,{"$f":"'A3-FinPerf V'!I16","v":0},{"$f":"'A3-FinPerf V'!J16","v":0},{"$f":"'A3-FinPerf V'!K16","v":0}]
[{"$f":"'A3-FinPerf V'!A17","v":"Vote 13 - [NAME OF VOTE 13]"},null,0,0,0,0,0,0,0,0,0,0,0,0,{"$f":"'A3-FinPerf V'!I17","v":0},{"$f":"'A3-FinPerf V'!J17","v":0},{"$f":"'A3-FinPerf V'!K17","v":0}]
[{"$f":"'A3-FinPerf V'!A18","v":"Vote 14 - [NAME OF VOTE 14]"},null,0,0,0,0,0,0,0,0,0,0,0,0,{"$f":"'A3-FinPerf V'!I18","v":0},{"$f":"'A3-FinPerf V'!J18","v":0},{"$f":"'A3-FinPerf V'!K18","v":0}]
[{"$f":"'A3-FinPerf V'!A19","v":"Vote 15 - [NAME OF VOTE 15]"},null,0,0,0,0,0,0,0,0,0,0,0,0,{"$f":"'A3-FinPerf V'!I19","v":0},{"$f":"'A3-FinPerf V'!J19","v":0},{"$f":"'A3-FinPerf V'!K19","v":0}]
[{"$f":"'A3-FinPerf V'!A20","v":"Total Revenue by Vote"},null,{"$f":"SUM(C5:C19)","v":16304956},16304956,16304956,{"$f":"SUM(F5:F19)","v":16304956},16304956,16304956,16304956,16304956,16304956,16304956,16304956,16304958.659999996,195659474.66,236680247.55999997,247567538.93999997]
[]
[{"$f":"'A3-FinPerf V'!A22","v":"Expenditure by Vote to be appropriated"}]
[{"$f":"A5","v":"Vote 1 - Finance & Admin"},null,6153722,6153722,6153722,6153722,6153722,6153722,6153722,6153722,6153722,6153722,6153722,{"$f":"O23-SUM(C23:M23)","v":6153716.3600000143},{"$f":"'A3-FinPerf V'!I23","v":73844658.360000014},{"$f":"'A3-FinPerf V'!J23","v":75609909.99000001},{"$f":"'A3-FinPerf V'!K23","v":79087965.850000024}]
["Vote 2 - Executive & Council",null,2215732,2215732,2215732,2215732,2215732,2215732,2215732,2215732,2215732,2215732,2215732,2215731.9600000009,{"$f":"'A3-FinPerf V'!I24","v":26588783.960000001},{"$f":"'A3-FinPerf V'!J24","v":26573994.66},{"$f":"'A3-FinPerf V'!K24","v":27796398.430000003}]
["Vote 3 - Community and Social Services",null,796291,796291,796291,796291,796291,796291,796291,796291,796291,796291,796291,796287.98999999836,{"$f":"'A3-FinPerf V'!I25","v":9555488.9899999984},{"$f":"'A3-FinPerf V'!J25","v":9491297.1000000015},{"$f":"'A3-FinPerf V'!K25","v":9927896.7999999989}]
["Vote 4 - Housing",null,188315,188315,188315,188315,188315,188315,188315,188315,188315,188315,188315,188314.29000000004,{"$f":"'A3-FinPerf V'!I26","v":2259779.29},{"$f":"'A3-FinPerf V'!J26","v":33259797.600000001},{"$f":"'A3-FinPerf V'!K26","v":34789748.280000001}]
["Vote 5 - Public Safety",null,1502556,1502556,1502556,1502556,1502556,1502556,1502556,1502556,1502556,1502556,1502556,1502551.1400000006,{"$f":"'A3-FinPerf V'!I27","v":18030667.140000001},{"$f":"'A3-FinPerf V'!J27","v":18605305.34},{"$f":"'A3-FinPerf V'!K27","v":19461149.390000001}]
["Vote 6 - Road Transport",null,1281210,1281210,1281210,1281210,1281210,1281210,1281210,1281210,1281210,1281210,1281210,1281211.3899999987,{"$f":"'A3-FinPerf V'!I28","v":15374521.389999999},{"$f":"'A3-FinPerf V'!J28","v":16081632.399999997},{"$f":"'A3-FinPerf V'!K28","v":16821387.470000006}]
["Vote 7 - Waste Management",null,1080576,1080576,1080576,1080576,1080576,1080576,1080576,1080576,1080576,1080576,1080576,1080576.1099999994,{"$f":"'A3-FinPerf V'!I29","v":12966912.109999999},{"$f":"'A3-FinPerf V'!J29","v":13201382.389999999},{"$f":"'A3-FinPerf V'!K29","v":13808645.959999999}]
["Vote 8 - Energy Sources",null,0,0,0,0,0,0,0,0,0,0,0,{"$f":"O30-SUM(C30:M30)","v":0},{"$f":"'A3-FinPerf V'!I30","v":0},{"$f":"'A3-FinPerf V'!J30","v":0},{"$f":"'A3-FinPerf V'!K30","v":0}]
["Vote 9 - Planning and Development",null,1211036,1211036,1211036,1211036,1211036,1211036,1211036,1211036,1211036,1211036,1211036,{"$f":"O31-SUM(C31:M31)","v":1211039.2799999975},{"$f":"'A3-FinPerf V'!I31","v":14532435.279999997},{"$f":"'A3-FinPerf V'!J31","v":14727089.289999999},{"$f":"'A3-FinPerf V'!K31","v":15404535.4}]
[{"$f":"A14","v":"Vote 10 - Sport and Recreation"},null,51787,51787,51787,51787,51787,51787,51787,51787,51787,51787,51787,{"$f":"O32-SUM(C32:M32)","v":51782.059999999939},{"$f":"'A3-FinPerf V'!I32","v":621439.05999999994},{"$f":"'A3-FinPerf V'!J32","v":650025.26},{"$f":"'A3-FinPerf V'!K32","v":679926.43}]
["Vote 11 - [NAME OF VOTE 11]",null,0,0,0,0,0,0,0,0,0,0,0,0,{"$f":"'A3-FinPerf V'!I33","v":0},{"$f":"'A3-FinPerf V'!J33","v":0},{"$f":"'A3-FinPerf V'!K33","v":0}]
["Vote 12 - [NAME OF VOTE 12]",null,0,0,0,0,0,0,0,0,0,0,0,0,{"$f":"'A3-FinPerf V'!I34","v":0},{"$f":"'A3-FinPerf V'!J34","v":0},{"$f":"'A3-FinPerf V'!K34","v":0}]
["Vote 13 - [NAME OF VOTE 13]",null,0,0,0,0,0,0,0,0,0,0,0,0,{"$f":"'A3-FinPerf V'!I35","v":0},{"$f":"'A3-FinPerf V'!J35","v":0},{"$f":"'A3-FinPerf V'!K35","v":0}]
["Vote 14 - [NAME OF VOTE 14]",null,0,0,0,0,0,0,0,0,0,0,0,0,{"$f":"'A3-FinPerf V'!I36","v":0},{"$f":"'A3-FinPerf V'!J36","v":0},{"$f":"'A3-FinPerf V'!K36","v":0}]
["Vote 15 - [NAME OF VOTE 15]",null,0,0,0,0,0,0,0,0,0,0,0,0,{"$f":"'A3-FinPerf V'!I37","v":0},{"$f":"'A3-FinPerf V'!J37","v":0},{"$f":"'A3-FinPerf V'!K37","v":0}]
[{"$f":"'A3-FinPerf V'!A38","v":"Total Expenditure by Vote"},null,{"$f":"SUM(C23:C37)","v":14481225},{"$f":"SUM(D23:D37)","v":14481225},14481225,14481225,14481225,14481225,14481225,14481225,14481225,14481225,14481225,14481210.580000009,{"$f":"SUM(O23:O37)","v":173774685.58000001},{"$f":"SUM(P23:P37)","v":208200434.02999997},{"$f":"SUM(Q23:Q37)","v":217777654.01000002}]
[]
[{"$f":"'A4-FinPerf RE'!A37&\" before assoc.\"","v":"Surplus/(Deficit) before assoc."},null,{"$f":"C20-C38","v":1823731},1823731,1823731,1823731,1823731,1823731,1823731,1823731,1823731,1823731,1823731,1823748.079999987,21884789.079999983,28479813.530000001,29789884.929999948]
[]
[{"$f":"'SA25'!A42","v":"Taxation"},null,0,0,0,0,0,0,0,0,0,0,0,{"$f":"O42-SUM(C42:M42)","v":0},{"$f":"'SA25'!O42","v":0},{"$f":"'SA25'!P42","v":0},{"$f":"'SA25'!Q42","v":0}]
[{"$f":"'SA25'!A43","v":"Attributable to minorities"},null,0,0,0,0,0,0,0,0,0,0,0,{"$f":"O43-SUM(C43:M43)","v":0},{"$f":"'SA25'!O43","v":0},{"$f":"'SA25'!P43","v":0},{"$f":"'SA25'!Q43","v":0}]
[{"$f":"'A4-FinPerf RE'!A46","v":"Share of surplus/ (deficit) of associate"},null,0,0,0,0,0,0,0,0,0,0,0,{"$f":"O44-SUM(C44:M44)","v":0},{"$f":"'A4-FinPerf RE'!J46","v":0},{"$f":"'A4-FinPerf RE'!K46","v":0},{"$f":"'A4-FinPerf RE'!L46","v":0}]
[{"$f":"'A4-FinPerf RE'!A37","v":"Surplus/(Deficit)"},1,{"$f":"C40+C44","v":1823731},{"$f":"D40+D44","v":1823731},1823731,1823731,1823731,1823731,1823731,1823731,1823731,1823731,1823731,1823748.079999987,21884789.079999983,28479813.530000001,29789884.929999948]
[{"$f":"head27a","v":"References"}]
["1. Surplus (Deficit) must reconcile with Budgeted Financial Performance"]
["check",null,null,null,null,null,null,null,null,null,null,null,null,null,{"$f":"O45-'A4-FinPerf RE'!J47","v":1150243.6399999559},{"$f":"P45-'A4-FinPerf RE'!K47","v":2488330.6828000546},{"$f":"Q45-'A4-FinPerf RE'!L47","v":2770971.8956759498}]

{"sheet":"SA27","index":48,"n_rows":56,"n_cols":17,"rows_kept":56,"cut":false,"hidden":false,"merged":[[1,2,1,13],[1,14,1,16]]}
[{"$f":"muni&\" - \"&TableA27","v":"KZN434 Ubuhlebezwe - Supporting Table SA27 Budgeted monthly revenue and expenditure (functional classification)"}]
[{"$f":"desc","v":"Description"},{"$f":"head27","v":"Ref"},{"$f":"Head9","v":"Budget Year 2020/21"},null,null,null,null,null,null,null,null,null,null,null,"Medium Term Revenue and Expenditure Framework"]
["R thousand",null,"July","August","Sept.","October","November","December","January","February","March","April","May","June",{"$f":"Head9","v":"Budget Year 2020/21"},{"$f":"Head10","v":"Budget Year +1 2021/22"},{"$f":"Head11","v":"Budget Year +2 2022/23"}]
[{"$f":"'A2-FinPerf SC'!A4","v":"Revenue - Functional"}]
[{"$f":"'A2-FinPerf SC'!A5","v":"Governance and administration"},null,{"$f":"SUM(C6:C8)","v":13059327},{"$f":"SUM(D6:D8)","v":13059327},{"$f":"SUM(E6:E8)","v":13059327},13059327,13059327,13059327,13059327,13059327,13059327,13059327,13059327,{"$f":"O5-SUM(C5:M5)","v":13059326.939999998},{"$f":"'A2-FinPerf SC'!I5","v":156711923.94},{"$f":"'A2-FinPerf SC'!J5","v":63749102.539999999},{"$f":"'A2-FinPerf SC'!K5","v":66681561.249999993}]
[{"$f":"'A2-FinPerf SC'!A6","v":"Executive and council"},null,0,0,0,0,0,0,0,0,0,0,0,0,{"$f":"'A2-FinPerf SC'!I6","v":0},{"$f":"'A2-FinPerf SC'!J6","v":0},{"$f":"'A2-FinPerf SC'!K6","v":0}]
[{"$f":"'A2-FinPerf SC'!A7","v":"Finance and administration"},null,13059327,13059327,13059327,13059327,13059327,13059327,13059327,13059327,13059327,13059327,13059327,13059326.939999998,{"$f":"'A2-FinPerf SC'!I7","v":156711923.94},{"$f":"'A2-FinPerf SC'!J7","v":63749102.539999999},{"$f":"'A2-FinPerf SC'!K7","v":66681561.249999993}]
[{"$f":"'A2-FinPerf SC'!A8","v":"Internal audit"},null,0,0,0,0,0,0,0,0,0,0,0,0,{"$f":"'A2-FinPerf SC'!I8","v":0},{"$f":"'A2-FinPerf SC'!J8","v":0},{"$f":"'A2-FinPerf SC'!K8","v":0}]
[{"$f":"'A2-FinPerf SC'!A9","v":"Community and public safety"},null,{"$f":"SUM(C10:C14)","v":769593},{"$f":"SUM(D10:D14)","v":769593},769593,769593,769593,769593,769593,769593,769593,769593,769593,769593,{"$f":"'A2-FinPerf SC'!I9","v":9235116},{"$f":"'A2-FinPerf SC'!J9","v":126288504.3},{"$f":"'A2-FinPerf SC'!K9","v":132097775.5}]
[{"$f":"'A2-FinPerf SC'!A10","v":"Community and social services"},null,356035,356035,356035,356035,356035,356035,356035,356035,356035,356035,356035,356031,{"$f":"'A2-FinPerf SC'!I10","v":4272416},{"$f":"'A2-FinPerf SC'!J10","v":4468947.1399999997},{"$f":"'A2-FinPerf SC'!K10","v":4674518.71}]
[{"$f":"'A2-FinPerf SC'!A11","v":"Sport and recreation"},null,0,0,0,0,0,0,0,0,0,0,0,0,{"$f":"'A2-FinPerf SC'!I11","v":0},{"$f":"'A2-FinPerf SC'!J11","v":0},{"$f":"'A2-FinPerf SC'!K11","v":0}]
[{"$f":"'A2-FinPerf SC'!A12","v":"Public safety"},null,413558,413558,413558,413558,413558,413558,413558,413558,413558,413558,413558,413562,{"$f":"'A2-FinPerf SC'!I12","v":4962700},{"$f":"'A2-FinPerf SC'!J12","v":5190984.2},{"$f":"'A2-FinPerf SC'!K12","v":5429769.4700000007}]
[{"$f":"'A2-FinPerf SC'!A13","v":"Housing"},null,0,0,0,0,0,0,0,0,0,0,0,0,{"$f":"'A2-FinPerf SC'!I13","v":0},{"$f":"'A2-FinPerf SC'!J13","v":116628572.95999999},{"$f":"'A2-FinPerf SC'!K13","v":121993487.31999999}]
[{"$f":"'A2-FinPerf SC'!A14","v":"Health"},null,0,0,0,0,0,0,0,0,0,0,0,0,{"$f":"'A2-FinPerf SC'!I14","v":0},{"$f":"'A2-FinPerf SC'!J14","v":0},{"$f":"'A2-FinPerf SC'!K14","v":0}]
[{"$f":"'A2-FinPerf SC'!A15","v":"Economic and environmental services"},null,{"$f":"SUM(C16:C18)","v":2259369},{"$f":"SUM(D16:D18)","v":2259369},2259369,2259369,2259369,2259369,2259369,2259369,2259369,2259369,2259369,2259375.7199999988,{"$f":"'A2-FinPerf SC'!I15","v":27112434.719999999},{"$f":"'A2-FinPerf SC'!J15","v":43923040.720000006},{"$f":"'A2-FinPerf SC'!K15","v":45943500.589999996}]
[{"$f":"'A2-FinPerf SC'!A16","v":"Planning and development"},null,23898,23898,23898,23898,23898,23898,23898,23898,23898,23898,23898,23902,{"$f":"'A2-FinPerf SC'!I16","v":286780},{"$f":"'A2-FinPerf SC'!J16","v":173405.88},{"$f":"'A2-FinPerf SC'!K16","v":181382.55}]
[{"$f":"'A2-FinPerf SC'!A17","v":"Road transport"},null,2235471,2235471,2235471,2235471,2235471,2235471,2235471,2235471,2235471,2235471,2235471,2235473.7199999988,{"$f":"'A2-FinPerf SC'!I17","v":26825654.719999999},{"$f":"'A2-FinPerf SC'!J17","v":43749634.840000004},{"$f":"'A2-FinPerf SC'!K17","v":45762118.039999999}]
[{"$f":"'A2-FinPerf SC'!A18","v":"Environmental protection"},null,0,0,0,0,0,0,0,0,0,0,0,0,{"$f":"'A2-FinPerf SC'!I18","v":0},{"$f":"'A2-FinPerf SC'!J18","v":0},{"$f":"'A2-FinPerf SC'!K18","v":0}]
[{"$f":"'A2-FinPerf SC'!A19","v":"Trading services"},null,{"$f":"SUM(C20:C23)","v":216667},{"$f":"SUM(D20:D23)","v":216667},216667,216667,216667,216667,216667,216667,216667,216667,216667,{"$f":"O19-SUM(C19:M19)","v":216663},{"$f":"'A2-FinPerf SC'!I19","v":2600000},{"$f":"'A2-FinPerf SC'!J19","v":2719600},{"$f":"'A2-FinPerf SC'!K19","v":2844701.6}]
[{"$f":"'A2-FinPerf SC'!A20","v":"Energy sources"},null,0,0,0,0,0,0,0,0,0,0,0,0,{"$f":"'A2-FinPerf SC'!I20","v":0},{"$f":"'A2-FinPerf SC'!J20","v":0},{"$f":"'A2-FinPerf SC'!K20","v":0}]
[{"$f":"'A2-FinPerf SC'!A21","v":"Water management"},null,0,0,0,0,0,0,0,0,0,0,0,0,{"$f":"'A2-FinPerf SC'!I21","v":0},{"$f":"'A2-FinPerf SC'!J21","v":0},{"$f":"'A2-FinPerf SC'!K21","v":0}]
[{"$f":"'A2-FinPerf SC'!A22","v":"Waste water management"},null,0,0,0,0,0,0,0,0,0,0,0,0,{"$f":"'A2-FinPerf SC'!I22","v":0},{"$f":"'A2-FinPerf SC'!J22","v":0},{"$f":"'A2-FinPerf SC'!K22","v":0}]
[{"$f":"'A2-FinPerf SC'!A23","v":"Waste management"},null,216667,216667,216667,216667,216667,216667,216667,216667,216667,216667,216667,216663,{"$f":"'A2-FinPerf SC'!I23","v":2600000},{"$f":"'A2-FinPerf SC'!J23","v":2719600},{"$f":"'A2-FinPerf SC'!K23","v":2844701.6}]
[{"$f":"'A2-FinPerf SC'!A24","v":"Other"},null,0,0,0,0,0,0,0,0,0,0,0,0,{"$f":"'A2-FinPerf SC'!I24","v":0},{"$f":"'A2-FinPerf SC'!J24","v":0},{"$f":"'A2-FinPerf SC'!K24","v":0}]
[{"$f":"'A2-FinPerf SC'!A25","v":"Total Revenue - Functional"},null,{"$f":"C5+C9+C15+C19+C24","v":16304956},16304956,16304956,16304956,16304956,16304956,16304956,16304956,16304956,16304956,16304956,16304958.659999996,195659474.66,236680247.56,247567538.94]
[null,null,null,{"$f":"D6+D10+D16+D20+D25","v":16684889},16684889,16684889,16684889,16684889,16684889,16684889,16684889,16684889,{"$f":"M6+M10+M16+M20+M25","v":16684889}]
[{"$f":"'A2-FinPerf SC'!A27","v":"Expenditure - Functional"}]
[{"$f":"'A2-FinPerf SC'!A28","v":"Governance and administration"},null,{"$f":"SUM(C29:C31)","v":8369454},{"$f":"SUM(D29:D31)","v":8369454},{"$f":"SUM(E29:E31)","v":8369454},8369454,8369454,8369454,8369454,8369454,8369454,8369454,8369454,{"$f":"O28-SUM(C28:M28)","v":8369448.3200000226},{"$f":"'A2-FinPerf SC'!I28","v":100433442.32000002},{"$f":"'A2-FinPerf SC'!J28","v":102183904.65000002},{"$f":"'A2-FinPerf SC'!K28","v":106884364.28000002}]
[{"$f":"'A2-FinPerf SC'!A29","v":"Executive and council"},null,2209056,2209056,2209056,2209056,2209056,2209056,2209056,2209056,2209056,2209056,2209056,2209056.120000001,{"$f":"'A2-FinPerf SC'!I29","v":26508672.120000001},{"$f":"'A2-FinPerf SC'!J29","v":26573877.68},{"$f":"'A2-FinPerf SC'!K29","v":27796276.060000002}]
[{"$f":"'A2-FinPerf SC'!A30","v":"Finance and administration"},null,6153722,6153722,6153722,6153722,6153722,6153722,6153722,6153722,6153722,6153722,6153722,6153716.3600000143,{"$f":"'A2-FinPerf SC'!I30","v":73844658.360000014},{"$f":"'A2-FinPerf SC'!J30","v":75609909.99000001},{"$f":"'A2-FinPerf SC'!K30","v":79087965.850000009}]
[{"$f":"'A2-FinPerf SC'!A31","v":"Internal audit"},null,6676,6676,6676,6676,6676,6676,6676,6676,6676,6676,6676,6675.8399999999965,{"$f":"'A2-FinPerf SC'!I31","v":80111.839999999997},{"$f":"'A2-FinPerf SC'!J31","v":116.98},{"$f":"'A2-FinPerf SC'!K31","v":122.37}]
[{"$f":"'A2-FinPerf SC'!A32","v":"Community and public safety"},null,{"$f":"SUM(C33:C37)","v":2501818},{"$f":"SUM(D33:D37)","v":2501818},2501818,2501818,2501818,2501818,2501818,2501818,2501818,2501818,2501818,2501805.0500000007,{"$f":"'A2-FinPerf SC'!I32","v":30021803.050000001},{"$f":"'A2-FinPerf SC'!J32","v":61540357.590000004},{"$f":"'A2-FinPerf SC'!K32","v":64371214.079999998}]
[{"$f":"'A2-FinPerf SC'!A33","v":"Community and social services"},null,752803,752803,752803,752803,752803,752803,752803,752803,752803,752803,752803,752799.56000000052,{"$f":"'A2-FinPerf SC'!I33","v":9033632.5600000005},{"$f":"'A2-FinPerf SC'!J33","v":8945435.2800000012},{"$f":"'A2-FinPerf SC'!K33","v":9356925.3499999996}]
[{"$f":"'A2-FinPerf SC'!A34","v":"Sport and recreation"},null,58144,58144,58144,58144,58144,58144,58144,58144,58144,58144,58144,58140.059999999939,{"$f":"'A2-FinPerf SC'!I34","v":697724.05999999994},{"$f":"'A2-FinPerf SC'!J34","v":729819.37},{"$f":"'A2-FinPerf SC'!K34","v":763391.06}]
[{"$f":"'A2-FinPerf SC'!A35","v":"Public safety"},null,1502556,1502556,1502556,1502556,1502556,1502556,1502556,1502556,1502556,1502556,1502556,1502551.1400000006,{"$f":"'A2-FinPerf SC'!I35","v":18030667.140000001},{"$f":"'A2-FinPerf SC'!J35","v":18605305.34},{"$f":"'A2-FinPerf SC'!K35","v":19461149.390000001}]
[{"$f":"'A2-FinPerf SC'!A36","v":"Housing"},null,188315,188315,188315,188315,188315,188315,188315,188315,188315,188315,188315,188314.29000000004,{"$f":"'A2-FinPerf SC'!I36","v":2259779.29},{"$f":"'A2-FinPerf SC'!J36","v":33259797.600000001},{"$f":"'A2-FinPerf SC'!K36","v":34789748.280000001}]
[{"$f":"'A2-FinPerf SC'!A37","v":"Health"},null,0,0,0,0,0,0,0,0,0,0,0,0,{"$f":"'A2-FinPerf SC'!I37","v":0},{"$f":"'A2-FinPerf SC'!J37","v":0},{"$f":"'A2-FinPerf SC'!K37","v":0}]
[{"$f":"'A2-FinPerf SC'!A38","v":"Economic and environmental services"},null,{"$f":"SUM(C39:C41)","v":2524240},{"$f":"SUM(D39:D41)","v":2524240},2524240,2524240,2524240,2524240,2524240,2524240,2524240,2524240,2524240,{"$f":"O38-SUM(C38:M38)","v":2524246.1399999969},{"$f":"'A2-FinPerf SC'!I38","v":30290886.139999997},{"$f":"'A2-FinPerf SC'!J38","v":31210311.909999996},{"$f":"'A2-FinPerf SC'!K38","v":32645986.240000002}]
[{"$f":"'A2-FinPerf SC'!A39","v":"Planning and development"},null,1243030,1243030,1243030,1243030,1243030,1243030,1243030,1243030,1243030,1243030,1243030,1243034.7499999981,{"$f":"'A2-FinPerf SC'!I39","v":14916364.749999998},{"$f":"'A2-FinPerf SC'!J39","v":15128679.51},{"$f":"'A2-FinPerf SC'!K39","v":15824598.769999998}]
[{"$f":"'A2-FinPerf SC'!A40","v":"Road transport"},null,1281210,1281210,1281210,1281210,1281210,1281210,1281210,1281210,1281210,1281210,1281210,1281211.3899999987,{"$f":"'A2-FinPerf SC'!I40","v":15374521.389999999},{"$f":"'A2-FinPerf SC'!J40","v":16081632.399999997},{"$f":"'A2-FinPerf SC'!K40","v":16821387.470000006}]
[{"$f":"'A2-FinPerf SC'!A41","v":"Environmental protection"},null,0,0,0,0,0,0,0,0,0,0,0,0,{"$f":"'A2-FinPerf SC'!I41","v":0},{"$f":"'A2-FinPerf SC'!J41","v":0},{"$f":"'A2-FinPerf SC'!K41","v":0}]
[{"$f":"'A2-FinPerf SC'!A42","v":"Trading services"},null,{"$f":"SUM(C43:C46)","v":1080576},{"$f":"SUM(D43:D46)","v":1080576},1080576,1080576,1080576,1080576,1080576,1080576,1080576,1080576,1080576,{"$f":"O42-SUM(C42:M42)","v":1080576.1099999994},{"$f":"'A2-FinPerf SC'!I42","v":12966912.109999999},{"$f":"'A2-FinPerf SC'!J42","v":13201382.389999999},{"$f":"'A2-FinPerf SC'!K42","v":13808645.959999999}]
[{"$f":"'A2-FinPerf SC'!A43","v":"Energy sources"},null,0,0,0,0,0,0,0,0,0,0,0,0,{"$f":"'A2-FinPerf SC'!I43","v":0},{"$f":"'A2-FinPerf SC'!J43","v":0},{"$f":"'A2-FinPerf SC'!K43","v":0}]
[{"$f":"'A2-FinPerf SC'!A44","v":"Water management"},null,0,0,0,0,0,0,0,0,0,0,0,0,{"$f":"'A2-FinPerf SC'!I44","v":0},{"$f":"'A2-FinPerf SC'!J44","v":0},{"$f":"'A2-FinPerf SC'!K44","v":0}]
[{"$f":"'A2-FinPerf SC'!A45","v":"Waste water management"},null,0,0,0,0,0,0,0,0,0,0,0,0,{"$f":"'A2-FinPerf SC'!I45","v":0},{"$f":"'A2-FinPerf SC'!J45","v":0},{"$f":"'A2-FinPerf SC'!K45","v":0}]
[{"$f":"'A2-FinPerf SC'!A46","v":"Waste management"},null,1080576,1080576,1080576,1080576,1080576,1080576,1080576,1080576,1080576,1080576,1080576,1080576.1099999994,{"$f":"'A2-FinPerf SC'!I46","v":12966912.109999999},{"$f":"'A2-FinPerf SC'!J46","v":13201382.389999999},{"$f":"'A2-FinPerf SC'!K46","v":13808645.959999999}]
[{"$f":"'A2-FinPerf SC'!A47","v":"Other"},null,30812,30812,30812,30812,30812,30812,30812,30812,30812,30812,30812,30817.760000000009,{"$f":"'A2-FinPerf SC'!I47","v":369749.76000000001},{"$f":"'A2-FinPerf SC'!J47","v":386758.25},{"$f":"'A2-FinPerf SC'!K47","v":404549.13}]
[{"$f":"'A2-FinPerf SC'!A48","v":"Total Expenditure - Functional"},null,{"$f":"C28+C32+C38+C42+C47","v":14506900},{"$f":"D28+D32+D38+D42+D47","v":14506900},14506900,14506900,14506900,14506900,14506900,14506900,14506900,14506900,14506900,14506893.380000019,174082793.38,208522714.78999999,{"$f":"Q28+Q32+Q38+Q42+Q47","v":218114759.69000003}]
[]
[{"$f":"'A4-FinPerf RE'!A37&\" before assoc.\"","v":"Surplus/(Deficit) before assoc."},null,{"$f":"C25-C48","v":1798056},1798056,1798056,1798056,1798056,1798056,1798056,1798056,1798056,1798056,1798056,1798065.279999977,21576681.280000001,28157532.770000011,29452779.24999997]
[]
[{"$f":"'A4-FinPerf RE'!A46","v":"Share of surplus/ (deficit) of associate"},null,0,0,0,0,0,0,0,0,0,0,0,{"$f":"O52-SUM(C52:M52)","v":0},{"$f":"'A4-FinPerf RE'!J46","v":0},{"$f":"'A4-FinPerf RE'!K46","v":0},{"$f":"'A4-FinPerf RE'!L46","v":0}]
[{"$f":"'A4-FinPerf RE'!A37","v":"Surplus/(Deficit)"},1,{"$f":"C50+C52","v":1798056},{"$f":"D50+D52","v":1798056},1798056,1798056,1798056,1798056,1798056,1798056,1798056,1798056,1798056,1798065.279999977,21576681.280000001,28157532.770000011,29452779.24999997]
[{"$f":"head27a","v":"References"}]
["1. Surplus (Deficit) must reconcile with Budeted Financial Performance"]
["check",null,null,null,null,null,null,null,null,null,null,null,null,null,{"$f":"O53-'A4-FinPerf RE'!J47","v":842135.83999997377},{"$f":"P53-'A4-FinPerf RE'!K47","v":2166049.9228000641},{"$f":"Q53-'A4-FinPerf RE'!L47","v":2433866.2156759724}]

{"sheet":"SA28","index":49,"n_rows":47,"n_cols":17,"rows_kept":47,"cut":false,"hidden":false,"merged":[[1,2,1,13],[1,14,1,16]]}
[{"$f":"muni&\" - \"& TableA28","v":"KZN434 Ubuhlebezwe - Supporting Table SA28 Budgeted monthly capital expenditure (municipal vote)"}]
[{"$f":"desc","v":"Description"},{"$f":"head27","v":"Ref"},{"$f":"Head9","v":"Budget Year 2020/21"},null,null,null,null,null,null,null,null,null,null,null,"Medium Term Revenue and Expenditure Framework"]
["R thousand",null,"July","August","Sept.","October","Nov.","Dec.","January","Feb.","March","April","May","June",{"$f":"Head9","v":"Budget Year 2020/21"},{"$f":"Head10","v":"Budget Year +1 2021/22"},{"$f":"Head11","v":"Budget Year +2 2022/23"}]
["Multi-year expenditure to be appropriated",1]
[{"$f":"'A5-Capex'!A6","v":"Vote 1 - Finance & Admin"},null,0,0,0,0,0,0,0,0,0,0,0,{"$f":"O5-SUM(C5:M5)","v":0},{"$f":"'A5-Capex'!J6","v":0},{"$f":"'A5-Capex'!K6","v":0},{"$f":"'A5-Capex'!L6","v":0}]
[{"$f":"'A5-Capex'!A7","v":"Vote 2 - Executive & Council"},null,0,0,0,0,0,0,0,0,0,0,0,{"$f":"O6-SUM(C6:M6)","v":0},{"$f":"'A5-Capex'!J7","v":0},{"$f":"'A5-Capex'!K7","v":0},{"$f":"'A5-Capex'!L7","v":0}]
[{"$f":"'A5-Capex'!A8","v":"Vote 3 - Community and Social Services"},null,0,0,0,0,0,0,0,0,0,0,0,0,{"$f":"'A5-Capex'!J8","v":0},{"$f":"'A5-Capex'!K8","v":0},{"$f":"'A5-Capex'!L8","v":0}]
[{"$f":"'A5-Capex'!A9","v":"Vote 4 - Housing"},null,0,0,0,0,0,0,0,0,0,0,0,0,{"$f":"'A5-Capex'!J9","v":0},{"$f":"'A5-Capex'!K9","v":0},{"$f":"'A5-Capex'!L9","v":0}]
[{"$f":"'A5-Capex'!A10","v":"Vote 5 - Public Safety"},null,0,0,0,0,0,0,0,0,0,0,0,0,{"$f":"'A5-Capex'!J10","v":0},{"$f":"'A5-Capex'!K10","v":0},{"$f":"'A5-Capex'!L10","v":0}]
[{"$f":"'A5-Capex'!A11","v":"Vote 6 - Road Transport"},null,0,0,0,0,0,0,0,0,0,0,0,0,{"$f":"'A5-Capex'!J11","v":0},{"$f":"'A5-Capex'!K11","v":0},{"$f":"'A5-Capex'!L11","v":0}]
[{"$f":"'A5-Capex'!A12","v":"Vote 7 - Waste Management"},null,0,0,0,0,0,0,0,0,0,0,0,0,{"$f":"'A5-Capex'!J12","v":0},{"$f":"'A5-Capex'!K12","v":0},{"$f":"'A5-Capex'!L12","v":0}]
[{"$f":"'A5-Capex'!A13","v":"Vote 8 - Energy Sources"},null,0,0,0,0,0,0,0,0,0,0,0,{"$f":"O12-SUM(C12:M12)","v":0},{"$f":"'A5-Capex'!J13","v":0},{"$f":"'A5-Capex'!K13","v":0},{"$f":"'A5-Capex'!L13","v":0}]
[{"$f":"'A5-Capex'!A14","v":"Vote 9 - Planning and Development"},null,0,0,0,0,0,0,0,0,0,0,0,{"$f":"O13-SUM(C13:M13)","v":0},{"$f":"'A5-Capex'!J14","v":0},{"$f":"'A5-Capex'!K14","v":0},{"$f":"'A5-Capex'!L14","v":0}]
[{"$f":"'A5-Capex'!A15","v":"Vote 10 - Sport and Recreation"},null,0,0,0,0,0,0,0,0,0,0,0,{"$f":"O14-SUM(C14:M14)","v":0},{"$f":"'A5-Capex'!J15","v":0},{"$f":"'A5-Capex'!K15","v":0},{"$f":"'A5-Capex'!L15","v":0}]
[{"$f":"'A5-Capex'!A16","v":"Vote 11 - [NAME OF VOTE 11]"},null,0,0,0,0,0,0,0,0,0,0,0,0,{"$f":"'A5-Capex'!J16","v":0},{"$f":"'A5-Capex'!K16","v":0},{"$f":"'A5-Capex'!L16","v":0}]
[{"$f":"'A5-Capex'!A17","v":"Vote 12 - [NAME OF VOTE 12]"},null,0,0,0,0,0,0,0,0,0,0,0,0,{"$f":"'A5-Capex'!J17","v":0},{"$f":"'A5-Capex'!K17","v":0},{"$f":"'A5-Capex'!L17","v":0}]
[{"$f":"'A5-Capex'!A18","v":"Vote 13 - [NAME OF VOTE 13]"},null,0,0,0,0,0,0,0,0,0,0,0,0,{"$f":"'A5-Capex'!J18","v":0},{"$f":"'A5-Capex'!K18","v":0},{"$f":"'A5-Capex'!L18","v":0}]
[{"$f":"'A5-Capex'!A19","v":"Vote 14 - [NAME OF VOTE 14]"},null,0,0,0,0,0,0,0,0,0,0,0,0,{"$f":"'A5-Capex'!J19","v":0},{"$f":"'A5-Capex'!K19","v":0},{"$f":"'A5-Capex'!L19","v":0}]
[{"$f":"'A5-Capex'!A20","v":"Vote 15 - [NAME OF VOTE 15]"},null,0,0,0,0,0,0,0,0,0,0,0,0,{"$f":"'A5-Capex'!J20","v":0},{"$f":"'A5-Capex'!K20","v":0},{"$f":"'A5-Capex'!L20","v":0}]
["Capital multi-year expenditure sub-total",2,{"$f":"SUM(C5:C19)","v":0},{"$f":"SUM(D5:D19)","v":0},0,0,0,0,0,0,0,0,{"$f":"SUM(M5:M19)","v":0},0,0,0,0]
[]
["Single-year expenditure to be appropriated"]
[{"$f":"'A5-Capex'!A24","v":"Vote 1 - Finance & Admin"},null,463650,463650,463650,463650,463650,463650,463650,463650,463650,463650,463650,{"$f":"O23-SUM(C23:M23)","v":463650},{"$f":"'A5-Capex'!J24","v":5563800},{"$f":"'A5-Capex'!K24","v":3891747.6},{"$f":"'A5-Capex'!L24","v":4070767.9899999993}]
[{"$f":"'A5-Capex'!A25","v":"Vote 2 - Executive & Council"},null,70833,70833,70833,70833,70833,70833,70833,70833,70833,70833,70833,{"$f":"O24-SUM(C24:M24)","v":70837},{"$f":"'A5-Capex'!J25","v":850000},{"$f":"'A5-Capex'!K25","v":889100},{"$f":"'A5-Capex'!L25","v":929998.6}]
[{"$f":"'A5-Capex'!A26","v":"Vote 3 - Community and Social Services"},null,467135,467135,467135,467135,467135,467135,467135,467135,467135,467135,467135,467136.5700000003,{"$f":"'A5-Capex'!J26","v":5605621.5700000003},{"$f":"'A5-Capex'!K26","v":5872198.8400000008},{"$f":"'A5-Capex'!L26","v":6142319.9800000004}]
[{"$f":"'A5-Capex'!A27","v":"Vote 4 - Housing"},null,878333,878333,878333,878333,878333,878333,878333,878333,878333,878333,878333,878337,{"$f":"'A5-Capex'!J27","v":10540000},{"$f":"'A5-Capex'!K27","v":11024840},{"$f":"'A5-Capex'!L27","v":11531982.640000001}]
[{"$f":"'A5-Capex'!A28","v":"Vote 5 - Public Safety"},null,122500,122500,122500,122500,122500,122500,122500,122500,122500,122500,122500,122500,{"$f":"'A5-Capex'!J28","v":1470000},{"$f":"'A5-Capex'!K28","v":1537620},{"$f":"'A5-Capex'!L28","v":1608350.52}]
[{"$f":"'A5-Capex'!A29","v":"Vote 6 - Road Transport"},null,1899585,1899585,1899585,1899585,1899585,1899585,1899585,1899585,1899585,1899585,1899585,1899585.0899999999,{"$f":"'A5-Capex'!J29","v":22795020.09},{"$f":"'A5-Capex'!K29","v":14381598.65},{"$f":"'A5-Capex'!L29","v":15043152.169999996}]
[{"$f":"'A5-Capex'!A30","v":"Vote 7 - Waste Management"},null,176448,176448,176448,176448,176448,176448,176448,176448,176448,176448,176448,176450,{"$f":"'A5-Capex'!J30","v":2117378},{"$f":"'A5-Capex'!K30","v":2214777.39},{"$f":"'A5-Capex'!L30","v":2316657.15}]
[{"$f":"'A5-Capex'!A31","v":"Vote 8 - Energy Sources"},null,0,0,0,0,0,0,0,0,0,0,0,{"$f":"O30-SUM(C30:M30)","v":0},{"$f":"'A5-Capex'!J31","v":0},{"$f":"'A5-Capex'!K31","v":0},{"$f":"'A5-Capex'!L31","v":0}]
[{"$f":"'A5-Capex'!A32","v":"Vote 9 - Planning and Development"},null,580387,580387,580387,580387,580387,580387,580387,580387,580387,580387,580387,{"$f":"O31-SUM(C31:M31)","v":580381.79999999981},{"$f":"'A5-Capex'!J32","v":6964638.7999999998},{"$f":"'A5-Capex'!K32","v":1840960},{"$f":"'A5-Capex'!L32","v":1925644.16}]
[{"$f":"'A5-Capex'!A33","v":"Vote 10 - Sport and Recreation"},null,272685,272685,272685,272685,272685,272685,272685,272685,272685,272685,272685,{"$f":"O32-SUM(C32:M32)","v":272689.12999999989},{"$f":"'A5-Capex'!J33","v":3272224.13},{"$f":"'A5-Capex'!K33","v":3422746.44},{"$f":"'A5-Capex'!L33","v":3580192.78}]
[{"$f":"'A5-Capex'!A34","v":"Vote 11 - [NAME OF VOTE 11]"},null,0,0,0,0,0,0,0,0,0,0,0,0,{"$f":"'A5-Capex'!J34","v":0},{"$f":"'A5-Capex'!K34","v":0},{"$f":"'A5-Capex'!L34","v":0}]
[{"$f":"'A5-Capex'!A35","v":"Vote 12 - [NAME OF VOTE 12]"},null,0,0,0,0,0,0,0,0,0,0,0,0,{"$f":"'A5-Capex'!J35","v":0},{"$f":"'A5-Capex'!K35","v":0},{"$f":"'A5-Capex'!L35","v":0}]
[{"$f":"'A5-Capex'!A36","v":"Vote 13 - [NAME OF VOTE 13]"},null,0,0,0,0,0,0,0,0,0,0,0,0,{"$f":"'A5-Capex'!J36","v":0},{"$f":"'A5-Capex'!K36","v":0},{"$f":"'A5-Capex'!L36","v":0}]
[{"$f":"'A5-Capex'!A37","v":"Vote 14 - [NAME OF VOTE 14]"},null,0,0,0,0,0,0,0,0,0,0,0,0,{"$f":"'A5-Capex'!J37","v":0},{"$f":"'A5-Capex'!K37","v":0},{"$f":"'A5-Capex'!L37","v":0}]
[{"$f":"'A5-Capex'!A38","v":"Vote 15 - [NAME OF VOTE 15]"},null,0,0,0,0,0,0,0,0,0,0,0,0,{"$f":"'A5-Capex'!J38","v":0},{"$f":"'A5-Capex'!K38","v":0},{"$f":"'A5-Capex'!L38","v":0}]
["Capital single-year expenditure sub-total",2,{"$f":"SUM(C23:C37)","v":4931556},4931556,4931556,4931556,4931556,4931556,4931556,4931556,4931556,4931556,4931556,4931566.59,59178682.589999996,45075588.920000002,47149065.989999995]
["Total Capital Expenditure",2,{"$f":"C20+C38","v":4931556},{"$f":"D20+D38","v":4931556},4931556,4931556,4931556,4931556,4931556,4931556,4931556,4931556,4931556,4931566.59,{"$f":"O20+O38","v":59178682.589999996},{"$f":"P20+P38","v":45075588.920000002},{"$f":"Q20+Q38","v":47149065.989999995}]
[]
[]
[{"$f":"head27a","v":"References"}]
["1. Table should be completed as either Multi-Year expenditure appropriation or Budget Year and Forward Year estimates"]
["2. Total Capital Expenditure must reconcile to Budgeted Capital Expenditure"]
["check",null,null,null,null,null,null,null,null,null,null,null,null,null,{"$f":"O20-'A5-Capex'!J21","v":0},{"$f":"P20-'A5-Capex'!K21","v":0},{"$f":"Q20-'A5-Capex'!L21","v":0}]
[]
[null,null,null,null,"Add single year stuff"]

{"sheet":"SA29","index":50,"n_rows":40,"n_cols":17,"rows_kept":40,"cut":false,"hidden":false,"merged":[[1,2,1,13],[1,14,1,16]]}
[{"$f":"muni&\" - \"& TableA29","v":"KZN434 Ubuhlebezwe - Supporting Table SA29 Budgeted monthly capital expenditure (functional classification)"}]
[{"$f":"desc","v":"Description"},{"$f":"head27","v":"Ref"},{"$f":"Head9","v":"Budget Year 2020/21"},null,null,null,null,null,null,null,null,null,null,null,"Medium Term Revenue and Expenditure Framework"]
["R thousand",null,"July","August","Sept.","October","Nov.","Dec.","January","Feb.","March","April","May","June",{"$f":"Head9","v":"Budget Year 2020/21"},{"$f":"Head10","v":"Budget Year +1 2021/22"},{"$f":"Head11","v":"Budget Year +2 2022/23"}]
[{"$f":"'A5-Capex'!A42","v":"Capital Expenditure - Functional"},1]
[{"$f":"'A5-Capex'!A43","v":"Governance and administration"},null,{"$f":"SUM(C6:C8)","v":534483},{"$f":"SUM(D6:D8)","v":534483},{"$f":"SUM(E6:E8)","v":534483},534483,534483,534483,534483,534483,534483,534483,534483,{"$f":"O5-SUM(C5:M5)","v":534487},{"$f":"'A5-Capex'!J43","v":6413800},{"$f":"'A5-Capex'!K43","v":4780847.5999999996},{"$f":"'A5-Capex'!L43","v":5000766.59}]
[{"$f":"'A5-Capex'!A44","v":"Executive and council"},null,70833,70833,70833,70833,70833,70833,70833,70833,70833,70833,70833,{"$f":"O6-SUM(C6:M6)","v":70837},{"$f":"'A5-Capex'!J44","v":850000},{"$f":"'A5-Capex'!K44","v":889100},{"$f":"'A5-Capex'!L44","v":929998.6}]
[{"$f":"'A5-Capex'!A45","v":"Finance and administration"},null,463650,463650,463650,463650,463650,463650,463650,463650,463650,463650,463650,463650,{"$f":"'A5-Capex'!J45","v":5563800},{"$f":"'A5-Capex'!K45","v":3891747.6},{"$f":"'A5-Capex'!L45","v":4070767.99}]
[{"$f":"'A5-Capex'!A46","v":"Internal audit"},null,0,0,0,0,0,0,0,0,0,0,0,0,{"$f":"'A5-Capex'!J46","v":0},{"$f":"'A5-Capex'!K46","v":0},{"$f":"'A5-Capex'!L46","v":0}]
[{"$f":"'A5-Capex'!A47","v":"Community and public safety"},null,{"$f":"SUM(C10:C14)","v":1740653},{"$f":"SUM(D10:D14)","v":1740653},1740653,1740653,1740653,1740653,1740653,1740653,1740653,1740653,1740653,1740662.6999999993,{"$f":"'A5-Capex'!J47","v":20887845.699999999},{"$f":"'A5-Capex'!K47","v":21857405.280000001},{"$f":"'A5-Capex'!L47","v":22862845.920000002}]
[{"$f":"'A5-Capex'!A48","v":"Community and social services"},null,467135,467135,467135,467135,467135,467135,467135,467135,467135,467135,467135,467136.5700000003,{"$f":"'A5-Capex'!J48","v":5605621.5700000003},{"$f":"'A5-Capex'!K48","v":5872198.8400000008},{"$f":"'A5-Capex'!L48","v":6142319.9800000004}]
[{"$f":"'A5-Capex'!A49","v":"Sport and recreation"},null,272685,272685,272685,272685,272685,272685,272685,272685,272685,272685,272685,272689.12999999989,{"$f":"'A5-Capex'!J49","v":3272224.13},{"$f":"'A5-Capex'!K49","v":3422746.44},{"$f":"'A5-Capex'!L49","v":3580192.78}]
[{"$f":"'A5-Capex'!A50","v":"Public safety"},null,122500,122500,122500,122500,122500,122500,122500,122500,122500,122500,122500,122500,{"$f":"'A5-Capex'!J50","v":1470000},{"$f":"'A5-Capex'!K50","v":1537620},{"$f":"'A5-Capex'!L50","v":1608350.52}]
[{"$f":"'A5-Capex'!A51","v":"Housing"},null,878333,878333,878333,878333,878333,878333,878333,878333,878333,878333,878333,878337,{"$f":"'A5-Capex'!J51","v":10540000},{"$f":"'A5-Capex'!K51","v":11024840},{"$f":"'A5-Capex'!L51","v":11531982.640000001}]
[{"$f":"'A5-Capex'!A52","v":"Health"},null,0,0,0,0,0,0,0,0,0,0,0,0,{"$f":"'A5-Capex'!J52","v":0},{"$f":"'A5-Capex'!K52","v":0},{"$f":"'A5-Capex'!L52","v":0}]
[{"$f":"'A5-Capex'!A53","v":"Economic and environmental services"},null,{"$f":"SUM(C16:C18)","v":2062918},{"$f":"SUM(D16:D18)","v":2062918},2062918,2062918,2062918,2062918,2062918,2062918,2062918,2062918,2062918,2062922.0899999999,{"$f":"'A5-Capex'!J53","v":24755020.09},{"$f":"'A5-Capex'!K53","v":16222558.65},{"$f":"'A5-Capex'!L53","v":16968796.329999994}]
[{"$f":"'A5-Capex'!A54","v":"Planning and development"},null,163333,163333,163333,163333,163333,163333,163333,163333,163333,163333,163333,163337,{"$f":"'A5-Capex'!J54","v":1960000},{"$f":"'A5-Capex'!K54","v":1840960},{"$f":"'A5-Capex'!L54","v":1925644.16}]
[{"$f":"'A5-Capex'!A55","v":"Road transport"},null,1899585,1899585,1899585,1899585,1899585,1899585,1899585,1899585,1899585,1899585,1899585,1899585.0899999999,{"$f":"'A5-Capex'!J55","v":22795020.09},{"$f":"'A5-Capex'!K55","v":14381598.65},{"$f":"'A5-Capex'!L55","v":15043152.169999996}]
[{"$f":"'A5-Capex'!A56","v":"Environmental protection"},null,0,0,0,0,0,0,0,0,0,0,0,0,{"$f":"'A5-Capex'!J56","v":0},{"$f":"'A5-Capex'!K56","v":0},{"$f":"'A5-Capex'!L56","v":0}]
[{"$f":"'A5-Capex'!A57","v":"Trading services"},null,{"$f":"SUM(C20:C23)","v":593501},{"$f":"SUM(D20:D23)","v":593501},593501,593501,593501,593501,593501,593501,593501,593501,593501,{"$f":"O19-SUM(C19:M19)","v":593505.79999999981},{"$f":"'A5-Capex'!J57","v":7122016.7999999998},{"$f":"'A5-Capex'!K57","v":2214777.39},{"$f":"'A5-Capex'!L57","v":2316657.15}]
[{"$f":"'A5-Capex'!A58","v":"Energy sources"},null,417053,417053,417053,417053,417053,417053,417053,417053,417053,417053,417053,417055.79999999981,{"$f":"'A5-Capex'!J58","v":5004638.8},{"$f":"'A5-Capex'!K58","v":0},{"$f":"'A5-Capex'!L58","v":0}]
[{"$f":"'A5-Capex'!A59","v":"Water management"},null,0,0,0,0,0,0,0,0,0,0,0,0,{"$f":"'A5-Capex'!J59","v":0},{"$f":"'A5-Capex'!K59","v":0},{"$f":"'A5-Capex'!L59","v":0}]
[{"$f":"'A5-Capex'!A60","v":"Waste water management"},null,0,0,0,0,0,0,0,0,0,0,0,0,{"$f":"'A5-Capex'!J60","v":0},{"$f":"'A5-Capex'!K60","v":0},{"$f":"'A5-Capex'!L60","v":0}]
[{"$f":"'A5-Capex'!A61","v":"Waste management"},null,176448,176448,176448,176448,176448,176448,176448,176448,176448,176448,176448,176450,{"$f":"'A5-Capex'!J61","v":2117378},{"$f":"'A5-Capex'!K61","v":2214777.39},{"$f":"'A5-Capex'!L61","v":2316657.15}]
[{"$f":"'A5-Capex'!A62","v":"Other"},null,0,0,0,0,0,0,0,0,0,0,0,{"$f":"O24-SUM(C24:M24)","v":0},{"$f":"'A5-Capex'!J62","v":0},{"$f":"'A5-Capex'!K62","v":0},{"$f":"'A5-Capex'!L62","v":0}]
[{"$f":"'A5-Capex'!A63","v":"Total Capital Expenditure - Functional"},2,{"$f":"C5+C9+C15+C19+C24","v":4931555},{"$f":"D5+D9+D15+D19+D24","v":4931555},4931555,4931555,4931555,4931555,4931555,4931555,4931555,4931555,4931555,{"$f":"N5+N9+N15+N19+N24","v":4931577.5899999989},59178682.589999996,45075588.920000002,47149065.989999995]
[]
["Funded by:"]
["National Government",null,2229917,2229917,2229917,2229917,2229917,2229917,2229917,2229917,2229917,2229917,2229917,{"$f":"O28-SUM(C28:M28)","v":2229912.9800000042},{"$f":"'A5-Capex'!J66","v":26758999.980000004},{"$f":"'A5-Capex'!K66","v":22826540.489999998},{"$f":"'A5-Capex'!L66","v":23876561.340000007}]
["Provincial Government",null,0,0,0,0,0,0,0,0,0,0,0,{"$f":"O29-SUM(C29:M29)","v":0},{"$f":"'A5-Capex'!J67","v":0},{"$f":"'A5-Capex'!K67","v":0},{"$f":"'A5-Capex'!L67","v":0}]
["District Municipality",null,0,0,0,0,0,0,0,0,0,0,0,0,{"$f":"'A5-Capex'!J68","v":0},{"$f":"'A5-Capex'!K68","v":0},{"$f":"'A5-Capex'!L68","v":0}]
["Other transfers and grants",null,0,0,0,0,0,0,0,0,0,0,0,{"$f":"O31-SUM(C31:M31)","v":0},{"$f":"'A5-Capex'!J69","v":0},{"$f":"'A5-Capex'!K69","v":0},{"$f":"'A5-Capex'!L69","v":0}]
["Transfers recognised - capital",null,{"$f":"SUM(C28:C31)","v":2229917},2229917,2229917,2229917,2229917,2229917,2229917,2229917,2229917,2229917,2229917,{"$f":"SUM(N28:N31)","v":2229912.9800000042},26758999.980000004,22826540.489999998,23876561.340000007]
[]
["Borrowing",null,0,0,0,0,0,0,0,0,0,0,0,0,{"$f":"'A5-Capex'!J72","v":0},{"$f":"'A5-Capex'!K72","v":0},{"$f":"'A5-Capex'!L72","v":0}]
["Internally generated funds",null,2514775,2514775,2514775,2514775,2514775,2514775,2514775,2514775,2514775,2514775,2514775,4757801.6099999994,{"$f":"'A5-Capex'!J73","v":32420326.609999999},{"$f":"'A5-Capex'!K73","v":22249000},{"$f":"'A5-Capex'!L73","v":23272438.66}]
["Total Capital Funding",null,{"$f":"+C32+C34+C35","v":4744692},{"$f":"+D32+D34+D35","v":4744692},4744692,4744692,4744692,4744692,4744692,4744692,4744692,4744692,4744692,6987714.5900000036,59179326.590000004,45075540.489999995,47149000.000000007]
[{"$f":"head27a","v":"References"}]
["1. Table should be completed as either Multi-Year expenditure appropriation or Budget Year and Forward Year estimates"]
[{"$f":"'SA28'!A44","v":"2. Total Capital Expenditure must reconcile to Budgeted Capital Expenditure"}]
["check"]

{"sheet":"SA30","index":51,"n_rows":63,"n_cols":19,"rows_kept":63,"cut":false,"hidden":false,"merged":[[1,13,1,15],[1,1,1,12],[56,0,56,15]]}
[{"$f":"muni&\" - \"& TableA30","v":"KZN434 Ubuhlebezwe - Supporting Table SA30 Budgeted monthly cash flow"}]
["MONTHLY CASH FLOWS",{"$f":"Head9","v":"Budget Year 2020/21"},null,null,null,null,null,null,null,null,null,null,null,"Medium Term Revenue and Expenditure Framework"]
["R thousand","July","August","Sept.","October","November","December","January","February","March","April","May","June",{"$f":"Head9","v":"Budget Year 2020/21"},{"$f":"Head10","v":"Budget Year +1 2021/22"},{"$f":"Head11","v":"Budget Year +2 2022/23"}]
["Cash Receipts By Source",null,null,null,null,null,null,null,null,null,null,null,null,1]
[{"$f":"'A4-FinPerf RE'!A5","v":"Property rates"},1025462.18,1025462.18,1025462.18,1025462.18,1025462.18,1025462.18,1025462.18,1025462.18,1025462.18,1025462.18,1025462.18,{"$f":"N5-SUM(B5:L5)","v":1025462.1800000016},12305546.16,{"$f":"N5*1.054","v":12970045.65264},{"$f":"O5*1.055","v":13683398.1635352},100001,100001,100001]
[{"$f":"'A4-FinPerf RE'!A6","v":"Service charges - electricity revenue"},0,0,0,0,0,0,0,0,0,0,0,0,0,0,0]
[{"$f":"'A4-FinPerf RE'!A7","v":"Service charges - water revenue"},0,0,0,0,0,0,0,0,0,0,0,0,0,0,0]
[{"$f":"'A4-FinPerf RE'!A8","v":"Service charges - sanitation revenue"},0,0,0,0,0,0,0,0,0,0,0,0,0,0,0]
[{"$f":"'A4-FinPerf RE'!A9","v":"Service charges - refuse revenue"},111381.17,111381.17,111381.17,111381.17,111381.17,111381.17,111381.17,111381.17,111381.17,111381.17,111381.17,111381.21999999997,1336574.0900000001,{"$f":"N9*1.054","v":1408749.0908600001},{"$f":"O9*1.055","v":1486230.2908572999}]
[]
[{"$f":"'A4-FinPerf RE'!A11","v":"Rental of facilities and equipment"},0,null,null,null,null,null,null,null,null,null,null,0,0,0,0]
[{"$f":"'A4-FinPerf RE'!A12","v":"Interest earned - external investments"},0,0,0,0,0,0,0,0,0,0,0,12000000,12000000,{"$f":"N12*1.045","v":12540000},{"$f":"O12*1.045","v":13104300}]
[{"$f":"'A4-FinPerf RE'!A13","v":"Interest earned - outstanding debtors"},0,0,0,0,0,0,0,0,0,0,0,0,0,0,0]
[{"$f":"'A4-FinPerf RE'!A14","v":"Dividends received"},0,0,0,0,0,0,0,0,0,0,0,0,0,0,0]
[{"$f":"'A4-FinPerf RE'!A15","v":"Fines, penalties and forfeits"},null,null,null,null,null,null,null,null,null,null,null,0,0,0,0]
[{"$f":"'A4-FinPerf RE'!A16","v":"Licences and permits"},null,null,null,null,null,null,null,null,null,null,null,0,0,0,0]
[{"$f":"'A4-FinPerf RE'!A17","v":"Agency services"},null,null,null,null,null,null,null,null,null,null,null,0,0,0,0]
["Transfer receipts - operational",20713549.309999999,20713549.309999999,20713549.309999999,20713549.309999999,20713549.309999999,20713549.309999999,20713549.309999999,20713549.309999999,20713549.309999999,20713549.309999999,20713549.309999999,-4582451.0657599866,223266591.34424001,{"$f":"N18*1.054","v":235322987.27682897},{"$f":"O18*1.055","v":248265751.57705456}]
[{"$f":"'A4-FinPerf RE'!A19","v":"Other revenue"},1266996.5,1266996.5,1266996.5,1266996.5,1266996.5,1266996.5,1266996.5,1266996.5,1266996.5,1266996.5,1266996.5,-4220613.6999999993,{"$f":"9716347.8","v":9716347.8000000007},{"$f":"N19*1.054","v":10241030.581200002},{"$f":"O19*1.055","v":10804287.263166001}]
["Cash Receipts by Source",{"$f":"SUM(B5:B9)+SUM(B11:B19)","v":23117389.16},{"$f":"SUM(C5:C9)+SUM(C11:C19)","v":23117389.16},23117389.16,23117389.16,23117389.16,23117389.16,23117389.16,23117389.16,23117389.16,23117389.16,23117389.16,4333778.6342400154,258625059.39424002,272482812.601529,287343967.29461306]
[]
["Other Cash Flows by Source"]
["Transfer receipts - capital",2229916.67,2229916.67,2229916.67,2229916.67,2229916.67,2229916.67,2229916.67,2229916.67,2229916.67,2229916.67,2229916.67,{"$f":"N23-SUM(B23:L23)","v":2229916.6299999952},26759000,27989914,29277450.039999999]
[{"$f":"'A4-FinPerf RE'!A39&\" & \"&'A4-FinPerf RE'!A40","v":"Transfers and subsidies - capital (monetary allocations) (National / Provincial Departmental Agencies, Households, Non-profit Institutions, Private Enterprises, Public Corporatons, Higher Educational Institutions) & Transfers and subsidies - capital (in-kind - all) "},0,0,0,0,0,0,0,0,0,0,0,0,0,0,0]
[{"$f":"'A7-CFlow'!A21","v":"Proceeds on disposal of PPE"},41666.67,41666.67,41666.67,41666.67,41666.67,41666.67,41666.67,41666.67,41666.67,41666.67,41666.67,-458333.36999999988,0,0,0]
[{"$f":"'A7-CFlow'!A31","v":"Short term loans"},0,0,0,0,0,0,0,0,0,0,0,0,0,0,0]
[{"$f":"'A7-CFlow'!A32","v":"Borrowing long term/refinancing"},0,0,0,0,0,0,0,0,0,0,0,0,0,0,0]
[{"$f":"'A7-CFlow'!A33","v":"Increase (decrease) in consumer deposits"},0,0,0,0,0,0,0,0,0,0,0,0,0,0,0]
[{"$f":"'A7-CFlow'!A22","v":"Decrease (Increase) in non-current debtors"},0,0,0,0,0,0,0,0,0,0,0,0,0,0,0]
[{"$f":"'A7-CFlow'!A23","v":"Decrease (increase) other non-current receivables"},0,0,0,0,0,0,0,0,0,0,0,0,0,0,0]
[{"$f":"'A7-CFlow'!A24","v":"Decrease (increase) in non-current investments"},0,0,0,0,0,0,0,0,0,0,0,0,0,0,0]
["Total Cash Receipts by Source",{"$f":"SUM(B20:B31)","v":25388972.5},25388972.5,25388972.5,25388972.5,25388972.5,25388972.5,25388972.5,25388972.5,25388972.5,25388972.5,25388972.5,6105361.8942400105,285384059.39424002,300472726.601529,316621417.33461308]
[]
["Cash Payments by Type"]
["Employee related costs",7046028.4400000004,7046028.4400000004,7046028.4400000004,7046028.4400000004,7046028.4400000004,7046028.4400000004,7046028.4400000004,7046028.4400000004,7046028.4400000004,7046028.4400000004,7046028.4400000004,{"$f":"N35-SUM(B35:L35)","v":7046028.4400000125},84552341.280000001,86463712.97999993,90441043.75999999]
["Remuneration of councillors",924777.92,924777.92,924777.92,924777.92,924777.92,924777.92,924777.92,924777.92,924777.92,924777.92,924777.92,924777.93999999948,11097335.060000001,11607812.470000001,12141771.85]
["Finance charges",0,0,0,0,0,0,0,0,0,0,0,0,0,0,0]
["Bulk purchases - Electricity",0,0,0,0,0,0,0,0,0,0,0,0,0,0,0]
["Bulk purchases - Water & Sewer",0,0,0,0,0,0,0,0,0,0,0,0,0,0,0]
["Other materials",93416.9,93416.9,93416.9,93416.9,93416.9,93416.9,93416.9,93416.9,93416.9,93416.9,93416.9,93416.899999999907,1121002.8,1172568.94,1226507.0899999999]
["Contracted services",1780073.53,1780073.53,1780073.53,1780073.53,1780073.53,1780073.53,1780073.53,1780073.53,1780073.53,1780073.53,1780073.53,1780073.4800000004,21360882.309999999,21053262.829999998,22021712.909999978]
["Transfers and grants - other municipalities",0,0,0,0,0,0,0,0,0,0,0,0,0,0,0]
["Transfers and grants - other",10862038.91,10862038.91,10862038.91,10862038.91,10862038.91,10862038.91,10862038.91,10862038.91,10862038.91,10862038.91,10862038.91,-14433961.465759963,105048466.54424001,{"$f":"N43*1.054","v":110721083.73762898},{"$f":"O43*1.055","v":116810743.34319857}]
["Other expenditure",2235696.39,2235696.39,2235696.39,2235696.39,2235696.39,2235696.39,2235696.39,2235696.39,2235696.39,2235696.39,2235696.39,2235696.4399999976,26828356.73,26866761.660000019,28102632.749999996]
["Cash Payments by Type",{"$f":"SUM(B35:B44)","v":22942032.090000004},22942032.090000004,22942032.090000004,22942032.090000004,22942032.090000004,22942032.090000004,22942032.090000004,22942032.090000004,22942032.090000004,22942032.090000004,22942032.090000004,-2353968.2657599524,{"$f":"SUM(N35:N44)","v":250008384.72424001},257885202.61762893,{"$f":"SUM(P35:P44)","v":270744411.70319855}]
[]
["Other Cash Flows/Payments by Type"]
[{"$f":"'A7-CFlow'!A26","v":"Capital assets"},4931556.88,4931556.88,4931556.88,4931556.88,4931556.88,4931556.88,4931556.88,4931556.88,4931556.88,4931556.88,4931556.88,{"$f":"N48-SUM(B48:L48)","v":4951556.9261818081},59198682.606181815,45075588.920000009,47149065.990000002]
[{"$f":"'A7-CFlow'!A35","v":"Repayment of borrowing"},0,0,0,0,0,0,0,0,0,0,0,{"$f":"N49-SUM(B49:L49)","v":0},0,0,0]
[{"$f":"LEFT(A47,25)","v":"Other Cash Flows/Payments"},0,0,0,0,0,0,0,0,0,0,0,{"$f":"N50-SUM(B50:L50)","v":0},0,0,0]
["Total Cash Payments by Type",{"$f":"SUM(B45:B50)","v":27873588.970000003},{"$f":"SUM(C45:C50)","v":27873588.970000003},27873588.970000003,27873588.970000003,27873588.970000003,27873588.970000003,27873588.970000003,27873588.970000003,27873588.970000003,27873588.970000003,27873588.970000003,2597588.6604218557,309207067.33042181,302960791.53762895,317893477.69319856,null,"Check"]
[]
["NET INCREASE/(DECREASE) IN CASH HELD",{"$f":"B32-B51","v":-2484616.4700000025},-2484616.4700000025,-2484616.4700000025,-2484616.4700000025,-2484616.4700000025,-2484616.4700000025,-2484616.4700000025,-2484616.4700000025,-2484616.4700000025,-2484616.4700000025,-2484616.4700000025,3507773.2338181548,-23823007.936181784,-2488064.9360999465,-1272060.3585854769]
["Cash/cash equivalents at the month/year begin:",187174450,{"$f":"B55","v":184689833.53},{"$f":"C55","v":182205217.06},179720600.59,177235984.12,174751367.65000001,172266751.18000001,169782134.71000001,167297518.24000001,164812901.77000001,162328285.30000001,159843668.83000001,{"$f":"B54","v":187174450},{"$f":"N55","v":163351442.06381822},{"$f":"O55","v":160863377.12771827}]
["Cash/cash equivalents at the month/year end:",{"$f":"B54+B53","v":184689833.53},{"$f":"C54+C53","v":182205217.06},{"$f":"D54+D53","v":179720600.59},177235984.12,174751367.65000001,172266751.18000001,169782134.71000001,167297518.24000001,164812901.77000001,162328285.30000001,159843668.83000001,163351442.06381816,163351442.06381822,160863377.12771827,159591316.76913279]
[{"$f":"head27a","v":"References"}]
["1. Note that this section of Table SA 30 is deliberately not linked to Table A4 because timing differences between the invoicing of clients and receiving the cash means that the cashflow will differ from budgeted revenue, and similarly for budgeted expenditure. However for the MTREF it is now directly linked to A7."]
[]
[]
[]
[]
[null,null,null,null,{"$f":"E45+E61","v":22942032.090000004},22942032.090000004,22942032.090000004,22942032.090000004,22942032.090000004,22942032.090000004,22942032.090000004,22942032.090000004,-2353968.2657599524,250008384.72424001,257885202.61762893,270744411.70319855]
[null,null,null,null,{"$f":"E53-E61","v":-2484616.4700000025},-2484616.4700000025,-2484616.4700000025,-2484616.4700000025,-2484616.4700000025,-2484616.4700000025,-2484616.4700000025,-2484616.4700000025,3507773.2338181548,-23823007.936181784,-2488064.9360999465,-1272060.3585854769]

{"sheet":"SA31","index":52,"n_rows":41,"n_cols":11,"rows_kept":41,"cut":false,"hidden":false,"merged":[[1,5,1,7],[1,8,1,10],[1,1,2,1]]}
[{"$f":"muni&\" - \"& TableA31","v":"KZN434 Ubuhlebezwe - NOT REQUIRED - municipality does not have entities"}]
[{"$f":"desc","v":"Description"},{"$f":"head27","v":"Ref"},{"$f":"head1b","v":"2016/17"},{"$f":"head1A","v":"2017/18"},{"$f":"Head1","v":"2018/19"},{"$f":"Head2","v":"Current Year 2019/20"},null,null,{"$f":"Head3","v":"2020/21 Medium Term Revenue & Expenditure Framework"}]
["R million",null,{"$f":"Head5","v":"Audited Outcome"},{"$f":"Head5","v":"Audited Outcome"},{"$f":"Head5","v":"Audited Outcome"},{"$f":"Head6","v":"Original Budget"},{"$f":"Head7","v":"Adjusted Budget"},{"$f":"Head8","v":"Full Year Forecast"},{"$f":"Head9","v":"Budget Year 2020/21"},{"$f":"Head10","v":"Budget Year +1 2021/22"},{"$f":"Head11","v":"Budget Year +2 2022/23"}]
["Financial Performance"]
[{"$f":"'A1-Sum'!A5","v":"Property rates"}]
[{"$f":"'A1-Sum'!A6","v":"Service charges"}]
[{"$f":"'A1-Sum'!A7","v":"Investment revenue"}]
[{"$f":"'A1-Sum'!A8","v":"Transfers recognised - operational"}]
[{"$f":"'A1-Sum'!A9","v":"Other own revenue"}]
[{"$f":"'A1-Sum'!A21","v":"Contributions recognised - capital & contributed assets"}]
[{"$f":"'A4-FinPerf RE'!A21","v":"Total Revenue (excluding capital transfers and contributions)"},null,{"$f":"SUM(C5:C10)","v":0},{"$f":"SUM(D5:D10)","v":0},{"$f":"SUM(E5:E10)","v":0},0,0,0,0,0,0]
[{"$f":"'A1-Sum'!A11","v":"Employee costs"}]
["Remuneration of Board Members"]
[{"$f":"'A1-Sum'!A13","v":"Depreciation & asset impairment"}]
[{"$f":"'A1-Sum'!A14","v":"Finance charges"}]
[{"$f":"'A1-Sum'!A15","v":"Materials and bulk purchases"}]
[{"$f":"'A1-Sum'!A16","v":"Transfers and grants"}]
[{"$f":"'A1-Sum'!A17","v":"Other expenditure"}]
[{"$f":"'A4-FinPerf RE'!A35","v":"Total Expenditure"},null,{"$f":"SUM(C12:C18)","v":0},{"$f":"SUM(D12:D18)","v":0},0,0,0,0,0,0,0]
[{"$f":"'A4-FinPerf RE'!A37","v":"Surplus/(Deficit)"},null,{"$f":"C11-C19","v":0},{"$f":"D11-D19","v":0},0,0,0,0,0,0,0]
[]
["Capital expenditure & funds sources"]
["Capital expenditure"]
[{"$f":"A8","v":"Transfers recognised - operational"}]
[]
[{"$f":"'A5-Capex'!A72","v":"Borrowing"}]
[{"$f":"'A5-Capex'!A73","v":"Internally generated funds"}]
["Total sources",null,{"$f":"+C24+C26+C27","v":0},{"$f":"+D24+D26+D27","v":0},0,0,0,0,0,0,0]
[]
["Financial position"]
[{"$f":"'A6-FinPos'!A12","v":"Total current assets"}]
[{"$f":"'A6-FinPos'!A24","v":"Total non current assets"}]
[{"$f":"'A6-FinPos'!A34","v":"Total current liabilities"}]
[{"$f":"'A6-FinPos'!A39","v":"Total non current liabilities"}]
["Equity"]
[]
["Cash flows"]
[{"$f":"'A1-Sum'!A42","v":"Net cash from (used) operating"}]
[{"$f":"'A1-Sum'!A43","v":"Net cash from (used) investing"}]
[{"$f":"'A1-Sum'!A44","v":"Net cash from (used) financing"}]
[{"$f":"'A1-Sum'!A45","v":"Cash/cash equivalents at the year end"}]

{"sheet":"SA32","index":53,"n_rows":27,"n_cols":6,"rows_kept":27,"cut":false,"hidden":false,"merged":[[1,3,2,3],[1,4,2,4],[1,1,2,1]]}
[{"$f":"muni&\" - \"&TableA32","v":"KZN434 Ubuhlebezwe - Supporting Table SA32 List of external mechanisms"}]
["External mechanism","Yrs/ Mths","Period of agreement 1.","Service provided","Expiry date of service delivery agreement or contract","Monetary value of agreement 2."]
["Name of organisation",null,"Number",null,null,"R thousand"]
[]
[]
[]
[]
[]
[]
[]
[]
[]
[]
[]
[]
[]
[]
[]
[]
[]
[]
[]
[]
[]
[{"$f":"head27a","v":"References"}]
["1. Total agreement period from commencement until end"]
["2. Annual value"]

{"sheet":"SA33","index":54,"n_rows":48,"n_cols":15,"rows_kept":48,"cut":false,"hidden":false,"merged":[[1,4,1,6],[47,0,47,13]]}
[{"$f":"muni&\" - \"& TableA33","v":"KZN434 Ubuhlebezwe - Supporting Table SA33 Contracts having future budgetary implications"}]
[{"$f":"desc","v":"Description"},{"$f":"head27","v":"Ref"},"Preceding Years",{"$f":"Head2","v":"Current Year 2019/20"},{"$f":"Head3","v":"2020/21 Medium Term Revenue & Expenditure Framework"},null,null,{"$f":"Head12","v":"Forecast 2023/24"},{"$f":"Head13","v":"Forecast 2024/25"},{"$f":"Head14","v":"Forecast 2025/26"},{"$f":"Head15","v":"Forecast 2026/27"},{"$f":"Head16","v":"Forecast 2027/28"},{"$f":"Head17","v":"Forecast 2028/29"},{"$f":"Head18","v":"Forecast 2029/30"},"Total Contract Value"]
["R thousand","1,3","Total",{"$f":"Head6","v":"Original Budget"},{"$f":"Head9","v":"Budget Year 2020/21"},{"$f":"Head10","v":"Budget Year +1 2021/22"},{"$f":"Head11","v":"Budget Year +2 2022/23"},"Estimate","Estimate","Estimate","Estimate","Estimate","Estimate","Estimate","Estimate"]
["Parent Municipality:"]
["Revenue Obligation By Contract",2]
["Contract 1",null,null,null,null,null,null,null,null,null,null,null,null,null,{"$f":"SUM(C6:N6)","v":0}]
["Contract 2",null,null,null,null,null,null,null,null,null,null,null,null,null,{"$f":"SUM(C7:N7)","v":0}]
["Contract 3 etc",null,null,null,null,null,null,null,null,null,null,null,null,null,{"$f":"SUM(C8:N8)","v":0}]
["Total Operating Revenue Implication",null,{"$f":"SUM(C6:C8)","v":0},{"$f":"SUM(D6:D8)","v":0},0,0,0,0,0,0,0,0,0,0,{"$f":"SUM(C9:N9)","v":0}]
[]
["Expenditure Obligation By Contract",2]
["Contract 1",null,null,null,null,null,null,null,null,null,null,null,null,null,{"$f":"SUM(C12:N12)","v":0}]
["Contract 2",null,null,null,null,null,null,null,null,null,null,null,null,null,{"$f":"SUM(C13:N13)","v":0}]
["Contract 3 etc",null,null,null,null,null,null,null,null,null,null,null,null,null,{"$f":"SUM(C14:N14)","v":0}]
["Total Operating Expenditure Implication",null,{"$f":"SUM(C12:C14)","v":0},0,0,0,0,0,0,0,0,0,0,0,{"$f":"SUM(C15:N15)","v":0}]
[]
["Capital Expenditure Obligation By Contract",2]
["Contract 1",null,null,null,null,null,null,null,null,null,null,null,null,null,{"$f":"SUM(C18:N18)","v":0}]
["Contract 2",null,null,null,null,null,null,null,null,null,null,null,null,null,{"$f":"SUM(C19:N19)","v":0}]
["Contract 3 etc",null,null,null,null,null,null,null,null,null,null,null,null,null,{"$f":"SUM(C20:N20)","v":0}]
["Total Capital Expenditure Implication",null,{"$f":"SUM(C18:C20)","v":0},0,0,0,0,0,0,0,0,0,0,0,{"$f":"SUM(C21:N21)","v":0}]
[]
["Total Parent Expenditure Implication",null,{"$f":"C15+C21","v":0},{"$f":"D15+D21","v":0},0,0,0,0,0,0,0,0,0,0,0]
[]
["Entities:"]
["Revenue Obligation By Contract",2]
["Contract 1",null,null,null,null,null,null,null,null,null,null,null,null,null,{"$f":"SUM(C27:N27)","v":0}]
["Contract 2",null,null,null,null,null,null,null,null,null,null,null,null,null,{"$f":"SUM(C28:N28)","v":0}]
["Contract 3 etc",null,null,null,null,null,null,null,null,null,null,null,null,null,{"$f":"SUM(C29:N29)","v":0}]
["Total Operating Revenue Implication",null,{"$f":"SUM(C27:C29)","v":0},0,0,0,0,0,0,0,0,0,0,0,{"$f":"SUM(C30:N30)","v":0}]
[]
["Expenditure Obligation By Contract",2]
["Contract 1",null,null,null,null,null,null,null,null,null,null,null,null,null,{"$f":"SUM(C33:N33)","v":0}]
["Contract 2",null,null,null,null,null,null,null,null,null,null,null,null,null,{"$f":"SUM(C34:N34)","v":0}]
["Contract 3 etc",null,null,null,null,null,null,null,null,null,null,null,null,null,{"$f":"SUM(C35:N35)","v":0}]
["Total Operating Expenditure Implication",null,{"$f":"SUM(C33:C35)","v":0},0,0,0,0,0,0,0,0,0,0,0,{"$f":"SUM(C36:N36)","v":0}]
[]
["Capital Expenditure Obligation By Contract",2]
["Contract 1",null,null,null,null,null,null,null,null,null,null,null,null,null,{"$f":"SUM(C39:N39)","v":0}]
["Contract 2",null,null,null,null,null,null,null,null,null,null,null,null,null,{"$f":"SUM(C40:N40)","v":0}]
["Contract 3 etc",null,null,null,null,null,null,null,null,null,null,null,null,null,{"$f":"SUM(C41:N41)","v":0}]
["Total Capital Expenditure Implication",null,{"$f":"SUM(C39:C41)","v":0},0,0,0,0,0,0,0,0,0,0,0,{"$f":"SUM(C42:N42)","v":0}]
[]
["Total Entity Expenditure Implication",null,{"$f":"C36+C42","v":0},{"$f":"D36+D42","v":0},0,0,0,0,0,0,0,0,0,0,0]
[{"$f":"head27a","v":"References"}]
["1. Total implication for all preceding years to be summed and total stated in 'Preceding Years' column"]
["2. List all contracts with future financial obligations beyond the three years covered by the MTREF (MFMA s33)"]
["3. For municipalities with approved total revenue not exceeding R250 m - all contracts with an annual cost greater than R500 000. For municipalities with approved total revenue greater than R250 m - all contracts with an annual cost greater than R1million. For municipalities with approved total revenue greater than R500 m - all contracts with an annual cost greater than R5 million"]

{"sheet":"SA34a","index":55,"n_rows":173,"n_cols":11,"rows_kept":173,"cut":false,"hidden":false,"merged":[[1,5,1,7],[1,8,1,10]]}
[{"$f":"muni&\" - \"&TableA34a","v":"KZN434 Ubuhlebezwe - Supporting Table SA34a Capital expenditure on new assets by asset class"}]
[{"$f":"desc","v":"Description"},{"$f":"head27","v":"Ref"},{"$f":"head1b","v":"2016/17"},{"$f":"head1A","v":"2017/18"},{"$f":"Head1","v":"2018/19"},{"$f":"Head2","v":"Current Year 2019/20"},null,null,{"$f":"Head3","v":"2020/21 Medium Term Revenue & Expenditure Framework"}]
["R thousand",1,{"$f":"Head5","v":"Audited Outcome"},{"$f":"Head5","v":"Audited Outcome"},{"$f":"Head5","v":"Audited Outcome"},{"$f":"Head6","v":"Original Budget"},{"$f":"Head7","v":"Adjusted Budget"},{"$f":"Head8","v":"Full Year Forecast"},{"$f":"Head9","v":"Budget Year 2020/21"},{"$f":"Head10","v":"Budget Year +1 2021/22"},{"$f":"Head11","v":"Budget Year +2 2022/23"}]
["Capital expenditure on new assets by Asset Class/Sub-class"]
[]
["Infrastructure",null,{"$f":"C7+C12+C16+C26+C37+C44+C52+C62+C68","v":10120102},{"$f":"D7+D12+D16+D26+D37+D44+D52+D62+D68","v":4323732},39914240,11171296.84,10947431.98,10947431.98,26116007.75,12620499.550000001,13201042.519999998]
["Roads Infrastructure",null,{"$f":"SUM(C8:C11)","v":10120102},4323732,23462159,11171296.84,10947431.98,10947431.98,21111368.949999999,12620499.550000001,13201042.519999998]
["Roads",null,10120102,{"$f":"24286732-19963000","v":4323732},{"$f":"3460452+20001707","v":23462159},11171296.84,10947431.98,10947431.98,21111368.949999999,12620499.550000001,13201042.519999998]
["Road Structures",null,0,0,0,0,0,0,0,0,0]
["Road Furniture",null,0,0,0,0,0,0,0,0,0]
["Capital Spares",null,0,0,0,0,0,0,0,0,0]
["Storm water Infrastructure",null,{"$f":"SUM(C13:C15)","v":0},{"$f":"SUM(D13:D15)","v":0},0,0,0,0,0,0,0]
["Drainage Collection",null,0,0,0,0,0,0,0,0,0]
["Storm water Conveyance",null,0,0,0,0,0,0,0,0,0]
["Attenuation",null,0,0,0,0,0,0,0,0,0]
["Electrical Infrastructure",null,{"$f":"SUM(C17:C25)","v":0},0,6727218,0,0,0,5004638.8,0,0]
["Power Plants",null,0,0,0,0,0,0,0,0,0]
["HV Substations",null,0,0,0,0,0,0,0,0,0]
["HV Switching Station",null,0,0,0,0,0,0,0,0,0]
["HV Transmission Conductors",null,0,0,0,0,0,0,0,0,0]
["MV Substations",null,0,0,0,0,0,0,0,0,0]
["MV Switching Stations",null,0,0,0,0,0,0,0,0,0]
["MV Networks",null,0,0,0,0,0,0,0,0,0]
["LV Networks",null,0,0,6727218,0,0,0,0,0,0]
["Capital Spares",null,0,0,0,0,0,0,5004638.8,0,0]
["Water Supply Infrastructure",null,{"$f":"SUM(C27:C36)","v":0},{"$f":"SUM(D27:D36)","v":0},0,0,0,0,0,0,0]
["Dams and Weirs",null,0,0,0,0,0,0,0,0,0]
["Boreholes",null,0,0,0,0,0,0,0,0,0]
["Reservoirs",null,0,0,0,0,0,0,0,0,0]
["Pump Stations",null,0,0,0,0,0,0,0,0,0]
["Water Treatment Works",null,0,0,0,0,0,0,0,0,0]
["Bulk Mains",null,0,0,0,0,0,0,0,0,0]
["Distribution",null,0,0,0,0,0,0,0,0,0]
["Distribution Points",null,0,0,0,0,0,0,0,0,0]
["PRV Stations",null,0,0,0,0,0,0,0,0,0]
["Capital Spares",null,0,0,0,0,0,0,0,0,0]
["Sanitation Infrastructure",null,{"$f":"SUM(C38:C43)","v":0},{"$f":"SUM(D38:D43)","v":0},0,0,0,0,0,0,0]
["Pump Station",null,0,0,0,0,0,0,0,0,0]
["Reticulation",null,0,0,0,0,0,0,0,0,0]
["Waste Water Treatment Works",null,0,0,0,0,0,0,0,0,0]
["Outfall Sewers",null,0,0,0,0,0,0,0,0,0]
["Toilet Facilities",null,0,0,0,0,0,0,0,0,0]
["Capital Spares",null,0,0,0,0,0,0,0,0,0]
["Solid Waste Infrastructure",null,{"$f":"SUM(C45:C51)","v":0},{"$f":"SUM(D45:D51)","v":0},0,0,0,0,0,0,0]
["Landfill Sites",null,0,0,0,0,0,0,0,0,0]
["Waste Transfer Stations",null,0,0,0,0,0,0,0,0,0]
["Waste Processing Facilities",null,0,0,0,0,0,0,0,0,0]
["Waste Drop-off Points",null,0,0,0,0,0,0,0,0,0]
["Waste Separation Facilities",null,0,0,0,0,0,0,0,0,0]
["Electricity Generation Facilities",null,0,0,0,0,0,0,0,0,0]
["Capital Spares",null,0,0,0,0,0,0,0,0,0]
["Rail Infrastructure",null,{"$f":"SUM(C53:C61)","v":0},0,0,0,0,0,0,0,0]
["Rail Lines",null,0,0,0,0,0,0,0,0,0]
["Rail Structures",null,0,0,0,0,0,0,0,0,0]
["Rail Furniture",null,0,0,0,0,0,0,0,0,0]
["Drainage Collection",null,0,0,0,0,0,0,0,0,0]
["Storm water Conveyance",null,0,0,0,0,0,0,0,0,0]
["Attenuation",null,0,0,0,0,0,0,0,0,0]
["MV Substations",null,0,0,0,0,0,0,0,0,0]
["LV Networks",null,0,0,0,0,0,0,0,0,0]
["Capital Spares",null,0,0,0,0,0,0,0,0,0]
["Coastal Infrastructure",null,{"$f":"SUM(C63:C67)","v":0},{"$f":"SUM(D63:D67)","v":0},9724863,0,0,0,0,0,0]
["Sand Pumps",null,0,0,0,0,0,0,0,0,0]
["Piers",null,0,0,0,0,0,0,0,0,0]
["Revetments",null,0,0,9724863,0,0,0,0,0,0]
["Promenades",null,0,0,0,0,0,0,0,0,0]
["Capital Spares",null,0,0,0,0,0,0,0,0,0]
["Information and Communication Infrastructure",null,{"$f":"SUM(C69:C72)","v":0},{"$f":"SUM(D69:D72)","v":0},0,0,0,0,0,0,0]
["Data Centres",null,0,0,0,0,0,0,0,0,0]
["Core Layers",null,0,0,0,0,0,0,0,0,0]
["Distribution Layers",null,0,0,0,0,0,0,0,0,0]
["Capital Spares",null,0,0,0,0,0,0,0,0,0]
[]
["Community Assets",null,{"$f":"C75+C98","v":51358426},{"$f":"D75+D98","v":8123461},5000000,19278583.649999999,20952397.940000001,20952397.940000001,8817845.6999999993,9223466.6099999994,9647746.0700000003]
["Community Facilities",null,{"$f":"SUM(C76:C97)","v":51358426},{"$f":"SUM(D76:D97)","v":8123461},3000000,15915618.890000001,16004866.350000001,16004866.350000001,5333312.8100000005,5578645.2000000002,5835262.8799999999]
["Halls",null,49218186,8123461,0,1355859.89,2192319.41,2192319.41,5103312.8100000005,5338065.2,5583616.2000000002]
["Centres",null,0,0,0,0,0,0,0,0,0]
["Crèches",null,0,0,0,0,0,0,0,0,0]
["Clinics/Care Centres",null,0,0,0,0,0,0,0,0,0]
["Fire/Ambulance Stations",null,0,0,3000000,14259759,13512546.940000001,13512546.940000001,0,0,0]
["Testing Stations",null,0,0,0,0,0,0,0,0,0]
["Museums",null,0,0,0,0,0,0,0,0,0]
["Galleries",null,0,0,0,0,0,0,0,0,0]
["Theatres",null,0,0,0,0,0,0,0,0,0]
["Libraries",null,0,0,0,0,0,0,0,0,0]
["Cemeteries/Crematoria",null,0,0,0,0,0,0,0,0,0]
["Police",null,0,0,0,0,0,0,0,0,0]
["Parks",null,0,0,0,0,0,0,0,0,0]
["Public Open Space",null,0,0,0,0,0,0,0,0,0]
["Nature Reserves",null,2140240,0,0,0,0,0,0,0,0]
["Public Ablution Facilities",null,0,0,0,0,0,0,230000,240580,251646.68]
["Markets",null,0,0,0,0,0,0,0,0,0]
["Stalls",null,0,0,0,0,0,0,0,0,0]
["Abattoirs",null,0,0,0,0,0,0,0,0,0]
["Airports",null,0,0,0,0,0,0,0,0,0]
["Taxi Ranks/Bus Terminals",null,0,0,0,0,0,0,0,0,0]
["Capital Spares",null,0,0,0,300000,300000,300000,0,0,0]
["Sport and Recreation Facilities",null,{"$f":"SUM(C99:C101)","v":0},{"$f":"SUM(D99:D101)","v":0},2000000,3362964.76,4947531.59,4947531.59,3484532.8899999997,3644821.41,3812483.19]
["Indoor Facilities",null,0,0,0,0,0,0,0,0,0]
["Outdoor Facilities",null,0,0,2000000,3362964.76,4947531.59,4947531.59,3484532.8899999997,3644821.41,3812483.19]
["Capital Spares",null,0,0,0,0,0,0,0,0,0]
[]
["Heritage assets",null,{"$f":"SUM(C104:C108)","v":0},{"$f":"SUM(D104:D108)","v":0},0,0,0,0,0,0,0]
["Monuments",null,0,0,0,0,0,0,0,0,0]
["Historic Buildings",null,0,0,0,0,0,0,0,0,0]
["Works of Art",null,0,0,0,0,0,0,0,0,0]
["Conservation Areas",null,0,0,0,0,0,0,0,0,0]
["Other Heritage",null,0,0,0,0,0,0,0,0,0]
[]
["Investment properties",null,{"$f":"+C111+C114","v":0},{"$f":"+D111+D114","v":0},0,0,0,0,0,0,0]
["Revenue Generating",null,{"$f":"SUM(C112:C113)","v":0},0,0,0,0,0,0,0,0]
["Improved Property",null,0,0,0,0,0,0,0,0,0]
["Unimproved Property",null,0,0,0,0,0,0,0,0,0]
["Non-revenue Generating",null,{"$f":"SUM(C115:C116)","v":0},{"$f":"SUM(D115:D116)","v":0},0,0,0,0,0,0,0]
["Improved Property",null,0,0,0,0,0,0,0,0,0]
["Unimproved Property",null,0,0,0,0,0,0,0,0,0]
[]
["Other assets",null,{"$f":"+C119+C131","v":555985},{"$f":"+D119+D131","v":2237941},512000,3302000,3436000,3436000,1465000,1323190,1384056.74]
["Operational Buildings",null,{"$f":"SUM(C120:C130)","v":555985},{"$f":"SUM(D120:D130)","v":2237941},500000,3302000,3436000,3436000,1360000,1213360,1269174.56]
["Municipal Offices",null,555985,2237941,500000,122000,122000,122000,95000,99370,103941.01999999999]
["Pay/Enquiry Points",null,0,0,0,0,0,0,0,0,0]
["Building Plan Offices",null,0,0,0,0,0,0,0,0,0]
["Workshops",null,0,0,0,2100000,2100000,2100000,100000,104600,109411.6]
["Yards",null,0,0,0,0,0,0,500000,313800,328234.8]
["Stores",null,0,0,0,0,0,0,0,0,0]
["Laboratories",null,0,0,0,0,0,0,0,0,0]
["Training Centres",null,0,0,0,0,0,0,0,0,0]
["Manufacturing Plant",null,0,0,0,0,0,0,0,0,0]
["Depots",null,0,0,0,0,0,0,50000,52300,54705.8]
["Capital Spares",null,0,0,0,1080000,1214000,1214000,615000,643290,672881.34]
["Housing",null,{"$f":"SUM(C132:C134)","v":0},{"$f":"SUM(D132:D134)","v":0},12000,0,0,0,105000,109830,114882.18000000001]
["Staff Housing",null,0,0,0,0,0,0,100000,104600,109411.6]
["Social Housing",null,0,0,0,0,0,0,0,0,0]
["Capital Spares",null,0,0,12000,0,0,0,5000,5230,5470.58]
[]
["Biological or Cultivated Assets",null,{"$f":"SUM(C137:C137)","v":0},0,0,0,0,0,0,0,0]
["Biological or Cultivated Assets",null,0,0,0,0,0,0,0,0,0]
[]
["Intangible Assets",null,{"$f":"+C140+C141","v":0},{"$f":"+D140+D141","v":0},75000,2900000,2900000,2900000,2310000,2416260,2527407.96]
["Servitudes",null,0,0,0,0,0,0,0,0,0]
["Licences and Rights",null,{"$f":"SUM(C142:C147)","v":0},{"$f":"SUM(D142:D147)","v":0},75000,2900000,2900000,2900000,2310000,2416260,2527407.96]
["Water Rights",null,0,0,0,0,0,0,0,0,0]
["Effluent Licenses",null,0,0,0,0,0,0,0,0,0]
["Solid Waste Licenses",null,0,0,0,0,0,0,0,0,0]
["Computer Software and Applications",null,0,0,0,2900000,2900000,2900000,2150000,2248900,2352349.4]
["Load Settlement Software Applications",null,0,0,0,0,0,0,0,0,0]
["Unspecified",null,0,0,75000,0,0,0,160000,167360,175058.56]
[]
["Computer Equipment",null,{"$f":"SUM(C150:C150)","v":0},35813,1198000,640000,890000,890000,843200,0,0]
["Computer Equipment",null,0,35813,1198000,640000,890000,890000,843200,0,0]
[]
["Furniture and Office Equipment",null,{"$f":"SUM(C153:C153)","v":820120},360840,231382,719000,790805.89,790805.89,648000,343088,358870.05000000005]
["Furniture and Office Equipment",null,820120,360840,231382,719000,790805.89,790805.89,648000,343088,358870.05000000005]
[]
["Machinery and Equipment",null,{"$f":"SUM(C156:C156)","v":0},1747810,227182,15113941,11900124.800000001,11900124.800000001,1914978,1229026.99,1285562.2299999997]
["Machinery and Equipment",null,0,{"$f":"1747499+311","v":1747810},227182,15113941,11900124.800000001,11900124.800000001,1914978,1229026.99,1285562.2299999997]
[]
["Transport Assets",null,{"$f":"SUM(C159:C159)","v":1840210},1227734,650166,2510000,1950000,1950000,3940000,4121240,4310817.04]
["Transport Assets",null,1840210,1227734,650166,2510000,1950000,1950000,3940000,4121240,4310817.04]
[]
["Land",null,{"$f":"SUM(C162:C162)","v":0},0,0,0,0,0,1000000,1046000,1094116]
["Land",null,0,0,0,0,0,0,1000000,1046000,1094116]
[]
["Zoo's, Marine and Non-biological Animals",null,{"$f":"SUM(C165:C165)","v":0},0,0,0,0,0,0,0,0]
["Zoo's, Marine and Non-biological Animals",null,0,0,0,0,0,0,0,0,0]
[]
["Total Capital Expenditure on new assets ",1,{"$f":"C6+C74+C103+C110+C118+C136+C139+C149+C152+C155+C158+C161+C164","v":64694843},{"$f":"D6+D74+D103+D110+D118+D136+D139+D149+D152+D155+D158+D161+D164","v":18057331},47807970,55634821.489999995,53766760.609999999,53766760.609999999,47055031.450000003,32322771.149999999,33809618.609999999]
[]
[{"$f":"head27a","v":"References"}]
["1. Total Capital Expenditure on new assets (SA34a) plus Total Capital Expenditure on renewal of existing assets (SA34b) plus Total Capital Expenditure  on upgrading of existing assets (SA34e) must reconcile to total capital expenditure in Budgeted Capital Expenditure"]
[]
[]
["check balance",null,{"$f":"SUM(C167+SA34b!C167++SA34e!C167)-'A5-Capex'!C40","v":0},{"$f":"SUM(D167+SA34b!D167++SA34e!D167)-'A5-Capex'!D40","v":-0.12000000476837158},{"$f":"SUM(E167+SA34b!E167++SA34e!E167)-'A5-Capex'!E40","v":0.48999999463558197},{"$f":"SUM(F167+SA34b!F167++SA34e!F167)-'A5-Capex'!F40","v":0},{"$f":"SUM(G167+SA34b!G167++SA34e!G167)-'A5-Capex'!G40","v":0},{"$f":"SUM(H167+SA34b!H167++SA34e!H167)-'A5-Capex'!H40","v":0},{"$f":"SUM(I167+SA34b!I167++SA34e!I167)-'A5-Capex'!I40","v":-17275491.649999991},{"$f":"SUM(J167+SA34b!J167++SA34e!J167)-'A5-Capex'!J40","v":-14103093.669999994},{"$f":"SUM(K167+SA34b!K167++SA34e!K167)-'A5-Capex'!K40","v":2073477.0700000003}]

{"sheet":"SA34b","index":56,"n_rows":175,"n_cols":11,"rows_kept":175,"cut":false,"hidden":false,"merged":[[1,5,1,7],[1,8,1,10]]}
[{"$f":"muni&\" - \"&TableA34b","v":"KZN434 Ubuhlebezwe - Supporting Table SA34b Capital expenditure on the renewal of existing assets by asset class"}]
[{"$f":"desc","v":"Description"},{"$f":"head27","v":"Ref"},{"$f":"head1b","v":"2016/17"},{"$f":"head1A","v":"2017/18"},{"$f":"Head1","v":"2018/19"},{"$f":"Head2","v":"Current Year 2019/20"},null,null,{"$f":"Head3","v":"2020/21 Medium Term Revenue & Expenditure Framework"}]
["R thousand",1,{"$f":"Head5","v":"Audited Outcome"},{"$f":"Head5","v":"Audited Outcome"},{"$f":"Head5","v":"Audited Outcome"},{"$f":"Head6","v":"Original Budget"},{"$f":"Head7","v":"Adjusted Budget"},{"$f":"Head8","v":"Full Year Forecast"},{"$f":"Head9","v":"Budget Year 2020/21"},{"$f":"Head10","v":"Budget Year +1 2021/22"},{"$f":"Head11","v":"Budget Year +2 2022/23"}]
["Capital expenditure on renewal of existing assets by Asset Class/Sub-class"]
[]
["Infrastructure",null,{"$f":"C7+C12+C16+C26+C37+C44+C52+C62+C68","v":8622659},{"$f":"D7+D12+D16+D26+D37+D44+D52+D62+D68","v":10624593.700000001},4126792.1399999997,6599316.8200000003,5009741.7699999996,5009741.7699999996,786450.08000000007,822626.79,860467.62]
["Roads Infrastructure",null,{"$f":"SUM(C8:C11)","v":8622659},10624593.700000001,4126792.1399999997,6599316.8200000003,5009741.7699999996,5009741.7699999996,786450.08000000007,822626.79,860467.62]
["Roads",null,8622659,10624593.700000001,4126792.1399999997,6599316.8200000003,5009741.7699999996,5009741.7699999996,786450.08000000007,822626.79,860467.62]
["Road Structures",null,0,0,0,0,0,0,0,0,0]
["Road Furniture",null,0,0,0,0,0,0,0,0,0]
["Capital Spares",null,0,0,0,0,0,0,0,0,0]
["Storm water Infrastructure",null,{"$f":"SUM(C13:C15)","v":0},{"$f":"SUM(D13:D15)","v":0},0,0,0,0,0,0,0]
["Drainage Collection",null,0,0,0,0,0,0,0,0,0]
["Storm water Conveyance",null,0,0,0,0,0,0,0,0,0]
["Attenuation",null,0,0,0,0,0,0,0,0,0]
["Electrical Infrastructure",null,{"$f":"SUM(C17:C25)","v":0},0,0,0,0,0,0,0,0]
["Power Plants",null,0,0,0,0,0,0,0,0,0]
["HV Substations",null,0,0,0,0,0,0,0,0,0]
["HV Switching Station",null,0,0,0,0,0,0,0,0,0]
["HV Transmission Conductors",null,0,0,0,0,0,0,0,0,0]
["MV Substations",null,0,0,0,0,0,0,0,0,0]
["MV Switching Stations",null,0,0,0,0,0,0,0,0,0]
["MV Networks",null,0,0,0,0,0,0,0,0,0]
["LV Networks",null,0,0,0,0,0,0,0,0,0]
["Capital Spares",null,0,0,0,0,0,0,0,0,0]
["Water Supply Infrastructure",null,{"$f":"SUM(C27:C36)","v":0},{"$f":"SUM(D27:D36)","v":0},0,0,0,0,0,0,0]
["Dams and Weirs",null,0,0,0,0,0,0,0,0,0]
["Boreholes",null,0,0,0,0,0,0,0,0,0]
["Reservoirs",null,0,0,0,0,0,0,0,0,0]
["Pump Stations",null,0,0,0,0,0,0,0,0,0]
["Water Treatment Works",null,0,0,0,0,0,0,0,0,0]
["Bulk Mains",null,0,0,0,0,0,0,0,0,0]
["Distribution",null,0,0,0,0,0,0,0,0,0]
["Distribution Points",null,0,0,0,0,0,0,0,0,0]
["PRV Stations",null,0,0,0,0,0,0,0,0,0]
["Capital Spares",null,0,0,0,0,0,0,0,0,0]
["Sanitation Infrastructure",null,{"$f":"SUM(C38:C43)","v":0},{"$f":"SUM(D38:D43)","v":0},0,0,0,0,0,0,0]
["Pump Station",null,0,0,0,0,0,0,0,0,0]
["Reticulation",null,0,0,0,0,0,0,0,0,0]
["Waste Water Treatment Works",null,0,0,0,0,0,0,0,0,0]
["Outfall Sewers",null,0,0,0,0,0,0,0,0,0]
["Toilet Facilities",null,0,0,0,0,0,0,0,0,0]
["Capital Spares",null,0,0,0,0,0,0,0,0,0]
["Solid Waste Infrastructure",null,{"$f":"SUM(C45:C51)","v":0},{"$f":"SUM(D45:D51)","v":0},0,0,0,0,0,0,0]
["Landfill Sites",null,0,0,0,0,0,0,0,0,0]
["Waste Transfer Stations",null,0,0,0,0,0,0,0,0,0]
["Waste Processing Facilities",null,0,0,0,0,0,0,0,0,0]
["Waste Drop-off Points",null,0,0,0,0,0,0,0,0,0]
["Waste Separation Facilities",null,0,0,0,0,0,0,0,0,0]
["Electricity Generation Facilities",null,0,0,0,0,0,0,0,0,0]
["Capital Spares",null,0,0,0,0,0,0,0,0,0]
["Rail Infrastructure",null,{"$f":"SUM(C53:C61)","v":0},0,0,0,0,0,0,0,0]
["Rail Lines",null,0,0,0,0,0,0,0,0,0]
["Rail Structures",null,0,0,0,0,0,0,0,0,0]
["Rail Furniture",null,0,0,0,0,0,0,0,0,0]
["Drainage Collection",null,0,0,0,0,0,0,0,0,0]
["Storm water Conveyance",null,0,0,0,0,0,0,0,0,0]
["Attenuation",null,0,0,0,0,0,0,0,0,0]
["MV Substations",null,0,0,0,0,0,0,0,0,0]
["LV Networks",null,0,0,0,0,0,0,0,0,0]
["Capital Spares",null,0,0,0,0,0,0,0,0,0]
["Coastal Infrastructure",null,{"$f":"SUM(C63:C67)","v":0},{"$f":"SUM(D63:D67)","v":0},0,0,0,0,0,0,0]
["Sand Pumps",null,0,0,0,0,0,0,0,0,0]
["Piers",null,0,0,0,0,0,0,0,0,0]
["Revetments",null,0,0,0,0,0,0,0,0,0]
["Promenades",null,0,0,0,0,0,0,0,0,0]
["Capital Spares",null,0,0,0,0,0,0,0,0,0]
["Information and Communication Infrastructure",null,{"$f":"SUM(C69:C72)","v":0},{"$f":"SUM(D69:D72)","v":0},0,0,0,0,0,0,0]
["Data Centres",null,0,0,0,0,0,0,0,0,0]
["Core Layers",null,0,0,0,0,0,0,0,0,0]
["Distribution Layers",null,0,0,0,0,0,0,0,0,0]
["Capital Spares",null,0,0,0,0,0,0,0,0,0]
[]
["Community Assets",null,{"$f":"C75+C98","v":0},{"$f":"D75+D98","v":1542964.29},389587.07,395098.04,327264.95,327264.95,0,71478.67,74766.69]
["Community Facilities",null,{"$f":"SUM(C76:C97)","v":0},{"$f":"SUM(D76:D97)","v":647670.43999999994},0,0,0,0,0,0,0]
["Halls",null,0,647670.43999999994,0,0,0,0,0,0,0]
["Centres",null,0,0,0,0,0,0,0,0,0]
["Crèches",null,0,0,0,0,0,0,0,0,0]
["Clinics/Care Centres",null,0,0,0,0,0,0,0,0,0]
["Fire/Ambulance Stations",null,0,0,0,0,0,0,0,0,0]
["Testing Stations",null,0,0,0,0,0,0,0,0,0]
["Museums",null,0,0,0,0,0,0,0,0,0]
["Galleries",null,0,0,0,0,0,0,0,0,0]
["Theatres",null,0,0,0,0,0,0,0,0,0]
["Libraries",null,0,0,0,0,0,0,0,0,0]
["Cemeteries/Crematoria",null,0,0,0,0,0,0,0,0,0]
["Police",null,0,0,0,0,0,0,0,0,0]
["Parks",null,0,0,0,0,0,0,0,0,0]
["Public Open Space",null,0,0,0,0,0,0,0,0,0]
["Nature Reserves",null,0,0,0,0,0,0,0,0,0]
["Public Ablution Facilities",null,0,0,0,0,0,0,0,0,0]
["Markets",null,0,0,0,0,0,0,0,0,0]
["Stalls",null,0,0,0,0,0,0,0,0,0]
["Abattoirs",null,0,0,0,0,0,0,0,0,0]
["Airports",null,0,0,0,0,0,0,0,0,0]
["Taxi Ranks/Bus Terminals",null,0,0,0,0,0,0,0,0,0]
["Capital Spares",null,0,0,0,0,0,0,0,0,0]
["Sport and Recreation Facilities",null,{"$f":"SUM(C99:C101)","v":0},{"$f":"SUM(D99:D101)","v":895293.85},389587.07,395098.04,327264.95,327264.95,0,71478.67,74766.69]
["Indoor Facilities",null,0,0,0,0,0,0,0,0,0]
["Outdoor Facilities",null,0,895293.85,389587.07,395098.04,327264.95,327264.95,0,71478.67,74766.69]
["Capital Spares",null,0,0,0,0,0,0,0,0,0]
[]
["Heritage assets",null,{"$f":"SUM(C104:C108)","v":0},{"$f":"SUM(D104:D108)","v":0},0,0,0,0,0,0,0]
["Monuments",null,0,0,0,0,0,0,0,0,0]
["Historic Buildings",null,0,0,0,0,0,0,0,0,0]
["Works of Art",null,0,0,0,0,0,0,0,0,0]
["Conservation Areas",null,0,0,0,0,0,0,0,0,0]
["Other Heritage",null,0,0,0,0,0,0,0,0,0]
[]
["Investment properties",null,{"$f":"+C111+C114","v":0},{"$f":"+D111+D114","v":0},0,0,0,0,0,0,0]
["Revenue Generating",null,{"$f":"SUM(C112:C113)","v":0},0,0,0,0,0,0,0,0]
["Improved Property",null,0,0,0,0,0,0,0,0,0]
["Unimproved Property",null,0,0,0,0,0,0,0,0,0]
["Non-revenue Generating",null,{"$f":"SUM(C115:C116)","v":0},{"$f":"SUM(D115:D116)","v":0},0,0,0,0,0,0,0]
["Improved Property",null,0,0,0,0,0,0,0,0,0]
["Unimproved Property",null,0,0,0,0,0,0,0,0,0]
[]
["Other assets",null,{"$f":"+C119+C131","v":0},{"$f":"+D119+D131","v":3806566.84},5238396.37,10000000,10000000,10000000,10540000,11024840,11531982.640000001]
["Operational Buildings",null,{"$f":"SUM(C120:C130)","v":0},{"$f":"SUM(D120:D130)","v":3806566.84},5238396.37,10000000,10000000,10000000,10540000,11024840,11531982.640000001]
["Municipal Offices",null,0,3806566.84,5238396.37,10000000,10000000,10000000,10540000,11024840,11531982.640000001]
["Pay/Enquiry Points",null,0,0,0,0,0,0,0,0,0]
["Building Plan Offices",null,0,0,0,0,0,0,0,0,0]
["Workshops",null,0,0,0,0,0,0,0,0,0]
["Yards",null,0,0,0,0,0,0,0,0,0]
["Stores",null,0,0,0,0,0,0,0,0,0]
["Laboratories",null,0,0,0,0,0,0,0,0,0]
["Training Centres",null,0,0,0,0,0,0,0,0,0]
["Manufacturing Plant",null,0,0,0,0,0,0,0,0,0]
["Depots",null,0,0,0,0,0,0,0,0,0]
["Capital Spares",null,0,0,0,0,0,0,0,0,0]
["Housing",null,{"$f":"SUM(C132:C134)","v":0},{"$f":"SUM(D132:D134)","v":0},0,0,0,0,0,0,0]
["Staff Housing",null,0,0,0,0,0,0,0,0,0]
["Social Housing",null,0,0,0,0,0,0,0,0,0]
["Capital Spares",null,0,0,0,0,0,0,0,0,0]
[]
["Biological or Cultivated Assets",null,{"$f":"SUM(C137:C137)","v":0},0,0,0,0,0,0,0,0]
["Biological or Cultivated Assets",null,0,0,0,0,0,0,0,0,0]
[]
["Intangible Assets",null,{"$f":"+C140+C141","v":0},{"$f":"+D140+D141","v":0},0,0,0,0,0,0,0]
["Servitudes",null,0,0,0,0,0,0,0,0,0]
["Licences and Rights",null,{"$f":"SUM(C142:C147)","v":0},{"$f":"SUM(D142:D147)","v":0},0,0,0,0,0,0,0]
["Water Rights",null,0,0,0,0,0,0,0,0,0]
["Effluent Licenses",null,0,0,0,0,0,0,0,0,0]
["Solid Waste Licenses",null,0,0,0,0,0,0,0,0,0]
["Computer Software and Applications",null,0,0,0,0,0,0,0,0,0]
["Load Settlement Software Applications",null,0,0,0,0,0,0,0,0,0]
["Unspecified",null,0,0,0,0,0,0,0,0,0]
[]
["Computer Equipment",null,{"$f":"SUM(C150:C150)","v":0},0,0,0,0,0,0,0,0]
["Computer Equipment",null,0,0,0,0,0,0,0,0,0]
[]
["Furniture and Office Equipment",null,{"$f":"SUM(C153:C153)","v":0},0,0,0,0,0,0,0,0]
["Furniture and Office Equipment",null,0,0,0,0,0,0,0,0,0]
[]
["Machinery and Equipment",null,{"$f":"SUM(C156:C156)","v":0},0,0,0,0,0,0,0,0]
["Machinery and Equipment",null,0,0,0,0,0,0,0,0,0]
[]
["Transport Assets",null,{"$f":"SUM(C159:C159)","v":0},0,0,0,0,0,0,0,0]
["Transport Assets",null,0,0,0,0,0,0,0,0,0]
[]
["Land",null,{"$f":"SUM(C162:C162)","v":0},0,0,0,0,0,0,0,0]
["Land",null,0,0,0,0,0,0,0,0,0]
[]
["Zoo's, Marine and Non-biological Animals",null,{"$f":"SUM(C165:C165)","v":0},0,0,0,0,0,0,0,0]
["Zoo's, Marine and Non-biological Animals",null,0,0,0,0,0,0,0,0,0]
[]
["Total Capital Expenditure on renewal of existing assets ",1,{"$f":"C6+C74+C103+C110+C118+C136+C139+C149+C152+C155+C158+C161+C164","v":8622659},{"$f":"D6+D74+D103+D110+D118+D136+D139+D149+D152+D155+D158+D161+D164","v":15974124.830000002},9754775.5800000001,16994414.859999999,15337006.719999999,15337006.719999999,11326450.08,11918945.460000001,12467216.950000001]
[]
["Renewal of Existing Assets as % of total capex",null,{"$f":"IF(ISERROR(C167/'A9-Asset'!C69),0,(C167/'A9-Asset'!C69))","v":0},{"$f":"IF(ISERROR(D167/'A9-Asset'!D132),0,(D167/'A9-Asset'!D132))","v":0.42015035901295406},{"$f":"IF(ISERROR(E167/'A9-Asset'!E132),0,(E167/'A9-Asset'!E132))","v":0.1601783921209102},{"$f":"IF(ISERROR(F167/'A9-Asset'!F132),0,(F167/'A9-Asset'!F132))","v":0.21705389769651029},{"$f":"IF(ISERROR(G167/'A9-Asset'!G132),0,(G167/'A9-Asset'!G132))","v":0.20060391564566585},{"$f":"IF(ISERROR(H167/'A9-Asset'!H132),0,(H167/'A9-Asset'!H132))","v":0.20060391564566585},{"$f":"IF(ISERROR(I167/'A9-Asset'!I132),0,(I167/'A9-Asset'!I132))","v":0.19139408963311291},{"$f":"IF(ISERROR(J167/'A9-Asset'!J132),0,(J167/'A9-Asset'!J132))","v":0.26442129200250059},{"$f":"IF(ISERROR(K167/'A9-Asset'!K132),0,(K167/'A9-Asset'!K132))","v":0.26442129209185639}]
["Renewal of Existing Assets as % of deprecn\"",null,{"$f":"IF(ISERROR(C167/'A9-Asset'!C168),0,(C167/'A9-Asset'!C168))","v":0.42744262410479128},{"$f":"IF(ISERROR(D167/'A9-Asset'!D168),0,(D167/'A9-Asset'!D168))","v":0.75917346027504073},{"$f":"IF(ISERROR(E167/'A9-Asset'!E168),0,(E167/'A9-Asset'!E168))","v":0.4877378279112356},{"$f":"IF(ISERROR(F167/'A9-Asset'!F168),0,(F167/'A9-Asset'!F168))","v":0.849720743},{"$f":"IF(ISERROR(G167/'A9-Asset'!G168),0,(G167/'A9-Asset'!G168))","v":0.69713666909090899},{"$f":"IF(ISERROR(H167/'A9-Asset'!H168),0,(H167/'A9-Asset'!H168))","v":0.69713666909090899},{"$f":"IF(ISERROR(I167/'A9-Asset'!I168),0,(I167/'A9-Asset'!I168))","v":0.48846170777988623},{"$f":"IF(ISERROR(J167/'A9-Asset'!J168),0,(J167/'A9-Asset'!J168))","v":0.49140871741012637},{"$f":"IF(ISERROR(K167/'A9-Asset'!K168),0,(K167/'A9-Asset'!K168))","v":0.49140871712306095}]
[{"$f":"head27a","v":"References"}]
["1. Total Capital Expenditure  on renewal of existing assets (SA34b) plus Total Capital Expenditure on new assets (SA34a) plus Total Capital Expenditure  on upgrading of existing assets (SA34e) must reconcile to total capital expenditure in Budgeted Capital Expenditure"]
[]
[]
["check balance",null,{"$f":"SUM(C167+SA34a!C167++SA34e!C167)-'A5-Capex'!C40","v":0},{"$f":"SUM(D167+SA34a!D167++SA34e!D167)-'A5-Capex'!D40","v":-0.12000000476837158},{"$f":"SUM(E167+SA34a!E167++SA34e!E167)-'A5-Capex'!E40","v":0.48999999463558197},{"$f":"SUM(F167+SA34a!F167++SA34e!F167)-'A5-Capex'!F40","v":0},{"$f":"SUM(G167+SA34a!G167++SA34e!G167)-'A5-Capex'!G40","v":0},{"$f":"SUM(H167+SA34a!H167++SA34e!H167)-'A5-Capex'!H40","v":0},{"$f":"SUM(I167+SA34a!I167++SA34e!I167)-'A5-Capex'!I40","v":-17275491.649999991},{"$f":"SUM(J167+SA34a!J167++SA34e!J167)-'A5-Capex'!J40","v":-14103093.669999994},{"$f":"SUM(K167+SA34a!K167++SA34e!K167)-'A5-Capex'!K40","v":2073477.0700000003}]

{"sheet":"SA34c","index":57,"n_rows":175,"n_cols":11,"rows_kept":175,"cut":false,"hidden":false,"merged":[[1,5,1,7],[1,8,1,10]]}
[{"$f":"muni&\" - \"&TableA34c","v":"KZN434 Ubuhlebezwe - Supporting Table SA34c Repairs and maintenance expenditure by asset class"}]
[{"$f":"desc","v":"Description"},{"$f":"head27","v":"Ref"},{"$f":"head1b","v":"2016/17"},{"$f":"head1A","v":"2017/18"},{"$f":"Head1","v":"2018/19"},{"$f":"Head2","v":"Current Year 2019/20"},null,null,{"$f":"Head3","v":"2020/21 Medium Term Revenue & Expenditure Framework"}]
["R thousand",1,{"$f":"Head5","v":"Audited Outcome"},{"$f":"Head5","v":"Audited Outcome"},{"$f":"Head5","v":"Audited Outcome"},{"$f":"Head6","v":"Original Budget"},{"$f":"Head7","v":"Adjusted Budget"},{"$f":"Head8","v":"Full Year Forecast"},{"$f":"Head9","v":"Budget Year 2020/21"},{"$f":"Head10","v":"Budget Year +1 2021/22"},{"$f":"Head11","v":"Budget Year +2 2022/23"}]
["Repairs and maintenance expenditure by Asset Class/Sub-class"]
[]
["Infrastructure",null,{"$f":"C7+C12+C16+C26+C37+C44+C52+C62+C68","v":0},{"$f":"D7+D12+D16+D26+D37+D44+D52+D62+D68","v":0},0,0,0,0,0,0,0]
["Roads Infrastructure",null,{"$f":"SUM(C8:C11)","v":0},0,0,0,0,0,0,0,0]
["Roads",null,0,0,0,0,0,0,0,0,0]
["Road Structures",null,0,0,0,0,0,0,0,0,0]
["Road Furniture",null,0,0,0,0,0,0,0,0,0]
["Capital Spares",null,0,0,0,0,0,0,0,0,0]
["Storm water Infrastructure",null,{"$f":"SUM(C13:C15)","v":0},{"$f":"SUM(D13:D15)","v":0},0,0,0,0,0,0,0]
["Drainage Collection",null,0,0,0,0,0,0,0,0,0]
["Storm water Conveyance",null,0,0,0,0,0,0,0,0,0]
["Attenuation",null,0,0,0,0,0,0,0,0,0]
["Electrical Infrastructure",null,{"$f":"SUM(C17:C25)","v":0},0,0,0,0,0,0,0,0]
["Power Plants",null,0,0,0,0,0,0,0,0,0]
["HV Substations",null,0,0,0,0,0,0,0,0,0]
["HV Switching Station",null,0,0,0,0,0,0,0,0,0]
["HV Transmission Conductors",null,0,0,0,0,0,0,0,0,0]
["MV Substations",null,0,0,0,0,0,0,0,0,0]
["MV Switching Stations",null,0,0,0,0,0,0,0,0,0]
["MV Networks",null,0,0,0,0,0,0,0,0,0]
["LV Networks",null,0,0,0,0,0,0,0,0,0]
["Capital Spares",null,0,0,0,0,0,0,0,0,0]
["Water Supply Infrastructure",null,{"$f":"SUM(C27:C36)","v":0},{"$f":"SUM(D27:D36)","v":0},0,0,0,0,0,0,0]
["Dams and Weirs",null,0,0,0,0,0,0,0,0,0]
["Boreholes",null,0,0,0,0,0,0,0,0,0]
["Reservoirs",null,0,0,0,0,0,0,0,0,0]
["Pump Stations",null,0,0,0,0,0,0,0,0,0]
["Water Treatment Works",null,0,0,0,0,0,0,0,0,0]
["Bulk Mains",null,0,0,0,0,0,0,0,0,0]
["Distribution",null,0,0,0,0,0,0,0,0,0]
["Distribution Points",null,0,0,0,0,0,0,0,0,0]
["PRV Stations",null,0,0,0,0,0,0,0,0,0]
["Capital Spares",null,0,0,0,0,0,0,0,0,0]
["Sanitation Infrastructure",null,{"$f":"SUM(C38:C43)","v":0},{"$f":"SUM(D38:D43)","v":0},0,0,0,0,0,0,0]
["Pump Station",null,0,0,0,0,0,0,0,0,0]
["Reticulation",null,0,0,0,0,0,0,0,0,0]
["Waste Water Treatment Works",null,0,0,0,0,0,0,0,0,0]
["Outfall Sewers",null,0,0,0,0,0,0,0,0,0]
["Toilet Facilities",null,0,0,0,0,0,0,0,0,0]
["Capital Spares",null,0,0,0,0,0,0,0,0,0]
["Solid Waste Infrastructure",null,{"$f":"SUM(C45:C51)","v":0},{"$f":"SUM(D45:D51)","v":0},0,0,0,0,0,0,0]
["Landfill Sites",null,0,0,0,0,0,0,0,0,0]
["Waste Transfer Stations",null,0,0,0,0,0,0,0,0,0]
["Waste Processing Facilities",null,0,0,0,0,0,0,0,0,0]
["Waste Drop-off Points",null,0,0,0,0,0,0,0,0,0]
["Waste Separation Facilities",null,0,0,0,0,0,0,0,0,0]
["Electricity Generation Facilities",null,0,0,0,0,0,0,0,0,0]
["Capital Spares",null,0,0,0,0,0,0,0,0,0]
["Rail Infrastructure",null,{"$f":"SUM(C53:C61)","v":0},0,0,0,0,0,0,0,0]
["Rail Lines",null,0,0,0,0,0,0,0,0,0]
["Rail Structures",null,0,0,0,0,0,0,0,0,0]
["Rail Furniture",null,0,0,0,0,0,0,0,0,0]
["Drainage Collection",null,0,0,0,0,0,0,0,0,0]
["Storm water Conveyance",null,0,0,0,0,0,0,0,0,0]
["Attenuation",null,0,0,0,0,0,0,0,0,0]
["MV Substations",null,0,0,0,0,0,0,0,0,0]
["LV Networks",null,0,0,0,0,0,0,0,0,0]
["Capital Spares",null,0,0,0,0,0,0,0,0,0]
["Coastal Infrastructure",null,{"$f":"SUM(C63:C67)","v":0},{"$f":"SUM(D63:D67)","v":0},0,0,0,0,0,0,0]
["Sand Pumps",null,0,0,0,0,0,0,0,0,0]
["Piers",null,0,0,0,0,0,0,0,0,0]
["Revetments",null,0,0,0,0,0,0,0,0,0]
["Promenades",null,0,0,0,0,0,0,0,0,0]
["Capital Spares",null,0,0,0,0,0,0,0,0,0]
["Information and Communication Infrastructure",null,{"$f":"SUM(C69:C72)","v":0},{"$f":"SUM(D69:D72)","v":0},0,0,0,0,0,0,0]
["Data Centres",null,0,0,0,0,0,0,0,0,0]
["Core Layers",null,0,0,0,0,0,0,0,0,0]
["Distribution Layers",null,0,0,0,0,0,0,0,0,0]
["Capital Spares",null,0,0,0,0,0,0,0,0,0]
[]
["Community Assets",null,{"$f":"C75+C98","v":0},{"$f":"D75+D98","v":0},0,0,0,0,0,0,0]
["Community Facilities",null,{"$f":"SUM(C76:C97)","v":0},{"$f":"SUM(D76:D97)","v":0},0,0,0,0,0,0,0]
["Halls",null,0,0,0,0,0,0,0,0,0]
["Centres",null,0,0,0,0,0,0,0,0,0]
["Crèches",null,0,0,0,0,0,0,0,0,0]
["Clinics/Care Centres",null,0,0,0,0,0,0,0,0,0]
["Fire/Ambulance Stations",null,0,0,0,0,0,0,0,0,0]
["Testing Stations",null,0,0,0,0,0,0,0,0,0]
["Museums",null,0,0,0,0,0,0,0,0,0]
["Galleries",null,0,0,0,0,0,0,0,0,0]
["Theatres",null,0,0,0,0,0,0,0,0,0]
["Libraries",null,0,0,0,0,0,0,0,0,0]
["Cemeteries/Crematoria",null,0,0,0,0,0,0,0,0,0]
["Police",null,0,0,0,0,0,0,0,0,0]
["Parks",null,0,0,0,0,0,0,0,0,0]
["Public Open Space",null,0,0,0,0,0,0,0,0,0]
["Nature Reserves",null,0,0,0,0,0,0,0,0,0]
["Public Ablution Facilities",null,0,0,0,0,0,0,0,0,0]
["Markets",null,0,0,0,0,0,0,0,0,0]
["Stalls",null,0,0,0,0,0,0,0,0,0]
["Abattoirs",null,0,0,0,0,0,0,0,0,0]
["Airports",null,0,0,0,0,0,0,0,0,0]
["Taxi Ranks/Bus Terminals",null,0,0,0,0,0,0,0,0,0]
["Capital Spares",null,0,0,0,0,0,0,0,0,0]
["Sport and Recreation Facilities",null,{"$f":"SUM(C99:C101)","v":0},{"$f":"SUM(D99:D101)","v":0},0,0,0,0,0,0,0]
["Indoor Facilities",null,0,0,0,0,0,0,0,0,0]
["Outdoor Facilities",null,0,0,0,0,0,0,0,0,0]
["Capital Spares",null,0,0,0,0,0,0,0,0,0]
[null,null,{"$f":"#REF!","v":{"$error":"#REF!"}},{"$f":"#REF!","v":{"$error":"#REF!"}},{"$f":"#REF!","v":{"$error":"#REF!"}},{"$f":"#REF!","v":{"$error":"#REF!"}},{"$f":"#REF!","v":{"$error":"#REF!"}},{"$f":"#REF!","v":{"$error":"#REF!"}},{"$f":"#REF!","v":{"$error":"#REF!"}},{"$f":"#REF!","v":{"$error":"#REF!"}},{"$f":"#REF!","v":{"$error":"#REF!"}}]
["Heritage assets",null,{"$f":"SUM(C104:C108)","v":0},{"$f":"SUM(D104:D108)","v":0},0,0,0,0,0,0,0]
["Monuments",null,0,0,0,0,0,0,0,0,0]
["Historic Buildings",null,0,0,0,0,0,0,0,0,0]
["Works of Art",null,0,0,0,0,0,0,0,0,0]
["Conservation Areas",null,0,0,0,0,0,0,0,0,0]
["Other Heritage",null,0,0,0,0,0,0,0,0,0]
[]
["Investment properties",null,{"$f":"+C111+C114","v":0},{"$f":"+D111+D114","v":0},0,0,0,0,0,0,0]
["Revenue Generating",null,{"$f":"SUM(C112:C113)","v":0},0,0,0,0,0,0,0,0]
["Improved Property",null,0,0,0,0,0,0,0,0,0]
["Unimproved Property",null,0,0,0,0,0,0,0,0,0]
["Non-revenue Generating",null,{"$f":"SUM(C115:C116)","v":0},{"$f":"SUM(D115:D116)","v":0},0,0,0,0,0,0,0]
["Improved Property",null,0,0,0,0,0,0,0,0,0]
["Unimproved Property",null,0,0,0,0,0,0,0,0,0]
[]
["Other assets",null,{"$f":"+C119+C131","v":278889.68},{"$f":"+D119+D131","v":278889.68},305785.67,500000,680000,680000,710600,743287.6,777478.83]
["Operational Buildings",null,{"$f":"SUM(C120:C130)","v":278889.68},{"$f":"SUM(D120:D130)","v":278889.68},305785.67,500000,680000,680000,710600,743287.6,777478.83]
["Municipal Offices",null,278889.68,278889.68,305785.67,500000,680000,680000,710600,743287.6,777478.83]
["Pay/Enquiry Points",null,0,0,0,0,0,0,0,0,0]
["Building Plan Offices",null,0,0,0,0,0,0,0,0,0]
["Workshops",null,0,0,0,0,0,0,0,0,0]
["Yards",null,0,0,0,0,0,0,0,0,0]
["Stores",null,0,0,0,0,0,0,0,0,0]
["Laboratories",null,0,0,0,0,0,0,0,0,0]
["Training Centres",null,0,0,0,0,0,0,0,0,0]
["Manufacturing Plant",null,0,0,0,0,0,0,0,0,0]
["Depots",null,0,0,0,0,0,0,0,0,0]
["Capital Spares",null,0,0,0,0,0,0,0,0,0]
["Housing",null,{"$f":"SUM(C132:C134)","v":0},{"$f":"SUM(D132:D134)","v":0},0,0,0,0,0,0,0]
["Staff Housing",null,0,0,0,0,0,0,0,0,0]
["Social Housing",null,0,0,0,0,0,0,0,0,0]
["Capital Spares",null,0,0,0,0,0,0,0,0,0]
[]
["Biological or Cultivated Assets",null,{"$f":"SUM(C137:C137)","v":0},0,0,0,0,0,0,0,0]
["Biological or Cultivated Assets",null,0,0,0,0,0,0,0,0,0]
[]
["Intangible Assets",null,{"$f":"+C140+C141","v":0},{"$f":"+D140+D141","v":0},0,0,0,0,0,0,0]
["Servitudes",null,0,0,0,0,0,0,0,0,0]
["Licences and Rights",null,{"$f":"SUM(C142:C147)","v":0},{"$f":"SUM(D142:D147)","v":0},0,0,0,0,0,0,0]
["Water Rights",null,0,0,0,0,0,0,0,0,0]
["Effluent Licenses",null,0,0,0,0,0,0,0,0,0]
["Solid Waste Licenses",null,0,0,0,0,0,0,0,0,0]
["Computer Software and Applications",null,0,0,0,0,0,0,0,0,0]
["Load Settlement Software Applications",null,0,0,0,0,0,0,0,0,0]
["Unspecified",null,0,0,0,0,0,0,0,0,0]
[]
["Computer Equipment",null,{"$f":"SUM(C150:C150)","v":55271.64},55271.64,77366.8,200000,200000,200000,209000,218614,228670.24]
["Computer Equipment",null,55271.64,55271.64,77366.8,200000,200000,200000,209000,218614,228670.24]
[]
["Furniture and Office Equipment",null,{"$f":"SUM(C153:C153)","v":124520.21},124520.21,29047,147196,147196,147196,124575.04000000001,130305.48999999999,136299.53999999998]
["Furniture and Office Equipment",null,124520.21,124520.21,29047,147196,147196,147196,124575.04000000001,130305.48999999999,136299.53999999998]
[]
["Machinery and Equipment",null,{"$f":"SUM(C156:C156)","v":266180.3},266180.3,163494.35999999999,336046,336046,336046,383458.07,401097.14,419547.61]
["Machinery and Equipment",null,266180.3,266180.3,163494.35999999999,336046,336046,336046,383458.07,401097.14,419547.61]
[]
["Transport Assets",null,{"$f":"SUM(C159:C159)","v":0},0,0,2914.56,2915,2915,0,0,0]
["Transport Assets",null,0,0,0,2914.56,2915,2915,0,0,0]
[]
["Land",null,{"$f":"SUM(C162:C162)","v":0},0,0,0,0,0,0,0,0]
["Land",null,0,0,0,0,0,0,0,0,0]
[]
["Zoo's, Marine and Non-biological Animals",null,{"$f":"SUM(C165:C165)","v":0},0,0,0,0,0,0,0,0]
["Zoo's, Marine and Non-biological Animals",null,0,0,0,0,0,0,0,0,0]
[]
["Total Repairs and Maintenance Expenditure",1,{"$f":"C6+C74+C103+C110+C118+C136+C139+C149+C152+C155+C158+C161+C164","v":724861.83000000007},{"$f":"D6+D74+D103+D110+D118+D136+D139+D149+D152+D155+D158+D161+D164","v":724861.83000000007},575693.82999999996,1186156.56,1366157,1366157,1427633.11,1493304.23,1561996.2199999997]
[]
["R&M as a % of PPE",null,{"$f":"IF(ISERROR(ROUND(C167/'A6-FinPos'!C19,3)),0,(ROUND(C167/'A6-FinPos'!C19,3)))","v":3.0000000000000001E-3},{"$f":"IF(ISERROR(ROUND(D167/'A6-FinPos'!D19,3)),0,(ROUND(D167/'A6-FinPos'!D19,3)))","v":3.0000000000000001E-3},{"$f":"IF(ISERROR(ROUND(E167/'A6-FinPos'!E19,3)),0,(ROUND(E167/'A6-FinPos'!E19,3)))","v":2E-3},{"$f":"IF(ISERROR(ROUND(F167/'A6-FinPos'!F19,3)),0,(ROUND(F167/'A6-FinPos'!F19,3)))","v":1.6E-2},{"$f":"IF(ISERROR(ROUND(G167/'A6-FinPos'!G19,3)),0,(ROUND(G167/'A6-FinPos'!G19,3)))","v":4.0000000000000001E-3},{"$f":"IF(ISERROR(ROUND(H167/'A6-FinPos'!H19,3)),0,(ROUND(H167/'A6-FinPos'!H19,3)))","v":4.0000000000000001E-3},{"$f":"IF(ISERROR(ROUND(I167/'A6-FinPos'!I19,3)),0,(ROUND(I167/'A6-FinPos'!I19,3)))","v":4.0000000000000001E-3},{"$f":"IF(ISERROR(ROUND(J167/'A6-FinPos'!J19,3)),0,(ROUND(J167/'A6-FinPos'!J19,3)))","v":5.0000000000000001E-3},{"$f":"IF(ISERROR(ROUND(K167/'A6-FinPos'!K19,3)),0,(ROUND(K167/'A6-FinPos'!K19,3)))","v":5.0000000000000001E-3}]
["R&M as % Operating Expenditure",null,{"$f":"IF(ISERROR(ROUND(C167/'A1-Sum'!B18,3)),0,(ROUND(C167/'A1-Sum'!B18,3)))","v":6.0000000000000001E-3},{"$f":"IF(ISERROR(ROUND(D167/'A1-Sum'!C18,3)),0,(ROUND(D167/'A1-Sum'!C18,3)))","v":5.0000000000000001E-3},{"$f":"IF(ISERROR(ROUND(E167/'A1-Sum'!D18,3)),0,(ROUND(E167/'A1-Sum'!D18,3)))","v":3.0000000000000001E-3},{"$f":"IF(ISERROR(ROUND(F167/'A1-Sum'!E18,3)),0,(ROUND(F167/'A1-Sum'!E18,3)))","v":5.0000000000000001E-3},{"$f":"IF(ISERROR(ROUND(G167/'A1-Sum'!F18,3)),0,(ROUND(G167/'A1-Sum'!F18,3)))","v":8.0000000000000002E-3},{"$f":"IF(ISERROR(ROUND(H167/'A1-Sum'!G18,3)),0,(ROUND(H167/'A1-Sum'!G18,3)))","v":8.0000000000000002E-3},{"$f":"IF(ISERROR(ROUND(I167/'A1-Sum'!H18,3)),0,(ROUND(I167/'A1-Sum'!H18,3)))","v":8.0000000000000002E-3},{"$f":"IF(ISERROR(ROUND(J167/'A1-Sum'!I18,3)),0,(ROUND(J167/'A1-Sum'!I18,3)))","v":8.9999999999999993E-3},{"$f":"IF(ISERROR(ROUND(K167/'A1-Sum'!J18,3)),0,(ROUND(K167/'A1-Sum'!J18,3)))","v":8.9999999999999993E-3}]
[{"$f":"head27a","v":"References"}]
["1. Total Repairs and Maintenance Expenditure by Asset Category must reconcile to total repairs and maintenance expenditure on Table SA1"]
[]
[]
["check balance",null,{"$f":"C167-'SA1'!C181","v":0},{"$f":"D167-'SA1'!D181","v":0},{"$f":"E167-'SA1'!E181","v":0},{"$f":"F167-'SA1'!F181","v":0},{"$f":"G167-'SA1'!G181","v":0},{"$f":"H167-'SA1'!H181","v":0},{"$f":"I167-'SA1'!J181","v":0},{"$f":"J167-'SA1'!K181","v":0},{"$f":"K167-'SA1'!L181","v":0}]

{"sheet":"SA34d","index":58,"n_rows":173,"n_cols":11,"rows_kept":173,"cut":false,"hidden":false,"merged":[[1,5,1,7],[1,8,1,10]]}
[{"$f":"muni&\" - \"&TableA34d","v":"KZN434 Ubuhlebezwe - Supporting Table SA34d Depreciation by asset class"}]
[{"$f":"desc","v":"Description"},{"$f":"head27","v":"Ref"},{"$f":"head1b","v":"2016/17"},{"$f":"head1A","v":"2017/18"},{"$f":"Head1","v":"2018/19"},{"$f":"Head2","v":"Current Year 2019/20"},null,null,{"$f":"Head3","v":"2020/21 Medium Term Revenue & Expenditure Framework"}]
["R thousand",1,{"$f":"Head5","v":"Audited Outcome"},{"$f":"Head5","v":"Audited Outcome"},{"$f":"Head5","v":"Audited Outcome"},{"$f":"Head6","v":"Original Budget"},{"$f":"Head7","v":"Adjusted Budget"},{"$f":"Head8","v":"Full Year Forecast"},{"$f":"Head9","v":"Budget Year 2020/21"},{"$f":"Head10","v":"Budget Year +1 2021/22"},{"$f":"Head11","v":"Budget Year +2 2022/23"}]
["Depreciation by Asset Class/Sub-class"]
[]
["Infrastructure",null,{"$f":"C7+C12+C16+C26+C37+C44+C52+C62+C68","v":20172670},{"$f":"D7+D12+D16+D26+D37+D44+D52+D62+D68","v":11368238},10215778,10215778,10965778,10965778,11557930.01,12089594.790000001,12645716.140000001]
["Roads Infrastructure",null,{"$f":"SUM(C8:C11)","v":20172670},11368238,7115461,7115461,7665461,7665461,8079395.8899999997,8451048.0999999996,8839796.3100000005]
["Roads",null,20172670,11368238,7115461,7115461,7665461,7665461,8079395.8899999997,8451048.0999999996,8839796.3100000005]
["Road Structures",null,0,0,0,0,0,0,0,0,0]
["Road Furniture",null,0,0,0,0,0,0,0,0,0]
["Capital Spares",null,0,0,0,0,0,0,0,0,0]
["Storm water Infrastructure",null,{"$f":"SUM(C13:C15)","v":0},{"$f":"SUM(D13:D15)","v":0},3096629,3096629,3296629,3296629,3474646.97,3634480.73,3801666.84]
["Drainage Collection",null,0,0,3096629,3096629,0,0,0,0,0]
["Storm water Conveyance",null,0,0,0,0,3296629,3296629,3474646.97,3634480.73,3801666.84]
["Attenuation",null,0,0,0,0,0,0,0,0,0]
["Electrical Infrastructure",null,{"$f":"SUM(C17:C25)","v":0},0,0,0,0,0,0,0,0]
["Power Plants",null,0,0,0,0,0,0,0,0,0]
["HV Substations",null,0,0,0,0,0,0,0,0,0]
["HV Switching Station",null,0,0,0,0,0,0,0,0,0]
["HV Transmission Conductors",null,0,0,0,0,0,0,0,0,0]
["MV Substations",null,0,0,0,0,0,0,0,0,0]
["MV Switching Stations",null,0,0,0,0,0,0,0,0,0]
["MV Networks",null,0,0,0,0,0,0,0,0,0]
["LV Networks",null,0,0,0,0,0,0,0,0,0]
["Capital Spares",null,0,0,0,0,0,0,0,0,0]
["Water Supply Infrastructure",null,{"$f":"SUM(C27:C36)","v":0},{"$f":"SUM(D27:D36)","v":0},3688,3688,3688,3688,3887.15,4065.96,4252.99]
["Dams and Weirs",null,0,0,0,0,0,0,0,0,0]
["Boreholes",null,0,0,3688,3688,3688,3688,3887.15,4065.96,4252.99]
["Reservoirs",null,0,0,0,0,0,0,0,0,0]
["Pump Stations",null,0,0,0,0,0,0,0,0,0]
["Water Treatment Works",null,0,0,0,0,0,0,0,0,0]
["Bulk Mains",null,0,0,0,0,0,0,0,0,0]
["Distribution",null,0,0,0,0,0,0,0,0,0]
["Distribution Points",null,0,0,0,0,0,0,0,0,0]
["PRV Stations",null,0,0,0,0,0,0,0,0,0]
["Capital Spares",null,0,0,0,0,0,0,0,0,0]
["Sanitation Infrastructure",null,{"$f":"SUM(C38:C43)","v":0},{"$f":"SUM(D38:D43)","v":0},0,0,0,0,0,0,0]
["Pump Station",null,0,0,0,0,0,0,0,0,0]
["Reticulation",null,0,0,0,0,0,0,0,0,0]
["Waste Water Treatment Works",null,0,0,0,0,0,0,0,0,0]
["Outfall Sewers",null,0,0,0,0,0,0,0,0,0]
["Toilet Facilities",null,0,0,0,0,0,0,0,0,0]
["Capital Spares",null,0,0,0,0,0,0,0,0,0]
["Solid Waste Infrastructure",null,{"$f":"SUM(C45:C51)","v":0},{"$f":"SUM(D45:D51)","v":0},0,0,0,0,0,0,0]
["Landfill Sites",null,0,0,0,0,0,0,0,0,0]
["Waste Transfer Stations",null,0,0,0,0,0,0,0,0,0]
["Waste Processing Facilities",null,0,0,0,0,0,0,0,0,0]
["Waste Drop-off Points",null,0,0,0,0,0,0,0,0,0]
["Waste Separation Facilities",null,0,0,0,0,0,0,0,0,0]
["Electricity Generation Facilities",null,0,0,0,0,0,0,0,0,0]
["Capital Spares",null,0,0,0,0,0,0,0,0,0]
["Rail Infrastructure",null,{"$f":"SUM(C53:C61)","v":0},0,0,0,0,0,0,0,0]
["Rail Lines",null,0,0,0,0,0,0,0,0,0]
["Rail Structures",null,0,0,0,0,0,0,0,0,0]
["Rail Furniture",null,0,0,0,0,0,0,0,0,0]
["Drainage Collection",null,0,0,0,0,0,0,0,0,0]
["Storm water Conveyance",null,0,0,0,0,0,0,0,0,0]
["Attenuation",null,0,0,0,0,0,0,0,0,0]
["MV Substations",null,0,0,0,0,0,0,0,0,0]
["LV Networks",null,0,0,0,0,0,0,0,0,0]
["Capital Spares",null,0,0,0,0,0,0,0,0,0]
["Coastal Infrastructure",null,{"$f":"SUM(C63:C67)","v":0},{"$f":"SUM(D63:D67)","v":0},0,0,0,0,0,0,0]
["Sand Pumps",null,0,0,0,0,0,0,0,0,0]
["Piers",null,0,0,0,0,0,0,0,0,0]
["Revetments",null,0,0,0,0,0,0,0,0,0]
["Promenades",null,0,0,0,0,0,0,0,0,0]
["Capital Spares",null,0,0,0,0,0,0,0,0,0]
["Information and Communication Infrastructure",null,{"$f":"SUM(C69:C72)","v":0},{"$f":"SUM(D69:D72)","v":0},0,0,0,0,0,0,0]
["Data Centres",null,0,0,0,0,0,0,0,0,0]
["Core Layers",null,0,0,0,0,0,0,0,0,0]
["Distribution Layers",null,0,0,0,0,0,0,0,0,0]
["Capital Spares",null,0,0,0,0,0,0,0,0,0]
[]
["Community Assets",null,{"$f":"C75+C98","v":0},{"$f":"D75+D98","v":4971911},4679537,4679537,5129537,5129537,5406532,5655232.4699999997,5915373.1699999999]
["Community Facilities",null,{"$f":"SUM(C76:C97)","v":0},{"$f":"SUM(D76:D97)","v":4971911},4679537,4679537,5129537,5129537,5406532,5655232.4699999997,5915373.1699999999]
["Halls",null,0,4809534,4679537,4679537,5129537,5129537,5406532,5655232.4699999997,5915373.1699999999]
["Centres",null,0,0,0,0,0,0,0,0,0]
["Crèches",null,0,0,0,0,0,0,0,0,0]
["Clinics/Care Centres",null,0,0,0,0,0,0,0,0,0]
["Fire/Ambulance Stations",null,0,0,0,0,0,0,0,0,0]
["Testing Stations",null,0,0,0,0,0,0,0,0,0]
["Museums",null,0,0,0,0,0,0,0,0,0]
["Galleries",null,0,0,0,0,0,0,0,0,0]
["Theatres",null,0,0,0,0,0,0,0,0,0]
["Libraries",null,0,162377,0,0,0,0,0,0,0]
["Cemeteries/Crematoria",null,0,0,0,0,0,0,0,0,0]
["Police",null,0,0,0,0,0,0,0,0,0]
["Parks",null,0,0,0,0,0,0,0,0,0]
["Public Open Space",null,0,0,0,0,0,0,0,0,0]
["Nature Reserves",null,0,0,0,0,0,0,0,0,0]
["Public Ablution Facilities",null,0,0,0,0,0,0,0,0,0]
["Markets",null,0,0,0,0,0,0,0,0,0]
["Stalls",null,0,0,0,0,0,0,0,0,0]
["Abattoirs",null,0,0,0,0,0,0,0,0,0]
["Airports",null,0,0,0,0,0,0,0,0,0]
["Taxi Ranks/Bus Terminals",null,0,0,0,0,0,0,0,0,0]
["Capital Spares",null,0,0,0,0,0,0,0,0,0]
["Sport and Recreation Facilities",null,{"$f":"SUM(C99:C101)","v":0},{"$f":"SUM(D99:D101)","v":0},0,0,0,0,0,0,0]
["Indoor Facilities",null,0,0,0,0,0,0,0,0,0]
["Outdoor Facilities",null,0,0,0,0,0,0,0,0,0]
["Capital Spares",null,0,0,0,0,0,0,0,0,0]
[]
["Heritage assets",null,{"$f":"SUM(C104:C108)","v":0},{"$f":"SUM(D104:D108)","v":0},26,0,0,0,0,0,0]
["Monuments",null,0,0,13,0,0,0,0,0,0]
["Historic Buildings",null,0,0,13,0,0,0,0,0,0]
["Works of Art",null,0,0,0,0,0,0,0,0,0]
["Conservation Areas",null,0,0,0,0,0,0,0,0,0]
["Other Heritage",null,0,0,0,0,0,0,0,0,0]
[]
["Investment properties",null,{"$f":"+C111+C114","v":0},{"$f":"+D111+D114","v":0},13,0,0,0,0,0,0]
["Revenue Generating",null,{"$f":"SUM(C112:C113)","v":0},0,13,0,0,0,0,0,0]
["Improved Property",null,0,0,0,0,0,0,0,0,0]
["Unimproved Property",null,0,0,13,0,0,0,0,0,0]
["Non-revenue Generating",null,{"$f":"SUM(C115:C116)","v":0},{"$f":"SUM(D115:D116)","v":0},0,0,0,0,0,0,0]
["Improved Property",null,0,0,0,0,0,0,0,0,0]
["Unimproved Property",null,0,0,0,0,0,0,0,0,0]
[]
["Other assets",null,{"$f":"+C119+C131","v":0},{"$f":"+D119+D131","v":869518},1347547,1347547,1397547,1397547,1473014.54,1540773.21,1611648.78]
["Operational Buildings",null,{"$f":"SUM(C120:C130)","v":0},{"$f":"SUM(D120:D130)","v":869518},1347547,1347547,1397547,1397547,1473014.54,1540773.21,1611648.78]
["Municipal Offices",null,0,869518,210207,210207,210207,210207,221558.18,231749.86,242410.35]
["Pay/Enquiry Points",null,0,0,0,0,0,0,0,0,0]
["Building Plan Offices",null,0,0,0,0,0,0,0,0,0]
["Workshops",null,0,0,1137340,1137340,1187340,1187340,1251456.3600000001,1309023.3500000001,1369238.43]
["Yards",null,0,0,0,0,0,0,0,0,0]
["Stores",null,0,0,0,0,0,0,0,0,0]
["Laboratories",null,0,0,0,0,0,0,0,0,0]
["Training Centres",null,0,0,0,0,0,0,0,0,0]
["Manufacturing Plant",null,0,0,0,0,0,0,0,0,0]
["Depots",null,0,0,0,0,0,0,0,0,0]
["Capital Spares",null,0,0,0,0,0,0,0,0,0]
["Housing",null,{"$f":"SUM(C132:C134)","v":0},{"$f":"SUM(D132:D134)","v":0},0,0,0,0,0,0,0]
["Staff Housing",null,0,0,0,0,0,0,0,0,0]
["Social Housing",null,0,0,0,0,0,0,0,0,0]
["Capital Spares",null,0,0,0,0,0,0,0,0,0]
[]
["Biological or Cultivated Assets",null,{"$f":"SUM(C137:C137)","v":0},0,0,0,0,0,0,0,0]
["Biological or Cultivated Assets",null,0,0,0,0,0,0,0,0,0]
[]
["Intangible Assets",null,{"$f":"+C140+C141","v":0},{"$f":"+D140+D141","v":0},0,0,0,0,0,0,0]
["Servitudes",null,0,0,0,0,0,0,0,0,0]
["Licences and Rights",null,{"$f":"SUM(C142:C147)","v":0},{"$f":"SUM(D142:D147)","v":0},0,0,0,0,0,0,0]
["Water Rights",null,0,0,0,0,0,0,0,0,0]
["Effluent Licenses",null,0,0,0,0,0,0,0,0,0]
["Solid Waste Licenses",null,0,0,0,0,0,0,0,0,0]
["Computer Software and Applications",null,0,0,0,0,0,0,0,0,0]
["Load Settlement Software Applications",null,0,0,0,0,0,0,0,0,0]
["Unspecified",null,0,0,0,0,0,0,0,0,0]
[]
["Computer Equipment",null,{"$f":"SUM(C150:C150)","v":0},323113,344014,344014,344014,344014,362590.76,379269.93,396716.35]
["Computer Equipment",null,0,323113,344014,344014,344014,344014,362590.76,379269.93,396716.35]
[]
["Furniture and Office Equipment",null,{"$f":"SUM(C153:C153)","v":0},1219369,1255186,1255186,1355186,1355186,1428366.04,1494070.88,1562798.14]
["Furniture and Office Equipment",null,0,1219369,1255186,1255186,1355186,1355186,1428366.04,1494070.88,1562798.14]
[]
["Machinery and Equipment",null,{"$f":"SUM(C156:C156)","v":0},587297,439800,439800,439800,439800,463549.2,484872.46,507176.6]
["Machinery and Equipment",null,0,587297,439800,439800,439800,439800,463549.2,484872.46,507176.6]
[]
["Transport Assets",null,{"$f":"SUM(C159:C159)","v":0},1702023,1718138,1718138,2368138,2368138,2496017.4500000002,2610834.25,2730932.63]
["Transport Assets",null,0,1702023,1718138,1718138,2368138,2368138,2496017.4500000002,2610834.25,2730932.63]
[]
["Land",null,{"$f":"SUM(C162:C162)","v":0},0,0,0,0,0,0,0,0]
["Land",null,0,0,0,0,0,0,0,0,0]
[]
["Zoo's, Marine and Non-biological Animals",null,{"$f":"SUM(C165:C165)","v":0},0,0,0,0,0,0,0,0]
["Zoo's, Marine and Non-biological Animals",null,0,0,0,0,0,0,0,0,0]
[]
["Total Depreciation",1,{"$f":"C6+C74+C103+C110+C118+C136+C139+C149+C152+C155+C158+C161+C164","v":20172670},{"$f":"D6+D74+D103+D110+D118+D136+D139+D149+D152+D155+D158+D161+D164","v":21041469},20000039,20000000,22000000,22000000,23187999.999999996,24254647.990000002,25370361.810000006]
[]
[{"$f":"head27a","v":"References"}]
["1. Depreciation based on write down values. Not including Depreciation resulting from revaluation."]
[]
[]
["Check",null,{"$f":"C$167-'A4-FinPerf RE'!C$27","v":0},{"$f":"D$167-'A4-FinPerf RE'!D$27","v":-229466},{"$f":"E$167-'A4-FinPerf RE'!E$27","v":39},{"$f":"F$167-'A4-FinPerf RE'!F$27","v":0},{"$f":"G$167-'A4-FinPerf RE'!G$27","v":0},{"$f":"H$167-'A4-FinPerf RE'!H$27","v":0},{"$f":"I$167-'A4-FinPerf RE'!I$27","v":1187999.9999999963},{"$f":"J$167-'A4-FinPerf RE'!J$27","v":1066647.9900000021},{"$f":"K$167-'A4-FinPerf RE'!K$27","v":1115713.8200000077}]

{"sheet":"SA34e","index":59,"n_rows":175,"n_cols":11,"rows_kept":175,"cut":false,"hidden":false,"merged":[[1,5,1,7],[1,8,1,10]]}
[{"$f":"muni&\" - \"&TableA34e","v":"KZN434 Ubuhlebezwe - Supporting Table SA34e Capital expenditure on the upgrading of existing assets by asset class"}]
[{"$f":"desc","v":"Description"},{"$f":"head27","v":"Ref"},{"$f":"head1b","v":"2016/17"},{"$f":"head1A","v":"2017/18"},{"$f":"Head1","v":"2018/19"},{"$f":"Head2","v":"Current Year 2019/20"},null,null,{"$f":"Head3","v":"2020/21 Medium Term Revenue & Expenditure Framework"}]
["R thousand",1,{"$f":"Head5","v":"Audited Outcome"},{"$f":"Head5","v":"Audited Outcome"},{"$f":"Head5","v":"Audited Outcome"},{"$f":"Head6","v":"Original Budget"},{"$f":"Head7","v":"Adjusted Budget"},{"$f":"Head8","v":"Full Year Forecast"},{"$f":"Head9","v":"Budget Year 2020/21"},{"$f":"Head10","v":"Budget Year +1 2021/22"},{"$f":"Head11","v":"Budget Year +2 2022/23"}]
["Capital expenditure on upgrading of existing assets by Asset Class/Sub-class"]
[]
["Infrastructure",null,{"$f":"C7+C12+C16+C26+C37+C44+C52+C62+C68","v":0},{"$f":"D7+D12+D16+D26+D37+D44+D52+D62+D68","v":3988563.64},3336701.91,5118259.66,4919365.33,4919365.33,797201.06,833872.31,872230.42999999993]
["Roads Infrastructure",null,{"$f":"SUM(C8:C11)","v":0},3988563.64,3336701.91,5118259.66,4919365.33,4919365.33,797201.06,833872.31,872230.42999999993]
["Roads",null,0,3988563.64,3336701.91,5118259.66,4919365.33,4919365.33,797201.06,833872.31,872230.42999999993]
["Road Structures",null,0,0,0,0,0,0,0,0,0]
["Road Furniture",null,0,0,0,0,0,0,0,0,0]
["Capital Spares",null,0,0,0,0,0,0,0,0,0]
["Storm water Infrastructure",null,{"$f":"SUM(C13:C15)","v":0},{"$f":"SUM(D13:D15)","v":0},0,0,0,0,0,0,0]
["Drainage Collection",null,0,0,0,0,0,0,0,0,0]
["Storm water Conveyance",null,0,0,0,0,0,0,0,0,0]
["Attenuation",null,0,0,0,0,0,0,0,0,0]
["Electrical Infrastructure",null,{"$f":"SUM(C17:C25)","v":0},0,0,0,0,0,0,0,0]
["Power Plants",null,0,0,0,0,0,0,0,0,0]
["HV Substations",null,0,0,0,0,0,0,0,0,0]
["HV Switching Station",null,0,0,0,0,0,0,0,0,0]
["HV Transmission Conductors",null,0,0,0,0,0,0,0,0,0]
["MV Substations",null,0,0,0,0,0,0,0,0,0]
["MV Switching Stations",null,0,0,0,0,0,0,0,0,0]
["MV Networks",null,0,0,0,0,0,0,0,0,0]
["LV Networks",null,0,0,0,0,0,0,0,0,0]
["Capital Spares",null,0,0,0,0,0,0,0,0,0]
["Water Supply Infrastructure",null,{"$f":"SUM(C27:C36)","v":0},{"$f":"SUM(D27:D36)","v":0},0,0,0,0,0,0,0]
["Dams and Weirs",null,0,0,0,0,0,0,0,0,0]
["Boreholes",null,0,0,0,0,0,0,0,0,0]
["Reservoirs",null,0,0,0,0,0,0,0,0,0]
["Pump Stations",null,0,0,0,0,0,0,0,0,0]
["Water Treatment Works",null,0,0,0,0,0,0,0,0,0]
["Bulk Mains",null,0,0,0,0,0,0,0,0,0]
["Distribution",null,0,0,0,0,0,0,0,0,0]
["Distribution Points",null,0,0,0,0,0,0,0,0,0]
["PRV Stations",null,0,0,0,0,0,0,0,0,0]
["Capital Spares",null,0,0,0,0,0,0,0,0,0]
["Sanitation Infrastructure",null,{"$f":"SUM(C38:C43)","v":0},{"$f":"SUM(D38:D43)","v":0},0,0,0,0,0,0,0]
["Pump Station",null,0,0,0,0,0,0,0,0,0]
["Reticulation",null,0,0,0,0,0,0,0,0,0]
["Waste Water Treatment Works",null,0,0,0,0,0,0,0,0,0]
["Outfall Sewers",null,0,0,0,0,0,0,0,0,0]
["Toilet Facilities",null,0,0,0,0,0,0,0,0,0]
["Capital Spares",null,0,0,0,0,0,0,0,0,0]
["Solid Waste Infrastructure",null,{"$f":"SUM(C45:C51)","v":0},{"$f":"SUM(D45:D51)","v":0},0,0,0,0,0,0,0]
["Landfill Sites",null,0,0,0,0,0,0,0,0,0]
["Waste Transfer Stations",null,0,0,0,0,0,0,0,0,0]
["Waste Processing Facilities",null,0,0,0,0,0,0,0,0,0]
["Waste Drop-off Points",null,0,0,0,0,0,0,0,0,0]
["Waste Separation Facilities",null,0,0,0,0,0,0,0,0,0]
["Electricity Generation Facilities",null,0,0,0,0,0,0,0,0,0]
["Capital Spares",null,0,0,0,0,0,0,0,0,0]
["Rail Infrastructure",null,{"$f":"SUM(C53:C61)","v":0},0,0,0,0,0,0,0,0]
["Rail Lines",null,0,0,0,0,0,0,0,0,0]
["Rail Structures",null,0,0,0,0,0,0,0,0,0]
["Rail Furniture",null,0,0,0,0,0,0,0,0,0]
["Drainage Collection",null,0,0,0,0,0,0,0,0,0]
["Storm water Conveyance",null,0,0,0,0,0,0,0,0,0]
["Attenuation",null,0,0,0,0,0,0,0,0,0]
["MV Substations",null,0,0,0,0,0,0,0,0,0]
["LV Networks",null,0,0,0,0,0,0,0,0,0]
["Capital Spares",null,0,0,0,0,0,0,0,0,0]
["Coastal Infrastructure",null,{"$f":"SUM(C63:C67)","v":0},{"$f":"SUM(D63:D67)","v":0},0,0,0,0,0,0,0]
["Sand Pumps",null,0,0,0,0,0,0,0,0,0]
["Piers",null,0,0,0,0,0,0,0,0,0]
["Revetments",null,0,0,0,0,0,0,0,0,0]
["Promenades",null,0,0,0,0,0,0,0,0,0]
["Capital Spares",null,0,0,0,0,0,0,0,0,0]
["Information and Communication Infrastructure",null,{"$f":"SUM(C69:C72)","v":0},{"$f":"SUM(D69:D72)","v":0},0,0,0,0,0,0,0]
["Data Centres",null,0,0,0,0,0,0,0,0,0]
["Core Layers",null,0,0,0,0,0,0,0,0,0]
["Distribution Layers",null,0,0,0,0,0,0,0,0,0]
["Capital Spares",null,0,0,0,0,0,0,0,0,0]
[]
["Community Assets",null,{"$f":"C75+C98","v":0},{"$f":"D75+D98","v":0},0,0,0,0,0,0,0]
["Community Facilities",null,{"$f":"SUM(C76:C97)","v":0},{"$f":"SUM(D76:D97)","v":0},0,0,0,0,0,0,0]
["Halls",null,0,0,0,0,0,0,0,0,0]
["Centres",null,0,0,0,0,0,0,0,0,0]
["Crèches",null,0,0,0,0,0,0,0,0,0]
["Clinics/Care Centres",null,0,0,0,0,0,0,0,0,0]
["Fire/Ambulance Stations",null,0,0,0,0,0,0,0,0,0]
["Testing Stations",null,0,0,0,0,0,0,0,0,0]
["Museums",null,0,0,0,0,0,0,0,0,0]
["Galleries",null,0,0,0,0,0,0,0,0,0]
["Theatres",null,0,0,0,0,0,0,0,0,0]
["Libraries",null,0,0,0,0,0,0,0,0,0]
["Cemeteries/Crematoria",null,0,0,0,0,0,0,0,0,0]
["Police",null,0,0,0,0,0,0,0,0,0]
["Parks",null,0,0,0,0,0,0,0,0,0]
["Public Open Space",null,0,0,0,0,0,0,0,0,0]
["Nature Reserves",null,0,0,0,0,0,0,0,0,0]
["Public Ablution Facilities",null,0,0,0,0,0,0,0,0,0]
["Markets",null,0,0,0,0,0,0,0,0,0]
["Stalls",null,0,0,0,0,0,0,0,0,0]
["Abattoirs",null,0,0,0,0,0,0,0,0,0]
["Airports",null,0,0,0,0,0,0,0,0,0]
["Taxi Ranks/Bus Terminals",null,0,0,0,0,0,0,0,0,0]
["Capital Spares",null,0,0,0,0,0,0,0,0,0]
["Sport and Recreation Facilities",null,{"$f":"SUM(C99:C101)","v":0},{"$f":"SUM(D99:D101)","v":0},0,0,0,0,0,0,0]
["Indoor Facilities",null,0,0,0,0,0,0,0,0,0]
["Outdoor Facilities",null,0,0,0,0,0,0,0,0,0]
["Capital Spares",null,0,0,0,0,0,0,0,0,0]
[]
["Heritage assets",null,{"$f":"SUM(C104:C108)","v":0},{"$f":"SUM(D104:D108)","v":0},0,0,0,0,0,0,0]
["Monuments",null,0,0,0,0,0,0,0,0,0]
["Historic Buildings",null,0,0,0,0,0,0,0,0,0]
["Works of Art",null,0,0,0,0,0,0,0,0,0]
["Conservation Areas",null,0,0,0,0,0,0,0,0,0]
["Other Heritage",null,0,0,0,0,0,0,0,0,0]
[]
["Investment properties",null,{"$f":"+C111+C114","v":0},{"$f":"+D111+D114","v":0},0,0,0,0,0,0,0]
["Revenue Generating",null,{"$f":"SUM(C112:C113)","v":0},0,0,0,0,0,0,0,0]
["Improved Property",null,0,0,0,0,0,0,0,0,0]
["Unimproved Property",null,0,0,0,0,0,0,0,0,0]
["Non-revenue Generating",null,{"$f":"SUM(C115:C116)","v":0},{"$f":"SUM(D115:D116)","v":0},0,0,0,0,0,0,0]
["Improved Property",null,0,0,0,0,0,0,0,0,0]
["Unimproved Property",null,0,0,0,0,0,0,0,0,0]
[]
["Other assets",null,{"$f":"+C119+C131","v":0},{"$f":"+D119+D131","v":0},0,548333,2431041.58,2431041.58,0,0,0]
["Operational Buildings",null,{"$f":"SUM(C120:C130)","v":0},{"$f":"SUM(D120:D130)","v":0},0,548333,2431041.58,2431041.58,0,0,0]
["Municipal Offices",null,0,0,0,548333,2431041.58,2431041.58,0,0,0]
["Pay/Enquiry Points",null,0,0,0,0,0,0,0,0,0]
["Building Plan Offices",null,0,0,0,0,0,0,0,0,0]
["Workshops",null,0,0,0,0,0,0,0,0,0]
["Yards",null,0,0,0,0,0,0,0,0,0]
["Stores",null,0,0,0,0,0,0,0,0,0]
["Laboratories",null,0,0,0,0,0,0,0,0,0]
["Training Centres",null,0,0,0,0,0,0,0,0,0]
["Manufacturing Plant",null,0,0,0,0,0,0,0,0,0]
["Depots",null,0,0,0,0,0,0,0,0,0]
["Capital Spares",null,0,0,0,0,0,0,0,0,0]
["Housing",null,{"$f":"SUM(C132:C134)","v":0},{"$f":"SUM(D132:D134)","v":0},0,0,0,0,0,0,0]
["Staff Housing",null,0,0,0,0,0,0,0,0,0]
["Social Housing",null,0,0,0,0,0,0,0,0,0]
["Capital Spares",null,0,0,0,0,0,0,0,0,0]
[]
["Biological or Cultivated Assets",null,{"$f":"SUM(C137:C137)","v":0},0,0,0,0,0,0,0,0]
["Biological or Cultivated Assets",null,0,0,0,0,0,0,0,0,0]
[]
["Intangible Assets",null,{"$f":"+C140+C141","v":0},{"$f":"+D140+D141","v":0},0,0,0,0,0,0,0]
["Servitudes",null,0,0,0,0,0,0,0,0,0]
["Licences and Rights",null,{"$f":"SUM(C142:C147)","v":0},{"$f":"SUM(D142:D147)","v":0},0,0,0,0,0,0,0]
["Water Rights",null,0,0,0,0,0,0,0,0,0]
["Effluent Licenses",null,0,0,0,0,0,0,0,0,0]
["Solid Waste Licenses",null,0,0,0,0,0,0,0,0,0]
["Computer Software and Applications",null,0,0,0,0,0,0,0,0,0]
["Load Settlement Software Applications",null,0,0,0,0,0,0,0,0,0]
["Unspecified",null,0,0,0,0,0,0,0,0,0]
[]
["Computer Equipment",null,{"$f":"SUM(C150:C150)","v":0},0,0,0,0,0,0,0,0]
["Computer Equipment",null,0,0,0,0,0,0,0,0,0]
[]
["Furniture and Office Equipment",null,{"$f":"SUM(C153:C153)","v":0},0,0,0,0,0,0,0,0]
["Furniture and Office Equipment",null,0,0,0,0,0,0,0,0,0]
[]
["Machinery and Equipment",null,{"$f":"SUM(C156:C156)","v":0},0,0,0,0,0,0,0,0]
["Machinery and Equipment",null,0,0,0,0,0,0,0,0,0]
[]
["Transport Assets",null,{"$f":"SUM(C159:C159)","v":0},0,0,0,0,0,0,0,0]
["Transport Assets",null,0,0,0,0,0,0,0,0,0]
[]
["Land",null,{"$f":"SUM(C162:C162)","v":0},0,0,0,0,0,0,0,0]
["Land",null,0,0,0,0,0,0,0,0,0]
[]
["Zoo's, Marine and Non-biological Animals",null,{"$f":"SUM(C165:C165)","v":0},0,0,0,0,0,0,0,0]
["Zoo's, Marine and Non-biological Animals",null,0,0,0,0,0,0,0,0,0]
[]
["Total Capital Expenditure on upgrading of existing assets ",1,{"$f":"C6+C74+C103+C110+C118+C136+C139+C149+C152+C155+C158+C161+C164","v":0},{"$f":"D6+D74+D103+D110+D118+D136+D139+D149+D152+D155+D158+D161+D164","v":3988563.64},3336701.91,5666592.6600000001,7350406.9100000001,7350406.9100000001,797201.06,833872.31,872230.42999999993]
[]
["Upgrading of Existing Assets as % of total capex",null,{"$f":"IF(ISERROR(C167/'A9-Asset'!C67),0,(C167/'A9-Asset'!C67))","v":0},{"$f":"IF(ISERROR(D167/'A9-Asset'!D132),0,(D167/'A9-Asset'!D132))","v":0.10490693312630227},{"$f":"IF(ISERROR(E167/'A9-Asset'!E132),0,(E167/'A9-Asset'!E132))","v":5.4790347819623553E-2},{"$f":"IF(ISERROR(F167/'A9-Asset'!F132),0,(F167/'A9-Asset'!F132))","v":7.2374131951221304E-2},{"$f":"IF(ISERROR(G167/'A9-Asset'!G132),0,(G167/'A9-Asset'!G132))","v":9.614134196160537E-2},{"$f":"IF(ISERROR(H167/'A9-Asset'!H132),0,(H167/'A9-Asset'!H132))","v":9.614134196160537E-2},{"$f":"IF(ISERROR(I167/'A9-Asset'!I132),0,(I167/'A9-Asset'!I132))","v":1.3471084943258113E-2},{"$f":"IF(ISERROR(J167/'A9-Asset'!J132),0,(J167/'A9-Asset'!J132))","v":1.8499421304954078E-2},{"$f":"IF(ISERROR(K167/'A9-Asset'!K132),0,(K167/'A9-Asset'!K132))","v":1.8499421180156447E-2}]
["Upgrading of Existing Assets as % of deprecn\"",null,{"$f":"IF(ISERROR(C167/'A9-Asset'!C168),0,(C167/'A9-Asset'!C168))","v":0},{"$f":"IF(ISERROR(D167/'A9-Asset'!D168),0,(D167/'A9-Asset'!D168))","v":0.18955728043512551},{"$f":"IF(ISERROR(E167/'A9-Asset'!E168),0,(E167/'A9-Asset'!E168))","v":0.16683477017219817},{"$f":"IF(ISERROR(F167/'A9-Asset'!F168),0,(F167/'A9-Asset'!F168))","v":0.28332963300000003},{"$f":"IF(ISERROR(G167/'A9-Asset'!G168),0,(G167/'A9-Asset'!G168))","v":0.33410940500000003},{"$f":"IF(ISERROR(H167/'A9-Asset'!H168),0,(H167/'A9-Asset'!H168))","v":0.33410940500000003},{"$f":"IF(ISERROR(I167/'A9-Asset'!I168),0,(I167/'A9-Asset'!I168))","v":3.4379897360703821E-2},{"$f":"IF(ISERROR(J167/'A9-Asset'!J168),0,(J167/'A9-Asset'!J168))","v":3.4379897426002594E-2},{"$f":"IF(ISERROR(K167/'A9-Asset'!K168),0,(K167/'A9-Asset'!K168))","v":3.437989716237317E-2}]
[{"$f":"head27a","v":"References"}]
["1.  Total Capital Expenditure  on upgrading of existing assets (SA34e) plus Total Capital Expenditure on new assets (SA34a)  plus Total Capital Expenditure  on renewal of existing assets (SA34b) must reconcile to total capital expenditure in Budgeted Capital Expenditure"]
[]
[]
["check balance",null,{"$f":"SUM(C167+SA34a!C167++SA34b!C167)-'A5-Capex'!C40","v":0},{"$f":"SUM(D167+SA34a!D167++SA34b!D167)-'A5-Capex'!D40","v":-0.12000000476837158},{"$f":"SUM(E167+SA34a!E167++SA34b!E167)-'A5-Capex'!E40","v":0.48999999463558197},{"$f":"SUM(F167+SA34a!F167++SA34b!F167)-'A5-Capex'!F40","v":0},{"$f":"SUM(G167+SA34a!G167++SA34b!G167)-'A5-Capex'!G40","v":0},{"$f":"SUM(H167+SA34a!H167++SA34b!H167)-'A5-Capex'!H40","v":0},{"$f":"SUM(I167+SA34a!I167++SA34b!I167)-'A5-Capex'!I40","v":-17275491.649999991},{"$f":"SUM(J167+SA34a!J167++SA34b!J167)-'A5-Capex'!J40","v":-14103093.669999994},{"$f":"SUM(K167+SA34a!K167++SA34b!K167)-'A5-Capex'!K40","v":2073477.0700000003}]

{"sheet":"SA35","index":60,"n_rows":59,"n_cols":9,"rows_kept":59,"cut":false,"hidden":false,"merged":[[1,5,1,8],[1,2,1,4]]}
[{"$f":"muni&\" - \"&TableA35","v":"KZN434 Ubuhlebezwe - Supporting Table SA35 Future financial implications of the capital budget"}]
[{"$f":"Vdesc","v":"Vote Description"},{"$f":"head27","v":"Ref"},{"$f":"Head3","v":"2020/21 Medium Term Revenue & Expenditure Framework"},null,null,"Forecasts"]
["R thousand",null,{"$f":"Head9","v":"Budget Year 2020/21"},{"$f":"Head10","v":"Budget Year +1 2021/22"},{"$f":"Head11","v":"Budget Year +2 2022/23"},{"$f":"Head12","v":"Forecast 2023/24"},{"$f":"Head13","v":"Forecast 2024/25"},{"$f":"Head14","v":"Forecast 2025/26"},{"$f":"Head48","v":"Present value"}]
["Capital expenditure",1]
[{"$f":"'A5-Capex'!A6","v":"Vote 1 - Finance & Admin"},null,{"$f":"'A5-Capex'!J6+'A5-Capex'!J24","v":5563800},{"$f":"'A5-Capex'!K6+'A5-Capex'!K24","v":3891747.6},{"$f":"'A5-Capex'!L6+'A5-Capex'!L24","v":4070767.9899999993}]
[{"$f":"'A5-Capex'!A7","v":"Vote 2 - Executive & Council"},null,{"$f":"'A5-Capex'!J7+'A5-Capex'!J25","v":850000},{"$f":"'A5-Capex'!K7+'A5-Capex'!K25","v":889100},{"$f":"'A5-Capex'!L7+'A5-Capex'!L25","v":929998.6}]
[{"$f":"'A5-Capex'!A8","v":"Vote 3 - Community and Social Services"},null,{"$f":"'A5-Capex'!J8+'A5-Capex'!J26","v":5605621.5700000003},{"$f":"'A5-Capex'!K8+'A5-Capex'!K26","v":5872198.8400000008},{"$f":"'A5-Capex'!L8+'A5-Capex'!L26","v":6142319.9800000004}]
[{"$f":"'A5-Capex'!A9","v":"Vote 4 - Housing"},null,{"$f":"'A5-Capex'!J9+'A5-Capex'!J27","v":10540000},{"$f":"'A5-Capex'!K9+'A5-Capex'!K27","v":11024840},{"$f":"'A5-Capex'!L9+'A5-Capex'!L27","v":11531982.640000001}]
[{"$f":"'A5-Capex'!A10","v":"Vote 5 - Public Safety"},null,{"$f":"'A5-Capex'!J10+'A5-Capex'!J28","v":1470000},{"$f":"'A5-Capex'!K10+'A5-Capex'!K28","v":1537620},{"$f":"'A5-Capex'!L10+'A5-Capex'!L28","v":1608350.52}]
[{"$f":"'A5-Capex'!A11","v":"Vote 6 - Road Transport"},null,{"$f":"'A5-Capex'!J11+'A5-Capex'!J29","v":22795020.09},{"$f":"'A5-Capex'!K11+'A5-Capex'!K29","v":14381598.65},{"$f":"'A5-Capex'!L11+'A5-Capex'!L29","v":15043152.169999996}]
[{"$f":"'A5-Capex'!A12","v":"Vote 7 - Waste Management"},null,{"$f":"'A5-Capex'!J12+'A5-Capex'!J30","v":2117378},{"$f":"'A5-Capex'!K12+'A5-Capex'!K30","v":2214777.39},{"$f":"'A5-Capex'!L12+'A5-Capex'!L30","v":2316657.15}]
[{"$f":"'A5-Capex'!A13","v":"Vote 8 - Energy Sources"},null,{"$f":"'A5-Capex'!J13+'A5-Capex'!J31","v":0},{"$f":"'A5-Capex'!K13+'A5-Capex'!K31","v":0},{"$f":"'A5-Capex'!L13+'A5-Capex'!L31","v":0}]
[{"$f":"'A5-Capex'!A14","v":"Vote 9 - Planning and Development"},null,{"$f":"'A5-Capex'!J14+'A5-Capex'!J32","v":6964638.7999999998},{"$f":"'A5-Capex'!K14+'A5-Capex'!K32","v":1840960},{"$f":"'A5-Capex'!L14+'A5-Capex'!L32","v":1925644.16}]
[{"$f":"'A5-Capex'!A15","v":"Vote 10 - Sport and Recreation"},null,{"$f":"'A5-Capex'!J15+'A5-Capex'!J33","v":3272224.13},{"$f":"'A5-Capex'!K15+'A5-Capex'!K33","v":3422746.44},{"$f":"'A5-Capex'!L15+'A5-Capex'!L33","v":3580192.78}]
[{"$f":"'A5-Capex'!A16","v":"Vote 11 - [NAME OF VOTE 11]"},null,{"$f":"'A5-Capex'!J16+'A5-Capex'!J34","v":0},{"$f":"'A5-Capex'!K16+'A5-Capex'!K34","v":0},{"$f":"'A5-Capex'!L16+'A5-Capex'!L34","v":0}]
[{"$f":"'A5-Capex'!A17","v":"Vote 12 - [NAME OF VOTE 12]"},null,{"$f":"'A5-Capex'!J17+'A5-Capex'!J35","v":0},{"$f":"'A5-Capex'!K17+'A5-Capex'!K35","v":0},{"$f":"'A5-Capex'!L17+'A5-Capex'!L35","v":0}]
[{"$f":"'A5-Capex'!A18","v":"Vote 13 - [NAME OF VOTE 13]"},null,{"$f":"'A5-Capex'!J18+'A5-Capex'!J36","v":0},{"$f":"'A5-Capex'!K18+'A5-Capex'!K36","v":0},{"$f":"'A5-Capex'!L18+'A5-Capex'!L36","v":0}]
[{"$f":"'A5-Capex'!A19","v":"Vote 14 - [NAME OF VOTE 14]"},null,{"$f":"'A5-Capex'!J19+'A5-Capex'!J37","v":0},{"$f":"'A5-Capex'!K19+'A5-Capex'!K37","v":0},{"$f":"'A5-Capex'!L19+'A5-Capex'!L37","v":0}]
[{"$f":"'A5-Capex'!A20","v":"Vote 15 - [NAME OF VOTE 15]"},null,{"$f":"'A5-Capex'!J20+'A5-Capex'!J38","v":0},{"$f":"'A5-Capex'!K20+'A5-Capex'!K38","v":0},{"$f":"'A5-Capex'!L20+'A5-Capex'!L38","v":0}]
["List entity summary if applicable"]
["Total Capital Expenditure ",null,{"$f":"SUM(C5:C20)","v":59178682.589999996},{"$f":"SUM(D5:D20)","v":45075588.920000002},47149065.989999995,0,0,0,0]
[]
["Future operational costs by vote",2]
[{"$f":"A5","v":"Vote 1 - Finance & Admin"}]
[{"$f":"A6","v":"Vote 2 - Executive & Council"}]
["Vote 3 - Community and Social Services"]
["Vote 4 - Housing"]
["Vote 5 - Public Safety"]
["Vote 6 - Road Transport"]
["Vote 7 - Waste Management"]
["Vote 8 - Energy Sources"]
["Vote 9 - Planning and Development"]
["Vote 10 - Sport and Recreation"]
["Vote 11 - [NAME OF VOTE 11]"]
["Vote 12 - [NAME OF VOTE 12]"]
["Vote 13 - [NAME OF VOTE 13]"]
["Vote 14 - [NAME OF VOTE 14]"]
["Vote 15 - [NAME OF VOTE 15]"]
["List entity summary if applicable"]
["Total future operational costs",null,{"$f":"SUM(C24:C39)","v":173774685.58000001},{"$f":"SUM(D24:D39)","v":208200434.02999997},217777654.01000002,0,0,0,0]
[]
["Future revenue by source",3]
[{"$f":"'A4-FinPerf RE'!A5","v":"Property rates"}]
[{"$f":"'A4-FinPerf RE'!A6","v":"Service charges - electricity revenue"}]
[{"$f":"'A4-FinPerf RE'!A7","v":"Service charges - water revenue"}]
[{"$f":"'A4-FinPerf RE'!A8","v":"Service charges - sanitation revenue"}]
[{"$f":"'A4-FinPerf RE'!A9","v":"Service charges - refuse revenue"}]
[]
[{"$f":"'A4-FinPerf RE'!A11","v":"Rental of facilities and equipment"}]
["List other revenues sources if applicable"]
["List entity summary if applicable"]
["Total future revenue",null,{"$f":"SUM(C43:C47)+SUM(C49:C51)","v":0},0,0,0,0,0,0]
["Net Financial Implications",null,{"$f":"C21+C40-C52","v":232953368.17000002},253276022.94999999,264926720,0,0,0,0]
[{"$f":"head27a","v":"References"}]
["1. Summarise the total capital cost until capital project is operational (MFMA s19(2)(a))"]
["2. Summary of future operational costs from when projects operational (present value until the end of each asset's useful life) (MFMA s19(2)(b))"]
["3. Summarise the future revenue from when projects are operational, including municipal tax and tariff implications, (present value until the end of asset's useful life)"]
[]
["check",null,{"$f":"C21-('A5-Capex'!J21+'A5-Capex'!J39)","v":0},{"$f":"D21-('A5-Capex'!K21+'A5-Capex'!K39)","v":0},{"$f":"E21-('A5-Capex'!L21+'A5-Capex'!L39)","v":0}]

{"sheet":"SA36","index":61,"n_rows":107,"n_cols":17,"rows_kept":107,"cut":false,"hidden":false,"merged":[[1,12,1,13],[1,14,1,16]]}
[{"$f":"muni&\" - \"&TableA36","v":"KZN434 Ubuhlebezwe - Supporting Table SA36 Detailed capital budget"}]
["R thousand",null,null,null,null,null,null,null,null,null,null,null,null,null,{"$f":"Head3","v":"2020/21 Medium Term Revenue & Expenditure Framework"}]
["Function","Project Description","Project Number","Type","MTSF Service Outcome","IUDF","Own Strategic Objectives","Asset Class","Asset Sub-Class","Ward Location","GPS Longitude","GPS Lattitude",{"$f":"Head5&\"    \"&Head1","v":"Audited Outcome    2018/19"},{"$f":"Head2 & \"        \"&Head8","v":"Current Year 2019/20        Full Year Forecast"},{"$f":"Head9","v":"Budget Year 2020/21"},{"$f":"Head10","v":"Budget Year +1 2021/22"},{"$f":"Head11","v":"Budget Year +2 2022/23"}]
["Parent municipality:"]
["List all capital projects grouped by Function"]
[]
["Road","Shelembe Road W7",null,"Renewal",null,null,null,"Roads Infrastructure","Roads",7,30.361077000000002,-30.258427999999999,null,76454174.239999995,127499.5315,45075588.920000002,47149065.990000002]
["Road","Lower Valley View  Road W2",null,"Upgrading",null,null,null,"Roads Infrastructure","Roads",2,30.064640000000001,-30.155391000000002,null,null,354229.46]
["Road","Esivandeni Road W14",null,"Upgrading",null,null,null,"Roads Infrastructure","Roads",14,30.20768,-30.3996,null,null,390572.08]
["Road","Sdungeni Rd W1",null,"Upgrading",null,null,null,"Roads Infrastructure","Roads",1,29.978300000000001,-30.277419999999999,null,null,160375.16899999999]
["Road","Masomini Road W7",null,"Upgrading",null,null,null,"Roads Infrastructure","Roads",7,30.349720000000001,-30.265830000000001,null,null,190935.68150000001]
["Road","Magawula Road W13",null,"Upgrading",null,null,null,"Roads Infrastructure","Roads",13,30.106179999999998,-30.34788,null,null,111612.23]
["Road","Khambule Road W 8",null,"New",null,null,null,"Roads Infrastructure","Roads",8,30.282845999999999,-30.333300000000001,null,null,80020.553499999995]
["Road","Farview Road",null,"New",null,null,null,"Roads Infrastructure","Roads",4,30.071598000000002,-30.157941000000001,null,null,432220.62299999996]
["Road","Golf Course Roads",null,"New",null,null,null,"Roads Infrastructure","Roads",2,30.051400000000001,-30.148599999999998,null,null,406628.984]
["Road","Ntakama Road ",null,"New",null,null,null,"Roads Infrastructure","Roads",3,null,null,null,null,2665437.7999999998]
["Road","Thandabantu",null,"New",null,null,null,"Roads Infrastructure","Roads",9,30.272296000000001,-30.148954,null,null,3037754.53]
["Road","Ntsheleni Road",null,"Renewal",null,null,null,"Roads Infrastructure","Roads",13,30.097809999999999,-30.352170000000001,null,null,2883177.53]
["Road","Nyide road ",null,"Upgrading",null,null,null,"Roads Infrastructure","Roads",2,30.042987,-30.214919999999999,null,null,2808674.11]
["Road","Schewards Drive",null,"Upgrading",null,null,null,"Roads Infrastructure","Roads",2,30.056676,-30.156841,null,null,6500000]
["Road","Jolivet Hall Parking",null,"Renewal",null,null,null,"Roads Infrastructure","Roads",7,30.351673000000002,-30.272126,null,null,600000]
["Road","Mdibaniso Road W14",null,"Renewal",null,null,null,"Roads Infrastructure","Roads",14,null,null,null,null,620195]
["Road","Mgodi-Skeyi W12",null,"Renewal",null,null,null,"Roads Infrastructure","Roads",12,30.150572,-30.305419000000001,null,null,310097.5]
["Road","Nyuluka Road",null,"Renewal",null,null,null,"Roads Infrastructure","Roads",10,null,null,null,null,201563.38]
["Road","Sjonti Road",null,"Upgrading",null,null,null,"Roads Infrastructure","Roads",7,null,null,null,null,271355.31]
["Road","Mapo Road",null,"Upgrading",null,null,null,"Roads Infrastructure","Roads",6,null,null,null,null,325602.38]
["Road","Cilo Road",null,"Upgrading",null,null,null,"Roads Infrastructure","Roads",14,null,null,null,null,217068.25]
["Sport and Recreation","Sqandulweni Sport field ",null,"Upgrading",null,null,null,"Sport and Recreation Facilities","Outdoor Facilities",5,30.4072,-30.109500000000001,null,null,3272224.13]
["Sport and Recreation","Pass 4 Phungula Sportsfield W6",null,"Upgrading",null,null,null,"Sport and Recreation Facilities","Outdoor Facilities",6,30.249279999999999,-30.315042999999999,null,null,136314.95000000001]
["Sport and Recreation","KwaDladla Sportfield W11",null,"Upgrading",null,null,null,"Sport and Recreation Facilities","Outdoor Facilities",11,30.023700000000002,-30.292159999999999,null,null,75993.80595454546]
["Sport and Recreation","Sangcwaba Sports Field",null,"Upgrading",null,null,null,"Sport and Recreation Facilities","Outdoor Facilities",5,30.404340999999999,-30.20017,null,null,4770565.82]
["Halls","Mazabeko Hall W12",null,"Renewal",null,null,null,"Community Facilities","Halls",12,30.211200999999999,-30.257570000000001,null,null,173411.7145]
["Halls","Nkweletsheni Hall W5",null,"Upgrading",null,null,null,"Community Facilities","Halls",5,30.398976999999999,-30.132739999999998,null,null,159335.28322727268]
["Halls","Public Toilets",null,"New",null,null,null,"Community Facilities","Indoor Facilities",null,null,null,null,null,230000]
["Other Buildings","Revamping of Municipal Building",null,"Upgrading",null,null,null,"Operational Buildings","Municipal Offices",2,30.058602,-30.152235999999998,null,null,10540000]
["Other Buildings","Installed Carwash facility ",null,"New",null,null,null,"Operational Buildings","Workshops",2,30.058602,-30.152235999999998,null,null,100000]
["Other Buildings","Establishement of Workshop",null,"Upgrading",null,null,null,"Operational Buildings","Workshops",2,30.057469999999999,-30.158473000000001,null,null,100000]
["Other Buildings","3x Guard House(s)",null,"New",null,null,null,"Operational Buildings","Unspecified",2,30.058602,-30.152235999999998,null,null,100000]
["Motor vehicles","Proposed Single cab 4 x 4 ",null,null,null,null,null,"Operational Buildings","Unspecified",2,30.058602,-30.152235999999998,null,null,250000]
["Motor vehicles","Proposed double cab 4 x 4 ",null,null,null,null,null,"Operational Buildings","Unspecified",2,30.058602,-30.152235999999998,null,null,400000]
["Motor vehicles","Community Safety Sedan x2 Traffic",null,null,null,null,null,"Operational Buildings","Unspecified",2,30.058602,-30.152235999999998,null,null,740000]
["Motor vehicles","Single Cab IPD *2",null,null,null,null,null,"Operational Buildings","Unspecified",2,30.058602,-30.152235999999998,null,null,600000]
["Motor vehicles","Double Cab Corp",null,null,null,null,null,"Operational Buildings","Unspecified",2,30.058602,-30.152235999999998,null,null,500000]
["Motor vehicles","Compactor Truck",null,null,null,null,null,"Operational Buildings","Unspecified",2,30.058602,-30.152235999999998,null,null,2000000]
["Plant/machimery & Equipment","13X Brush cutters",null,null,null,null,null,"Operational Buildings","Unspecified",2,30.058602,-30.152235999999998,null,null,95000]
["Plant/machimery & Equipment","Mobile Speaker/Loud hailers",null,null,null,null,null,"Operational Buildings","Unspecified",2,30.058602,-30.152235999999998,null,null,22378]
["Plant/machimery & Equipment","Traffic Fire arms 5",null,null,null,null,null,"Operational Buildings","Unspecified",2,30.058602,-30.152235999999998,null,null,120000]
["Plant/machimery & Equipment","Traffic Warranty Machine",null,null,null,null,null,"Operational Buildings","Unspecified",2,30.058602,-30.152235999999998,null,null,260000]
["Plant/machimery & Equipment","10x Air-conditioning Units",null,null,null,null,null,"Operational Buildings","Unspecified",2,30.058602,-30.152235999999998,null,null,150000]
["Plant/machimery & Equipment","4x Safe (Reception areas)",null,null,null,null,null,"Operational Buildings","Unspecified",2,30.058602,-30.152235999999998,null,null,15000]
["Plant/machimery & Equipment","6x Metal Detectors",null,null,null,null,null,"Operational Buildings","Unspecified",2,30.058602,-30.152235999999998,null,null,3600]
["Plant/machimery & Equipment","3x Turnstyle Gates",null,null,null,null,null,"Operational Buildings","Unspecified",2,30.058602,-30.152235999999998,null,null,150000]
["Plant/machimery & Equipment","Security Gates",null,null,null,null,null,"Operational Buildings","Unspecified",2,30.058602,-30.152235999999998,null,null,50000]
["Plant/machimery & Equipment","Jolivet Fencing",null,null,null,null,null,"Operational Buildings","Unspecified",2,30.058602,-30.152235999999998,null,null,200000]
["Plant/machimery & Equipment","Fencing",null,null,null,null,null,"Operational Buildings","Unspecified",2,30.058602,-30.152235999999998,null,null,300000]
["Computer and IT Equipment ","Biomestric Scan",null,null,null,null,null,"Operational Buildings","Unspecified",2,30.058602,-30.152235999999998,null,null,60000]
["Computer and IT Equipment ","3x Supply and Installed Automated Access Gates",null,null,null,null,null,"Operational Buildings","Unspecified",2,30.058602,-30.152235999999998,null,null,25000]
["Computer and IT Equipment ","Town Servialance Camera",null,null,null,null,null,"Operational Buildings","Unspecified",2,30.058602,-30.152235999999998,null,null,700000]
["Computer and IT Equipment ","CCTV",null,null,null,null,null,"Operational Buildings","Unspecified",2,30.058602,-30.152235999999998,null,null,80000]
["Computer and IT Equipment ","High Most Lighting",null,null,null,null,null,"Operational Buildings","Unspecified",2,30.058602,-30.152235999999998,null,null,5004638.8]
["Computer and IT Equipment ","Alarm Systems ",null,null,null,null,null,"Operational Buildings","Unspecified",2,30.058602,-30.152235999999998,null,null,40000]
["Office Furniture","Fire Gym ",null,null,null,null,null,"Operational Buildings","Unspecified",2,30.058602,-30.152235999999998,null,null,350000]
["Office Furniture","Mobile Screen",null,null,null,null,null,"Operational Buildings","Unspecified",2,30.058602,-30.152235999999998,null,null,10000]
["Office Furniture","Plastic Chairs-Thathani*400",null,null,null,null,null,"Operational Buildings","Unspecified",2,30.058602,-30.152235999999998,null,null,60000]
["Office Furniture","6x Microwave Ovens ",null,null,null,null,null,"Operational Buildings","Unspecified",2,30.058602,-30.152235999999998,null,null,15000]
["Office Furniture","6x Fridges",null,null,null,null,null,"Operational Buildings","Unspecified",2,30.058602,-30.152235999999998,null,null,40000]
["Office Furniture","3 Burner Gas Stove & Pots",null,null,null,null,null,"Operational Buildings","Unspecified",2,30.058602,-30.152235999999998,null,null,5000]
["Office Furniture","8x 1,8l Kettles",null,null,null,null,null,"Operational Buildings","Unspecified",2,30.058602,-30.152235999999998,null,null,3000]
["Office Furniture","4x Vacuum Cleaners ",null,null,null,null,null,"Operational Buildings","Unspecified",2,30.058602,-30.152235999999998,null,null,15000]
["Office Furniture","3x 10l Urns",null,null,null,null,null,"Operational Buildings","Unspecified",2,30.058602,-30.152235999999998,null,null,4000]
["Office Furniture","Cutlery and Crockery",null,null,null,null,null,"Operational Buildings","Unspecified",2,30.058602,-30.152235999999998,null,null,10000]
["Office Furniture","3x Fitted Kitchen",null,null,null,null,null,"Operational Buildings","Unspecified",2,30.058602,-30.152235999999998,null,null,65000]
["Office Furniture","Fitted Reception",null,null,null,null,null,"Operational Buildings","Unspecified",2,30.058602,-30.152235999999998,null,null,30000]
["Office Furniture","Filing Cabintes",null,null,null,null,null,"Operational Buildings","Unspecified",2,30.058602,-30.152235999999998,null,null,50000]
["Office Furniture","2x Boardroom furniture",null,null,null,null,null,"Operational Buildings","Unspecified",2,30.058602,-30.152235999999998,null,null,250000]
["Intangible ","Financial Management System (MSCOA Compliant)",null,null,null,null,null,"Operational Buildings","Computer Software and Applications",2,30.058602,-30.152235999999998,null,null,1000000]
["Intangible ","Electronic Filing System",null,null,null,null,null,"Operational Buildings","Computer Software and Applications",2,30.058602,-30.152235999999998,null,null,300000]
["Intangible ","GIS Systems",null,null,null,null,null,"Operational Buildings","Computer Software and Applications",2,30.058602,-30.152235999999998,null,null,160000]
["Intangible ","PMS Software",null,null,null,null,null,"Operational Buildings","Computer Software and Applications",2,30.058602,-30.152235999999998,null,null,850000]
["Intangible ","Software licenses",null,null,null,null,null,"Operational Buildings","Computer Software and Applications",2,30.058602,-30.152235999999998,null,null,843200]
["Land","Land Aqcuisition(Mariathal)",null,null,null,null,null,null,null,null,null,null,null,null,1000000]
[]
[]
[]
[]
["Parent Capital expenditure",null,null,null,null,null,null,null,null,null,null,null,{"$f":"SUM(M7:M61)","v":0},{"$f":"SUM(N7:N61)","v":76454174.239999995},{"$f":"SUM(O7:O81)","v":59178682.606181808},{"$f":"SUM(P7:P61)","v":45075588.920000002},{"$f":"SUM(Q7:Q61)","v":47149065.990000002}]
[]
["Entities:"]
["List all capital projects grouped by Entity"]
[]
["Entity A"]
["Water project A"]
[]
["Entity B"]
["Electricity project B"]
[]
[]
[]
["Entity Capital expenditure",null,null,null,null,null,null,null,null,null,null,null,{"$f":"SUM(M91:M98)","v":0},{"$f":"SUM(N91:N98)","v":0},{"$f":"SUM(O91:O98)","v":0},{"$f":"SUM(P91:P98)","v":0},{"$f":"SUM(Q91:Q98)","v":0}]
["Total Capital expenditure",null,null,null,null,null,null,null,null,null,null,null,{"$f":"SUM(M7:M61)+SUM(M91:M98)","v":0},{"$f":"SUM(N7:N61)+SUM(N91:N98)","v":76454174.239999995},{"$f":"SUM(O7:O84)+SUM(O90:O98)","v":59178682.606181808},{"$f":"SUM(P7:P61)+SUM(P91:P98)","v":45075588.920000002},{"$f":"SUM(Q7:Q61)+SUM(Q91:Q98)","v":47149065.990000002}]
[{"$f":"head27a","v":"References"}]
["Must reconcile with Budgeted Capital Expenditure"]
["Projects that fall above the threshold values applicable to the municipality as identified in regulation 13 of the Municipal Budget and Reporting Regulations must be listed individually. Other projects by Function"]
["Asset class as per table A9 and asset sub-class as per table SA34"]
["GPS coordinates correct to seconds. Provide a logical starting point on networked infrastructure."]
["Distinguish projects approved in terms of MFMA section 19(1)(b) and MRRR Regulation 13",null,null,null,null,null,null,null,null,null,null,"check",{"$f":"SUM(SA34a!E167+SA34b!E167+SA34e!E167)-'SA36'!M100","v":60899447.489999995},{"$f":"SUM(SA34a!H167+SA34b!H167+SA34e!H167)-'SA36'!N100","v":0},{"$f":"SUM(SA34a!I167+SA34b!I167+SA34e!I167)-'SA36'!O100","v":-1.6181804239749908E-2},{"$f":"SUM(SA34a!J167+SA34b!J167+SA34e!J167)-'SA36'!P100","v":0},{"$f":"SUM(SA34a!K167+SA34b!K167+SA34e!K167)-'SA36'!Q100","v":0}]
["Project Number consists of MSCOA Project Longcode and seq No (sample PC001002006002_00002)"]

{"sheet":"SA37","index":62,"n_rows":27,"n_cols":18,"rows_kept":27,"cut":false,"hidden":false,"merged":[[1,12,2,12],[1,13,1,14],[1,15,1,17]]}
[{"$f":"muni&\" - \"&TableA37","v":"KZN434 Ubuhlebezwe - Supporting Table SA37 Projects delayed from previous financial year/s"}]
["R thousand",null,null,null,null,null,null,null,null,null,null,null,{"$f":"Head47","v":"Previous target year to complete"},{"$f":"Head2","v":"Current Year 2019/20"},null,{"$f":"Head3","v":"2020/21 Medium Term Revenue & Expenditure Framework"}]
["Function","Project name","Project number","Type","MTSF Service Outcome","IUDF","Own Strategic Objectives","Asset Class","Asset Sub-Class","Ward Location","GPS Longitude","GPS Lattitude",null,{"$f":"Head6","v":"Original Budget"},{"$f":"Head8","v":"Full Year Forecast"},{"$f":"Head9","v":"Budget Year 2020/21"},{"$f":"Head10","v":"Budget Year +1 2021/22"},{"$f":"Head11","v":"Budget Year +2 2022/23"}]
["Parent municipality:"]
["List all capital projects grouped by Function"]
[]
[]
[]
[]
[]
[]
[]
[]
["Entities:"]
["List all capital projects grouped by Entity"]
[]
["Entity Name"]
["Project name"]
[]
[]
[]
[]
[{"$f":"head27a","v":"References"}]
["List all projects with planned completion dates in current year that have been re-budgeted in the MTREF"]
["Asset class as per table A9 and asset sub-class as per table SA34"]
["GPS coordinates correct to seconds. Provide a logical starting point on networked infrastructure."]
["Project Number consists of MSCOA Project Longcode and seq No (sample PC001002006002_00002)"]

{"sheet":"SA38","index":63,"n_rows":42,"n_cols":17,"rows_kept":42,"cut":false,"hidden":false,"merged":[[1,12,1,13],[1,14,1,16]]}
[{"$f":"muni&\" - \"&TableA38","v":"KZN434 Ubuhlebezwe - Supporting Table SA38 Consolidated detailed operational projects"}]
["R thousand",null,null,null,null,null,null,null,null,null,null,null,"Prior year outcomes",null,{"$f":"Head3","v":"2020/21 Medium Term Revenue & Expenditure Framework"}]
["Function","Project Description","Project Number","Type","MTSF Service Outcome","IUDF","Own Strategic Objectives","Asset Class","Asset Sub-Class","Ward Location","GPS Longitude","GPS Lattitude",{"$f":"Head5&\"    \"&Head1","v":"Audited Outcome    2018/19"},{"$f":"Head2 & \"        \"&Head8","v":"Current Year 2019/20        Full Year Forecast"},{"$f":"Head9","v":"Budget Year 2020/21"},{"$f":"Head10","v":"Budget Year +1 2021/22"},{"$f":"Head11","v":"Budget Year +2 2022/23"}]
["Parent municipality:"]
["List all operational projects grouped by Function"]
[]
[]
[]
[]
[]
[]
[]
[]
[]
[]
[]
[]
[]
[]
[]
[]
[]
["Parent Operational expenditure",null,null,null,null,null,null,null,null,null,null,null,{"$f":"SUM(M7:M22)","v":0},{"$f":"SUM(N7:N22)","v":0},{"$f":"SUM(O7:O22)","v":0},{"$f":"SUM(P7:P22)","v":0},{"$f":"SUM(Q7:Q22)","v":0}]
[]
["Entities:"]
["List all Operational projects grouped by Entity"]
[]
["Entity A"]
["Water project A"]
[]
["Entity B"]
["Electricity project B"]
[]
[]
[]
["Entity Operational expenditure",null,null,null,null,null,null,null,null,null,null,null,{"$f":"SUM(M28:M35)","v":0},{"$f":"SUM(N28:N35)","v":0},{"$f":"SUM(O28:O35)","v":0},{"$f":"SUM(P28:P35)","v":0},{"$f":"SUM(Q28:Q35)","v":0}]
["Total Operational expenditure",null,null,null,null,null,null,null,null,null,null,null,{"$f":"SUM(M7:M22)+SUM(M28:M35)","v":0},{"$f":"SUM(N7:N22)+SUM(N28:N35)","v":0},{"$f":"SUM(O7:O22)+SUM(O28:O35)","v":0},{"$f":"SUM(P7:P22)+SUM(P28:P35)","v":0},{"$f":"SUM(Q7:Q22)+SUM(Q28:Q35)","v":0}]
[{"$f":"head27a","v":"References"}]
["Must reconcile with Budgeted Operating Expenditure"]
["Asset class as per table A9 and asset sub-class as per table SA34"]
["GPS coordinates correct to seconds. Provide a logical starting point on networked infrastructure."]
["Project Number consists of MSCOA Project Longcode and seq No (sample PO001001002001002001002_00066)",null,null,null,null,null,null,null,null,null,null,"check",{"$f":"+'A4-FinPerf RE'!E35-'SA38'!M37","v":187530155},{"$f":"+'A4-FinPerf RE'!H35-'SA38'!N37","v":175823551.12},{"$f":"+'A4-FinPerf RE'!J35-'SA38'!O37","v":174082793.37999997},{"$f":"+'A4-FinPerf RE'!K35-'SA38'!P37","v":177626646.33000004},{"$f":"+'A4-FinPerf RE'!L35-'SA38'!Q37","v":185797472.07999998}]

{"sheet":"LGDB_EXPORT","index":64,"n_rows":2876,"n_cols":23,"rows_kept":2876,"cut":false,"hidden":false,"merged":[]}
["FORM","YEAR END","MUNCDE","ITEMCODE","SEQ","DESCRIPTION",null,null,null,null,null,null,null,null,null,null,null,null,null,null,null,null,"~"]
["BSD",{"$f":"+MTREF","v":2020},{"$f":"LEFT(muni,(FIND(\" \",muni,1)-1))","v":"KZN434"},"1000",1,"Household service targets (000)",null,null,null,null,null,null,null,null,null,null,null,null,null,null,null,null,"~"]
["BSD",2020,"KZN434","1100",2,"Water:",null,null,null,null,null,null,null,null,null,null,null,null,null,null,null,null,"~"]
["BSD",2020,"KZN434","1101",3,"Piped water inside dwelling",null,null,null,null,null,null,null,null,null,null,null,null,null,null,null,null,"~"]
["BSD",2020,"KZN434","1102",4,"Piped water inside yard (but not in dwelling)",null,null,null,null,null,null,null,null,null,null,null,null,null,null,null,null,"~"]
["BSD",2020,"KZN434","1103",5,"Using public tap (at least min.service level)",null,null,null,null,null,null,null,null,null,null,null,null,null,null,null,null,"~"]
["BSD",2020,"KZN434","1104",6,"Other water supply (at least min.service level)",null,null,null,null,null,null,null,null,null,null,null,null,null,null,null,null,"~"]
["BSD",2020,"KZN434","1105",7,"Minimum Service Level and Above sub-total",null,null,null,null,null,null,null,null,null,null,null,null,null,null,null,null,"~"]
["BSD",2020,"KZN434","1106",8,"Using public tap (< min.service level)",null,null,null,null,null,null,null,null,null,null,null,null,null,null,null,null,"~"]
["BSD",2020,"KZN434","1107",9,"Other water supply (< min.service level)",null,null,null,null,null,null,null,null,null,null,null,null,null,null,null,null,"~"]
["BSD",2020,"KZN434","1108",10,"No water supply",null,null,null,null,null,null,null,null,null,null,null,null,null,null,null,null,"~"]
["BSD",2020,"KZN434","1109",11,"Below Minimum Service Level sub-total",null,null,null,null,null,null,null,null,null,null,null,null,null,null,null,null,"~"]
["BSD",2020,"KZN434","1110",12,"Total number of households",null,null,null,null,null,null,null,null,null,null,null,null,null,null,null,null,"~"]
["BSD",2020,"KZN434","1200",13,"Sanitation/sewerage:",null,null,null,null,null,null,null,null,null,null,null,null,null,null,null,null,"~"]
["BSD",2020,"KZN434","1201",14,"Flush toilet (connected to sewerage)",null,null,null,null,null,null,null,null,null,null,null,null,null,null,null,null,"~"]
["BSD",2020,"KZN434","1202",15,"Flush toilet (with septic tank)",null,null,null,null,null,null,null,null,null,null,null,null,null,null,null,null,"~"]
["BSD",2020,"KZN434","1203",16,"Chemical toilet",null,null,null,null,null,null,null,null,null,null,null,null,null,null,null,null,"~"]
["BSD",2020,"KZN434","1204",17,"Pit toilet (ventilated)",null,null,null,null,null,null,null,null,null,null,null,null,null,null,null,null,"~"]
["BSD",2020,"KZN434","1205",18,"Other toilet provisions (> min.service level)",null,null,null,null,null,null,null,null,null,null,null,null,null,null,null,null,"~"]
["BSD",2020,"KZN434","1206",19,"Minimum Service Level and Above sub-total",null,null,null,null,null,null,null,null,null,null,null,null,null,null,null,null,"~"]
["BSD",2020,"KZN434","1207",20,"Bucket toilet",null,null,null,null,null,null,null,null,null,null,null,null,null,null,null,null,"~"]
["BSD",2020,"KZN434","1208",21,"Other toilet provisions (< min.service level)",null,null,null,null,null,null,null,null,null,null,null,null,null,null,null,null,"~"]
["BSD",2020,"KZN434","1209",22,"No toilet provisions",null,null,null,null,null,null,null,null,null,null,null,null,null,null,null,null,"~"]
["BSD",2020,"KZN434","1210",23,"Below Minimum Service Level sub-total",null,null,null,null,null,null,null,null,null,null,null,null,null,null,null,null,"~"]
["BSD",2020,"KZN434","1211",24,"Total number of households",null,null,null,null,null,null,null,null,null,null,null,null,null,null,null,null,"~"]
["BSD",2020,"KZN434","1300",25,"Energy:",null,null,null,null,null,null,null,null,null,null,null,null,null,null,null,null,"~"]
["BSD",2020,"KZN434","1301",26,"Electricity (at least min.service level)",null,null,null,null,null,null,null,null,null,null,null,null,null,null,null,null,"~"]
["BSD",2020,"KZN434","1302",27,"Electricity - prepaid (min.service level)",null,null,null,null,null,null,null,null,null,null,null,null,null,null,null,null,"~"]
["BSD",2020,"KZN434","1303",28,"Minimum Service Level and Above sub-total",null,null,null,null,null,null,null,null,null,null,null,null,null,null,null,null,"~"]
["BSD",2020,"KZN434","1304",29,"Electricity (< min.service level)",null,null,null,null,null,null,null,null,null,null,null,null,null,null,null,null,"~"]
["BSD",2020,"KZN434","1305",30,"Electricity - prepaid (< min. service level)",null,null,null,null,null,null,null,null,null,null,null,null,null,null,null,null,"~"]
["BSD",2020,"KZN434","1306",31,"Other energy sources",null,null,null,null,null,null,null,null,null,null,null,null,null,null,null,null,"~"]
["BSD",2020,"KZN434","1307",32,"Below Minimum Service Level sub-total",null,null,null,null,null,null,null,null,null,null,null,null,null,null,null,null,"~"]
["BSD",2020,"KZN434","1308",33,"Total number of households",null,null,null,null,null,null,null,null,null,null,null,null,null,null,null,null,"~"]
["BSD",2020,"KZN434","1400",34,"Refuse:",null,null,null,null,null,null,null,null,null,null,null,null,null,null,null,null,"~"]
["BSD",2020,"KZN434","1401",35,"Removed at least once a week",null,null,null,null,null,null,null,null,null,null,null,null,null,null,null,null,"~"]
["BSD",2020,"KZN434","1402",36,"Minimum Service Level and Above sub-total",null,null,null,null,null,null,null,null,null,null,null,null,null,null,null,null,"~"]
["BSD",2020,"KZN434","1403",37,"Removed less frequently than once a week",null,null,null,null,null,null,null,null,null,null,null,null,null,null,null,null,"~"]
["BSD",2020,"KZN434","1404",38,"Using communal refuse dump",null,null,null,null,null,null,null,null,null,null,null,null,null,null,null,null,"~"]
["BSD",2020,"KZN434","1405",39,"Using own refuse dump",null,null,null,null,null,null,null,null,null,null,null,null,null,null,null,null,"~"]
["BSD",2020,"KZN434","1406",40,"Other rubbish disposal",null,null,null,null,null,null,null,null,null,null,null,null,null,null,null,null,"~"]
["BSD",2020,"KZN434","1407",41,"No rubbish disposal",null,null,null,null,null,null,null,null,null,null,null,null,null,null,null,null,"~"]
["BSD",2020,"KZN434","1408",42,"Below Minimum Service Level sub-total",null,null,null,null,null,null,null,null,null,null,null,null,null,null,null,null,"~"]
["BSD",2020,"KZN434","1409",43,"Total number of households",null,null,null,null,null,null,null,null,null,null,null,null,null,null,null,null,"~"]
["BSD",2020,"KZN434",null,null,null,null,null,null,null,null,null,null,null,null,null,null,null,null,null,null,null,"~"]
["BSD",2020,"KZN434","1500",45,"Households receiving Free Basic Service",null,null,null,null,null,null,null,null,null,null,null,null,null,null,null,null,"~"]
["BSD",2020,"KZN434","1501",46,"Water (6 kilolitres per household per month)",null,null,null,null,null,null,null,null,null,null,null,null,null,null,null,null,"~"]
["BSD",2020,"KZN434","1502",47,"Sanitation (free minimum level service)",null,null,null,null,null,null,null,null,null,null,null,null,null,null,null,null,"~"]
["BSD",2020,"KZN434","1503",48,"Electricity/other energy (50kwh per household per month)",null,null,null,null,null,null,null,null,null,null,null,null,null,null,null,null,"~"]
["BSD",2020,"KZN434","1504",49,"Refuse (removed at least once a week)",null,null,null,null,null,null,null,null,null,null,null,null,null,null,null,null,"~"]
["BSD",2020,"KZN434",null,null,null,null,null,null,null,null,null,null,null,null,null,null,null,null,null,null,null,"~"]
["BSD",2020,"KZN434","1600",51,"Cost of Free Basic Services provided - Formal Settlements (R'000)",null,null,null,null,null,null,null,null,null,null,null,null,null,null,null,null,"~"]
["BSD",2020,"KZN434","1601",52,"Water (6 kilolitres per indigent household per month)",null,null,null,null,null,null,null,null,null,null,null,null,null,null,null,null,"~"]
["BSD",2020,"KZN434","1602",53,"Sanitation (free sanitation service to indigent households)",null,null,null,null,null,null,null,null,null,null,null,null,null,null,null,null,"~"]
["BSD",2020,"KZN434","1603",54,"Electricity/other energy (50kwh per indigent household per month)",null,null,null,null,null,null,null,null,null,null,null,null,null,null,null,null,"~"]
["BSD",2020,"KZN434","1604",55,"Refuse (removed once a week for indigent households)",null,null,null,null,null,null,null,null,null,null,null,null,null,null,null,null,"~"]
["BSD",2020,"KZN434",1606,56,"Cost of Free Basic Services provided - Informal Formal Settlements (R'000)",null,null,null,null,null,null,null,null,null,null,null,null,null,null,null,null,"~"]
["BSD",2020,"KZN434",1607,57,"Total cost of FBS provided  ",null,null,null,null,null,null,null,null,null,null,null,null,null,null,null,null,"~"]
["BSD",2020,"KZN434",null,null,null,null,null,null,null,null,null,null,null,null,null,null,null,null,null,null,null,"~"]
["BSD",2020,"KZN434","1700",58,"Highest level of free service provided per household",null,null,null,null,null,null,null,null,null,null,null,null,null,null,null,null,"~"]
["BSD",2020,"KZN434","1701",59,"Property rates (R value threshold)",null,null,null,null,null,null,null,null,null,null,null,null,null,null,null,null,"~"]
["BSD",2020,"KZN434","1702",60,"Water (kilolitres per household per month)",null,null,null,null,null,null,null,null,null,null,null,null,null,null,null,null,"~"]
["BSD",2020,"KZN434","1703",61,"Sanitation (kilolitres per household per month)",null,null,null,null,null,null,null,null,null,null,null,null,null,null,null,null,"~"]
["BSD",2020,"KZN434","1704",62,"Sanitation (Rand per household per month)",null,null,null,null,null,null,null,null,null,null,null,null,null,null,null,null,"~"]
["BSD",2020,"KZN434","1705",63,"Electricity (kwh per household per month)",null,null,null,null,null,null,null,null,null,null,null,null,null,null,null,null,"~"]
["BSD",{"$f":"+MTREF","v":2020},{"$f":"LEFT(muni,(FIND(\" \",muni,1)-1))","v":"KZN434"},"1706",64,"Refuse (average litres per week)",null,null,null,null,null,null,null,null,null,null,null,null,null,null,null,null,"~"]
["BSD",2020,"KZN434","1707",65,"Revenue  cost of subsidised services provided (R'000)",null,null,null,null,null,null,null,null,null,null,null,null,null,null,null,null,"~"]
["BSD",2020,"KZN434","1708",66,"Property rates (tariff adjustment) ( impermissable values per section 17 of MPRA)",null,null,null,null,null,null,null,null,null,null,null,null,null,null,null,null,"~"]
["BSD",2020,"KZN434","1709",67,"Property rates  exemptions, reductions and rebates and impermissable values in excess of section 17 of MPRA)",null,null,null,null,null,null,null,null,null,null,null,null,null,null,null,null,"~"]
["BSD",2020,"KZN434","1710",68,"Water (in excess of 6 kilolitres per indigent household per month)",null,null,null,null,null,null,null,null,null,null,null,null,null,null,null,null,"~"]
["BSD",2020,"KZN434","1711",69,"Sanitation (in excess of free sanitation service to indigent households)",null,null,null,null,null,null,null,null,null,null,null,null,null,null,null,null,"~"]
["BSD",2020,"KZN434","1712",70,"Electricity/other energy (in excess of 50 kwh per indigent household per month)",null,null,null,null,null,null,null,null,null,null,null,null,null,null,null,null,"~"]
["BSD",2020,"KZN434","1713",71,"Refuse (in excess of one removal a week for indigent households)",null,null,null,null,null,null,null,null,null,null,null,null,null,null,null,null,"~"]
["BSD",2020,"KZN434","1714",72,"Municipal Housing - rental rebates",null,null,null,null,null,null,null,null,null,null,null,null,null,null,null,null,"~"]
["BSD",2020,"KZN434","1715",73,"Housing - top structure subsidies",null,null,null,null,null,null,null,null,null,null,null,null,null,null,null,null,"~"]
["BSD",2020,"KZN434","1716",74,"Other",null,null,null,null,null,null,null,null,null,null,null,null,null,null,null,null,"~"]
["BSD",2020,"KZN434","1717",75,"Total revenue cost of subsidised services provided ",null,null,null,null,null,null,null,null,null,null,null,null,null,null,null,null,"~"]
["SA11",2020,"KZN434",1000,"T","Valuation:",null,null,null,null,null,null,null,null,null,null,null,null,null,null,null,null,"~"]
["SA11",2020,"KZN434",1001,"T","Date of valuation:",null,null,null,null,null,null,null,null,null,null,null,null,null,null,null,null,"~"]
["SA11",2020,"KZN434",1002,"T","Financial year valuation used",null,null,null,null,null,null,null,null,null,null,null,null,null,null,null,null,"~"]
["SA11",2020,"KZN434",1003,"T","Municipal by-laws s6 in place? (Y/N)",null,null,null,null,null,null,null,null,null,null,null,null,null,null,null,null,"~"]
["SA11",2020,"KZN434",1004,"T","Municipal/assistant valuer appointed? (Y/N)",null,null,null,null,null,null,null,null,null,null,null,null,null,null,null,null,"~"]
["SA11",2020,"KZN434",1005,"T","Municipal partnership s38 used? (Y/N)",null,null,null,null,null,null,null,null,null,null,null,null,null,null,null,null,"~"]
["SA11",2020,"KZN434",1006,"V","No. of assistant valuers (FTE)",null,null,null,null,null,null,null,null,null,null,null,null,null,null,null,null,"~"]
["SA11",2020,"KZN434",1007,"V","No. of data collectors (FTE)",null,null,null,null,null,null,null,null,null,null,null,null,null,null,null,null,"~"]
["SA11",2020,"KZN434",1008,"V","No. of internal valuers (FTE)",null,null,null,null,null,null,null,null,null,null,null,null,null,null,null,null,"~"]
["SA11",2020,"KZN434",1009,"V","No. of external valuers (FTE)",null,null,null,null,null,null,null,null,null,null,null,null,null,null,null,null,"~"]
["SA11",2020,"KZN434",1010,"V","No. of additional valuers (FTE)",null,null,null,null,null,null,null,null,null,null,null,null,null,null,null,null,"~"]
["SA11",2020,"KZN434",1011,"T","Valuation appeal board established? (Y/N)",null,null,null,null,null,null,null,null,null,null,null,null,null,null,null,null,"~"]
["SA11",2020,"KZN434",1012,"V","Implementation time of new valuation roll (mths)",null,null,null,null,null,null,null,null,null,null,null,null,null,null,null,null,"~"]
["SA11",2020,"KZN434",1020,"V","No. of properties",null,null,null,null,null,null,null,null,null,null,null,null,null,null,null,null,"~"]
["SA11",2020,"KZN434",1021,"V","No. of sectional title values",null,null,null,null,null,null,null,null,null,null,null,null,null,null,null,null,"~"]
["SA11",2020,"KZN434",1022,"V","No. of unreasonably difficult properties s7(2)",null,null,null,null,null,null,null,null,null,null,null,null,null,null,null,null,"~"]
["SA11",2020,"KZN434",1023,"V","No. of supplementary valuations",null,null,null,null,null,null,null,null,null,null,null,null,null,null,null,null,"~"]
["SA11",2020,"KZN434",1024,"V","No. of valuation roll amendments",null,null,null,null,null,null,null,null,null,null,null,null,null,null,null,null,"~"]
["SA11",2020,"KZN434",1025,"V","No. of objections by rate payers",null,null,null,null,null,null,null,null,null,null,null,null,null,null,null,null,"~"]
["SA11",2020,"KZN434",1026,"V","No. of appeals by rate payers",null,null,null,null,null,null,null,null,null,null,null,null,null,null,null,null,"~"]
["SA11",2020,"KZN434",1028,"V","No. of successful objections",null,null,null,null,null,null,null,null,null,null,null,null,null,null,null,null,"~"]
["SA11",2020,"KZN434",1029,"V","No. of successful objections > 10%",null,null,null,null,null,null,null,null,null,null,null,null,null,null,null,null,"~"]
["SA11",2020,"KZN434",1030,"V","Supplementary valuation",null,null,null,null,null,null,null,null,null,null,null,null,null,null,null,null,"~"]
["SA11",2020,"KZN434",1031,"V","Public service infrastructure value ",null,null,null,null,null,null,null,null,null,null,null,null,null,null,null,null,"~"]
["SA11",2020,"KZN434",1032,"V","Municipality owned property value ",null,null,null,null,null,null,null,null,null,null,null,null,null,null,null,null,"~"]
["SA11",2020,"KZN434",1100,"T","Valuation reductions:",null,null,null,null,null,null,null,null,null,null,null,null,null,null,null,null,"~"]
["SA11",2020,"KZN434",1101,"V","Valuation reductions-public infrastructure",null,null,null,null,null,null,null,null,null,null,null,null,null,null,null,null,"~"]
["SA11",2020,"KZN434",1102,"V","Valuation reductions-nature reserves/park",null,null,null,null,null,null,null,null,null,null,null,null,null,null,null,null,"~"]
["SA11",2020,"KZN434",1103,"V","Valuation reductions-mineral rights",null,null,null,null,null,null,null,null,null,null,null,null,null,null,null,null,"~"]
["SA11",2020,"KZN434",1104,"V","Valuation reductions-R15,000 threshold",null,null,null,null,null,null,null,null,null,null,null,null,null,null,null,null,"~"]
["SA11",2020,"KZN434",1105,"V","Valuation reductions-public worship ",null,null,null,null,null,null,null,null,null,null,null,null,null,null,null,null,"~"]
["SA11",2020,"KZN434",1106,"V","Valuation reductions-other",null,null,null,null,null,null,null,null,null,null,null,null,null,null,null,null,"~"]
["SA11",2020,"KZN434",1107,"V","Total valuation reductions:",null,null,null,null,null,null,null,null,null,null,null,null,null,null,null,null,"~"]
["SA11",2020,"KZN434",1108,"V","Total value used for rating",null,null,null,null,null,null,null,null,null,null,null,null,null,null,null,null,"~"]
["SA11",2020,"KZN434",1109,"V","Total land value ",null,null,null,null,null,null,null,null,null,null,null,null,null,null,null,null,"~"]
["SA11",2020,"KZN434",1110,"V","Total value of improvements",null,null,null,null,null,null,null,null,null,null,null,null,null,null,null,null,"~"]
["SA11",2020,"KZN434",1111,"V","Total market value",null,null,null,null,null,null,null,null,null,null,null,null,null,null,null,null,"~"]
["SA11",2020,"KZN434",null,null,null,null,null,null,null,null,null,null,null,null,null,null,null,null,null,null,null,"~"]
["SA11",2020,"KZN434",1200,"T","Rating:",null,null,null,null,null,null,null,null,null,null,null,null,null,null,null,null,"~"]
["SA11",2020,"KZN434",1202,"T","Residential rate used to determine rate for other categories? (Y/N)",null,null,null,null,null,null,null,null,null,null,null,null,null,null,null,null,"~"]
["SA11",2020,"KZN434",1203,"T","Differential rates used? (Y/N)",null,null,null,null,null,null,null,null,null,null,null,null,null,null,null,null,"~"]
["SA11",2020,"KZN434",1204,"T","Limit on annual rate increase (s20)? (Y/N)",null,null,null,null,null,null,null,null,null,null,null,null,null,null,null,null,"~"]
["SA11",2020,"KZN434",1205,"T","Special rating area used? (Y/N)",null,null,null,null,null,null,null,null,null,null,null,null,null,null,null,null,"~"]
["SA11",2020,"KZN434",1206,"V","Phasing-in properties s21 (number)",null,null,null,null,null,null,null,null,null,null,null,null,null,null,null,null,"~"]
["SA11",2020,"KZN434",1207,"T","Rates policy accompanying budget? (Y/N)",null,null,null,null,null,null,null,null,null,null,null,null,null,null,null,null,"~"]
["SA11",2020,"KZN434",1208,"V","Fixed amount minimum value",null,null,null,null,null,null,null,null,null,null,null,null,null,null,null,null,"~"]
["SA11",2020,"KZN434",1209,"P","Non-residential prescribed ratio s19? (%)",null,null,null,null,null,null,null,null,null,null,null,null,null,null,null,null,"~"]
["SA11",2020,"KZN434",null,null,null,null,null,null,null,null,null,null,null,null,null,null,null,null,null,null,null,"~"]
["SA11",2020,"KZN434",1300,"T","Rate revenue:",null,null,null,null,null,null,null,null,null,null,null,null,null,null,null,null,"~"]
["SA11",2020,"KZN434",1301,"V","Rate revenue budget ",null,null,null,null,null,null,null,null,null,null,null,null,null,null,null,null,"~"]
["SA11",2020,"KZN434",1302,"V","Rate revenue expected to collect",null,null,null,null,null,null,null,null,null,null,null,null,null,null,null,null,"~"]
["SA11",2020,"KZN434",1303,"P","Expected cash collection rate (%)",null,null,null,null,null,null,null,null,null,null,null,null,null,null,null,null,"~"]
["SA11",{"$f":"+MTREF","v":2020},{"$f":"LEFT(muni,(FIND(\" \",muni,1)-1))","v":"KZN434"},1304,"V","Special rating areas",null,null,null,null,null,null,null,null,null,null,null,null,null,null,null,null,"~"]
["SA11",2020,"KZN434",1305,"V","Rebates, exemptions - indigent",null,null,null,null,null,null,null,null,null,null,null,null,null,null,null,null,"~"]
["SA11",2020,"KZN434",1306,"V","Rebates, exemptions - pensioners",null,null,null,null,null,null,null,null,null,null,null,null,null,null,null,null,"~"]
["SA11",2020,"KZN434",1307,"V","Rebates, exemptions - bona fide farm",null,null,null,null,null,null,null,null,null,null,null,null,null,null,null,null,"~"]
["SA11",2020,"KZN434",1308,"V","Rebates, exemptions - other",null,null,null,null,null,null,null,null,null,null,null,null,null,null,null,null,"~"]
["SA11",2020,"KZN434",1309,"V","Phase-in reductions/discounts",null,null,null,null,null,null,null,null,null,null,null,null,null,null,null,null,"~"]
["SA11",2020,"KZN434",1310,"V","Total rebates,exemptns,reductns,discs",null,null,null,null,null,null,null,null,null,null,null,null,null,null,null,null,"~"]
["SA12",2020,"KZN434",1000,"T","Valuation:",null,null,null,null,null,null,null,null,null,null,null,null,null,null,null,null,"~"]
["SA12",2020,"KZN434",1020,"V","No. of properties",null,null,null,null,null,null,null,null,null,null,null,null,null,null,null,null,"~"]
["SA12",2020,"KZN434",1021,"V","No. of sectional title property values",null,null,null,null,null,null,null,null,null,null,null,null,null,null,null,null,"~"]
["SA12",2020,"KZN434",1022,"V","No. of unreasonably difficult properties s7(2)",null,null,null,null,null,null,null,null,null,null,null,null,null,null,null,null,"~"]
["SA12",2020,"KZN434",1023,"V","No. of supplementary valuations",null,null,null,null,null,null,null,null,null,null,null,null,null,null,null,null,"~"]
["SA12",2020,"KZN434",1030,"V","Supplementary valuation ",null,null,null,null,null,null,null,null,null,null,null,null,null,null,null,null,"~"]
["SA12",2020,"KZN434",1024,"V","No. of valuation roll amendments",null,null,null,null,null,null,null,null,null,null,null,null,null,null,null,null,"~"]
["SA12",2020,"KZN434",1025,"V","No. of objections by rate-payers",null,null,null,null,null,null,null,null,null,null,null,null,null,null,null,null,"~"]
["SA12",2020,"KZN434",1026,"V","No. of appeals by rate-payers",null,null,null,null,null,null,null,null,null,null,null,null,null,null,null,null,"~"]
["SA12",2020,"KZN434",1027,"V","No. of appeals by rate-payers finalised",null,null,null,null,null,null,null,null,null,null,null,null,null,null,null,null,"~"]
["SA12",2020,"KZN434",1028,"V","No. of successful objections",null,null,null,null,null,null,null,null,null,null,null,null,null,null,null,null,"~"]
["SA12",2020,"KZN434",1029,"V","No. of successful objections > 10%",null,null,null,null,null,null,null,null,null,null,null,null,null,null,null,null,"~"]
["SA12",2020,"KZN434",1040,"V","Estimated no. of properties not valued",null,null,null,null,null,null,null,null,null,null,null,null,null,null,null,null,"~"]
["SA12",2020,"KZN434",1041,"T","Years since last valuation",null,null,null,null,null,null,null,null,null,null,null,null,null,null,null,null,"~"]
["SA12",2020,"KZN434",1042,"T","Frequency of valuation ",null,null,null,null,null,null,null,null,null,null,null,null,null,null,null,null,"~"]
["SA12",2020,"KZN434",1043,"T","Method of valuation used",null,null,null,null,null,null,null,null,null,null,null,null,null,null,null,null,"~"]
["SA12",2020,"KZN434",1044,"T","Base of valuation",null,null,null,null,null,null,null,null,null,null,null,null,null,null,null,null,"~"]
["SA12",2020,"KZN434",1206,"V","Phasing-in properties s21 (number)",null,null,null,null,null,null,null,null,null,null,null,null,null,null,null,null,"~"]
["SA12",2020,"KZN434",1046,"T","Combination of rating types used? (Y/N)",null,null,null,null,null,null,null,null,null,null,null,null,null,null,null,null,"~"]
["SA12",2020,"KZN434",1047,"T","Flat rate used? (Y/N)",null,null,null,null,null,null,null,null,null,null,null,null,null,null,null,null,"~"]
["SA12",2020,"KZN434",1048,"T","Is balance rated by uniform rate/variable rate?",null,null,null,null,null,null,null,null,null,null,null,null,null,null,null,null,"~"]
["SA12",2020,"KZN434",1100,"T","Valuation reductions:",null,null,null,null,null,null,null,null,null,null,null,null,null,null,null,null,"~"]
["SA12",2020,"KZN434",1101,"V","Valuation reductions-public infrastructure",null,null,null,null,null,null,null,null,null,null,null,null,null,null,null,null,"~"]
["SA12",2020,"KZN434",1102,"V","Valuation reductions-nature reserves/park",null,null,null,null,null,null,null,null,null,null,null,null,null,null,null,null,"~"]
["SA12",2020,"KZN434",1103,"V","Valuation reductions-mineral rights",null,null,null,null,null,null,null,null,null,null,null,null,null,null,null,null,"~"]
["SA12",2020,"KZN434",1104,"V","Valuation reductions-R15,000 threshold ",null,null,null,null,null,null,null,null,null,null,null,null,null,null,null,null,"~"]
["SA12",2020,"KZN434",1105,"V","Valuation reductions-public worship",null,null,null,null,null,null,null,null,null,null,null,null,null,null,null,null,"~"]
["SA12",2020,"KZN434",1106,"V","Valuation reductions-other",null,null,null,null,null,null,null,null,null,null,null,null,null,null,null,null,"~"]
["SA12",2020,"KZN434",1107,"V","Total valuation reductions:",null,null,null,null,null,null,null,null,null,null,null,null,null,null,null,null,"~"]
["SA12",2020,"KZN434",1108,"V","Total value used for rating",null,null,null,null,null,null,null,null,null,null,null,null,null,null,null,null,"~"]
["SA12",2020,"KZN434",1109,"V","Total land value ",null,null,null,null,null,null,null,null,null,null,null,null,null,null,null,null,"~"]
["SA12",2020,"KZN434",1110,"V","Total value of improvements",null,null,null,null,null,null,null,null,null,null,null,null,null,null,null,null,"~"]
["SA12",2020,"KZN434",1111,"V","Total market value ",null,null,null,null,null,null,null,null,null,null,null,null,null,null,null,null,"~"]
["SA12",2020,"KZN434",1200,"T","Rating:",null,null,null,null,null,null,null,null,null,null,null,null,null,null,null,null,"~"]
["SA12",2020,"KZN434",1201,"V","Average rate",null,null,null,null,null,null,null,null,null,null,null,null,null,null,null,null,"~"]
["SA12",2020,"KZN434",1301,"V","Rate revenue budget ",null,null,null,null,null,null,null,null,null,null,null,null,null,null,null,null,"~"]
["SA12",2020,"KZN434",1302,"V","Rate revenue expected to collect",null,null,null,null,null,null,null,null,null,null,null,null,null,null,null,null,"~"]
["SA12",2020,"KZN434",1303,"P","Expected cash collection rate (%)",null,null,null,null,null,null,null,null,null,null,null,null,null,null,null,null,"~"]
["SA12",2020,"KZN434",1304,"V","Special rating areas",null,null,null,null,null,null,null,null,null,null,null,null,null,null,null,null,"~"]
["SA12",2020,"KZN434",1305,"V","Rebates, exemptions - indigent",null,null,null,null,null,null,null,null,null,null,null,null,null,null,null,null,"~"]
["SA12",2020,"KZN434",1306,"V","Rebates, exemptions - pensioners",null,null,null,null,null,null,null,null,null,null,null,null,null,null,null,null,"~"]
["SA12",2020,"KZN434",1307,"V","Rebates, exemptions - bona fide farm. ",null,null,null,null,null,null,null,null,null,null,null,null,null,null,null,null,"~"]
["SA12",2020,"KZN434",1308,"V","Rebates, exemptions - other ",null,null,null,null,null,null,null,null,null,null,null,null,null,null,null,null,"~"]
["SA12",2020,"KZN434",1309,"V","Phase-in reductions/discounts ",null,null,null,null,null,null,null,null,null,null,null,null,null,null,null,null,"~"]
["SA12",2020,"KZN434",1310,"V","Total rebates,exemptns,reductns,discs",null,null,null,null,null,null,null,null,null,null,null,null,null,null,null,null,"~"]
["SA12",2020,"KZN434",null,null,null,null,null,null,null,null,null,null,null,null,null,null,null,null,null,null,null,"~"]
["SA12",2020,"KZN434",null,null,null,null,null,null,null,null,null,null,null,null,null,null,null,null,null,null,null,"~"]
["SA12",2020,"KZN434",null,null,null,null,null,null,null,null,null,null,null,null,null,null,null,null,null,null,null,"~"]
["SA12",2020,"KZN434",null,null,null,null,null,null,null,null,null,null,null,null,null,null,null,null,null,null,null,"~"]
["SA12",2020,"KZN434",1000,"T","Valuation:",null,null,null,null,null,null,null,null,null,null,null,null,null,null,null,null,"~"]
["SA12",2020,"KZN434",1020,"V","No. of properties",null,null,null,null,null,null,null,null,null,null,null,null,null,null,null,null,"~"]
["SA12",2020,"KZN434",1021,"V","No. of sectional title property values",null,null,null,null,null,null,null,null,null,null,null,null,null,null,null,null,"~"]
["SA12",2020,"KZN434",1022,"V","No. of unreasonably difficult properties s7(2)",null,null,null,null,null,null,null,null,null,null,null,null,null,null,null,null,"~"]
["SA12",2020,"KZN434",1023,"V","No. of supplementary valuations",null,null,null,null,null,null,null,null,null,null,null,null,null,null,null,null,"~"]
["SA12",2020,"KZN434",1030,"V","Supplementary valuation ",null,null,null,null,null,null,null,null,null,null,null,null,null,null,null,null,"~"]
["SA12",2020,"KZN434",1024,"V","No. of valuation roll amendments",null,null,null,null,null,null,null,null,null,null,null,null,null,null,null,null,"~"]
["SA12",2020,"KZN434",1025,"V","No. of objections by rate-payers",null,null,null,null,null,null,null,null,null,null,null,null,null,null,null,null,"~"]
["SA12",{"$f":"+MTREF","v":2020},{"$f":"LEFT(muni,(FIND(\" \",muni,1)-1))","v":"KZN434"},1026,"V","No. of appeals by rate-payers",null,null,null,null,null,null,null,null,null,null,null,null,null,null,null,null,"~"]
["SA12",2020,"KZN434",1027,"V","No. of appeals by rate-payers finalised",null,null,null,null,null,null,null,null,null,null,null,null,null,null,null,null,"~"]
["SA12",2020,"KZN434",1028,"V","No. of successful objections",null,null,null,null,null,null,null,null,null,null,null,null,null,null,null,null,"~"]
["SA12",2020,"KZN434",1029,"V","No. of successful objections > 10%",null,null,null,null,null,null,null,null,null,null,null,null,null,null,null,null,"~"]
["SA12",2020,"KZN434",1040,"V","Estimated no. of properties not valued",null,null,null,null,null,null,null,null,null,null,null,null,null,null,null,null,"~"]
["SA12",2020,"KZN434",1041,"T","Years since last valuation",null,null,null,null,null,null,null,null,null,null,null,null,null,null,null,null,"~"]
["SA12",2020,"KZN434",1042,"T","Frequency of valuation ",null,null,null,null,null,null,null,null,null,null,null,null,null,null,null,null,"~"]
["SA12",2020,"KZN434",1043,"T","Method of valuation used",null,null,null,null,null,null,null,null,null,null,null,null,null,null,null,null,"~"]
["SA12",2020,"KZN434",1044,"T","Base of valuation",null,null,null,null,null,null,null,null,null,null,null,null,null,null,null,null,"~"]
["SA12",2020,"KZN434",1206,"V","Phasing-in properties s21 (number)",null,null,null,null,null,null,null,null,null,null,null,null,null,null,null,null,"~"]
["SA12",2020,"KZN434",1046,"T","Combination of rating types used? (Y/N)",null,null,null,null,null,null,null,null,null,null,null,null,null,null,null,null,"~"]
["SA12",2020,"KZN434",1047,"T","Flat rate used? (Y/N)",null,null,null,null,null,null,null,null,null,null,null,null,null,null,null,null,"~"]
["SA12",2020,"KZN434",1048,"T","Is balance rated by uniform rate/variable rate?",null,null,null,null,null,null,null,null,null,null,null,null,null,null,null,null,"~"]
["SA12",2020,"KZN434",1100,"T","Valuation reductions:",null,null,null,null,null,null,null,null,null,null,null,null,null,null,null,null,"~"]
["SA12",2020,"KZN434",1101,"V","Valuation reductions-public infrastructure",null,null,null,null,null,null,null,null,null,null,null,null,null,null,null,null,"~"]
["SA12",2020,"KZN434",1102,"V","Valuation reductions-nature reserves/park",null,null,null,null,null,null,null,null,null,null,null,null,null,null,null,null,"~"]
["SA12",2020,"KZN434",1103,"V","Valuation reductions-mineral rights",null,null,null,null,null,null,null,null,null,null,null,null,null,null,null,null,"~"]
["SA12",2020,"KZN434",1104,"V","Valuation reductions-R15,000 threshold ",null,null,null,null,null,null,null,null,null,null,null,null,null,null,null,null,"~"]
["SA12",2020,"KZN434",1105,"V","Valuation reductions-public worship",null,null,null,null,null,null,null,null,null,null,null,null,null,null,null,null,"~"]
["SA12",2020,"KZN434",1106,"V","Valuation reductions-other",null,null,null,null,null,null,null,null,null,null,null,null,null,null,null,null,"~"]
["SA12",2020,"KZN434",1107,"V","Total valuation reductions:",null,null,null,null,null,null,null,null,null,null,null,null,null,null,null,null,"~"]
["SA12",2020,"KZN434",1108,"V","Total value used for rating",null,null,null,null,null,null,null,null,null,null,null,null,null,null,null,null,"~"]
["SA12",2020,"KZN434",1109,"V","Total land value ",null,null,null,null,null,null,null,null,null,null,null,null,null,null,null,null,"~"]
["SA12",2020,"KZN434",1110,"V","Total value of improvements",null,null,null,null,null,null,null,null,null,null,null,null,null,null,null,null,"~"]
["SA12",2020,"KZN434",1111,"V","Total market value ",null,null,null,null,null,null,null,null,null,null,null,null,null,null,null,null,"~"]
["SA12",2020,"KZN434",1200,"T","Rating:",null,null,null,null,null,null,null,null,null,null,null,null,null,null,null,null,"~"]
["SA12",2020,"KZN434",1201,"V","Average rate",null,null,null,null,null,null,null,null,null,null,null,null,null,null,null,null,"~"]
["SA12",2020,"KZN434",1301,"V","Rate revenue budget ",null,null,null,null,null,null,null,null,null,null,null,null,null,null,null,null,"~"]
["SA12",2020,"KZN434",1302,"V","Rate revenue expected to collect",null,null,null,null,null,null,null,null,null,null,null,null,null,null,null,null,"~"]
["SA12",2020,"KZN434",1303,"P","Expected cash collection rate (%)",null,null,null,null,null,null,null,null,null,null,null,null,null,null,null,null,"~"]
["SA12",2020,"KZN434",1304,"V","Special rating areas",null,null,null,null,null,null,null,null,null,null,null,null,null,null,null,null,"~"]
["SA12",2020,"KZN434",1305,"V","Rebates, exemptions - indigent",null,null,null,null,null,null,null,null,null,null,null,null,null,null,null,null,"~"]
["SA12",2020,"KZN434",1306,"V","Rebates, exemptions - pensioners",null,null,null,null,null,null,null,null,null,null,null,null,null,null,null,null,"~"]
["SA12",2020,"KZN434",1307,"V","Rebates, exemptions - bona fide farm. ",null,null,null,null,null,null,null,null,null,null,null,null,null,null,null,null,"~"]
["SA12",2020,"KZN434",1308,"V","Rebates, exemptions - other ",null,null,null,null,null,null,null,null,null,null,null,null,null,null,null,null,"~"]
["SA12",2020,"KZN434",1309,"V","Phase-in reductions/discounts ",null,null,null,null,null,null,null,null,null,null,null,null,null,null,null,null,"~"]
["SA12",2020,"KZN434",1310,"V","Total rebates,exemptns,reductns,discs",null,null,null,null,null,null,null,null,null,null,null,null,null,null,null,null,"~"]
["SA13",2020,"KZN434",1000,1,"Property rates (rate in the Rand)",null,null,null,null,null,null,null,null,null,null,null,null,null,null,null,null,"~"]
["SA13",2020,"KZN434",1001,2,"Residential properties",null,null,null,null,null,null,null,null,null,null,null,null,null,null,null,null,"~"]
["SA13",2020,"KZN434",1002,3,"Residential properties - vacant land",null,null,null,null,null,null,null,null,null,null,null,null,null,null,null,null,"~"]
["SA13",2020,"KZN434",1003,4,"Formal/informal settlements",null,null,null,null,null,null,null,null,null,null,null,null,null,null,null,null,"~"]
["SA13",2020,"KZN434",1004,5,"Small holdings",null,null,null,null,null,null,null,null,null,null,null,null,null,null,null,null,"~"]
["SA13",2020,"KZN434",1005,6,"Farm properties - used",null,null,null,null,null,null,null,null,null,null,null,null,null,null,null,null,"~"]
["SA13",2020,"KZN434",1006,7,"Farm properties - not used",null,null,null,null,null,null,null,null,null,null,null,null,null,null,null,null,"~"]
["SA13",2020,"KZN434",1007,8,"Industrial properties",null,null,null,null,null,null,null,null,null,null,null,null,null,null,null,null,"~"]
["SA13",2020,"KZN434",1008,9,"Business and commercial properties",null,null,null,null,null,null,null,null,null,null,null,null,null,null,null,null,"~"]
["SA13",2020,"KZN434",1009,10,"Communal land - residential",null,null,null,null,null,null,null,null,null,null,null,null,null,null,null,null,"~"]
["SA13",2020,"KZN434",1010,11,"Communal land - small holdings",null,null,null,null,null,null,null,null,null,null,null,null,null,null,null,null,"~"]
["SA13",2020,"KZN434",1011,12,"Communal land - farm property",null,null,null,null,null,null,null,null,null,null,null,null,null,null,null,null,"~"]
["SA13",2020,"KZN434",1012,13,"Communal land - business and commercial",null,null,null,null,null,null,null,null,null,null,null,null,null,null,null,null,"~"]
["SA13",2020,"KZN434",1013,14,"Communal land - other",null,null,null,null,null,null,null,null,null,null,null,null,null,null,null,null,"~"]
["SA13",2020,"KZN434",1014,15,"State-owned properties",null,null,null,null,null,null,null,null,null,null,null,null,null,null,null,null,"~"]
["SA13",2020,"KZN434",1015,16,"Municipal properties",null,null,null,null,null,null,null,null,null,null,null,null,null,null,null,null,"~"]
["SA13",2020,"KZN434",1016,17,"Public service infrastructure",null,null,null,null,null,null,null,null,null,null,null,null,null,null,null,null,"~"]
["SA13",2020,"KZN434",1017,18,"Privately owned towns serviced by the owner",null,null,null,null,null,null,null,null,null,null,null,null,null,null,null,null,"~"]
["SA13",2020,"KZN434",1018,19,"State trust land",null,null,null,null,null,null,null,null,null,null,null,null,null,null,null,null,"~"]
["SA13",2020,"KZN434",1019,20,"Restitution and redistribution properties",null,null,null,null,null,null,null,null,null,null,null,null,null,null,null,null,"~"]
["SA13",2020,"KZN434",1020,21,"Protected areas",null,null,null,null,null,null,null,null,null,null,null,null,null,null,null,null,"~"]
["SA13",2020,"KZN434",1021,22,"National monuments properties",null,null,null,null,null,null,null,null,null,null,null,null,null,null,null,null,"~"]
["SA13",2020,"KZN434",null,null,null,null,null,null,null,null,null,null,null,null,null,null,null,null,null,null,null,"~"]
["SA13",2020,"KZN434",1030,23,"Exemptions, reductions and rebates (Rands)",null,null,null,null,null,null,null,null,null,null,null,null,null,null,null,null,"~"]
["SA13",2020,"KZN434",1031,24,"Residential properties",null,null,null,null,null,null,null,null,null,null,null,null,null,null,null,null,"~"]
["SA13",2020,"KZN434",1032,25,"R15 000 threshhold rebate",null,null,null,null,null,null,null,null,null,null,null,null,null,null,null,null,"~"]
["SA13",2020,"KZN434",1033,26,"General residential rebate",null,null,null,null,null,null,null,null,null,null,null,null,null,null,null,null,"~"]
["SA13",{"$f":"+MTREF","v":2020},{"$f":"LEFT(muni,(FIND(\" \",muni,1)-1))","v":"KZN434"},1034,27,"Indigent rebate or exemption",null,null,null,null,null,null,null,null,null,null,null,null,null,null,null,null,"~"]
["SA13",2020,"KZN434",1035,28,"Pensioners/social grants rebate or exemption ",null,null,null,null,null,null,null,null,null,null,null,null,null,null,null,null,"~"]
["SA13",2020,"KZN434",1036,29,"Temporary relief rebate or exemption",null,null,null,null,null,null,null,null,null,null,null,null,null,null,null,null,"~"]
["SA13",2020,"KZN434",1037,30," Bona fide farmers rebate or exemption",null,null,null,null,null,null,null,null,null,null,null,null,null,null,null,null,"~"]
["SA13",2020,"KZN434",1038,31,"Other rebates or exemptions",null,null,null,null,null,null,null,null,null,null,null,null,null,null,null,null,"~"]
["SA13",2020,"KZN434",null,null,null,null,null,null,null,null,null,null,null,null,null,null,null,null,null,null,null,"~"]
["SA13",2020,"KZN434",1100,32,"Water tariffs",null,null,null,null,null,null,null,null,null,null,null,null,null,null,null,null,"~"]
["SA13",2020,"KZN434",1101,33,"Domestic",null,null,null,null,null,null,null,null,null,null,null,null,null,null,null,null,"~"]
["SA13",2020,"KZN434",1102,34,"Basic charge/fixed fee (Rands/month)",null,null,null,null,null,null,null,null,null,null,null,null,null,null,null,null,"~"]
["SA13",2020,"KZN434",1103,35,"Service point - vacant land (Rands/month)",null,null,null,null,null,null,null,null,null,null,null,null,null,null,null,null,"~"]
["SA13",2020,"KZN434",1104,36,"Water usage - flat rate tariff (c/kl)",null,null,null,null,null,null,null,null,null,null,null,null,null,null,null,null,"~"]
["SA13",2020,"KZN434",1105,37,"Water usage - life line tariff",null,null,null,null,null,null,null,null,null,null,null,null,null,null,null,null,"~"]
["SA13",2020,"KZN434",1106,38,"Water usage - Block 1 (c/kl)",null,null,null,null,null,null,null,null,null,null,null,null,null,null,null,null,"~"]
["SA13",2020,"KZN434",1107,39,"Water usage - Block 2 (c/kl)",null,null,null,null,null,null,null,null,null,null,null,null,null,null,null,null,"~"]
["SA13",2020,"KZN434",1108,40,"Water usage - Block 3 (c/kl)",null,null,null,null,null,null,null,null,null,null,null,null,null,null,null,null,"~"]
["SA13",2020,"KZN434",1109,41,"Water usage - Block 4 (c/kl)",null,null,null,null,null,null,null,null,null,null,null,null,null,null,null,null,"~"]
["SA13",2020,"KZN434",1110,42,"Other",null,null,null,null,null,null,null,null,null,null,null,null,null,null,null,null,"~"]
["SA13",2020,"KZN434",null,null,null,null,null,null,null,null,null,null,null,null,null,null,null,null,null,null,null,"~"]
["SA13",2020,"KZN434",1200,43,"Waste water tariffs",null,null,null,null,null,null,null,null,null,null,null,null,null,null,null,null,"~"]
["SA13",2020,"KZN434",1201,44,"Domestic",null,null,null,null,null,null,null,null,null,null,null,null,null,null,null,null,"~"]
["SA13",2020,"KZN434",1202,45,"Basic charge/fixed fee (Rands/month)",null,null,null,null,null,null,null,null,null,null,null,null,null,null,null,null,"~"]
["SA13",2020,"KZN434",1203,46,"Service point - vacant land (Rands/month)",null,null,null,null,null,null,null,null,null,null,null,null,null,null,null,null,"~"]
["SA13",2020,"KZN434",1204,47,"Waste water - flat rate tariff (c/kl)",null,null,null,null,null,null,null,null,null,null,null,null,null,null,null,null,"~"]
["SA13",2020,"KZN434",1205,48,"Volumetric charge - Block 1 (c/kl)",null,null,null,null,null,null,null,null,null,null,null,null,null,null,null,null,"~"]
["SA13",2020,"KZN434",1206,49,"Volumetric charge - Block 2 (c/kl)",null,null,null,null,null,null,null,null,null,null,null,null,null,null,null,null,"~"]
["SA13",2020,"KZN434",1207,50,"Volumetric charge - Block 3 (c/kl)",null,null,null,null,null,null,null,null,null,null,null,null,null,null,null,null,"~"]
["SA13",2020,"KZN434",1208,51,"Volumetric charge - Block 4 (c/kl)",null,null,null,null,null,null,null,null,null,null,null,null,null,null,null,null,"~"]
["SA13",2020,"KZN434",1209,52,"Other",null,null,null,null,null,null,null,null,null,null,null,null,null,null,null,null,"~"]
["SA13",2020,"KZN434",null,null,null,null,null,null,null,null,null,null,null,null,null,null,null,null,null,null,null,"~"]
["SA13",2020,"KZN434",1300,53,"Electricity tariffs",null,null,null,null,null,null,null,null,null,null,null,null,null,null,null,null,"~"]
["SA13",2020,"KZN434",1301,54,"Domestic",null,null,null,null,null,null,null,null,null,null,null,null,null,null,null,null,"~"]
["SA13",2020,"KZN434",1302,55,"Basic charge/fixed fee (Rands/month)",null,null,null,null,null,null,null,null,null,null,null,null,null,null,null,null,"~"]
["SA13",2020,"KZN434",1303,56,"Service point - vacant land (Rands/month)",null,null,null,null,null,null,null,null,null,null,null,null,null,null,null,null,"~"]
["SA13",2020,"KZN434",1304,57,"FBE",null,null,null,null,null,null,null,null,null,null,null,null,null,null,null,null,"~"]
["SA13",2020,"KZN434",1305,58,"Life-line tariff - meter",null,null,null,null,null,null,null,null,null,null,null,null,null,null,null,null,"~"]
["SA13",2020,"KZN434",1306,59,"Life-line tariff - prepaid",null,null,null,null,null,null,null,null,null,null,null,null,null,null,null,null,"~"]
["SA13",2020,"KZN434",1307,60,"Flat rate tariff - meter (c/kwh)",null,null,null,null,null,null,null,null,null,null,null,null,null,null,null,null,"~"]
["SA13",2020,"KZN434",1308,61,"Flat rate tariff - prepaid(c/kwh)",null,null,null,null,null,null,null,null,null,null,null,null,null,null,null,null,"~"]
["SA13",2020,"KZN434",1309,62,"Meter - IBT Block 1 (c/kwh)",null,null,null,null,null,null,null,null,null,null,null,null,null,null,null,null,"~"]
["SA13",2020,"KZN434",1310,63,"Meter - IBT Block 2 (c/kwh)",null,null,null,null,null,null,null,null,null,null,null,null,null,null,null,null,"~"]
["SA13",2020,"KZN434",1311,64,"Meter - IBT Block 3 (c/kwh)",null,null,null,null,null,null,null,null,null,null,null,null,null,null,null,null,"~"]
["SA13",2020,"KZN434",1312,65,"Meter - IBT Block 4 (c/kwh)",null,null,null,null,null,null,null,null,null,null,null,null,null,null,null,null,"~"]
["SA13",2020,"KZN434",1313,66,"Meter - IBT Block 5 (c/kwh)",null,null,null,null,null,null,null,null,null,null,null,null,null,null,null,null,"~"]
["SA13",2020,"KZN434",1314,67,"Prepaid - IBT Block 1 (c/kwh)",null,null,null,null,null,null,null,null,null,null,null,null,null,null,null,null,"~"]
["SA13",2020,"KZN434",1315,68,"Prepaid - IBT Block 2 (c/kwh)",null,null,null,null,null,null,null,null,null,null,null,null,null,null,null,null,"~"]
["SA13",2020,"KZN434",1316,69,"Prepaid - IBT Block 3 (c/kwh)",null,null,null,null,null,null,null,null,null,null,null,null,null,null,null,null,"~"]
["SA13",2020,"KZN434",1317,70,"Prepaid - IBT Block 4 (c/kwh)",null,null,null,null,null,null,null,null,null,null,null,null,null,null,null,null,"~"]
["SA13",2020,"KZN434",1318,71,"Prepaid - IBT Block 5 (c/kwh)",null,null,null,null,null,null,null,null,null,null,null,null,null,null,null,null,"~"]
["SA13",2020,"KZN434",1319,72,"Other",null,null,null,null,null,null,null,null,null,null,null,null,null,null,null,null,"~"]
["SA13",2020,"KZN434",null,null,null,null,null,null,null,null,null,null,null,null,null,null,null,null,null,null,null,"~"]
["SA13",2020,"KZN434",1400,73,"Waste management tariffs",null,null,null,null,null,null,null,null,null,null,null,null,null,null,null,null,"~"]
["SA13",2020,"KZN434",1401,74,"Domestic",null,null,null,null,null,null,null,null,null,null,null,null,null,null,null,null,"~"]
["SA13",2020,"KZN434",1402,75,"Street cleaning charge",null,null,null,null,null,null,null,null,null,null,null,null,null,null,null,null,"~"]
["SA13",2020,"KZN434",1403,76,"Basic charge/fixed fee",null,null,null,null,null,null,null,null,null,null,null,null,null,null,null,null,"~"]
["SA13",2020,"KZN434",1404,77,"80l bin - once a week",null,null,null,null,null,null,null,null,null,null,null,null,null,null,null,null,"~"]
["SA13",2020,"KZN434",1405,78,"250l bin - once a week",null,null,null,null,null,null,null,null,null,null,null,null,null,null,null,null,"~"]
["SA14",2020,"KZN434",1000,1,"Monthly Account for Household - 'Middle Income Range'",null,null,null,null,null,null,null,null,null,null,null,null,null,null,null,null,"~"]
["SA14",2020,"KZN434",1001,2,"Rates and services charges:",null,null,null,null,null,null,null,null,null,null,null,null,null,null,null,null,"~"]
["SA14",2020,"KZN434",1002,3,"Property rates",null,null,null,null,null,null,null,null,null,null,null,null,null,null,null,null,"~"]
["SA14",2020,"KZN434",1003,4,"Electricity: Basic levy",null,null,null,null,null,null,null,null,null,null,null,null,null,null,null,null,"~"]
["SA14",2020,"KZN434",1004,5,"Electricity: Consumption",null,null,null,null,null,null,null,null,null,null,null,null,null,null,null,null,"~"]
["SA14",2020,"KZN434",1005,6,"Water: Basic levy",null,null,null,null,null,null,null,null,null,null,null,null,null,null,null,null,"~"]
["SA14",2020,"KZN434",1006,7,"Water: Consumption",null,null,null,null,null,null,null,null,null,null,null,null,null,null,null,null,"~"]
["SA14",2020,"KZN434",1007,8,"Sanitation",null,null,null,null,null,null,null,null,null,null,null,null,null,null,null,null,"~"]
["SA14",{"$f":"+MTREF","v":2020},{"$f":"LEFT(muni,(FIND(\" \",muni,1)-1))","v":"KZN434"},1008,9,"Refuse removal",null,null,null,null,null,null,null,null,null,null,null,null,null,null,null,null,"~"]
["SA14",2020,"KZN434",1009,10,"Other",null,null,null,null,null,null,null,null,null,null,null,null,null,null,null,null,"~"]
["SA14",2020,"KZN434",1090,11,"sub-total",null,null,null,null,null,null,null,null,null,null,null,null,null,null,null,null,"~"]
["SA14",2020,"KZN434",1091,12,"VAT on Services",null,null,null,null,null,null,null,null,null,null,null,null,null,null,null,null,"~"]
["SA14",2020,"KZN434",1095,13,"Total large household bill:",null,null,null,null,null,null,null,null,null,null,null,null,null,null,null,null,"~"]
["SA14",2020,"KZN434",1096,14,"% increase/-decrease",null,null,null,null,null,null,null,null,null,null,null,null,null,null,null,null,"~"]
["SA14",2020,"KZN434",null,null,null,null,null,null,null,null,null,null,null,null,null,null,null,null,null,null,null,"~"]
["SA14",2020,"KZN434",1100,15,"Monthly Account for Household - 'Affordable Range' ",null,null,null,null,null,null,null,null,null,null,null,null,null,null,null,null,"~"]
["SA14",2020,"KZN434",1101,16,"Rates and services charges:",null,null,null,null,null,null,null,null,null,null,null,null,null,null,null,null,"~"]
["SA14",2020,"KZN434",1102,17,"Property rates",null,null,null,null,null,null,null,null,null,null,null,null,null,null,null,null,"~"]
["SA14",2020,"KZN434",1103,18,"Electricity: Basic levy",null,null,null,null,null,null,null,null,null,null,null,null,null,null,null,null,"~"]
["SA14",2020,"KZN434",1110,19,"Electricity: Consumption",null,null,null,null,null,null,null,null,null,null,null,null,null,null,null,null,"~"]
["SA14",2020,"KZN434",1107,20,"Water: Basic levy",null,null,null,null,null,null,null,null,null,null,null,null,null,null,null,null,"~"]
["SA14",2020,"KZN434",1104,21,"Water: Consumption",null,null,null,null,null,null,null,null,null,null,null,null,null,null,null,null,"~"]
["SA14",2020,"KZN434",1105,22,"Sanitation",null,null,null,null,null,null,null,null,null,null,null,null,null,null,null,null,"~"]
["SA14",2020,"KZN434",1106,23,"Refuse removal",null,null,null,null,null,null,null,null,null,null,null,null,null,null,null,null,"~"]
["SA14",2020,"KZN434",1108,24,"Other",null,null,null,null,null,null,null,null,null,null,null,null,null,null,null,null,"~"]
["SA14",2020,"KZN434",1190,25,"sub-total",null,null,null,null,null,null,null,null,null,null,null,null,null,null,null,null,"~"]
["SA14",2020,"KZN434",1191,26,"VAT on Services",null,null,null,null,null,null,null,null,null,null,null,null,null,null,null,null,"~"]
["SA14",2020,"KZN434",1195,27,"Total small household bill:",null,null,null,null,null,null,null,null,null,null,null,null,null,null,null,null,"~"]
["SA14",2020,"KZN434",1196,28,"% increase/-decrease",null,null,null,null,null,null,null,null,null,null,null,null,null,null,null,null,"~"]
["SA14",2020,"KZN434",null,null,null,null,null,null,null,null,null,null,null,null,null,null,null,null,null,null,null,"~"]
["SA14",2020,"KZN434",1200,29,"Monthly Account for Household - 'Indigent' HH receiving FBS",null,null,null,null,null,null,null,null,null,null,null,null,null,null,null,null,"~"]
["SA14",2020,"KZN434",1201,30,"Rates and services charges:",null,null,null,null,null,null,null,null,null,null,null,null,null,null,null,null,"~"]
["SA14",2020,"KZN434",1202,31,"Property rates",null,null,null,null,null,null,null,null,null,null,null,null,null,null,null,null,"~"]
["SA14",2020,"KZN434",1203,32,"Electricity: Basic levy",null,null,null,null,null,null,null,null,null,null,null,null,null,null,null,null,"~"]
["SA14",2020,"KZN434",1207,33,"Electricity: Consumption",null,null,null,null,null,null,null,null,null,null,null,null,null,null,null,null,"~"]
["SA14",2020,"KZN434",1208,34,"Water: Basic levy",null,null,null,null,null,null,null,null,null,null,null,null,null,null,null,null,"~"]
["SA14",2020,"KZN434",1204,35,"Water: Consumption",null,null,null,null,null,null,null,null,null,null,null,null,null,null,null,null,"~"]
["SA14",2020,"KZN434",1205,36,"Sanitation",null,null,null,null,null,null,null,null,null,null,null,null,null,null,null,null,"~"]
["SA14",2020,"KZN434",1206,37,"Refuse removal",null,null,null,null,null,null,null,null,null,null,null,null,null,null,null,null,"~"]
["SA14",2020,"KZN434",1209,38,"Other",null,null,null,null,null,null,null,null,null,null,null,null,null,null,null,null,"~"]
["SA14",2020,"KZN434",1290,39,"sub-total",null,null,null,null,null,null,null,null,null,null,null,null,null,null,null,null,"~"]
["SA14",2020,"KZN434",1291,40,"VAT on Services",null,null,null,null,null,null,null,null,null,null,null,null,null,null,null,null,"~"]
["SA14",2020,"KZN434",1295,41,"Total small household bill:",null,null,null,null,null,null,null,null,null,null,null,null,null,null,null,null,"~"]
["SA14",2020,"KZN434",1296,42,"% increase/-decrease",null,null,null,null,null,null,null,null,null,null,null,null,null,null,null,null,"~"]
["SA22",2020,"KZN434",1000,1,"Councillors (Political Office Bearers plus Other)",null,null,null,null,null,null,null,null,null,null,null,null,null,null,null,null,"~"]
["SA22",2020,"KZN434",1001,2,"Basic Salaries and Wages",null,null,null,null,null,null,null,null,null,null,null,null,null,null,null,null,"~"]
["SA22",2020,"KZN434",1002,3,"Pension and UIF Contributions",null,null,null,null,null,null,null,null,null,null,null,null,null,null,null,null,"~"]
["SA22",2020,"KZN434",1003,4,"Medical Aid Contributions",null,null,null,null,null,null,null,null,null,null,null,null,null,null,null,null,"~"]
["SA22",2020,"KZN434",1004,5,"Motor Vehicle Allowance",null,null,null,null,null,null,null,null,null,null,null,null,null,null,null,null,"~"]
["SA22",2020,"KZN434",1005,6,"Cellphone Allowance",null,null,null,null,null,null,null,null,null,null,null,null,null,null,null,null,"~"]
["SA22",2020,"KZN434",1006,7,"Housing Allowances",null,null,null,null,null,null,null,null,null,null,null,null,null,null,null,null,"~"]
["SA22",2020,"KZN434",1007,8,"Other benefits and allowances",null,null,null,null,null,null,null,null,null,null,null,null,null,null,null,null,"~"]
["SA22",2020,"KZN434",1090,9,"Sub Total - Councillors",null,null,null,null,null,null,null,null,null,null,null,null,null,null,null,null,"~"]
["SA22",2020,"KZN434",1091,10,"% increase",null,null,null,null,null,null,null,null,null,null,null,null,null,null,null,null,"~"]
["SA22",2020,"KZN434",null,null,null,null,null,null,null,null,null,null,null,null,null,null,null,null,null,null,null,"~"]
["SA22",2020,"KZN434",1100,11,"Senior Managers of the Municipality",null,null,null,null,null,null,null,null,null,null,null,null,null,null,null,null,"~"]
["SA22",2020,"KZN434",1101,12,"Basic Salaries and Wages",null,null,null,null,null,null,null,null,null,null,null,null,null,null,null,null,"~"]
["SA22",2020,"KZN434",1102,13,"Pension and UIF Contributions",null,null,null,null,null,null,null,null,null,null,null,null,null,null,null,null,"~"]
["SA22",2020,"KZN434",1103,14,"Medical Aid Contributions",null,null,null,null,null,null,null,null,null,null,null,null,null,null,null,null,"~"]
["SA22",2020,"KZN434",1110,15,"Overtime",null,null,null,null,null,null,null,null,null,null,null,null,null,null,null,null,"~"]
["SA22",2020,"KZN434",1107,16,"Performance Bonus",null,null,null,null,null,null,null,null,null,null,null,null,null,null,null,null,"~"]
["SA22",2020,"KZN434",1104,17,"Motor Vehicle Allowance",null,null,null,null,null,null,null,null,null,null,null,null,null,null,null,null,"~"]
["SA22",2020,"KZN434",1105,18,"Cellphone Allowance",null,null,null,null,null,null,null,null,null,null,null,null,null,null,null,null,"~"]
["SA22",2020,"KZN434",1106,19,"Housing Allowances",null,null,null,null,null,null,null,null,null,null,null,null,null,null,null,null,"~"]
["SA22",2020,"KZN434",1108,20,"Other benefits and allowances",null,null,null,null,null,null,null,null,null,null,null,null,null,null,null,null,"~"]
["SA22",2020,"KZN434",1111,21,"Payments in lieu of leave",null,null,null,null,null,null,null,null,null,null,null,null,null,null,null,null,"~"]
["SA22",2020,"KZN434",1112,22,"Long service awards",null,null,null,null,null,null,null,null,null,null,null,null,null,null,null,null,"~"]
["SA22",2020,"KZN434",1113,23,"Post-retirement benefit obligations",null,null,null,null,null,null,null,null,null,null,null,null,null,null,null,null,"~"]
["SA22",2020,"KZN434",1190,24,"Sub Total - Senior Managers of Municipality",null,null,null,null,null,null,null,null,null,null,null,null,null,null,null,null,"~"]
["SA22",2020,"KZN434",1191,25,"% increase",null,null,null,null,null,null,null,null,null,null,null,null,null,null,null,null,"~"]
["SA22",2020,"KZN434",null,null,null,null,null,null,null,null,null,null,null,null,null,null,null,null,null,null,null,"~"]
["SA22",2020,"KZN434",1200,26,"Other Municipal Staff",null,null,null,null,null,null,null,null,null,null,null,null,null,null,null,null,"~"]
["SA22",{"$f":"+MTREF","v":2020},{"$f":"LEFT(muni,(FIND(\" \",muni,1)-1))","v":"KZN434"},1201,27,"Basic Salaries and Wages",null,null,null,null,null,null,null,null,null,null,null,null,null,null,null,null,"~"]
["SA22",2020,"KZN434",1202,28,"Pension and UIF Contributions",null,null,null,null,null,null,null,null,null,null,null,null,null,null,null,null,"~"]
["SA22",2020,"KZN434",1203,29,"Medical Aid Contributions",null,null,null,null,null,null,null,null,null,null,null,null,null,null,null,null,"~"]
["SA22",2020,"KZN434",1207,30,"Overtime",null,null,null,null,null,null,null,null,null,null,null,null,null,null,null,null,"~"]
["SA22",2020,"KZN434",1208,31,"Performance Bonus",null,null,null,null,null,null,null,null,null,null,null,null,null,null,null,null,"~"]
["SA22",2020,"KZN434",1204,32,"Motor Vehicle Allowance",null,null,null,null,null,null,null,null,null,null,null,null,null,null,null,null,"~"]
["SA22",2020,"KZN434",1205,33,"Cellphone Allowance",null,null,null,null,null,null,null,null,null,null,null,null,null,null,null,null,"~"]
["SA22",2020,"KZN434",1206,34,"Housing Allowances",null,null,null,null,null,null,null,null,null,null,null,null,null,null,null,null,"~"]
["SA22",2020,"KZN434",1209,35,"Other benefits and allowances",null,null,null,null,null,null,null,null,null,null,null,null,null,null,null,null,"~"]
["SA22",2020,"KZN434",1211,36,"Payments in lieu of leave",null,null,null,null,null,null,null,null,null,null,null,null,null,null,null,null,"~"]
["SA22",2020,"KZN434",1212,37,"Long service awards",null,null,null,null,null,null,null,null,null,null,null,null,null,null,null,null,"~"]
["SA22",2020,"KZN434",1213,38,"Post-retirement benefit obligations",null,null,null,null,null,null,null,null,null,null,null,null,null,null,null,null,"~"]
["SA22",2020,"KZN434",1290,39,"Sub Total - Other Municipal Staff",null,null,null,null,null,null,null,null,null,null,null,null,null,null,null,null,"~"]
["SA22",2020,"KZN434",1291,40,"% increase",null,null,null,null,null,null,null,null,null,null,null,null,null,null,null,null,"~"]
["SA22",2020,"KZN434",null,null,null,null,null,null,null,null,null,null,null,null,null,null,null,null,null,null,null,"~"]
["SA22",2020,"KZN434",1295,41,"Total Parent Municipality",null,null,null,null,null,null,null,null,null,null,null,null,null,null,null,null,"~"]
["SA22",2020,"KZN434",1297,42,"% increase",null,null,null,null,null,null,null,null,null,null,null,null,null,null,null,null,"~"]
["SA22",2020,"KZN434",null,null,null,null,null,null,null,null,null,null,null,null,null,null,null,null,null,null,null,"~"]
["SA22",2020,"KZN434",2000,43,"Board Members of Entities",null,null,null,null,null,null,null,null,null,null,null,null,null,null,null,null,"~"]
["SA22",2020,"KZN434",2001,44,"Basic Salaries and Wages",null,null,null,null,null,null,null,null,null,null,null,null,null,null,null,null,"~"]
["SA22",2020,"KZN434",2002,45,"Pension and UIF Contributions",null,null,null,null,null,null,null,null,null,null,null,null,null,null,null,null,"~"]
["SA22",2020,"KZN434",2003,46,"Medical Aid Contributions",null,null,null,null,null,null,null,null,null,null,null,null,null,null,null,null,"~"]
["SA22",2020,"KZN434",2010,47,"Overtime",null,null,null,null,null,null,null,null,null,null,null,null,null,null,null,null,"~"]
["SA22",2020,"KZN434",2011,48,"Performance Bonus",null,null,null,null,null,null,null,null,null,null,null,null,null,null,null,null,"~"]
["SA22",2020,"KZN434",2004,49,"Motor Vehicle Allowance",null,null,null,null,null,null,null,null,null,null,null,null,null,null,null,null,"~"]
["SA22",2020,"KZN434",2005,50,"Cellphone Allowance",null,null,null,null,null,null,null,null,null,null,null,null,null,null,null,null,"~"]
["SA22",2020,"KZN434",2006,51,"Housing Allowances",null,null,null,null,null,null,null,null,null,null,null,null,null,null,null,null,"~"]
["SA22",2020,"KZN434",2008,52,"Other benefits and allowances",null,null,null,null,null,null,null,null,null,null,null,null,null,null,null,null,"~"]
["SA22",2020,"KZN434",2007,53,"Board Fees",null,null,null,null,null,null,null,null,null,null,null,null,null,null,null,null,"~"]
["SA22",2020,"KZN434",2012,54,"Payments in lieu of leave",null,null,null,null,null,null,null,null,null,null,null,null,null,null,null,null,"~"]
["SA22",2020,"KZN434",2013,55,"Long service awards",null,null,null,null,null,null,null,null,null,null,null,null,null,null,null,null,"~"]
["SA22",2020,"KZN434",2014,56,"Post-retirement benefit obligations",null,null,null,null,null,null,null,null,null,null,null,null,null,null,null,null,"~"]
["SA22",2020,"KZN434",2090,57,"Sub Total - Board Members of Entities",null,null,null,null,null,null,null,null,null,null,null,null,null,null,null,null,"~"]
["SA22",2020,"KZN434",2091,58,"% increase",null,null,null,null,null,null,null,null,null,null,null,null,null,null,null,null,"~"]
["SA22",2020,"KZN434",null,null,null,null,null,null,null,null,null,null,null,null,null,null,null,null,null,null,null,"~"]
["SA22",2020,"KZN434",2100,59,"Senior Managers of Entities",null,null,null,null,null,null,null,null,null,null,null,null,null,null,null,null,"~"]
["SA22",2020,"KZN434",2101,60,"Basic Salaries and Wages",null,null,null,null,null,null,null,null,null,null,null,null,null,null,null,null,"~"]
["SA22",2020,"KZN434",2102,61,"Pension and UIF Contributions",null,null,null,null,null,null,null,null,null,null,null,null,null,null,null,null,"~"]
["SA22",2020,"KZN434",2103,62,"Medical Aid Contributions",null,null,null,null,null,null,null,null,null,null,null,null,null,null,null,null,"~"]
["SA22",2020,"KZN434",2110,63,"Overtime",null,null,null,null,null,null,null,null,null,null,null,null,null,null,null,null,"~"]
["SA22",2020,"KZN434",2107,64,"Performance Bonus",null,null,null,null,null,null,null,null,null,null,null,null,null,null,null,null,"~"]
["SA22",2020,"KZN434",2104,65,"Motor Vehicle Allowance",null,null,null,null,null,null,null,null,null,null,null,null,null,null,null,null,"~"]
["SA22",2020,"KZN434",2105,66,"Cellphone Allowance",null,null,null,null,null,null,null,null,null,null,null,null,null,null,null,null,"~"]
["SA22",2020,"KZN434",2106,67,"Housing Allowances",null,null,null,null,null,null,null,null,null,null,null,null,null,null,null,null,"~"]
["SA22",2020,"KZN434",2108,68,"Other benefits and allowances",null,null,null,null,null,null,null,null,null,null,null,null,null,null,null,null,"~"]
["SA22",2020,"KZN434",2111,69,"Payments in lieu of leave",null,null,null,null,null,null,null,null,null,null,null,null,null,null,null,null,"~"]
["SA22",2020,"KZN434",2112,70,"Long service awards",null,null,null,null,null,null,null,null,null,null,null,null,null,null,null,null,"~"]
["SA22",2020,"KZN434",2113,71,"Post-retirement benefit obligations",null,null,null,null,null,null,null,null,null,null,null,null,null,null,null,null,"~"]
["SA22",2020,"KZN434",2190,72,"Sub Total - Senior Managers of Entities",null,null,null,null,null,null,null,null,null,null,null,null,null,null,null,null,"~"]
["SA22",2020,"KZN434",2191,73,"% increase",null,null,null,null,null,null,null,null,null,null,null,null,null,null,null,null,"~"]
["SA22",2020,"KZN434",null,null,null,null,null,null,null,null,null,null,null,null,null,null,null,null,null,null,null,"~"]
["SA22",2020,"KZN434",2200,74,"Other Staff of Entities",null,null,null,null,null,null,null,null,null,null,null,null,null,null,null,null,"~"]
["SA22",2020,"KZN434",2201,75,"Basic Salaries and Wages",null,null,null,null,null,null,null,null,null,null,null,null,null,null,null,null,"~"]
["SA22",2020,"KZN434",2202,76,"Pension and UIF Contributions",null,null,null,null,null,null,null,null,null,null,null,null,null,null,null,null,"~"]
["SA22",2020,"KZN434",2203,77,"Medical Aid Contributions",null,null,null,null,null,null,null,null,null,null,null,null,null,null,null,null,"~"]
["SA22",2020,"KZN434",2207,78,"Overtime",null,null,null,null,null,null,null,null,null,null,null,null,null,null,null,null,"~"]
["SA22",2020,"KZN434",2208,79,"Performance Bonus",null,null,null,null,null,null,null,null,null,null,null,null,null,null,null,null,"~"]
["SA22",2020,"KZN434",2204,80,"Motor Vehicle Allowance",null,null,null,null,null,null,null,null,null,null,null,null,null,null,null,null,"~"]
["SA22",2020,"KZN434",2205,81,"Cellphone Allowance",null,null,null,null,null,null,null,null,null,null,null,null,null,null,null,null,"~"]
["SA22",2020,"KZN434",2206,82,"Housing Allowances",null,null,null,null,null,null,null,null,null,null,null,null,null,null,null,null,"~"]
["SA22",2020,"KZN434",2209,83,"Other benefits and allowances",null,null,null,null,null,null,null,null,null,null,null,null,null,null,null,null,"~"]
["SA22",2020,"KZN434",2211,84,"Payments in lieu of leave",null,null,null,null,null,null,null,null,null,null,null,null,null,null,null,null,"~"]
["SA22",2020,"KZN434",2212,85,"Long service awards",null,null,null,null,null,null,null,null,null,null,null,null,null,null,null,null,"~"]
["SA22",2020,"KZN434",2213,86,"Post-retirement benefit obligations",null,null,null,null,null,null,null,null,null,null,null,null,null,null,null,null,"~"]
["SA22",{"$f":"+MTREF","v":2020},{"$f":"LEFT(muni,(FIND(\" \",muni,1)-1))","v":"KZN434"},2290,87,"Sub Total - Other Staff of Entities",null,null,null,null,null,null,null,null,null,null,null,null,null,null,null,null,"~"]
["SA22",2020,"KZN434",2291,89,"% increase",null,null,null,null,null,null,null,null,null,null,null,null,null,null,null,null,"~"]
["SA22",2020,"KZN434",null,null,null,null,null,null,null,null,null,null,null,null,null,null,null,null,null,null,null,"~"]
["SA22",2020,"KZN434",2295,90,"Total Municipal Entities",null,null,null,null,null,null,null,null,null,null,null,null,null,null,null,null,"~"]
["SA22",2020,"KZN434",null,null,null,null,null,null,null,null,null,null,null,null,null,null,null,null,null,null,null,"~"]
["SA22",2020,"KZN434",2296,91,"TOTAL SALARY, ALLOWANCES & BENEFITS",null,null,null,null,null,null,null,null,null,null,null,null,null,null,null,null,"~"]
["SA22",2020,"KZN434",2297,92,"% increase",null,null,null,null,null,null,null,null,null,null,null,null,null,null,null,null,"~"]
["SA22",2020,"KZN434",2298,93,"TOTAL MANAGERS AND STAFF",null,null,null,null,null,null,null,null,null,null,null,null,null,null,null,null,"~"]
["SA23",2020,"KZN434",1000,1,null,null,null,null,null,null,null,null,null,null,null,null,null,null,null,null,null,"~"]
["SA23",2020,"KZN434",1001,2,null,null,null,null,null,null,null,null,null,null,null,null,null,null,null,null,null,"~"]
["SA23",2020,"KZN434",1002,3,null,null,null,null,null,null,null,null,null,null,null,null,null,null,null,null,null,"~"]
["SA23",2020,"KZN434",1003,4,null,null,null,null,null,null,null,null,null,null,null,null,null,null,null,null,null,"~"]
["SA23",2020,"KZN434",1004,5,null,null,null,null,null,null,null,null,null,null,null,null,null,null,null,null,null,"~"]
["SA23",2020,"KZN434",1005,6,null,null,null,null,null,null,null,null,null,null,null,null,null,null,null,null,null,"~"]
["SA23",2020,"KZN434",1006,7,null,null,null,null,null,null,null,null,null,null,null,null,null,null,null,null,null,"~"]
["SA23",2020,"KZN434",1090,8,null,null,null,null,null,null,null,null,null,null,null,null,null,null,null,null,null,"~"]
["SA23",2020,"KZN434",null,null,null,null,null,null,null,null,null,null,null,null,null,null,null,null,null,null,null,"~"]
["SA23",2020,"KZN434",null,null,null,null,null,null,null,null,null,null,null,null,null,null,null,null,null,null,null,"~"]
["SA23",2020,"KZN434",null,null,null,null,null,null,null,null,null,null,null,null,null,null,null,null,null,null,null,"~"]
["SA23",2020,"KZN434",null,null,null,null,null,null,null,null,null,null,null,null,null,null,null,null,null,null,null,"~"]
["SA23",2020,"KZN434",null,null,null,null,null,null,null,null,null,null,null,null,null,null,null,null,null,null,null,"~"]
["SA23",2020,"KZN434",null,null,null,null,null,null,null,null,null,null,null,null,null,null,null,null,null,null,null,"~"]
["SA23",2020,"KZN434",null,null,null,null,null,null,null,null,null,null,null,null,null,null,null,null,null,null,null,"~"]
["SA23",2020,"KZN434",null,null,null,null,null,null,null,null,null,null,null,null,null,null,null,null,null,null,null,"~"]
["SA23",2020,"KZN434",null,null,null,null,null,null,null,null,null,null,null,null,null,null,null,null,null,null,null,"~"]
["SA23",2020,"KZN434",null,null,null,null,null,null,null,null,null,null,null,null,null,null,null,null,null,null,null,"~"]
["SA23",2020,"KZN434",null,null,null,null,null,null,null,null,null,null,null,null,null,null,null,null,null,null,null,"~"]
["SA23",2020,"KZN434",null,null,null,null,null,null,null,null,null,null,null,null,null,null,null,null,null,null,null,"~"]
["SA23",2020,"KZN434",null,null,null,null,null,null,null,null,null,null,null,null,null,null,null,null,null,null,null,"~"]
["SA23",2020,"KZN434",null,null,null,null,null,null,null,null,null,null,null,null,null,null,null,null,null,null,null,"~"]
["SA23",2020,"KZN434",null,null,null,null,null,null,null,null,null,null,null,null,null,null,null,null,null,null,null,"~"]
["SA23",2020,"KZN434",null,null,null,null,null,null,null,null,null,null,null,null,null,null,null,null,null,null,null,"~"]
["SA23",2020,"KZN434",null,null,null,null,null,null,null,null,null,null,null,null,null,null,null,null,null,null,null,"~"]
["SA23",2020,"KZN434",null,null,null,null,null,null,null,null,null,null,null,null,null,null,null,null,null,null,null,"~"]
["SA23",2020,"KZN434",null,null,null,null,null,null,null,null,null,null,null,null,null,null,null,null,null,null,null,"~"]
["SA23",2020,"KZN434",null,null,null,null,null,null,null,null,null,null,null,null,null,null,null,null,null,null,null,"~"]
["SA23",2020,"KZN434",null,null,null,null,null,null,null,null,null,null,null,null,null,null,null,null,null,null,null,"~"]
["SA23",2020,"KZN434",null,null,null,null,null,null,null,null,null,null,null,null,null,null,null,null,null,null,null,"~"]
["SA23",2020,"KZN434",null,null,null,null,null,null,null,null,null,null,null,null,null,null,null,null,null,null,null,"~"]
["SA23",2020,"KZN434",null,null,null,null,null,null,null,null,null,null,null,null,null,null,null,null,null,null,null,"~"]
["SA23",2020,"KZN434",null,null,null,null,null,null,null,null,null,null,null,null,null,null,null,null,null,null,null,"~"]
["SA23",2020,"KZN434",null,null,null,null,null,null,null,null,null,null,null,null,null,null,null,null,null,null,null,"~"]
["SA23",2020,"KZN434",null,null,null,null,null,null,null,null,null,null,null,null,null,null,null,null,null,null,null,"~"]
["SA23",2020,"KZN434",null,null,null,null,null,null,null,null,null,null,null,null,null,null,null,null,null,null,null,"~"]
["SA23",2020,"KZN434",null,null,null,null,null,null,null,null,null,null,null,null,null,null,null,null,null,null,null,"~"]
["SA23",2020,"KZN434",null,null,null,null,null,null,null,null,null,null,null,null,null,null,null,null,null,null,null,"~"]
["SA23",2020,"KZN434",null,null,null,null,null,null,null,null,null,null,null,null,null,null,null,null,null,null,null,"~"]
["SA23",2020,"KZN434",null,null,null,null,null,null,null,null,null,null,null,null,null,null,null,null,null,null,null,"~"]
["SA23",2020,"KZN434",null,null,null,null,null,null,null,null,null,null,null,null,null,null,null,null,null,null,null,"~"]
["SA23",2020,"KZN434",null,null,null,null,null,null,null,null,null,null,null,null,null,null,null,null,null,null,null,"~"]
["SA23",2020,"KZN434",null,null,null,null,null,null,null,null,null,null,null,null,null,null,null,null,null,null,null,"~"]
["SA23",2020,"KZN434",null,null,null,null,null,null,null,null,null,null,null,null,null,null,null,null,null,null,null,"~"]
["SA23",2020,"KZN434",null,null,null,null,null,null,null,null,null,null,null,null,null,null,null,null,null,null,null,"~"]
["SA23",2020,"KZN434",null,null,null,null,null,null,null,null,null,null,null,null,null,null,null,null,null,null,null,"~"]
["SA23",2020,"KZN434",null,null,null,null,null,null,null,null,null,null,null,null,null,null,null,null,null,null,null,"~"]
["SA23",2020,"KZN434",null,null,null,null,null,null,null,null,null,null,null,null,null,null,null,null,null,null,null,"~"]
["SA23",2020,"KZN434",null,null,null,null,null,null,null,null,null,null,null,null,null,null,null,null,null,null,null,"~"]
["SA23",2020,"KZN434",null,null,null,null,null,null,null,null,null,null,null,null,null,null,null,null,null,null,null,"~"]
["SA23",2020,"KZN434",null,null,null,null,null,null,null,null,null,null,null,null,null,null,null,null,null,null,null,"~"]
["SA23",2020,"KZN434",null,null,null,null,null,null,null,null,null,null,null,null,null,null,null,null,null,null,null,"~"]
["SA23",2020,"KZN434",null,null,null,null,null,null,null,null,null,null,null,null,null,null,null,null,null,null,null,"~"]
["SA23",2020,"KZN434",null,null,null,null,null,null,null,null,null,null,null,null,null,null,null,null,null,null,null,"~"]
["SA23",2020,"KZN434",null,null,null,null,null,null,null,null,null,null,null,null,null,null,null,null,null,null,null,"~"]
["SA23",2020,"KZN434",null,null,null,null,null,null,null,null,null,null,null,null,null,null,null,null,null,null,null,"~"]
["SA23",{"$f":"+MTREF","v":2020},{"$f":"LEFT(muni,(FIND(\" \",muni,1)-1))","v":"KZN434"},null,null,null,null,null,null,null,null,null,null,null,null,null,null,null,null,null,null,null,"~"]
["SA23",2020,"KZN434",null,null,null,null,null,null,null,null,null,null,null,null,null,null,null,null,null,null,null,"~"]
["SA23",2020,"KZN434",null,null,null,null,null,null,null,null,null,null,null,null,null,null,null,null,null,null,null,"~"]
["SA23",2020,"KZN434",null,null,null,null,null,null,null,null,null,null,null,null,null,null,null,null,null,null,null,"~"]
["SA23",2020,"KZN434",null,null,null,null,null,null,null,null,null,null,null,null,null,null,null,null,null,null,null,"~"]
["SA23",2020,"KZN434",null,null,null,null,null,null,null,null,null,null,null,null,null,null,null,null,null,null,null,"~"]
["SA23",2020,"KZN434",null,null,null,null,null,null,null,null,null,null,null,null,null,null,null,null,null,null,null,"~"]
["SA23",2020,"KZN434",null,null,null,null,null,null,null,null,null,null,null,null,null,null,null,null,null,null,null,"~"]
["SA23",2020,"KZN434",null,null,null,null,null,null,null,null,null,null,null,null,null,null,null,null,null,null,null,"~"]
["SA23",2020,"KZN434",null,null,null,null,null,null,null,null,null,null,null,null,null,null,null,null,null,null,null,"~"]
["SA23",2020,"KZN434",null,null,null,null,null,null,null,null,null,null,null,null,null,null,null,null,null,null,null,"~"]
["SA23",2020,"KZN434",null,null,null,null,null,null,null,null,null,null,null,null,null,null,null,null,null,null,null,"~"]
["SA23",2020,"KZN434",null,null,null,null,null,null,null,null,null,null,null,null,null,null,null,null,null,null,null,"~"]
["SA23",2020,"KZN434",null,null,null,null,null,null,null,null,null,null,null,null,null,null,null,null,null,null,null,"~"]
["SA23",2020,"KZN434",null,null,null,null,null,null,null,null,null,null,null,null,null,null,null,null,null,null,null,"~"]
["SA23",2020,"KZN434",null,null,null,null,null,null,null,null,null,null,null,null,null,null,null,null,null,null,null,"~"]
["SA23",2020,"KZN434",null,null,null,null,null,null,null,null,null,null,null,null,null,null,null,null,null,null,null,"~"]
["SA23",2020,"KZN434",null,null,null,null,null,null,null,null,null,null,null,null,null,null,null,null,null,null,null,"~"]
["SA23",2020,"KZN434",null,null,null,null,null,null,null,null,null,null,null,null,null,null,null,null,null,null,null,"~"]
["SA23",2020,"KZN434",null,null,null,null,null,null,null,null,null,null,null,null,null,null,null,null,null,null,null,"~"]
["SA23",2020,"KZN434",null,null,null,null,null,null,null,null,null,null,null,null,null,null,null,null,null,null,null,"~"]
["SA23",2020,"KZN434",null,null,null,null,null,null,null,null,null,null,null,null,null,null,null,null,null,null,null,"~"]
["SA23",2020,"KZN434",null,null,null,null,null,null,null,null,null,null,null,null,null,null,null,null,null,null,null,"~"]
["SA23",2020,"KZN434",null,null,null,null,null,null,null,null,null,null,null,null,null,null,null,null,null,null,null,"~"]
["SA23",2020,"KZN434",null,null,null,null,null,null,null,null,null,null,null,null,null,null,null,null,null,null,null,"~"]
["SA23",2020,"KZN434",null,null,null,null,null,null,null,null,null,null,null,null,null,null,null,null,null,null,null,"~"]
["SA23",2020,"KZN434",null,null,null,null,null,null,null,null,null,null,null,null,null,null,null,null,null,null,null,"~"]
["SA23",2020,"KZN434",null,null,null,null,null,null,null,null,null,null,null,null,null,null,null,null,null,null,null,"~"]
["SA23",2020,"KZN434",null,null,null,null,null,null,null,null,null,null,null,null,null,null,null,null,null,null,null,"~"]
["SA23",2020,"KZN434",null,null,null,null,null,null,null,null,null,null,null,null,null,null,null,null,null,null,null,"~"]
["SA23",2020,"KZN434",null,null,null,null,null,null,null,null,null,null,null,null,null,null,null,null,null,null,null,"~"]
["SA23",2020,"KZN434",null,null,null,null,null,null,null,null,null,null,null,null,null,null,null,null,null,null,null,"~"]
["SA23",2020,"KZN434",null,null,null,null,null,null,null,null,null,null,null,null,null,null,null,null,null,null,null,"~"]
["SA23",2020,"KZN434",null,null,null,null,null,null,null,null,null,null,null,null,null,null,null,null,null,null,null,"~"]
["SA23",2020,"KZN434",null,null,null,null,null,null,null,null,null,null,null,null,null,null,null,null,null,null,null,"~"]
["SA23",2020,"KZN434",null,null,null,null,null,null,null,null,null,null,null,null,null,null,null,null,null,null,null,"~"]
["SA23",2020,"KZN434",null,null,null,null,null,null,null,null,null,null,null,null,null,null,null,null,null,null,null,"~"]
["SA23",2020,"KZN434",null,null,null,null,null,null,null,null,null,null,null,null,null,null,null,null,null,null,null,"~"]
["SA23",2020,"KZN434",null,null,null,null,null,null,null,null,null,null,null,null,null,null,null,null,null,null,null,"~"]
["SA23",2020,"KZN434",null,null,null,null,null,null,null,null,null,null,null,null,null,null,null,null,null,null,null,"~"]
["SA23",2020,"KZN434",null,null,null,null,null,null,null,null,null,null,null,null,null,null,null,null,null,null,null,"~"]
["SA23",2020,"KZN434",null,null,null,null,null,null,null,null,null,null,null,null,null,null,null,null,null,null,null,"~"]
["SA23",2020,"KZN434",null,null,null,null,null,null,null,null,null,null,null,null,null,null,null,null,null,null,null,"~"]
["SA24",2020,"KZN434",1000,1,"Municipal Council and Boards of Municipal Entities",null,null,null,null,null,null,null,null,null,null,null,null,null,null,null,null,"~"]
["SA24",2020,"KZN434",1001,2,"Councillors (Political Office Bearers and Other Councillors)",null,null,null,null,null,null,null,null,null,null,null,null,null,null,null,null,"~"]
["SA24",2020,"KZN434",1002,3,"Board Members of municipal entities",null,null,null,null,null,null,null,null,null,null,null,null,null,null,null,null,"~"]
["SA24",2020,"KZN434",1100,4,"Municipal employees",null,null,null,null,null,null,null,null,null,null,null,null,null,null,null,null,"~"]
["SA24",2020,"KZN434",1101,5,"Municipal Manager and Senior Managers",null,null,null,null,null,null,null,null,null,null,null,null,null,null,null,null,"~"]
["SA24",2020,"KZN434",1102,6,"Other Managers",null,null,null,null,null,null,null,null,null,null,null,null,null,null,null,null,"~"]
["SA24",2020,"KZN434",1103,7,"Professionals",null,null,null,null,null,null,null,null,null,null,null,null,null,null,null,null,"~"]
["SA24",2020,"KZN434",1104,8,"Finance",null,null,null,null,null,null,null,null,null,null,null,null,null,null,null,null,"~"]
["SA24",2020,"KZN434",1105,9,"Spatial/town planning",null,null,null,null,null,null,null,null,null,null,null,null,null,null,null,null,"~"]
["SA24",2020,"KZN434",1106,10,"Information Technology",null,null,null,null,null,null,null,null,null,null,null,null,null,null,null,null,"~"]
["SA24",2020,"KZN434",1107,11,"Roads",null,null,null,null,null,null,null,null,null,null,null,null,null,null,null,null,"~"]
["SA24",2020,"KZN434",1108,12,"Electricity",null,null,null,null,null,null,null,null,null,null,null,null,null,null,null,null,"~"]
["SA24",2020,"KZN434",1109,13,"Water",null,null,null,null,null,null,null,null,null,null,null,null,null,null,null,null,"~"]
["SA24",2020,"KZN434",1110,14,"Sanitation",null,null,null,null,null,null,null,null,null,null,null,null,null,null,null,null,"~"]
["SA24",2020,"KZN434",1111,15,"Refuse",null,null,null,null,null,null,null,null,null,null,null,null,null,null,null,null,"~"]
["SA24",2020,"KZN434",1112,16,"Other",null,null,null,null,null,null,null,null,null,null,null,null,null,null,null,null,"~"]
["SA24",2020,"KZN434",1113,17,"Technicians",null,null,null,null,null,null,null,null,null,null,null,null,null,null,null,null,"~"]
["SA24",2020,"KZN434",1114,18,"Finance",null,null,null,null,null,null,null,null,null,null,null,null,null,null,null,null,"~"]
["SA24",2020,"KZN434",1115,19,"Spatial/town planning",null,null,null,null,null,null,null,null,null,null,null,null,null,null,null,null,"~"]
["SA24",2020,"KZN434",1116,20,"Information Technology",null,null,null,null,null,null,null,null,null,null,null,null,null,null,null,null,"~"]
["SA24",2020,"KZN434",1117,21,"Roads",null,null,null,null,null,null,null,null,null,null,null,null,null,null,null,null,"~"]
["SA24",{"$f":"+MTREF","v":2020},{"$f":"LEFT(muni,(FIND(\" \",muni,1)-1))","v":"KZN434"},1118,22,"Electricity",null,null,null,null,null,null,null,null,null,null,null,null,null,null,null,null,"~"]
["SA24",2020,"KZN434",1119,23,"Water",null,null,null,null,null,null,null,null,null,null,null,null,null,null,null,null,"~"]
["SA24",2020,"KZN434",1120,24,"Sanitation",null,null,null,null,null,null,null,null,null,null,null,null,null,null,null,null,"~"]
["SA24",2020,"KZN434",1121,25,"Refuse",null,null,null,null,null,null,null,null,null,null,null,null,null,null,null,null,"~"]
["SA24",2020,"KZN434",1122,26,"Other",null,null,null,null,null,null,null,null,null,null,null,null,null,null,null,null,"~"]
["SA24",2020,"KZN434",1123,27,"Clerks (Clerical and administrative)",null,null,null,null,null,null,null,null,null,null,null,null,null,null,null,null,"~"]
["SA24",2020,"KZN434",1124,28,"Service and sales workers",null,null,null,null,null,null,null,null,null,null,null,null,null,null,null,null,"~"]
["SA24",2020,"KZN434",1125,29,"Skilled agricultural and fishery workers",null,null,null,null,null,null,null,null,null,null,null,null,null,null,null,null,"~"]
["SA24",2020,"KZN434",1126,30,"Craft and related trades",null,null,null,null,null,null,null,null,null,null,null,null,null,null,null,null,"~"]
["SA24",2020,"KZN434",1127,31,"Plant and Machine Operators",null,null,null,null,null,null,null,null,null,null,null,null,null,null,null,null,"~"]
["SA24",2020,"KZN434",1128,32,"Elementary Occupations",null,null,null,null,null,null,null,null,null,null,null,null,null,null,null,null,"~"]
["SA24",2020,"KZN434",1190,33,"TOTAL PERSONNEL NUMBERS",null,null,null,null,null,null,null,null,null,null,null,null,null,null,null,null,"~"]
["SA24",2020,"KZN434",1191,34,"% increase",null,null,null,null,null,null,null,null,null,null,null,null,null,null,null,null,"~"]
["SA24",2020,"KZN434",null,null,null,null,null,null,null,null,null,null,null,null,null,null,null,null,null,null,null,"~"]
["SA24",2020,"KZN434",1200,35,"Total municipal employees headcount",null,null,null,null,null,null,null,null,null,null,null,null,null,null,null,null,"~"]
["SA24",2020,"KZN434",1201,36,"Finance personnel headcount",null,null,null,null,null,null,null,null,null,null,null,null,null,null,null,null,"~"]
["SA24",2020,"KZN434",1202,37,"Human Resources personnel headcount",null,null,null,null,null,null,null,null,null,null,null,null,null,null,null,null,"~"]
["OTHER",2020,"KZN434","1001",1,"Unspent conditional transfers",null,null,null,null,null,null,null,null,null,null,null,null,null,null,null,null,"~"]
["OTHER",2020,"KZN434","1002",2,"Unspent borrowing",null,null,null,null,null,null,null,null,null,null,null,null,null,null,null,null,"~"]
["OTHER",2020,"KZN434","1003",3,"Statutory requirements",null,null,null,null,null,null,null,null,null,null,null,null,null,null,null,null,"~"]
["OTHER",2020,"KZN434","1005",5,"Other provisions",null,null,null,null,null,null,null,null,null,null,null,null,null,null,null,null,"~"]
["OTHER",2020,"KZN434","1006",6,"Long term investments committed",null,null,null,null,null,null,null,null,null,null,null,null,null,null,null,null,"~"]
["OTHER",2020,"KZN434","1007",7,"Reserves to be backed by cash/investments",null,null,null,null,null,null,null,null,null,null,null,null,null,null,null,null,"~"]
["OTHER",2020,"KZN434","1008",8,"Estimate of other debtors > 90 days",null,null,null,null,null,null,null,null,null,null,null,null,null,null,null,null,"~"]
["OTHER",2020,"KZN434",2001,9,"Contributions recognised - capital",null,null,null,null,null,null,null,null,null,null,null,null,null,null,null,null,"~"]
["OTHER",2020,"KZN434","3001",10,"Depreciation offsets",null,null,null,null,null,null,null,null,null,null,null,null,null,null,null,null,"~"]
["OTHER",2020,"KZN434","4001",11,"Fixed operational expenditure % assumption",null,null,null,null,null,null,null,null,null,null,null,null,null,null,null,null,"~"]
["OTHER",2020,"KZN434",5000,50,"Repairs and Maintenance by Expenditure Item",null,null,null,null,null,null,null,null,null,null,null,null,null,null,null,null,"~"]
["OTHER",2020,"KZN434",5001,51,"Employee related costs",null,null,null,null,null,null,null,null,null,null,null,null,null,null,null,null,"~"]
["OTHER",2020,"KZN434",5002,52,"Other materials",null,null,null,null,null,null,null,null,null,null,null,null,null,null,null,null,"~"]
["OTHER",2020,"KZN434",5003,53,"Contracted Services",null,null,null,null,null,null,null,null,null,null,null,null,null,null,null,null,"~"]
["OTHER",2020,"KZN434",5004,54,"Other Expenditure",null,null,null,null,null,null,null,null,null,null,null,null,null,null,null,null,"~"]
["OTHER",2020,"KZN434",5005,55,"Total Repairs and Maintenance Expenditure",null,null,null,null,null,null,null,null,null,null,null,null,null,null,null,null,"~"]
["OTHER",2020,"KZN434",6001,61,"Volume Electricity Distribution Losses",null,null,null,null,null,null,null,null,null,null,null,null,null,null,null,null,"~"]
["OTHER",2020,"KZN434",6002,62,"Cost Electiricty Distribution Losses",null,null,null,null,null,null,null,null,null,null,null,null,null,null,null,null,"~"]
["OTHER",2020,"KZN434",null,null,null,null,null,null,null,null,null,null,null,null,null,null,null,null,null,null,null,"~"]
["OTHER",2020,"KZN434",6003,63,"Volume Water Distribution Losses",null,null,null,null,null,null,null,null,null,null,null,null,null,null,null,null,"~"]
["OTHER",2020,"KZN434",6004,64,"Cost Water Distribution Losses",null,null,null,null,null,null,null,null,null,null,null,null,null,null,null,null,"~"]
["OTHER",2020,"KZN434",null,null,null,null,null,null,null,null,null,null,null,null,null,null,null,null,null,null,null,"~"]
["OTHER",2020,"KZN434",7001,71,"Consultant Fees",null,null,null,null,null,null,null,null,null,null,null,null,null,null,null,null,"~"]
["OTHER",2020,"KZN434",7002,72,"Audit Fees",null,null,null,null,null,null,null,null,null,null,null,null,null,null,null,null,"~"]
["SA36",2020,"KZN434",1,null,null,null,null,null,null,null,null,null,null,null,null,null,null,null,null,null,null,"~"]
["SA36",2020,"KZN434",2,null,null,null,null,null,null,null,null,null,null,null,null,null,null,null,null,null,null,"~"]
["SA36",2020,"KZN434",3,null,null,null,null,null,null,null,null,null,null,null,null,null,null,null,null,null,null,"~"]
["SA36",2020,"KZN434",4,null,null,null,null,null,null,null,null,null,null,null,null,null,null,null,null,null,null,"~"]
["SA36",2020,"KZN434",5,null,null,null,null,null,null,null,null,null,null,null,null,null,null,null,null,null,null,"~"]
["SA36",2020,"KZN434",6,null,null,null,null,null,null,null,null,null,null,null,null,null,null,null,null,null,null,"~"]
["SA36",2020,"KZN434",7,null,null,null,null,null,null,null,null,null,null,null,null,null,null,null,null,null,null,"~"]
["SA36",2020,"KZN434",8,null,null,null,null,null,null,null,null,null,null,null,null,null,null,null,null,null,null,"~"]
["SA36",2020,"KZN434",9,null,null,null,null,null,null,null,null,null,null,null,null,null,null,null,null,null,null,"~"]
["SA36",2020,"KZN434",10,null,null,null,null,null,null,null,null,null,null,null,null,null,null,null,null,null,null,"~"]
["SA36",2020,"KZN434",11,null,null,null,null,null,null,null,null,null,null,null,null,null,null,null,null,null,null,"~"]
["SA36",2020,"KZN434",12,null,null,null,null,null,null,null,null,null,null,null,null,null,null,null,null,null,null,"~"]
["SA36",2020,"KZN434",13,null,null,null,null,null,null,null,null,null,null,null,null,null,null,null,null,null,null,"~"]
["SA36",2020,"KZN434",14,null,null,null,null,null,null,null,null,null,null,null,null,null,null,null,null,null,null,"~"]
["SA36",2020,"KZN434",15,null,null,null,null,null,null,null,null,null,null,null,null,null,null,null,null,null,null,"~"]
["SA36",2020,"KZN434",16,null,null,null,null,null,null,null,null,null,null,null,null,null,null,null,null,null,null,"~"]
["SA36",2020,"KZN434",17,null,null,null,null,null,null,null,null,null,null,null,0,0,null,null,0,null,null,"~"]
["SA36",2020,"KZN434",18,null,null,null,null,null,null,null,null,null,null,null,null,null,null,null,null,null,null,"~"]
["SA36",2020,"KZN434",19,null,null,null,null,null,null,null,null,null,null,null,null,null,null,null,null,null,null,"~"]
["SA36",2020,"KZN434",20,null,null,null,null,null,null,null,null,null,null,null,null,null,null,null,null,null,null,"~"]
["SA36",2020,"KZN434",21,null,null,null,null,null,null,null,null,null,null,null,null,null,null,null,null,null,null,"~"]
["SA36",2020,"KZN434",22,null,null,null,null,null,null,null,null,null,null,null,null,null,null,null,null,null,null,"~"]
["SA36",2020,"KZN434",23,null,null,null,null,null,null,null,null,null,null,null,null,null,null,null,null,null,null,"~"]
["SA36",{"$f":"+MTREF","v":2020},{"$f":"LEFT(muni,(FIND(\" \",muni,1)-1))","v":"KZN434"},24,null,null,null,null,null,null,null,null,null,null,null,null,null,null,null,null,null,null,"~"]
["SA36",2020,"KZN434",25,null,null,null,null,null,null,null,null,null,null,null,null,null,null,null,null,null,null,"~"]
["SA36",2020,"KZN434",26,null,null,null,null,null,null,null,null,null,null,null,null,null,null,null,null,null,null,"~"]
["SA36",2020,"KZN434",27,null,null,null,null,null,null,null,null,null,null,null,null,null,null,null,null,null,null,"~"]
["SA36",2020,"KZN434",28,null,null,null,null,null,null,null,null,null,null,null,null,null,null,null,null,null,null,"~"]
["SA36",2020,"KZN434",29,null,null,null,null,null,null,null,null,null,null,null,null,null,null,null,null,null,null,"~"]
["SA36",2020,"KZN434",30,null,null,null,null,null,null,null,null,null,0,0,0,0,null,null,null,null,null,"~"]
["SA36",2020,"KZN434",31,null,null,null,null,null,null,null,null,null,0,0,0,0,null,null,null,null,null,"~"]
["SA36",2020,"KZN434",32,null,null,null,null,null,null,null,null,null,null,null,null,null,null,null,null,null,null,"~"]
["SA36",2020,"KZN434",33,null,null,null,null,null,null,null,null,null,null,null,null,null,null,null,null,null,null,"~"]
["SA36",2020,"KZN434",34,null,null,null,null,null,null,null,null,null,null,null,null,null,null,null,null,null,null,"~"]
["SA36",2020,"KZN434",35,null,null,null,null,null,null,null,null,null,null,null,null,null,null,null,null,null,null,"~"]
["SA36",2020,"KZN434",36,null,null,null,null,null,null,null,null,null,null,null,null,null,null,null,null,null,null,"~"]
["SA36",2020,"KZN434",37,null,null,null,null,null,null,null,null,null,null,null,null,null,null,null,null,null,null,"~"]
["SA36",2020,"KZN434",38,null,null,null,null,null,null,null,null,"Check",0,null,null,null,null,null,null,null,null,"~"]
["SA36",2020,"KZN434",39,null,null,null,null,null,null,null,null,null,null,null,null,null,null,null,null,null,null,"~"]
["SA36",2020,"KZN434",40,null,null,null,null,null,null,null,null,null,null,null,null,null,null,null,null,null,null,"~"]
["SA36",2020,"KZN434",41,null,null,null,null,null,null,null,null,null,null,null,null,null,null,null,null,null,null,"~"]
["SA36",2020,"KZN434",42,null,null,null,null,null,null,null,null,null,null,null,null,null,null,null,null,null,null,"~"]
["SA36",2020,"KZN434",43,null,null,null,null,null,null,null,null,null,null,null,null,null,null,null,null,null,null,"~"]
["SA36",2020,"KZN434",44,null,null,null,null,null,null,null,null,null,null,null,null,null,null,null,null,null,null,"~"]
["SA36",2020,"KZN434",45,null,null,null,null,null,null,null,null,null,null,null,null,null,null,null,null,null,null,"~"]
["SA36",2020,"KZN434",46,null,null,null,null,null,null,null,null,null,null,null,null,null,null,null,null,null,null,"~"]
["SA36",2020,"KZN434",47,null,null,null,null,null,null,null,null,null,null,null,null,null,null,null,null,null,null,"~"]
["SA36",2020,"KZN434",48,null,null,null,null,null,null,null,null,null,null,null,null,null,null,null,null,null,null,"~"]
["SA36",2020,"KZN434",49,null,null,null,null,null,null,null,null,null,null,null,null,null,null,null,null,null,null,"~"]
["SA36",2020,"KZN434",50,null,null,null,null,null,null,null,null,null,null,null,null,null,null,null,null,null,null,"~"]
["SA36",2020,"KZN434",51,null,null,null,null,null,null,null,null,null,null,null,null,null,null,null,null,null,null,"~"]
["SA36",2020,"KZN434",52,null,null,null,null,null,null,null,null,null,null,null,null,null,null,null,null,null,null,"~"]
["SA36",2020,"KZN434",53,null,null,null,null,null,null,null,null,null,null,null,null,null,null,null,null,null,null,"~"]
["SA36",2020,"KZN434",54,null,null,null,null,null,null,null,null,null,null,null,null,null,null,null,null,null,null,"~"]
["SA36",2020,"KZN434",55,null,null,null,null,null,null,null,null,null,null,null,null,null,null,null,null,null,null,"~"]
["SA36",2020,"KZN434",56,null,null,null,null,null,null,null,null,null,null,null,null,null,null,null,null,null,null,"~"]
["SA36",2020,"KZN434",57,null,null,null,null,null,null,null,null,null,null,null,null,null,null,null,null,null,null,"~"]
["SA36",2020,"KZN434",58,null,null,null,null,null,null,null,null,null,null,null,null,null,null,null,null,null,null,"~"]
["SA36",2020,"KZN434",59,null,null,null,null,null,null,null,null,null,null,null,null,null,null,null,null,null,null,"~"]
["SA36",2020,"KZN434",60,null,null,null,null,null,null,null,null,null,null,null,null,null,null,null,null,null,null,"~"]
["SA36",2020,"KZN434",61,null,null,null,null,null,null,null,null,null,null,null,null,null,null,null,null,null,null,"~"]
["SA36",2020,"KZN434",62,null,null,null,null,null,null,null,null,null,null,null,null,null,null,null,null,null,null,"~"]
["SA36",2020,"KZN434",63,null,null,null,null,null,null,null,null,null,null,null,null,null,null,null,null,null,null,"~"]
["SA36",2020,"KZN434",64,null,null,null,null,null,null,null,null,null,null,null,null,null,null,null,null,null,null,"~"]
["SA36",2020,"KZN434",65,null,null,null,null,null,null,null,null,null,null,null,null,null,null,null,null,null,null,"~"]
["SA36",2020,"KZN434",66,null,null,null,null,null,null,null,null,null,null,null,null,null,null,null,null,null,null,"~"]
["SA36",2020,"KZN434",67,null,null,null,null,null,null,null,null,null,null,null,null,null,null,null,null,null,null,"~"]
["SA36",2020,"KZN434",68,null,null,null,null,null,null,null,null,null,null,null,null,null,null,null,null,null,null,"~"]
["SA36",2020,"KZN434",69,null,null,null,null,null,null,null,null,null,null,null,null,null,null,null,null,null,null,"~"]
["SA36",2020,"KZN434",70,null,null,null,null,null,null,null,null,null,null,null,null,null,null,null,null,null,null,"~"]
["SA36",2020,"KZN434",71,null,null,null,null,null,null,null,null,null,null,null,null,null,null,null,null,null,null,"~"]
["SA36",2020,"KZN434",72,null,null,null,null,null,null,null,null,null,null,null,null,null,null,null,null,null,null,"~"]
["SA36",2020,"KZN434",73,null,null,null,null,null,null,null,null,null,null,null,null,null,null,null,null,null,null,"~"]
["SA36",2020,"KZN434",74,null,null,null,null,null,null,null,null,null,null,null,null,null,null,null,null,null,null,"~"]
["SA36",2020,"KZN434",75,null,null,null,null,null,null,null,null,null,null,null,null,null,null,null,null,null,null,"~"]
["SA36",2020,"KZN434",76,null,null,null,null,null,null,null,null,null,null,null,null,null,null,null,null,null,null,"~"]
["SA36",2020,"KZN434",77,null,null,null,null,null,null,null,null,null,null,null,null,null,null,null,null,null,null,"~"]
["SA36",2020,"KZN434",78,null,null,null,null,null,null,null,null,null,null,null,null,null,null,null,null,null,null,"~"]
["SA36",2020,"KZN434",79,null,null,null,null,null,null,null,null,null,null,null,null,null,null,null,null,null,null,"~"]
["SA36",2020,"KZN434",80,null,null,null,null,null,null,null,null,null,null,null,null,null,null,null,null,null,null,"~"]
["SA36",2020,"KZN434",81,null,null,null,null,null,null,null,null,null,null,null,null,null,null,null,null,null,null,"~"]
["SA36",2020,"KZN434",82,null,null,null,null,null,null,null,null,null,null,null,null,null,null,null,null,null,null,"~"]
["SA36",2020,"KZN434",83,null,null,null,null,null,null,null,null,null,null,null,null,null,null,null,null,null,null,"~"]
["SA36",2020,"KZN434",84,null,null,null,null,null,null,null,null,null,null,null,null,null,null,null,null,null,null,"~"]
["SA36",2020,"KZN434",85,null,null,null,null,null,null,null,null,null,null,null,null,null,null,null,null,null,null,"~"]
["SA36",2020,"KZN434",86,null,null,null,null,null,null,null,null,null,null,null,null,null,null,null,null,null,null,"~"]
["SA36",2020,"KZN434",87,null,null,null,null,null,null,null,null,null,null,null,null,null,null,null,null,null,null,"~"]
["SA36",{"$f":"+MTREF","v":2020},{"$f":"LEFT(muni,(FIND(\" \",muni,1)-1))","v":"KZN434"},88,null,null,null,null,null,null,null,null,null,null,null,null,null,null,null,null,null,null,"~"]
["SA36",2020,"KZN434",89,null,null,null,null,null,null,null,null,null,null,null,null,null,null,null,null,null,null,"~"]
["SA36",2020,"KZN434",90,null,null,null,null,null,null,null,null,null,null,null,null,null,null,null,null,null,null,"~"]
["SA36",2020,"KZN434",91,null,null,null,null,null,null,null,null,null,null,null,null,null,null,null,null,null,null,"~"]
["SA36",2020,"KZN434",92,null,null,null,null,null,null,null,null,null,null,null,null,null,null,null,null,null,null,"~"]
["SA36",2020,"KZN434",93,null,null,null,null,null,null,null,null,null,null,null,null,null,null,null,null,null,null,"~"]
["SA36",2020,"KZN434",94,null,null,null,null,null,null,null,null,null,null,null,null,null,null,null,null,null,null,"~"]
["SA36",2020,"KZN434",95,null,null,null,null,null,null,null,null,null,null,null,null,null,null,null,null,null,null,"~"]
["SA36",2020,"KZN434",96,null,null,null,null,null,null,null,null,null,null,null,null,null,null,null,null,null,null,"~"]
["SA36",2020,"KZN434",97,null,null,null,null,null,null,null,null,null,null,null,null,null,null,null,null,null,null,"~"]
["SA36",2020,"KZN434",98,null,null,null,null,null,null,null,null,null,null,null,null,null,null,null,null,null,null,"~"]
["SA36",2020,"KZN434",99,null,null,null,null,null,null,null,null,null,null,null,null,null,null,null,null,null,null,"~"]
["SA36",2020,"KZN434",100,null,null,null,null,null,null,null,null,null,null,null,null,null,null,null,null,null,null,"~"]
["SA36",2020,"KZN434",101,null,null,null,null,null,null,null,null,null,null,null,null,null,null,null,null,null,null,"~"]
["SA36",2020,"KZN434",102,null,null,null,null,null,null,null,null,null,null,null,null,null,null,null,null,null,null,"~"]
["SA36",2020,"KZN434",103,null,null,null,null,null,null,null,null,null,null,null,null,null,null,null,null,null,null,"~"]
["SA36",2020,"KZN434",104,null,null,null,null,null,null,null,null,null,null,null,null,null,null,null,null,null,null,"~"]
["SA36",2020,"KZN434",105,null,null,null,null,null,null,null,null,null,null,null,null,null,null,null,null,null,null,"~"]
["SA36",2020,"KZN434",106,null,null,null,null,null,null,null,null,null,null,null,null,null,null,null,null,null,null,"~"]
["SA36",2020,"KZN434",107,null,null,null,null,null,null,null,null,null,null,null,null,null,null,null,null,null,null,"~"]
["SA36",2020,"KZN434",108,null,null,null,null,null,null,null,null,null,null,null,null,null,null,null,null,null,null,"~"]
["SA36",2020,"KZN434",109,null,null,null,null,null,null,null,null,null,null,null,null,null,null,null,null,null,null,"~"]
["SA36",2020,"KZN434",110,null,null,null,null,null,null,null,null,null,null,null,null,null,null,null,null,null,null,"~"]
["SA36",2020,"KZN434",111,null,null,null,null,null,null,null,null,null,null,null,null,null,null,null,null,null,null,"~"]
["SA36",2020,"KZN434",112,null,null,null,null,null,null,null,null,null,null,null,null,null,null,null,null,null,null,"~"]
["SA36",2020,"KZN434",113,null,null,null,null,null,null,null,null,null,null,null,null,null,null,null,null,null,null,"~"]
["SA36",2020,"KZN434",114,null,null,null,null,null,null,null,null,null,null,null,null,null,null,null,null,null,null,"~"]
["SA36",2020,"KZN434",115,null,null,null,null,null,null,null,null,null,null,null,null,null,null,null,null,null,null,"~"]
["SA36",2020,"KZN434",116,null,null,null,null,null,null,null,null,null,null,null,null,null,null,null,null,null,null,"~"]
["SA36",2020,"KZN434",117,null,null,null,null,null,null,null,null,null,null,null,null,null,null,null,null,null,null,"~"]
["SA36",2020,"KZN434",118,null,null,null,null,null,null,null,null,null,null,null,null,null,null,null,null,null,null,"~"]
["SA36",2020,"KZN434",119,null,null,null,null,null,null,null,null,null,null,null,null,null,null,null,null,null,null,"~"]
["SA36",2020,"KZN434",120,null,null,null,null,null,null,null,null,null,null,null,null,null,null,null,null,null,null,"~"]
["SA36",2020,"KZN434",121,null,null,null,null,null,null,null,null,null,null,null,null,null,null,null,null,null,null,"~"]
["SA36",2020,"KZN434",122,null,null,null,null,null,null,null,null,null,null,null,null,null,null,null,null,null,null,"~"]
["SA36",2020,"KZN434",123,null,null,null,null,null,null,null,null,null,null,null,null,null,null,null,null,null,null,"~"]
["SA36",2020,"KZN434",124,null,null,null,null,null,null,null,null,null,null,null,null,null,null,null,null,null,null,"~"]
["SA36",2020,"KZN434",125,null,null,null,null,null,null,null,null,null,null,null,null,null,null,null,null,null,null,"~"]
["SA36",2020,"KZN434",126,null,null,null,null,null,null,null,null,null,null,null,null,null,null,null,null,null,null,"~"]
["SA36",2020,"KZN434",127,null,null,null,null,null,null,null,null,null,null,null,null,null,null,null,null,null,null,"~"]
["SA36",2020,"KZN434",128,null,null,null,null,null,null,null,null,null,null,null,null,null,null,null,null,null,null,"~"]
["SA36",2020,"KZN434",129,null,null,null,null,null,null,null,null,null,null,null,null,null,null,null,null,null,null,"~"]
["SA36",2020,"KZN434",130,null,null,null,null,null,null,null,null,null,null,null,null,null,null,null,null,null,null,"~"]
["SA36",2020,"KZN434",131,null,null,null,null,null,null,null,null,null,null,null,null,null,null,null,null,null,null,"~"]
["SA36",2020,"KZN434",132,null,null,null,null,null,null,null,null,null,null,null,null,null,null,null,null,null,null,"~"]
["SA36",2020,"KZN434",133,null,null,null,null,null,null,null,null,null,null,null,null,null,null,null,null,null,null,"~"]
["SA36",2020,"KZN434",134,null,null,null,null,null,null,null,null,null,null,null,null,null,null,null,null,null,null,"~"]
["SA36",2020,"KZN434",135,null,null,null,null,null,null,null,null,null,null,null,null,null,null,null,null,null,null,"~"]
["SA36",2020,"KZN434",136,null,null,null,null,null,null,null,null,null,null,null,null,null,null,null,null,null,null,"~"]
["SA36",2020,"KZN434",137,null,null,null,null,null,null,null,null,null,null,null,null,null,null,null,null,null,null,"~"]
["SA36",2020,"KZN434",138,null,null,null,null,null,null,null,null,null,null,null,null,null,null,null,null,null,null,"~"]
["SA36",2020,"KZN434",139,null,null,null,null,null,null,null,null,null,null,null,null,null,null,null,null,null,null,"~"]
["SA36",2020,"KZN434",140,null,null,null,null,null,null,null,null,null,null,null,null,null,null,null,null,null,null,"~"]
["SA36",2020,"KZN434",141,null,null,null,null,null,null,null,null,null,null,null,null,null,null,null,null,null,null,"~"]
["SA36",2020,"KZN434",142,null,null,null,null,null,null,null,null,null,null,null,null,null,null,null,null,null,null,"~"]
["SA36",2020,"KZN434",143,null,null,null,null,null,null,null,null,null,null,null,null,null,null,null,null,null,null,"~"]
["SA36",2020,"KZN434",144,null,null,null,null,null,null,null,null,null,null,null,null,null,null,null,null,null,null,"~"]
["SA36",2020,"KZN434",145,null,null,null,null,null,null,null,null,null,null,null,null,null,null,null,null,null,null,"~"]
["SA36",2020,"KZN434",146,null,null,null,null,null,null,null,null,null,null,null,null,null,null,null,null,null,null,"~"]
["SA36",2020,"KZN434",147,null,null,null,null,null,null,null,null,null,null,null,null,null,null,null,null,null,null,"~"]
["SA36",2020,"KZN434",148,null,null,null,null,null,null,null,null,null,null,null,null,null,null,null,null,null,null,"~"]
["SA36",2020,"KZN434",149,null,null,null,null,null,null,null,null,null,null,null,null,null,null,null,null,null,null,"~"]
["SA36",2020,"KZN434",150,null,null,null,null,null,null,null,null,null,null,null,null,null,null,null,null,null,null,"~"]
["SA36",2020,"KZN434",151,null,null,null,null,null,null,null,null,null,null,null,null,null,null,null,null,null,null,"~"]
["SA36",{"$f":"+MTREF","v":2020},{"$f":"LEFT(muni,(FIND(\" \",muni,1)-1))","v":"KZN434"},152,null,null,null,null,null,null,null,null,null,null,null,null,null,null,null,null,null,null,"~"]
["SA36",2020,"KZN434",153,null,null,null,null,null,null,null,null,null,null,null,null,null,null,null,null,null,null,"~"]
["SA36",2020,"KZN434",154,null,null,null,null,null,null,null,null,null,null,null,null,null,null,null,null,null,null,"~"]
["SA36",2020,"KZN434",155,null,null,null,null,null,null,null,null,null,null,null,null,null,null,null,null,null,null,"~"]
["SA36",2020,"KZN434",156,null,null,null,null,null,null,null,null,null,null,null,null,null,null,null,null,null,null,"~"]
["SA36",2020,"KZN434",157,null,null,null,null,null,null,null,null,null,null,null,null,null,null,null,null,null,null,"~"]
["SA36",2020,"KZN434",158,null,null,null,null,null,null,null,null,null,null,null,null,null,null,null,null,null,null,"~"]
["SA36",2020,"KZN434",159,null,null,null,null,null,null,null,null,null,null,null,null,null,null,null,null,null,null,"~"]
["SA36",2020,"KZN434",160,null,null,null,null,null,null,null,null,null,null,null,null,null,null,null,null,null,null,"~"]
["SA36",2020,"KZN434",161,null,null,null,null,null,null,null,null,null,null,null,null,null,null,null,null,null,null,"~"]
["SA36",2020,"KZN434",162,null,null,null,null,null,null,null,null,null,null,null,null,null,null,null,null,null,null,"~"]
["SA36",2020,"KZN434",163,null,null,null,null,null,null,null,null,null,null,null,null,null,null,null,null,null,null,"~"]
["SA36",2020,"KZN434",164,null,null,null,null,null,null,null,null,null,null,null,null,null,null,null,null,null,null,"~"]
["SA36",2020,"KZN434",165,null,null,null,null,null,null,null,null,null,null,null,null,null,null,null,null,null,null,"~"]
["SA36",2020,"KZN434",166,null,null,null,null,null,null,null,null,null,null,null,null,null,null,null,null,null,null,"~"]
["SA36",2020,"KZN434",167,null,null,null,null,null,null,null,null,null,null,null,null,null,null,null,null,null,null,"~"]
["SA36",2020,"KZN434",168,null,null,null,null,null,null,null,null,null,null,null,null,null,null,null,null,null,null,"~"]
["SA36",2020,"KZN434",169,null,null,null,null,null,null,null,null,null,null,null,null,null,null,null,null,null,null,"~"]
["SA36",2020,"KZN434",170,null,null,null,null,null,null,null,null,null,null,null,null,null,null,null,null,null,null,"~"]
["SA36",2020,"KZN434",171,null,null,null,null,null,null,null,null,null,null,null,null,null,null,null,null,null,null,"~"]
["SA36",2020,"KZN434",172,null,null,null,null,null,null,null,null,null,null,null,null,null,null,null,null,null,null,"~"]
["SA36",2020,"KZN434",173,null,null,null,null,null,null,null,null,null,null,null,null,null,null,null,null,null,null,"~"]
["SA36",2020,"KZN434",174,null,null,null,null,null,null,null,null,null,null,null,null,null,null,null,null,null,null,"~"]
["SA36",2020,"KZN434",175,null,null,null,null,null,null,null,null,null,null,null,null,null,null,null,null,null,null,"~"]
["SA36",2020,"KZN434",176,null,null,null,null,null,null,null,null,null,null,null,null,null,null,null,null,null,null,"~"]
["SA36",2020,"KZN434",177,null,null,null,null,null,null,null,null,null,null,null,null,null,null,null,null,null,null,"~"]
["SA36",2020,"KZN434",178,null,null,null,null,null,null,null,null,null,null,null,null,null,null,null,null,null,null,"~"]
["SA36",2020,"KZN434",179,null,null,null,null,null,null,null,null,null,null,null,null,null,null,null,null,null,null,"~"]
["SA36",2020,"KZN434",180,null,null,null,null,null,null,null,null,null,null,null,null,null,null,null,null,null,null,"~"]
["SA36",2020,"KZN434",181,null,null,null,null,null,null,null,null,null,null,null,null,null,null,null,null,null,null,"~"]
["SA36",2020,"KZN434",182,null,null,null,null,null,null,null,null,null,null,null,null,null,null,null,null,null,null,"~"]
["SA36",2020,"KZN434",183,null,null,null,null,null,null,null,null,null,null,null,null,null,null,null,null,null,null,"~"]
["SA36",2020,"KZN434",184,null,null,null,null,null,null,null,null,null,null,null,null,null,null,null,null,null,null,"~"]
["SA36",2020,"KZN434",185,null,null,null,null,null,null,null,null,null,null,null,null,null,null,null,null,null,null,"~"]
["SA36",2020,"KZN434",186,null,null,null,null,null,null,null,null,null,null,null,null,null,null,null,null,null,null,"~"]
["SA36",2020,"KZN434",187,null,null,null,null,null,null,null,null,null,null,null,null,null,null,null,null,null,null,"~"]
["SA36",2020,"KZN434",188,null,null,null,null,null,null,null,null,null,null,null,null,null,null,null,null,null,null,"~"]
["SA36",2020,"KZN434",189,null,null,null,null,null,null,null,null,null,null,null,null,null,null,null,null,null,null,"~"]
["SA36",2020,"KZN434",190,null,null,null,null,null,null,null,null,null,null,null,null,null,null,null,null,null,null,"~"]
["SA36",2020,"KZN434",191,null,null,null,null,null,null,null,null,null,null,null,null,null,null,null,null,null,null,"~"]
["SA36",2020,"KZN434",192,null,null,null,null,null,null,null,null,null,null,null,null,null,null,null,null,null,null,"~"]
["SA36",2020,"KZN434",193,null,null,null,null,null,null,null,null,null,null,null,null,null,null,null,null,null,null,"~"]
["SA36",2020,"KZN434",194,null,null,null,null,null,null,null,null,null,null,null,null,null,null,null,null,null,null,"~"]
["SA36",2020,"KZN434",195,null,null,null,null,null,null,null,null,null,null,null,null,null,null,null,null,null,null,"~"]
["SA36",2020,"KZN434",196,null,null,null,null,null,null,null,null,null,null,null,null,null,null,null,null,null,null,"~"]
["SA36",2020,"KZN434",197,null,null,null,null,null,null,null,null,null,null,null,null,null,null,null,null,null,null,"~"]
["SA36",2020,"KZN434",198,null,null,null,null,null,null,null,null,null,null,null,null,null,null,null,null,null,null,"~"]
["SA36",2020,"KZN434",199,null,null,null,null,null,null,null,null,null,null,null,null,null,null,null,null,null,null,"~"]
["SA36",2020,"KZN434",200,null,null,null,null,null,null,null,null,null,null,null,null,null,null,null,null,null,null,"~"]
["SA36",2020,"KZN434",201,null,null,null,null,null,null,null,null,null,null,null,null,null,null,null,null,null,null,"~"]
["SA36",2020,"KZN434",202,null,null,null,null,null,null,null,null,null,null,null,null,null,null,null,null,null,null,"~"]
["SA36",2020,"KZN434",203,null,null,null,null,null,null,null,null,null,null,null,null,null,null,null,null,null,null,"~"]
["SA36",2020,"KZN434",204,null,null,null,null,null,null,null,null,null,null,null,null,null,null,null,null,null,null,"~"]
["SA36",2020,"KZN434",205,null,null,null,null,null,null,null,null,null,null,null,null,null,null,null,null,null,null,"~"]
["SA36",2020,"KZN434",206,null,null,null,null,null,null,null,null,null,null,null,null,null,null,null,null,null,null,"~"]
["SA36",2020,"KZN434",207,null,null,null,null,null,null,null,null,null,null,null,null,null,null,null,null,null,null,"~"]
["SA36",2020,"KZN434",208,null,null,null,null,null,null,null,null,null,null,null,null,null,null,null,null,null,null,"~"]
["SA36",2020,"KZN434",209,null,null,null,null,null,null,null,null,null,null,null,null,null,null,null,null,null,null,"~"]
["SA36",2020,"KZN434",210,null,null,null,null,null,null,null,null,null,null,null,null,null,null,null,null,null,null,"~"]
["SA36",2020,"KZN434",211,null,null,null,null,null,null,null,null,null,null,null,null,null,null,null,null,null,null,"~"]
["SA36",2020,"KZN434",212,null,null,null,null,null,null,null,null,null,null,null,null,null,null,null,null,null,null,"~"]
["SA36",2020,"KZN434",213,null,null,null,null,null,null,null,null,null,null,null,null,null,null,null,null,null,null,"~"]
["SA36",2020,"KZN434",214,null,null,null,null,null,null,null,null,null,null,null,null,null,null,null,null,null,null,"~"]
["SA36",2020,"KZN434",215,null,null,null,null,null,null,null,null,null,null,null,null,null,null,null,null,null,null,"~"]
["SA36",{"$f":"+MTREF","v":2020},{"$f":"LEFT(muni,(FIND(\" \",muni,1)-1))","v":"KZN434"},216,null,null,null,null,null,null,null,null,null,null,null,null,null,null,null,null,null,null,"~"]
["SA36",2020,"KZN434",217,null,null,null,null,null,null,null,null,null,null,null,null,null,null,null,null,null,null,"~"]
["SA36",2020,"KZN434",218,null,null,null,null,null,null,null,null,null,null,null,null,null,null,null,null,null,null,"~"]
["SA36",2020,"KZN434",219,null,null,null,null,null,null,null,null,null,null,null,null,null,null,null,null,null,null,"~"]
["SA36",2020,"KZN434",220,null,null,null,null,null,null,null,null,null,null,null,null,null,null,null,null,null,null,"~"]
["SA36",2020,"KZN434",221,null,null,null,null,null,null,null,null,null,null,null,null,null,null,null,null,null,null,"~"]
["SA36",2020,"KZN434",222,null,null,null,null,null,null,null,null,null,null,null,null,null,null,null,null,null,null,"~"]
["SA36",2020,"KZN434",223,null,null,null,null,null,null,null,null,null,null,null,null,null,null,null,null,null,null,"~"]
["SA36",2020,"KZN434",224,null,null,null,null,null,null,null,null,null,null,null,null,null,null,null,null,null,null,"~"]
["SA36",2020,"KZN434",225,null,null,null,null,null,null,null,null,null,null,null,null,null,null,null,null,null,null,"~"]
["SA36",2020,"KZN434",226,null,null,null,null,null,null,null,null,null,null,null,null,null,null,null,null,null,null,"~"]
["SA36",2020,"KZN434",227,null,null,null,null,null,null,null,null,null,null,null,null,null,null,null,null,null,null,"~"]
["SA36",2020,"KZN434",228,null,null,null,null,null,null,null,null,null,null,null,null,null,null,null,null,null,null,"~"]
["SA36",2020,"KZN434",229,null,null,null,null,null,null,null,null,null,null,null,null,null,null,null,null,null,null,"~"]
["SA36",2020,"KZN434",230,null,null,null,null,null,null,null,null,null,null,null,null,null,null,null,null,null,null,"~"]
["SA36",2020,"KZN434",231,null,null,null,null,null,null,null,null,null,null,null,null,null,null,null,null,null,null,"~"]
["SA36",2020,"KZN434",232,null,null,null,null,null,null,null,null,null,null,null,null,null,null,null,null,null,null,"~"]
["SA36",2020,"KZN434",233,null,null,null,null,null,null,null,null,null,null,null,null,null,null,null,null,null,null,"~"]
["SA36",2020,"KZN434",234,null,null,null,null,null,null,null,null,null,null,null,null,null,null,null,null,null,null,"~"]
["SA36",2020,"KZN434",235,null,null,null,null,null,null,null,null,null,null,null,null,null,null,null,null,null,null,"~"]
["SA36",2020,"KZN434",236,null,null,null,null,null,null,null,null,null,null,null,null,null,null,null,null,null,null,"~"]
["SA36",2020,"KZN434",237,null,null,null,null,null,null,null,null,null,null,null,null,null,null,null,null,null,null,"~"]
["SA36",2020,"KZN434",238,null,null,null,null,null,null,null,null,null,null,null,null,null,null,null,null,null,null,"~"]
["SA36",2020,"KZN434",239,null,null,null,null,null,null,null,null,null,null,null,null,null,null,null,null,null,null,"~"]
["SA36",2020,"KZN434",240,null,null,null,null,null,null,null,null,null,null,null,null,null,null,null,null,null,null,"~"]
["SA36",2020,"KZN434",241,null,null,null,null,null,null,null,null,null,null,null,null,null,null,null,null,null,null,"~"]
["SA36",2020,"KZN434",242,null,null,null,null,null,null,null,null,null,null,null,null,null,null,null,null,null,null,"~"]
["SA36",2020,"KZN434",243,null,null,null,null,null,null,null,null,null,null,null,null,null,null,null,null,null,null,"~"]
["SA36",2020,"KZN434",244,null,null,null,null,null,null,null,null,null,null,null,null,null,null,null,null,null,null,"~"]
["SA36",2020,"KZN434",245,null,null,null,null,null,null,null,null,null,null,null,null,null,null,null,null,null,null,"~"]
["SA36",2020,"KZN434",246,null,null,null,null,null,null,null,null,null,null,null,null,null,null,null,null,null,null,"~"]
["SA36",2020,"KZN434",247,null,null,null,null,null,null,null,null,null,null,null,null,null,null,null,null,null,null,"~"]
["SA36",2020,"KZN434",248,null,null,null,null,null,null,null,null,null,null,null,null,null,null,null,null,null,null,"~"]
["SA36",2020,"KZN434",249,null,null,null,null,null,null,null,null,null,null,null,null,null,null,null,null,null,null,"~"]
["SA36",2020,"KZN434",250,null,null,null,null,null,null,null,null,null,null,null,null,null,null,null,null,null,null,"~"]
["SA36",2020,"KZN434",251,null,null,null,null,null,null,null,null,null,null,null,null,null,null,null,null,null,null,"~"]
["SA36",2020,"KZN434",252,null,null,null,null,null,null,null,null,null,null,null,null,null,null,null,null,null,null,"~"]
["SA36",2020,"KZN434",253,null,null,null,null,null,null,null,null,null,null,null,null,null,null,null,null,null,null,"~"]
["SA36",2020,"KZN434",254,null,null,null,null,null,null,null,null,null,null,null,null,null,null,null,null,null,null,"~"]
["SA36",2020,"KZN434",255,null,null,null,null,null,null,null,null,null,null,null,null,null,null,null,null,null,null,"~"]
["SA36",2020,"KZN434",256,null,null,null,null,null,null,null,null,null,null,null,null,null,null,null,null,null,null,"~"]
["SA36",2020,"KZN434",257,null,null,null,null,null,null,null,null,null,null,null,null,null,null,null,null,null,null,"~"]
["SA36",2020,"KZN434",258,null,null,null,null,null,null,null,null,null,null,null,null,null,null,null,null,null,null,"~"]
["SA36",2020,"KZN434",259,null,null,null,null,null,null,null,null,null,null,null,null,null,null,null,null,null,null,"~"]
["SA36",2020,"KZN434",260,null,null,null,null,null,null,null,null,null,null,null,null,null,null,null,null,null,null,"~"]
["SA36",2020,"KZN434",261,null,null,null,null,null,null,null,null,null,null,null,null,null,null,null,null,null,null,"~"]
["SA36",2020,"KZN434",262,null,null,null,null,null,null,null,null,null,null,null,null,null,null,null,null,null,null,"~"]
["SA36",2020,"KZN434",263,null,null,null,null,null,null,null,null,null,null,null,null,null,null,null,null,null,null,"~"]
["SA36",2020,"KZN434",264,null,null,null,null,null,null,null,null,null,null,null,null,null,null,null,null,null,null,"~"]
["SA36",2020,"KZN434",265,null,null,null,null,null,null,null,null,null,null,null,null,null,null,null,null,null,null,"~"]
["SA36",2020,"KZN434",266,null,null,null,null,null,null,null,null,null,null,null,null,null,null,null,null,null,null,"~"]
["SA36",2020,"KZN434",267,null,null,null,null,null,null,null,null,null,null,null,null,null,null,null,null,null,null,"~"]
["SA36",2020,"KZN434",268,null,null,null,null,null,null,null,null,null,null,null,null,null,null,null,null,null,null,"~"]
["SA36",2020,"KZN434",269,null,null,null,null,null,null,null,null,null,null,null,null,null,null,null,null,null,null,"~"]
["SA36",2020,"KZN434",270,null,null,null,null,null,null,null,null,null,null,null,null,null,null,null,null,null,null,"~"]
["SA36",2020,"KZN434",271,null,null,null,null,null,null,null,null,null,null,null,null,null,null,null,null,null,null,"~"]
["SA36",2020,"KZN434",272,null,null,null,null,null,null,null,null,null,null,null,null,null,null,null,null,null,null,"~"]
["SA36",2020,"KZN434",273,null,null,null,null,null,null,null,null,null,null,null,null,null,null,null,null,null,null,"~"]
["SA36",2020,"KZN434",274,null,null,null,null,null,null,null,null,null,null,null,null,null,null,null,null,null,null,"~"]
["SA36",2020,"KZN434",275,null,null,null,null,null,null,null,null,null,null,null,null,null,null,null,null,null,null,"~"]
["SA36",2020,"KZN434",276,null,null,null,null,null,null,null,null,null,null,null,null,null,null,null,null,null,null,"~"]
["SA36",2020,"KZN434",277,null,null,null,null,null,null,null,null,null,null,null,null,null,null,null,null,null,null,"~"]
["SA36",2020,"KZN434",278,null,null,null,null,null,null,null,null,null,null,null,null,null,null,null,null,null,null,"~"]
["SA36",2020,"KZN434",279,null,null,null,null,null,null,null,null,null,null,null,null,null,null,null,null,null,null,"~"]
["SA36",{"$f":"+MTREF","v":2020},{"$f":"LEFT(muni,(FIND(\" \",muni,1)-1))","v":"KZN434"},280,null,null,null,null,null,null,null,null,null,null,null,null,null,null,null,null,null,null,"~"]
["SA36",2020,"KZN434",281,null,null,null,null,null,null,null,null,null,null,null,null,null,null,null,null,null,null,"~"]
["SA36",2020,"KZN434",282,null,null,null,null,null,null,null,null,null,null,null,null,null,null,null,null,null,null,"~"]
["SA36",2020,"KZN434",283,null,null,null,null,null,null,null,null,null,null,null,null,null,null,null,null,null,null,"~"]
["SA36",2020,"KZN434",284,null,null,null,null,null,null,null,null,null,null,null,null,null,null,null,null,null,null,"~"]
["SA36",2020,"KZN434",285,null,null,null,null,null,null,null,null,null,null,null,null,null,null,null,null,null,null,"~"]
["SA36",2020,"KZN434",286,null,null,null,null,null,null,null,null,null,null,null,null,null,null,null,null,null,null,"~"]
["SA36",2020,"KZN434",287,null,null,null,null,null,null,null,null,null,null,null,null,null,null,null,null,null,null,"~"]
["SA36",2020,"KZN434",288,null,null,null,null,null,null,null,null,null,null,null,null,null,null,null,null,null,null,"~"]
["SA36",2020,"KZN434",289,null,null,null,null,null,null,null,null,null,null,null,null,null,null,null,null,null,null,"~"]
["SA36",2020,"KZN434",290,null,null,null,null,null,null,null,null,null,null,null,null,null,null,null,null,null,null,"~"]
["SA36",2020,"KZN434",291,null,null,null,null,null,null,null,null,null,null,null,null,null,null,null,null,null,null,"~"]
["SA36",2020,"KZN434",292,null,null,null,null,null,null,null,null,null,null,null,null,null,null,null,null,null,null,"~"]
["SA36",2020,"KZN434",293,null,null,null,null,null,null,null,null,null,null,null,null,null,null,null,null,null,null,"~"]
["SA36",2020,"KZN434",294,null,null,null,null,null,null,null,null,null,null,null,null,null,null,null,null,null,null,"~"]
["SA36",2020,"KZN434",295,null,null,null,null,null,null,null,null,null,null,null,null,null,null,null,null,null,null,"~"]
["SA36",2020,"KZN434",296,null,null,null,null,null,null,null,null,null,null,null,null,null,null,null,null,null,null,"~"]
["SA36",2020,"KZN434",297,null,null,null,null,null,null,null,null,null,null,null,null,null,null,null,null,null,null,"~"]
["SA36",2020,"KZN434",298,null,null,null,null,null,null,null,null,null,null,null,null,null,null,null,null,null,null,"~"]
["SA36",2020,"KZN434",299,null,null,null,null,null,null,null,null,null,null,null,null,null,null,null,null,null,null,"~"]
["SA36",2020,"KZN434",300,null,null,null,null,null,null,null,null,null,null,null,null,null,null,null,null,null,null,"~"]
["SA36",2020,"KZN434",301,null,null,null,null,null,null,null,null,null,null,null,null,null,null,null,null,null,null,"~"]
["SA36",2020,"KZN434",302,null,null,null,null,null,null,null,null,null,null,null,null,null,null,null,null,null,null,"~"]
["SA36",2020,"KZN434",303,null,null,null,null,null,null,null,null,null,null,null,null,null,null,null,null,null,null,"~"]
["SA36",2020,"KZN434",304,null,null,null,null,null,null,null,null,null,null,null,null,null,null,null,null,null,null,"~"]
["SA36",2020,"KZN434",305,null,null,null,null,null,null,null,null,null,null,null,null,null,null,null,null,null,null,"~"]
["SA36",2020,"KZN434",306,null,null,null,null,null,null,null,null,null,null,null,null,null,null,null,null,null,null,"~"]
["SA36",2020,"KZN434",307,null,null,null,null,null,null,null,null,null,null,null,null,null,null,null,null,null,null,"~"]
["SA36",2020,"KZN434",308,null,null,null,null,null,null,null,null,null,null,null,null,null,null,null,null,null,null,"~"]
["SA36",2020,"KZN434",309,null,null,null,null,null,null,null,null,null,null,null,null,null,null,null,null,null,null,"~"]
["SA36",2020,"KZN434",310,null,null,null,null,null,null,null,null,null,null,null,null,null,null,null,null,null,null,"~"]
["SA36",2020,"KZN434",311,null,null,null,null,null,null,null,null,null,null,null,null,null,null,null,null,null,null,"~"]
["SA36",2020,"KZN434",312,null,null,null,null,null,null,null,null,null,null,null,null,null,null,null,null,null,null,"~"]
["SA36",2020,"KZN434",313,null,null,null,null,null,null,null,null,null,null,null,null,null,null,null,null,null,null,"~"]
["SA36",2020,"KZN434",314,null,null,null,null,null,null,null,null,null,null,null,null,null,null,null,null,null,null,"~"]
["SA36",2020,"KZN434",315,null,null,null,null,null,null,null,null,null,null,null,null,null,null,null,null,null,null,"~"]
["SA36",2020,"KZN434",316,null,null,null,null,null,null,null,null,null,null,null,null,null,null,null,null,null,null,"~"]
["SA36",2020,"KZN434",317,null,null,null,null,null,null,null,null,null,null,null,null,null,null,null,null,null,null,"~"]
["SA36",2020,"KZN434",318,null,null,null,null,null,null,null,null,null,null,null,null,null,null,null,null,null,null,"~"]
["SA36",2020,"KZN434",319,null,null,null,null,null,null,null,null,null,null,null,null,null,null,null,null,null,null,"~"]
["SA36",2020,"KZN434",320,null,null,null,null,null,null,null,null,null,null,null,null,null,null,null,null,null,null,"~"]
["SA36",2020,"KZN434",321,null,null,null,null,null,null,null,null,null,null,null,null,null,null,null,null,null,null,"~"]
["SA36",2020,"KZN434",322,null,null,null,null,null,null,null,null,null,null,null,null,null,null,null,null,null,null,"~"]
["SA36",2020,"KZN434",323,null,null,null,null,null,null,null,null,null,null,null,null,null,null,null,null,null,null,"~"]
["SA36",2020,"KZN434",324,null,null,null,null,null,null,null,null,null,null,null,null,null,null,null,null,null,null,"~"]
["SA36",2020,"KZN434",325,null,null,null,null,null,null,null,null,null,null,null,null,null,null,null,null,null,null,"~"]
["SA36",2020,"KZN434",326,null,null,null,null,null,null,null,null,null,null,null,null,null,null,null,null,null,null,"~"]
["SA36",2020,"KZN434",327,null,null,null,null,null,null,null,null,null,null,null,null,null,null,null,null,null,null,"~"]
["SA36",2020,"KZN434",328,null,null,null,null,null,null,null,null,null,null,null,null,null,null,null,null,null,null,"~"]
["SA36",2020,"KZN434",329,null,null,null,null,null,null,null,null,null,null,null,null,null,null,null,null,null,null,"~"]
["SA36",2020,"KZN434",330,null,null,null,null,null,null,null,null,null,null,null,null,null,null,null,null,null,null,"~"]
["SA36",2020,"KZN434",331,null,null,null,null,null,null,null,null,null,null,null,null,null,null,null,null,null,null,"~"]
["SA36",2020,"KZN434",332,null,null,null,null,null,null,null,null,null,null,null,null,null,null,null,null,null,null,"~"]
["SA36",2020,"KZN434",333,null,null,null,null,null,null,null,null,null,null,null,null,null,null,null,null,null,null,"~"]
["SA36",2020,"KZN434",334,null,null,null,null,null,null,null,null,null,null,null,null,null,null,null,null,null,null,"~"]
["SA36",2020,"KZN434",335,null,null,null,null,null,null,null,null,null,null,null,null,null,null,null,null,null,null,"~"]
["SA36",2020,"KZN434",336,null,null,null,null,null,null,null,null,null,null,null,null,null,null,null,null,null,null,"~"]
["SA36",2020,"KZN434",337,null,null,null,null,null,null,null,null,null,null,null,null,null,null,null,null,null,null,"~"]
["SA36",2020,"KZN434",338,null,null,null,null,null,null,null,null,null,null,null,null,null,null,null,null,null,null,"~"]
["SA36",2020,"KZN434",339,null,null,null,null,null,null,null,null,null,null,null,null,null,null,null,null,null,null,"~"]
["SA36",2020,"KZN434",340,null,null,null,null,null,null,null,null,null,null,null,null,null,null,null,null,null,null,"~"]
["SA36",2020,"KZN434",341,null,null,null,null,null,null,null,null,null,null,null,null,null,null,null,null,null,null,"~"]
["SA36",2020,"KZN434",342,null,null,null,null,null,null,null,null,null,null,null,null,null,null,null,null,null,null,"~"]
["SA36",2020,"KZN434",343,null,null,null,null,null,null,null,null,null,null,null,null,null,null,null,null,null,null,"~"]
["SA36",{"$f":"+MTREF","v":2020},{"$f":"LEFT(muni,(FIND(\" \",muni,1)-1))","v":"KZN434"},344,null,null,null,null,null,null,null,null,null,null,null,null,null,null,null,null,null,null,"~"]
["SA36",2020,"KZN434",345,null,null,null,null,null,null,null,null,null,null,null,null,null,null,null,null,null,null,"~"]
["SA36",2020,"KZN434",346,null,null,null,null,null,null,null,null,null,null,null,null,null,null,null,null,null,null,"~"]
["SA36",2020,"KZN434",347,null,null,null,null,null,null,null,null,null,null,null,null,null,null,null,null,null,null,"~"]
["SA36",2020,"KZN434",348,null,null,null,null,null,null,null,null,null,null,null,null,null,null,null,null,null,null,"~"]
["SA36",2020,"KZN434",349,null,null,null,null,null,null,null,null,null,null,null,null,null,null,null,null,null,null,"~"]
["SA36",2020,"KZN434",350,null,null,null,null,null,null,null,null,null,null,null,null,null,null,null,null,null,null,"~"]
["SA36",2020,"KZN434",351,null,null,null,null,null,null,null,null,null,null,null,null,null,null,null,null,null,null,"~"]
["SA36",2020,"KZN434",352,null,null,null,null,null,null,null,null,null,null,null,null,null,null,null,null,null,null,"~"]
["SA36",2020,"KZN434",353,null,null,null,null,null,null,null,null,null,null,null,null,null,null,null,null,null,null,"~"]
["SA36",2020,"KZN434",354,null,null,null,null,null,null,null,null,null,null,null,null,null,null,null,null,null,null,"~"]
["SA36",2020,"KZN434",355,null,null,null,null,null,null,null,null,null,null,null,null,null,null,null,null,null,null,"~"]
["SA36",2020,"KZN434",356,null,null,null,null,null,null,null,null,null,null,null,null,null,null,null,null,null,null,"~"]
["SA36",2020,"KZN434",357,null,null,null,null,null,null,null,null,null,null,null,null,null,null,null,null,null,null,"~"]
["SA36",2020,"KZN434",358,null,null,null,null,null,null,null,null,null,null,null,null,null,null,null,null,null,null,"~"]
["SA36",2020,"KZN434",359,null,null,null,null,null,null,null,null,null,null,null,null,null,null,null,null,null,null,"~"]
["SA36",2020,"KZN434",360,null,null,null,null,null,null,null,null,null,null,null,null,null,null,null,null,null,null,"~"]
["SA36",2020,"KZN434",361,null,null,null,null,null,null,null,null,null,null,null,null,null,null,null,null,null,null,"~"]
["SA36",2020,"KZN434",362,null,null,null,null,null,null,null,null,null,null,null,null,null,null,null,null,null,null,"~"]
["SA36",2020,"KZN434",363,null,null,null,null,null,null,null,null,null,null,null,null,null,null,null,null,null,null,"~"]
["SA36",2020,"KZN434",364,null,null,null,null,null,null,null,null,null,null,null,null,null,null,null,null,null,null,"~"]
["SA36",2020,"KZN434",365,null,null,null,null,null,null,null,null,null,null,null,null,null,null,null,null,null,null,"~"]
["SA36",2020,"KZN434",366,null,null,null,null,null,null,null,null,null,null,null,null,null,null,null,null,null,null,"~"]
["SA36",2020,"KZN434",367,null,null,null,null,null,null,null,null,null,null,null,null,null,null,null,null,null,null,"~"]
["SA36",2020,"KZN434",368,null,null,null,null,null,null,null,null,null,null,null,null,null,null,null,null,null,null,"~"]
["SA36",2020,"KZN434",369,null,null,null,null,null,null,null,null,null,null,null,null,null,null,null,null,null,null,"~"]
["SA36",2020,"KZN434",370,null,null,null,null,null,null,null,null,null,null,null,null,null,null,null,null,null,null,"~"]
["SA36",2020,"KZN434",371,null,null,null,null,null,null,null,null,null,null,null,null,null,null,null,null,null,null,"~"]
["SA36",2020,"KZN434",372,null,null,null,null,null,null,null,null,null,null,null,null,null,null,null,null,null,null,"~"]
["SA36",2020,"KZN434",373,null,null,null,null,null,null,null,null,null,null,null,null,null,null,null,null,null,null,"~"]
["SA36",2020,"KZN434",374,null,null,null,null,null,null,null,null,null,null,null,null,null,null,null,null,null,null,"~"]
["SA36",2020,"KZN434",375,null,null,null,null,null,null,null,null,null,null,null,null,null,null,null,null,null,null,"~"]
["SA36",2020,"KZN434",376,null,null,null,null,null,null,null,null,null,null,null,null,null,null,null,null,null,null,"~"]
["SA36",2020,"KZN434",377,null,null,null,null,null,null,null,null,null,null,null,null,null,null,null,null,null,null,"~"]
["SA36",2020,"KZN434",378,null,null,null,null,null,null,null,null,null,null,null,null,null,null,null,null,null,null,"~"]
["SA36",2020,"KZN434",379,null,null,null,null,null,null,null,null,null,null,null,null,null,null,null,null,null,null,"~"]
["SA36",2020,"KZN434",380,null,null,null,null,null,null,null,null,null,null,null,null,null,null,null,null,null,null,"~"]
["SA36",2020,"KZN434",381,null,null,null,null,null,null,null,null,null,null,null,null,null,null,null,null,null,null,"~"]
["SA36",2020,"KZN434",382,null,null,null,null,null,null,null,null,null,null,null,null,null,null,null,null,null,null,"~"]
["SA36",2020,"KZN434",383,null,null,null,null,null,null,null,null,null,null,null,null,null,null,null,null,null,null,"~"]
["SA36",2020,"KZN434",384,null,null,null,null,null,null,null,null,null,null,null,null,null,null,null,null,null,null,"~"]
["SA36",2020,"KZN434",385,null,null,null,null,null,null,null,null,null,null,null,null,null,null,null,null,null,null,"~"]
["SA36",2020,"KZN434",386,null,null,null,null,null,null,null,null,null,null,null,null,null,null,null,null,null,null,"~"]
["SA36",2020,"KZN434",387,null,null,null,null,null,null,null,null,null,null,null,null,null,null,null,null,null,null,"~"]
["SA36",2020,"KZN434",388,null,null,null,null,null,null,null,null,null,null,null,null,null,null,null,null,null,null,"~"]
["SA36",2020,"KZN434",389,null,null,null,null,null,null,null,null,null,null,null,null,null,null,null,null,null,null,"~"]
["SA36",2020,"KZN434",390,null,null,null,null,null,null,null,null,null,null,null,null,null,null,null,null,null,null,"~"]
["SA36",2020,"KZN434",391,null,null,null,null,null,null,null,null,null,null,null,null,null,null,null,null,null,null,"~"]
["SA36",2020,"KZN434",392,null,null,null,null,null,null,null,null,null,null,null,null,null,null,null,null,null,null,"~"]
["SA36",2020,"KZN434",393,null,null,null,null,null,null,null,null,null,null,null,null,null,null,null,null,null,null,"~"]
["SA36",2020,"KZN434",394,null,null,null,null,null,null,null,null,null,null,null,null,null,null,null,null,null,null,"~"]
["SA36",2020,"KZN434",395,null,null,null,null,null,null,null,null,null,null,null,null,null,null,null,null,null,null,"~"]
["SA36",2020,"KZN434",396,null,null,null,null,null,null,null,null,null,null,null,null,null,null,null,null,null,null,"~"]
["SA36",2020,"KZN434",397,null,null,null,null,null,null,null,null,null,null,null,null,null,null,null,null,null,null,"~"]
["SA36",2020,"KZN434",398,null,null,null,null,null,null,null,null,null,null,null,null,null,null,null,null,null,null,"~"]
["SA36",2020,"KZN434",399,null,null,null,null,null,null,null,null,null,null,null,null,null,null,null,null,null,null,"~"]
["SA36",2020,"KZN434",400,null,null,null,null,null,null,null,null,null,null,null,null,null,null,null,null,null,null,"~"]
["SA36",2020,"KZN434",401,null,null,null,null,null,null,null,null,null,null,null,null,null,null,null,null,null,null,"~"]
["SA36",2020,"KZN434",402,null,null,null,null,null,null,null,null,null,null,null,null,null,null,null,null,null,null,"~"]
["SA36",2020,"KZN434",403,null,null,null,null,null,null,null,null,null,null,null,null,null,null,null,null,null,null,"~"]
["SA36",2020,"KZN434",404,null,null,null,null,null,null,null,null,null,null,null,null,null,null,null,null,null,null,"~"]
["SA36",2020,"KZN434",405,null,null,null,null,null,null,null,null,null,null,null,null,null,null,null,null,null,null,"~"]
["SA36",2020,"KZN434",406,null,null,null,null,null,null,null,null,null,null,null,null,null,null,null,null,null,null,"~"]
["SA36",2020,"KZN434",407,null,null,null,null,null,null,null,null,null,null,null,null,null,null,null,null,null,null,"~"]
["SA36",{"$f":"+MTREF","v":2020},{"$f":"LEFT(muni,(FIND(\" \",muni,1)-1))","v":"KZN434"},408,null,null,null,null,null,null,null,null,null,null,null,null,null,null,null,null,null,null,"~"]
["SA36",2020,"KZN434",409,null,null,null,null,null,null,null,null,null,null,null,null,null,null,null,null,null,null,"~"]
["SA36",2020,"KZN434",410,null,null,null,null,null,null,null,null,null,null,null,null,null,null,null,null,null,null,"~"]
["SA36",2020,"KZN434",411,null,null,null,null,null,null,null,null,null,null,null,null,null,null,null,null,null,null,"~"]
["SA36",2020,"KZN434",412,null,null,null,null,null,null,null,null,null,null,null,null,null,null,null,null,null,null,"~"]
["SA36",2020,"KZN434",413,null,null,null,null,null,null,null,null,null,null,null,null,null,null,null,null,null,null,"~"]
["SA36",2020,"KZN434",414,null,null,null,null,null,null,null,null,null,null,null,null,null,null,null,null,null,null,"~"]
["SA36",2020,"KZN434",415,null,null,null,null,null,null,null,null,null,null,null,null,null,null,null,null,null,null,"~"]
["SA36",2020,"KZN434",416,null,null,null,null,null,null,null,null,null,null,null,null,null,null,null,null,null,null,"~"]
["SA36",2020,"KZN434",417,null,null,null,null,null,null,null,null,null,null,null,null,null,null,null,null,null,null,"~"]
["SA36",2020,"KZN434",418,null,null,null,null,null,null,null,null,null,null,null,null,null,null,null,null,null,null,"~"]
["SA36",2020,"KZN434",419,null,null,null,null,null,null,null,null,null,null,null,null,null,null,null,null,null,null,"~"]
["SA36",2020,"KZN434",420,null,null,null,null,null,null,null,null,null,null,null,null,null,null,null,null,null,null,"~"]
["SA36",2020,"KZN434",421,null,null,null,null,null,null,null,null,null,null,null,null,null,null,null,null,null,null,"~"]
["SA36",2020,"KZN434",422,null,null,null,null,null,null,null,null,null,null,null,null,null,null,null,null,null,null,"~"]
["SA36",2020,"KZN434",423,null,null,null,null,null,null,null,null,null,null,null,null,null,null,null,null,null,null,"~"]
["SA36",2020,"KZN434",424,null,null,null,null,null,null,null,null,null,null,null,null,null,null,null,null,null,null,"~"]
["SA36",2020,"KZN434",425,null,null,null,null,null,null,null,null,null,null,null,null,null,null,null,null,null,null,"~"]
["SA36",2020,"KZN434",426,null,null,null,null,null,null,null,null,null,null,null,null,null,null,null,null,null,null,"~"]
["SA36",2020,"KZN434",427,null,null,null,null,null,null,null,null,null,null,null,null,null,null,null,null,null,null,"~"]
["SA36",2020,"KZN434",428,null,null,null,null,null,null,null,null,null,null,null,null,null,null,null,null,null,null,"~"]
["SA36",2020,"KZN434",429,null,null,null,null,null,null,null,null,null,null,null,null,null,null,null,null,null,null,"~"]
["SA36",2020,"KZN434",430,null,null,null,null,null,null,null,null,null,null,null,null,null,null,null,null,null,null,"~"]
["SA36",2020,"KZN434",431,null,null,null,null,null,null,null,null,null,null,null,null,null,null,null,null,null,null,"~"]
["SA36",2020,"KZN434",432,null,null,null,null,null,null,null,null,null,null,null,null,null,null,null,null,null,null,"~"]
["SA36",2020,"KZN434",433,null,null,null,null,null,null,null,null,null,null,null,null,null,null,null,null,null,null,"~"]
["SA36",2020,"KZN434",434,null,null,null,null,null,null,null,null,null,null,null,null,null,null,null,null,null,null,"~"]
["SA36",2020,"KZN434",435,null,null,null,null,null,null,null,null,null,null,null,null,null,null,null,null,null,null,"~"]
["SA36",2020,"KZN434",436,null,null,null,null,null,null,null,null,null,null,null,null,null,null,null,null,null,null,"~"]
["SA36",2020,"KZN434",437,null,null,null,null,null,null,null,null,null,null,null,null,null,null,null,null,null,null,"~"]
["SA36",2020,"KZN434",438,null,null,null,null,null,null,null,null,null,null,null,null,null,null,null,null,null,null,"~"]
["SA36",2020,"KZN434",439,null,null,null,null,null,null,null,null,null,null,null,null,null,null,null,null,null,null,"~"]
["SA36",2020,"KZN434",440,null,null,null,null,null,null,null,null,null,null,null,null,null,null,null,null,null,null,"~"]
["SA36",2020,"KZN434",441,null,null,null,null,null,null,null,null,null,null,null,null,null,null,null,null,null,null,"~"]
["SA36",2020,"KZN434",442,null,null,null,null,null,null,null,null,null,null,null,null,null,null,null,null,null,null,"~"]
["SA36",2020,"KZN434",443,null,null,null,null,null,null,null,null,null,null,null,null,null,null,null,null,null,null,"~"]
["SA36",2020,"KZN434",444,null,null,null,null,null,null,null,null,null,null,null,null,null,null,null,null,null,null,"~"]
["SA36",2020,"KZN434",445,null,null,null,null,null,null,null,null,null,null,null,null,null,null,null,null,null,null,"~"]
["SA36",2020,"KZN434",446,null,null,null,null,null,null,null,null,null,null,null,null,null,null,null,null,null,null,"~"]
["SA36",2020,"KZN434",447,null,null,null,null,null,null,null,null,null,null,null,null,null,null,null,null,null,null,"~"]
["SA36",2020,"KZN434",448,null,null,null,null,null,null,null,null,null,null,null,null,null,null,null,null,null,null,"~"]
["SA36",2020,"KZN434",449,null,null,null,null,null,null,null,null,null,null,null,null,null,null,null,null,null,null,"~"]
["SA36",2020,"KZN434",450,null,null,null,null,null,null,null,null,null,null,null,null,null,null,null,null,null,null,"~"]
["SA36",2020,"KZN434",451,null,null,null,null,null,null,null,null,null,null,null,null,null,null,null,null,null,null,"~"]
["SA36",2020,"KZN434",452,null,null,null,null,null,null,null,null,null,null,null,null,null,null,null,null,null,null,"~"]
["SA36",2020,"KZN434",453,null,null,null,null,null,null,null,null,null,null,null,null,null,null,null,null,null,null,"~"]
["SA36",2020,"KZN434",454,null,null,null,null,null,null,null,null,null,null,null,null,null,null,null,null,null,null,"~"]
["SA36",2020,"KZN434",455,null,null,null,null,null,null,null,null,null,null,null,null,null,null,null,null,null,null,"~"]
["SA36",2020,"KZN434",456,null,null,null,null,null,null,null,null,null,null,null,null,null,null,null,null,null,null,"~"]
["SA36",2020,"KZN434",457,null,null,null,null,null,null,null,null,null,null,null,null,null,null,null,null,null,null,"~"]
["SA36",2020,"KZN434",458,null,null,null,null,null,null,null,null,null,null,null,null,null,null,null,null,null,null,"~"]
["SA36",2020,"KZN434",459,null,null,null,null,null,null,null,null,null,null,null,null,null,null,null,null,null,null,"~"]
["SA36",2020,"KZN434",460,null,null,null,null,null,null,null,null,null,null,null,null,null,null,null,null,null,null,"~"]
["SA36",2020,"KZN434",461,null,null,null,null,null,null,null,null,null,null,null,null,null,null,null,null,null,null,"~"]
["SA36",2020,"KZN434",462,null,null,null,null,null,null,null,null,null,null,null,null,null,null,null,null,null,null,"~"]
["SA36",2020,"KZN434",463,null,null,null,null,null,null,null,null,null,null,null,null,null,null,null,null,null,null,"~"]
["SA36",2020,"KZN434",464,null,null,null,null,null,null,null,null,null,null,null,null,null,null,null,null,null,null,"~"]
["SA36",2020,"KZN434",465,null,null,null,null,null,null,null,null,null,null,null,null,null,null,null,null,null,null,"~"]
["SA36",2020,"KZN434",466,null,null,null,null,null,null,null,null,null,null,null,null,null,null,null,null,null,null,"~"]
["SA36",2020,"KZN434",467,null,null,null,null,null,null,null,null,null,null,null,null,null,null,null,null,null,null,"~"]
["SA36",2020,"KZN434",468,null,null,null,null,null,null,null,null,null,null,null,null,null,null,null,null,null,null,"~"]
["SA36",2020,"KZN434",469,null,null,null,null,null,null,null,null,null,null,null,null,null,null,null,null,null,null,"~"]
["SA36",2020,"KZN434",470,null,null,null,null,null,null,null,null,null,null,null,null,null,null,null,null,null,null,"~"]
["SA36",2020,"KZN434",471,null,null,null,null,null,null,null,null,null,null,null,null,null,null,null,null,null,null,"~"]
["SA36",{"$f":"+MTREF","v":2020},{"$f":"LEFT(muni,(FIND(\" \",muni,1)-1))","v":"KZN434"},472,null,null,null,null,null,null,null,null,null,null,null,null,null,null,null,null,null,null,"~"]
["SA36",2020,"KZN434",473,null,null,null,null,null,null,null,null,null,null,null,null,null,null,null,null,null,null,"~"]
["SA36",2020,"KZN434",474,null,null,null,null,null,null,null,null,null,null,null,null,null,null,null,null,null,null,"~"]
["SA36",2020,"KZN434",475,null,null,null,null,null,null,null,null,null,null,null,null,null,null,null,null,null,null,"~"]
["SA36",2020,"KZN434",476,null,null,null,null,null,null,null,null,null,null,null,null,null,null,null,null,null,null,"~"]
["SA36",2020,"KZN434",477,null,null,null,null,null,null,null,null,null,null,null,null,null,null,null,null,null,null,"~"]
["SA36",2020,"KZN434",478,null,null,null,null,null,null,null,null,null,null,null,null,null,null,null,null,null,null,"~"]
["SA36",2020,"KZN434",479,null,null,null,null,null,null,null,null,null,null,null,null,null,null,null,null,null,null,"~"]
["SA36",2020,"KZN434",480,null,null,null,null,null,null,null,null,null,null,null,null,null,null,null,null,null,null,"~"]
["SA36",2020,"KZN434",481,null,null,null,null,null,null,null,null,null,null,null,null,null,null,null,null,null,null,"~"]
["SA36",2020,"KZN434",482,null,null,null,null,null,null,null,null,null,null,null,null,null,null,null,null,null,null,"~"]
["SA36",2020,"KZN434",483,null,null,null,null,null,null,null,null,null,null,null,null,null,null,null,null,null,null,"~"]
["SA36",2020,"KZN434",484,null,null,null,null,null,null,null,null,null,null,null,null,null,null,null,null,null,null,"~"]
["SA36",2020,"KZN434",485,null,null,null,null,null,null,null,null,null,null,null,null,null,null,null,null,null,null,"~"]
["SA36",2020,"KZN434",486,null,null,null,null,null,null,null,null,null,null,null,null,null,null,null,null,null,null,"~"]
["SA36",2020,"KZN434",487,null,null,null,null,null,null,null,null,null,null,null,null,null,null,null,null,null,null,"~"]
["SA36",2020,"KZN434",488,null,null,null,null,null,null,null,null,null,null,null,null,null,null,null,null,null,null,"~"]
["SA36",2020,"KZN434",489,null,null,null,null,null,null,null,null,null,null,null,null,null,null,null,null,null,null,"~"]
["SA36",2020,"KZN434",490,null,null,null,null,null,null,null,null,null,null,null,null,null,null,null,null,null,null,"~"]
["SA36",2020,"KZN434",491,null,null,null,null,null,null,null,null,null,null,null,null,null,null,null,null,null,null,"~"]
["SA36",2020,"KZN434",492,null,null,null,null,null,null,null,null,null,null,null,null,null,null,null,null,null,null,"~"]
["SA36",2020,"KZN434",493,null,null,null,null,null,null,null,null,null,null,null,null,null,null,null,null,null,null,"~"]
["SA36",2020,"KZN434",494,null,null,null,null,null,null,null,null,null,null,null,null,null,null,null,null,null,null,"~"]
["SA36",2020,"KZN434",495,null,null,null,null,null,null,null,null,null,null,null,null,null,null,null,null,null,null,"~"]
["SA36",2020,"KZN434",496,null,null,null,null,null,null,null,null,null,null,null,null,null,null,null,null,null,null,"~"]
["SA36",2020,"KZN434",497,null,null,null,null,null,null,null,null,null,null,null,null,null,null,null,null,null,null,"~"]
["SA36",2020,"KZN434",498,null,null,null,null,null,null,null,null,null,null,null,null,null,null,null,null,null,null,"~"]
["SA36",2020,"KZN434",499,null,null,null,null,null,null,null,null,null,null,null,null,null,null,null,null,null,null,"~"]
["SA36",2020,"KZN434",500,null,null,null,null,null,null,null,null,null,null,null,null,null,null,null,null,null,null,"~"]
["SA36",2020,"KZN434",501,null,null,null,null,null,null,null,null,null,null,null,null,null,null,null,null,null,null,"~"]
["SA36",2020,"KZN434",502,null,null,null,null,null,null,null,null,null,null,null,null,null,null,null,null,null,null,"~"]
["SA36",2020,"KZN434",503,null,null,null,null,null,null,null,null,null,null,null,null,null,null,null,null,null,null,"~"]
["SA36",2020,"KZN434",504,null,null,null,null,null,null,null,null,null,null,null,null,null,null,null,null,null,null,"~"]
["SA36",2020,"KZN434",505,null,null,null,null,null,null,null,null,null,null,null,null,null,null,null,null,null,null,"~"]
["SA36",2020,"KZN434",506,null,null,null,null,null,null,null,null,null,null,null,null,null,null,null,null,null,null,"~"]
["SA36",2020,"KZN434",507,null,null,null,null,null,null,null,null,null,null,null,null,null,null,null,null,null,null,"~"]
["SA36",2020,"KZN434",508,null,null,null,null,null,null,null,null,null,null,null,null,null,null,null,null,null,null,"~"]
["SA36",2020,"KZN434",509,null,null,null,null,null,null,null,null,null,null,null,null,null,null,null,null,null,null,"~"]
["SA36",2020,"KZN434",510,null,null,null,null,null,null,null,null,null,null,null,null,null,null,null,null,null,null,"~"]
["SA36",2020,"KZN434",511,null,null,null,null,null,null,null,null,null,null,null,null,null,null,null,null,null,null,"~"]
["SA36",2020,"KZN434",512,null,null,null,null,null,null,null,null,null,null,null,null,null,null,null,null,null,null,"~"]
["SA36",2020,"KZN434",513,null,null,null,null,null,null,null,null,null,null,null,null,null,null,null,null,null,null,"~"]
["SA36",2020,"KZN434",514,null,null,null,null,null,null,null,null,null,null,null,null,null,null,null,null,null,null,"~"]
["SA36",2020,"KZN434",515,null,null,null,null,null,null,null,null,null,null,null,null,null,null,null,null,null,null,"~"]
["SA36",2020,"KZN434",516,null,null,null,null,null,null,null,null,null,null,null,null,null,null,null,null,null,null,"~"]
["SA36",2020,"KZN434",517,null,null,null,null,null,null,null,null,null,null,null,null,null,null,null,null,null,null,"~"]
["SA36",2020,"KZN434",518,null,null,null,null,null,null,null,null,null,null,null,null,null,null,null,null,null,null,"~"]
["SA36",2020,"KZN434",519,null,null,null,null,null,null,null,null,null,null,null,null,null,null,null,null,null,null,"~"]
["SA36",2020,"KZN434",520,null,null,null,null,null,null,null,null,null,null,null,null,null,null,null,null,null,null,"~"]
["SA36",2020,"KZN434",521,null,null,null,null,null,null,null,null,null,null,null,null,null,null,null,null,null,null,"~"]
["SA36",2020,"KZN434",522,null,null,null,null,null,null,null,null,null,null,null,null,null,null,null,null,null,null,"~"]
["SA36",2020,"KZN434",523,null,null,null,null,null,null,null,null,null,null,null,null,null,null,null,null,null,null,"~"]
["SA36",2020,"KZN434",524,null,null,null,null,null,null,null,null,null,null,null,null,null,null,null,null,null,null,"~"]
["SA36",2020,"KZN434",525,null,null,null,null,null,null,null,null,null,null,null,null,null,null,null,null,null,null,"~"]
["SA36",2020,"KZN434",526,null,null,null,null,null,null,null,null,null,null,null,null,null,null,null,null,null,null,"~"]
["SA36",2020,"KZN434",527,null,null,null,null,null,null,null,null,null,null,null,null,null,null,null,null,null,null,"~"]
["SA36",2020,"KZN434",528,null,null,null,null,null,null,null,null,null,null,null,null,null,null,null,null,null,null,"~"]
["SA36",2020,"KZN434",529,null,null,null,null,null,null,null,null,null,null,null,null,null,null,null,null,null,null,"~"]
["SA36",2020,"KZN434",530,null,null,null,null,null,null,null,null,null,null,null,null,null,null,null,null,null,null,"~"]
["SA36",2020,"KZN434",531,null,null,null,null,null,null,null,null,null,null,null,null,null,null,null,null,null,null,"~"]
["SA36",2020,"KZN434",532,null,null,null,null,null,null,null,null,null,null,null,null,null,null,null,null,null,null,"~"]
["SA36",2020,"KZN434",533,null,null,null,null,null,null,null,null,null,null,null,null,null,null,null,null,null,null,"~"]
["SA36",2020,"KZN434",534,null,null,null,null,null,null,null,null,null,null,null,null,null,null,null,null,null,null,"~"]
["SA36",2020,"KZN434",535,null,null,null,null,null,null,null,null,null,null,null,null,null,null,null,null,null,null,"~"]
["SA36",{"$f":"+MTREF","v":2020},{"$f":"LEFT(muni,(FIND(\" \",muni,1)-1))","v":"KZN434"},536,null,null,null,null,null,null,null,null,null,null,null,null,null,null,null,null,null,null,"~"]
["SA36",2020,"KZN434",537,null,null,null,null,null,null,null,null,null,null,null,null,null,null,null,null,null,null,"~"]
["SA36",2020,"KZN434",538,null,null,null,null,null,null,null,null,null,null,null,null,null,null,null,null,null,null,"~"]
["SA36",2020,"KZN434",539,null,null,null,null,null,null,null,null,null,null,null,null,null,null,null,null,null,null,"~"]
["SA36",2020,"KZN434",540,null,null,null,null,null,null,null,null,null,null,null,null,null,null,null,null,null,null,"~"]
["SA36",2020,"KZN434",541,null,null,null,null,null,null,null,null,null,null,null,null,null,null,null,null,null,null,"~"]
["SA36",2020,"KZN434",542,null,null,null,null,null,null,null,null,null,null,null,null,null,null,null,null,null,null,"~"]
["SA36",2020,"KZN434",543,null,null,null,null,null,null,null,null,null,null,null,null,null,null,null,null,null,null,"~"]
["SA36",2020,"KZN434",544,null,null,null,null,null,null,null,null,null,null,null,null,null,null,null,null,null,null,"~"]
["SA36",2020,"KZN434",545,null,null,null,null,null,null,null,null,null,null,null,null,null,null,null,null,null,null,"~"]
["SA36",2020,"KZN434",546,null,null,null,null,null,null,null,null,null,null,null,null,null,null,null,null,null,null,"~"]
["SA36",2020,"KZN434",547,null,null,null,null,null,null,null,null,null,null,null,null,null,null,null,null,null,null,"~"]
["SA36",2020,"KZN434",548,null,null,null,null,null,null,null,null,null,null,null,null,null,null,null,null,null,null,"~"]
["SA36",2020,"KZN434",549,null,null,null,null,null,null,null,null,null,null,null,null,null,null,null,null,null,null,"~"]
["SA36",2020,"KZN434",550,null,null,null,null,null,null,null,null,null,null,null,null,null,null,null,null,null,null,"~"]
["SA36",2020,"KZN434",551,null,null,null,null,null,null,null,null,null,null,null,null,null,null,null,null,null,null,"~"]
["SA36",2020,"KZN434",552,null,null,null,null,null,null,null,null,null,null,null,null,null,null,null,null,null,null,"~"]
["SA36",2020,"KZN434",553,null,null,null,null,null,null,null,null,null,null,null,null,null,null,null,null,null,null,"~"]
["SA36",2020,"KZN434",554,null,null,null,null,null,null,null,null,null,null,null,null,null,null,null,null,null,null,"~"]
["SA36",2020,"KZN434",555,null,null,null,null,null,null,null,null,null,null,null,null,null,null,null,null,null,null,"~"]
["SA36",2020,"KZN434",556,null,null,null,null,null,null,null,null,null,null,null,null,null,null,null,null,null,null,"~"]
["SA36",2020,"KZN434",557,null,null,null,null,null,null,null,null,null,null,null,null,null,null,null,null,null,null,"~"]
["SA36",2020,"KZN434",558,null,null,null,null,null,null,null,null,null,null,null,null,null,null,null,null,null,null,"~"]
["SA36",2020,"KZN434",559,null,null,null,null,null,null,null,null,null,null,null,null,null,null,null,null,null,null,"~"]
["SA36",2020,"KZN434",560,null,null,null,null,null,null,null,null,null,null,null,null,null,null,null,null,null,null,"~"]
["SA36",2020,"KZN434",561,null,null,null,null,null,null,null,null,null,null,null,null,null,null,null,null,null,null,"~"]
["SA36",2020,"KZN434",562,null,null,null,null,null,null,null,null,null,null,null,null,null,null,null,null,null,null,"~"]
["SA36",2020,"KZN434",563,null,null,null,null,null,null,null,null,null,null,null,null,null,null,null,null,null,null,"~"]
["SA36",2020,"KZN434",564,null,null,null,null,null,null,null,null,null,null,null,null,null,null,null,null,null,null,"~"]
["SA36",2020,"KZN434",565,null,null,null,null,null,null,null,null,null,null,null,null,null,null,null,null,null,null,"~"]
["SA36",2020,"KZN434",566,null,null,null,null,null,null,null,null,null,null,null,null,null,null,null,null,null,null,"~"]
["SA36",2020,"KZN434",567,null,null,null,null,null,null,null,null,null,null,null,null,null,null,null,null,null,null,"~"]
["SA36",2020,"KZN434",568,null,null,null,null,null,null,null,null,null,null,null,null,null,null,null,null,null,null,"~"]
["SA36",2020,"KZN434",569,null,null,null,null,null,null,null,null,null,null,null,null,null,null,null,null,null,null,"~"]
["SA36",2020,"KZN434",570,null,null,null,null,null,null,null,null,null,null,null,null,null,null,null,null,null,null,"~"]
["SA36",2020,"KZN434",571,null,null,null,null,null,null,null,null,null,null,null,null,null,null,null,null,null,null,"~"]
["SA36",2020,"KZN434",572,null,null,null,null,null,null,null,null,null,null,null,null,null,null,null,null,null,null,"~"]
["SA36",2020,"KZN434",573,null,null,null,null,null,null,null,null,null,null,null,null,null,null,null,null,null,null,"~"]
["SA36",2020,"KZN434",574,null,null,null,null,null,null,null,null,null,null,null,null,null,null,null,null,null,null,"~"]
["SA36",2020,"KZN434",575,null,null,null,null,null,null,null,null,null,null,null,null,null,null,null,null,null,null,"~"]
["SA36",2020,"KZN434",576,null,null,null,null,null,null,null,null,null,null,null,null,null,null,null,null,null,null,"~"]
["SA36",2020,"KZN434",577,null,null,null,null,null,null,null,null,null,null,null,null,null,null,null,null,null,null,"~"]
["SA36",2020,"KZN434",578,null,null,null,null,null,null,null,null,null,null,null,null,null,null,null,null,null,null,"~"]
["SA36",2020,"KZN434",579,null,null,null,null,null,null,null,null,null,null,null,null,null,null,null,null,null,null,"~"]
["SA36",2020,"KZN434",580,null,null,null,null,null,null,null,null,null,null,null,null,null,null,null,null,null,null,"~"]
["SA36",2020,"KZN434",581,null,null,null,null,null,null,null,null,null,null,null,null,null,null,null,null,null,null,"~"]
["SA36",2020,"KZN434",582,null,null,null,null,null,null,null,null,null,null,null,null,null,null,null,null,null,null,"~"]
["SA36",2020,"KZN434",583,null,null,null,null,null,null,null,null,null,null,null,null,null,null,null,null,null,null,"~"]
["SA36",2020,"KZN434",584,null,null,null,null,null,null,null,null,null,null,null,null,null,null,null,null,null,null,"~"]
["SA36",2020,"KZN434",585,null,null,null,null,null,null,null,null,null,null,null,null,null,null,null,null,null,null,"~"]
["SA36",2020,"KZN434",586,null,null,null,null,null,null,null,null,null,null,null,null,null,null,null,null,null,null,"~"]
["SA36",2020,"KZN434",587,null,null,null,null,null,null,null,null,null,null,null,null,null,null,null,null,null,null,"~"]
["SA36",2020,"KZN434",588,null,null,null,null,null,null,null,null,null,null,null,null,null,null,null,null,null,null,"~"]
["SA36",2020,"KZN434",589,null,null,null,null,null,null,null,null,null,null,null,null,null,null,null,null,null,null,"~"]
["SA36",2020,"KZN434",590,null,null,null,null,null,null,null,null,null,null,null,null,null,null,null,null,null,null,"~"]
["SA36",2020,"KZN434",591,null,null,null,null,null,null,null,null,null,null,null,null,null,null,null,null,null,null,"~"]
["SA36",2020,"KZN434",592,null,null,null,null,null,null,null,null,null,null,null,null,null,null,null,null,null,null,"~"]
["SA36",2020,"KZN434",593,null,null,null,null,null,null,null,null,null,null,null,null,null,null,null,null,null,null,"~"]
["SA36",2020,"KZN434",594,null,null,null,null,null,null,null,null,null,null,null,null,null,null,null,null,null,null,"~"]
["SA36",2020,"KZN434",595,null,null,null,null,null,null,null,null,null,null,null,null,null,null,null,null,null,null,"~"]
["SA36",2020,"KZN434",596,null,null,null,null,null,null,null,null,null,null,null,null,null,null,null,null,null,null,"~"]
["SA36",2020,"KZN434",597,null,null,null,null,null,null,null,null,null,null,null,null,null,null,null,null,null,null,"~"]
["SA36",2020,"KZN434",598,null,null,null,null,null,null,null,null,null,null,null,null,null,null,null,null,null,null,"~"]
["SA36",2020,"KZN434",599,null,null,null,null,null,null,null,null,null,null,null,null,null,null,null,null,null,null,"~"]
["SA36",{"$f":"+MTREF","v":2020},{"$f":"LEFT(muni,(FIND(\" \",muni,1)-1))","v":"KZN434"},600,null,null,null,null,null,null,null,null,null,null,null,null,null,null,null,null,null,null,"~"]
["SA36",2020,"KZN434",601,null,null,null,null,null,null,null,null,null,null,null,null,null,null,null,null,null,null,"~"]
["SA36",2020,"KZN434",602,null,null,null,null,null,null,null,null,null,null,null,null,null,null,null,null,null,null,"~"]
["SA36",2020,"KZN434",603,null,null,null,null,null,null,null,null,null,null,null,null,null,null,null,null,null,null,"~"]
["SA36",2020,"KZN434",604,null,null,null,null,null,null,null,null,null,null,null,null,null,null,null,null,null,null,"~"]
["SA36",2020,"KZN434",605,null,null,null,null,null,null,null,null,null,null,null,null,null,null,null,null,null,null,"~"]
["SA36",2020,"KZN434",606,null,null,null,null,null,null,null,null,null,null,null,null,null,null,null,null,null,null,"~"]
["SA36",2020,"KZN434",607,null,null,null,null,null,null,null,null,null,null,null,null,null,null,null,null,null,null,"~"]
["SA36",2020,"KZN434",608,null,null,null,null,null,null,null,null,null,null,null,null,null,null,null,null,null,null,"~"]
["SA36",2020,"KZN434",609,null,null,null,null,null,null,null,null,null,null,null,null,null,null,null,null,null,null,"~"]
["SA36",2020,"KZN434",610,null,null,null,null,null,null,null,null,null,null,null,null,null,null,null,null,null,null,"~"]
["SA36",2020,"KZN434",611,null,null,null,null,null,null,null,null,null,null,null,null,null,null,null,null,null,null,"~"]
["SA36",2020,"KZN434",612,null,null,null,null,null,null,null,null,null,null,null,null,null,null,null,null,null,null,"~"]
["SA36",2020,"KZN434",613,null,null,null,null,null,null,null,null,null,null,null,null,null,null,null,null,null,null,"~"]
["SA36",2020,"KZN434",614,null,null,null,null,null,null,null,null,null,null,null,null,null,null,null,null,null,null,"~"]
["SA36",2020,"KZN434",615,null,null,null,null,null,null,null,null,null,null,null,null,null,null,null,null,null,null,"~"]
["SA36",2020,"KZN434",616,null,null,null,null,null,null,null,null,null,null,null,null,null,null,null,null,null,null,"~"]
["SA36",2020,"KZN434",617,null,null,null,null,null,null,null,null,null,null,null,null,null,null,null,null,null,null,"~"]
["SA36",2020,"KZN434",618,null,null,null,null,null,null,null,null,null,null,null,null,null,null,null,null,null,null,"~"]
["SA36",2020,"KZN434",619,null,null,null,null,null,null,null,null,null,null,null,null,null,null,null,null,null,null,"~"]
["SA36",2020,"KZN434",620,null,null,null,null,null,null,null,null,null,null,null,null,null,null,null,null,null,null,"~"]
["SA36",2020,"KZN434",621,null,null,null,null,null,null,null,null,null,null,null,null,null,null,null,null,null,null,"~"]
["SA36",2020,"KZN434",622,null,null,null,null,null,null,null,null,null,null,null,null,null,null,null,null,null,null,"~"]
["SA36",2020,"KZN434",623,null,null,null,null,null,null,null,null,null,null,null,null,null,null,null,null,null,null,"~"]
["SA36",2020,"KZN434",624,null,null,null,null,null,null,null,null,null,null,null,null,null,null,null,null,null,null,"~"]
["SA36",2020,"KZN434",625,null,null,null,null,null,null,null,null,null,null,null,null,null,null,null,null,null,null,"~"]
["SA36",2020,"KZN434",626,null,null,null,null,null,null,null,null,null,null,null,null,null,null,null,null,null,null,"~"]
["SA36",2020,"KZN434",627,null,null,null,null,null,null,null,null,null,null,null,null,null,null,null,null,null,null,"~"]
["SA36",2020,"KZN434",628,null,null,null,null,null,null,null,null,null,null,null,null,null,null,null,null,null,null,"~"]
["SA36",2020,"KZN434",629,null,null,null,null,null,null,null,null,null,null,null,null,null,null,null,null,null,null,"~"]
["SA36",2020,"KZN434",630,null,null,null,null,null,null,null,null,null,null,null,null,null,null,null,null,null,null,"~"]
["SA36",2020,"KZN434",631,null,null,null,null,null,null,null,null,null,null,null,null,null,null,null,null,null,null,"~"]
["SA36",2020,"KZN434",632,null,null,null,null,null,null,null,null,null,null,null,null,null,null,null,null,null,null,"~"]
["SA36",2020,"KZN434",633,null,null,null,null,null,null,null,null,null,null,null,null,null,null,null,null,null,null,"~"]
["SA36",2020,"KZN434",634,null,null,null,null,null,null,null,null,null,null,null,null,null,null,null,null,null,null,"~"]
["SA36",2020,"KZN434",635,null,null,null,null,null,null,null,null,null,null,null,null,null,null,null,null,null,null,"~"]
["SA36",2020,"KZN434",636,null,null,null,null,null,null,null,null,null,null,null,null,null,null,null,null,null,null,"~"]
["SA36",2020,"KZN434",637,null,null,null,null,null,null,null,null,null,null,null,null,null,null,null,null,null,null,"~"]
["SA36",2020,"KZN434",638,null,null,null,null,null,null,null,null,null,null,null,null,null,null,null,null,null,null,"~"]
["SA36",2020,"KZN434",639,null,null,null,null,null,null,null,null,null,null,null,null,null,null,null,null,null,null,"~"]
["SA36",2020,"KZN434",640,null,null,null,null,null,null,null,null,null,null,null,null,null,null,null,null,null,null,"~"]
["SA36",2020,"KZN434",641,null,null,null,null,null,null,null,null,null,null,null,null,null,null,null,null,null,null,"~"]
["SA36",2020,"KZN434",642,null,null,null,null,null,null,null,null,null,null,null,null,null,null,null,null,null,null,"~"]
["SA36",2020,"KZN434",643,null,null,null,null,null,null,null,null,null,null,null,null,null,null,null,null,null,null,"~"]
["SA36",2020,"KZN434",644,null,null,null,null,null,null,null,null,null,null,null,null,null,null,null,null,null,null,"~"]
["SA36",2020,"KZN434",645,null,null,null,null,null,null,null,null,null,null,null,null,null,null,null,null,null,null,"~"]
["SA36",2020,"KZN434",646,null,null,null,null,null,null,null,null,null,null,null,null,null,null,null,null,null,null,"~"]
["SA36",2020,"KZN434",647,null,null,null,null,null,null,null,null,null,null,null,null,null,null,null,null,null,null,"~"]
["SA36",2020,"KZN434",648,null,null,null,null,null,null,null,null,null,null,null,null,null,null,null,null,null,null,"~"]
["SA36",2020,"KZN434",649,null,null,null,null,null,null,null,null,null,null,null,null,null,null,null,null,null,null,"~"]
["SA36",2020,"KZN434",650,null,null,null,null,null,null,null,null,null,null,null,null,null,null,null,null,null,null,"~"]
["SA36",2020,"KZN434",651,null,null,null,null,null,null,null,null,null,null,null,null,null,null,null,null,null,null,"~"]
["SA36",2020,"KZN434",652,null,null,null,null,null,null,null,null,null,null,null,null,null,null,null,null,null,null,"~"]
["SA36",2020,"KZN434",653,null,null,null,null,null,null,null,null,null,null,null,null,null,null,null,null,null,null,"~"]
["SA36",2020,"KZN434",654,null,null,null,null,null,null,null,null,null,null,null,null,null,null,null,null,null,null,"~"]
["SA36",2020,"KZN434",655,null,null,null,null,null,null,null,null,null,null,null,null,null,null,null,null,null,null,"~"]
["SA36",2020,"KZN434",656,null,null,null,null,null,null,null,null,null,null,null,null,null,null,null,null,null,null,"~"]
["SA36",2020,"KZN434",657,null,null,null,null,null,null,null,null,null,null,null,null,null,null,null,null,null,null,"~"]
["SA36",2020,"KZN434",658,null,null,null,null,null,null,null,null,null,null,null,null,null,null,null,null,null,null,"~"]
["SA36",2020,"KZN434",659,null,null,null,null,null,null,null,null,null,null,null,null,null,null,null,null,null,null,"~"]
["SA36",2020,"KZN434",660,null,null,null,null,null,null,null,null,null,null,null,null,null,null,null,null,null,null,"~"]
["SA36",2020,"KZN434",661,null,null,null,null,null,null,null,null,null,null,null,null,null,null,null,null,null,null,"~"]
["SA36",2020,"KZN434",662,null,null,null,null,null,null,null,null,null,null,null,null,null,null,null,null,null,null,"~"]
["SA36",2020,"KZN434",663,null,null,null,null,null,null,null,null,null,null,null,null,null,null,null,null,null,null,"~"]
["SA36",{"$f":"+MTREF","v":2020},{"$f":"LEFT(muni,(FIND(\" \",muni,1)-1))","v":"KZN434"},664,null,null,null,null,null,null,null,null,null,null,null,null,null,null,null,null,null,null,"~"]
["SA36",2020,"KZN434",665,null,null,null,null,null,null,null,null,null,null,null,null,null,null,null,null,null,null,"~"]
["SA36",2020,"KZN434",666,null,null,null,null,null,null,null,null,null,null,null,null,null,null,null,null,null,null,"~"]
["SA36",2020,"KZN434",667,null,null,null,null,null,null,null,null,null,null,null,null,null,null,null,null,null,null,"~"]
["SA36",2020,"KZN434",668,null,null,null,null,null,null,null,null,null,null,null,null,null,null,null,null,null,null,"~"]
["SA36",2020,"KZN434",669,null,null,null,null,null,null,null,null,null,null,null,null,null,null,null,null,null,null,"~"]
["SA36",2020,"KZN434",670,null,null,null,null,null,null,null,null,null,null,null,null,null,null,null,null,null,null,"~"]
["SA36",2020,"KZN434",671,null,null,null,null,null,null,null,null,null,null,null,null,null,null,null,null,null,null,"~"]
["SA36",2020,"KZN434",672,null,null,null,null,null,null,null,null,null,null,null,null,null,null,null,null,null,null,"~"]
["SA36",2020,"KZN434",673,null,null,null,null,null,null,null,null,null,null,null,null,null,null,null,null,null,null,"~"]
["SA36",2020,"KZN434",674,null,null,null,null,null,null,null,null,null,null,null,null,null,null,null,null,null,null,"~"]
["SA36",2020,"KZN434",675,null,null,null,null,null,null,null,null,null,null,null,null,null,null,null,null,null,null,"~"]
["SA36",2020,"KZN434",676,null,null,null,null,null,null,null,null,null,null,null,null,null,null,null,null,null,null,"~"]
["SA36",2020,"KZN434",677,null,null,null,null,null,null,null,null,null,null,null,null,null,null,null,null,null,null,"~"]
["SA36",2020,"KZN434",678,null,null,null,null,null,null,null,null,null,null,null,null,null,null,null,null,null,null,"~"]
["SA36",2020,"KZN434",679,null,null,null,null,null,null,null,null,null,null,null,null,null,null,null,null,null,null,"~"]
["SA36",2020,"KZN434",680,null,null,null,null,null,null,null,null,null,null,null,null,null,null,null,null,null,null,"~"]
["SA36",2020,"KZN434",681,null,null,null,null,null,null,null,null,null,null,null,null,null,null,null,null,null,null,"~"]
["SA36",2020,"KZN434",682,null,null,null,null,null,null,null,null,null,null,null,null,null,null,null,null,null,null,"~"]
["SA36",2020,"KZN434",683,null,null,null,null,null,null,null,null,null,null,null,null,null,null,null,null,null,null,"~"]
["SA36",2020,"KZN434",684,null,null,null,null,null,null,null,null,null,null,null,null,null,null,null,null,null,null,"~"]
["SA36",2020,"KZN434",685,null,null,null,null,null,null,null,null,null,null,null,null,null,null,null,null,null,null,"~"]
["SA36",2020,"KZN434",686,null,null,null,null,null,null,null,null,null,null,null,null,null,null,null,null,null,null,"~"]
["SA36",2020,"KZN434",687,null,null,null,null,null,null,null,null,null,null,null,null,null,null,null,null,null,null,"~"]
["SA36",2020,"KZN434",688,null,null,null,null,null,null,null,null,null,null,null,null,null,null,null,null,null,null,"~"]
["SA36",2020,"KZN434",689,null,null,null,null,null,null,null,null,null,null,null,null,null,null,null,null,null,null,"~"]
["SA36",2020,"KZN434",690,null,null,null,null,null,null,null,null,null,null,null,null,null,null,null,null,null,null,"~"]
["SA36",2020,"KZN434",691,null,null,null,null,null,null,null,null,null,null,null,null,null,null,null,null,null,null,"~"]
["SA36",2020,"KZN434",692,null,null,null,null,null,null,null,null,null,null,null,null,null,null,null,null,null,null,"~"]
["SA36",2020,"KZN434",693,null,null,null,null,null,null,null,null,null,null,null,null,null,null,null,null,null,null,"~"]
["SA36",2020,"KZN434",694,null,null,null,null,null,null,null,null,null,null,null,null,null,null,null,null,null,null,"~"]
["SA36",2020,"KZN434",695,null,null,null,null,null,null,null,null,null,null,null,null,null,null,null,null,null,null,"~"]
["SA36",2020,"KZN434",696,null,null,null,null,null,null,null,null,null,null,null,null,null,null,null,null,null,null,"~"]
["SA36",2020,"KZN434",697,null,null,null,null,null,null,null,null,null,null,null,null,null,null,null,null,null,null,"~"]
["SA36",2020,"KZN434",698,null,null,null,null,null,null,null,null,null,null,null,null,null,null,null,null,null,null,"~"]
["SA36",2020,"KZN434",699,null,null,null,null,null,null,null,null,null,null,null,null,null,null,null,null,null,null,"~"]
["SA36",2020,"KZN434",700,null,null,null,null,null,null,null,null,null,null,null,null,null,null,null,null,null,null,"~"]
["SA36",2020,"KZN434",701,null,null,null,null,null,null,null,null,null,null,null,null,null,null,null,null,null,null,"~"]
["SA36",2020,"KZN434",702,null,null,null,null,null,null,null,null,null,null,null,null,null,null,null,null,null,null,"~"]
["SA36",2020,"KZN434",703,null,null,null,null,null,null,null,null,null,null,null,null,null,null,null,null,null,null,"~"]
["SA36",2020,"KZN434",704,null,null,null,null,null,null,null,null,null,null,null,null,null,null,null,null,null,null,"~"]
["SA36",2020,"KZN434",705,null,null,null,null,null,null,null,null,null,null,null,null,null,null,null,null,null,null,"~"]
["SA36",2020,"KZN434",706,null,null,null,null,null,null,null,null,null,null,null,null,null,null,null,null,null,null,"~"]
["SA36",2020,"KZN434",707,null,null,null,null,null,null,null,null,null,null,null,null,null,null,null,null,null,null,"~"]
["SA36",2020,"KZN434",708,null,null,null,null,null,null,null,null,null,null,null,null,null,null,null,null,null,null,"~"]
["SA36",2020,"KZN434",709,null,null,null,null,null,null,null,null,null,null,null,null,null,null,null,null,null,null,"~"]
["SA36",2020,"KZN434",710,null,null,null,null,null,null,null,null,null,null,null,null,null,null,null,null,null,null,"~"]
["SA36",2020,"KZN434",711,null,null,null,null,null,null,null,null,null,null,null,null,null,null,null,null,null,null,"~"]
["SA36",2020,"KZN434",712,null,null,null,null,null,null,null,null,null,null,null,null,null,null,null,null,null,null,"~"]
["SA36",2020,"KZN434",713,null,null,null,null,null,null,null,null,null,null,null,null,null,null,null,null,null,null,"~"]
["SA36",2020,"KZN434",714,null,null,null,null,null,null,null,null,null,null,null,null,null,null,null,null,null,null,"~"]
["SA36",2020,"KZN434",715,null,null,null,null,null,null,null,null,null,null,null,null,null,null,null,null,null,null,"~"]
["SA36",2020,"KZN434",716,null,null,null,null,null,null,null,null,null,null,null,null,null,null,null,null,null,null,"~"]
["SA36",2020,"KZN434",717,null,null,null,null,null,null,null,null,null,null,null,null,null,null,null,null,null,null,"~"]
["SA36",2020,"KZN434",718,null,null,null,null,null,null,null,null,null,null,null,null,null,null,null,null,null,null,"~"]
["SA36",2020,"KZN434",719,null,null,null,null,null,null,null,null,null,null,null,null,null,null,null,null,null,null,"~"]
["SA36",2020,"KZN434",720,null,null,null,null,null,null,null,null,null,null,null,null,null,null,null,null,null,null,"~"]
["SA36",2020,"KZN434",721,null,null,null,null,null,null,null,null,null,null,null,null,null,null,null,null,null,null,"~"]
["SA36",2020,"KZN434",722,null,null,null,null,null,null,null,null,null,null,null,null,null,null,null,null,null,null,"~"]
["SA36",2020,"KZN434",723,null,null,null,null,null,null,null,null,null,null,null,null,null,null,null,null,null,null,"~"]
["SA36",2020,"KZN434",724,null,null,null,null,null,null,null,null,null,null,null,null,null,null,null,null,null,null,"~"]
["SA36",2020,"KZN434",725,null,null,null,null,null,null,null,null,null,null,null,null,null,null,null,null,null,null,"~"]
["SA36",2020,"KZN434",726,null,null,null,null,null,null,null,null,null,null,null,null,null,null,null,null,null,null,"~"]
["SA36",2020,"KZN434",727,null,null,null,null,null,null,null,null,null,null,null,null,null,null,null,null,null,null,"~"]
["SA36",{"$f":"+MTREF","v":2020},{"$f":"LEFT(muni,(FIND(\" \",muni,1)-1))","v":"KZN434"},728,null,null,null,null,null,null,null,null,null,null,null,null,null,null,null,null,null,null,"~"]
["SA36",2020,"KZN434",729,null,null,null,null,null,null,null,null,null,null,null,null,null,null,null,null,null,null,"~"]
["SA36",2020,"KZN434",730,null,null,null,null,null,null,null,null,null,null,null,null,null,null,null,null,null,null,"~"]
["SA36",2020,"KZN434",731,null,null,null,null,null,null,null,null,null,null,null,null,null,null,null,null,null,null,"~"]
["SA36",2020,"KZN434",732,null,null,null,null,null,null,null,null,null,null,null,null,null,null,null,null,null,null,"~"]
["SA36",2020,"KZN434",733,null,null,null,null,null,null,null,null,null,null,null,null,null,null,null,null,null,null,"~"]
["SA36",2020,"KZN434",734,null,null,null,null,null,null,null,null,null,null,null,null,null,null,null,null,null,null,"~"]
["SA36",2020,"KZN434",735,null,null,null,null,null,null,null,null,null,null,null,null,null,null,null,null,null,null,"~"]
["SA36",2020,"KZN434",736,null,null,null,null,null,null,null,null,null,null,null,null,null,null,null,null,null,null,"~"]
["SA36",2020,"KZN434",737,null,null,null,null,null,null,null,null,null,null,null,null,null,null,null,null,null,null,"~"]
["SA36",2020,"KZN434",738,null,null,null,null,null,null,null,null,null,null,null,null,null,null,null,null,null,null,"~"]
["SA36",2020,"KZN434",739,null,null,null,null,null,null,null,null,null,null,null,null,null,null,null,null,null,null,"~"]
["SA36",2020,"KZN434",740,null,null,null,null,null,null,null,null,null,null,null,null,null,null,null,null,null,null,"~"]
["SA36",2020,"KZN434",741,null,null,null,null,null,null,null,null,null,null,null,null,null,null,null,null,null,null,"~"]
["SA36",2020,"KZN434",742,null,null,null,null,null,null,null,null,null,null,null,null,null,null,null,null,null,null,"~"]
["SA36",2020,"KZN434",743,null,null,null,null,null,null,null,null,null,null,null,null,null,null,null,null,null,null,"~"]
["SA36",2020,"KZN434",744,null,null,null,null,null,null,null,null,null,null,null,null,null,null,null,null,null,null,"~"]
["SA36",2020,"KZN434",745,null,null,null,null,null,null,null,null,null,null,null,null,null,null,null,null,null,null,"~"]
["SA36",2020,"KZN434",746,null,null,null,null,null,null,null,null,null,null,null,null,null,null,null,null,null,null,"~"]
["SA36",2020,"KZN434",747,null,null,null,null,null,null,null,null,null,null,null,null,null,null,null,null,null,null,"~"]
["SA36",2020,"KZN434",748,null,null,null,null,null,null,null,null,null,null,null,null,null,null,null,null,null,null,"~"]
["SA36",2020,"KZN434",749,null,null,null,null,null,null,null,null,null,null,null,null,null,null,null,null,null,null,"~"]
["SA36",2020,"KZN434",750,null,null,null,null,null,null,null,null,null,null,null,null,null,null,null,null,null,null,"~"]
["SA36",2020,"KZN434",751,null,null,null,null,null,null,null,null,null,null,null,null,null,null,null,null,null,null,"~"]
["SA36",2020,"KZN434",752,null,null,null,null,null,null,null,null,null,null,null,null,null,null,null,null,null,null,"~"]
["SA36",2020,"KZN434",753,null,null,null,null,null,null,null,null,null,null,null,null,null,null,null,null,null,null,"~"]
["SA36",2020,"KZN434",754,null,null,null,null,null,null,null,null,null,null,null,null,null,null,null,null,null,null,"~"]
["SA36",2020,"KZN434",755,null,null,null,null,null,null,null,null,null,null,null,null,null,null,null,null,null,null,"~"]
["SA36",2020,"KZN434",756,null,null,null,null,null,null,null,null,null,null,null,null,null,null,null,null,null,null,"~"]
["SA36",2020,"KZN434",757,null,null,null,null,null,null,null,null,null,null,null,null,null,null,null,null,null,null,"~"]
["SA36",2020,"KZN434",758,null,null,null,null,null,null,null,null,null,null,null,null,null,null,null,null,null,null,"~"]
["SA36",2020,"KZN434",759,null,null,null,null,null,null,null,null,null,null,null,null,null,null,null,null,null,null,"~"]
["SA36",2020,"KZN434",760,null,null,null,null,null,null,null,null,null,null,null,null,null,null,null,null,null,null,"~"]
["SA36",2020,"KZN434",761,null,null,null,null,null,null,null,null,null,null,null,null,null,null,null,null,null,null,"~"]
["SA36",2020,"KZN434",762,null,null,null,null,null,null,null,null,null,null,null,null,null,null,null,null,null,null,"~"]
["SA36",2020,"KZN434",763,null,null,null,null,null,null,null,null,null,null,null,null,null,null,null,null,null,null,"~"]
["SA36",2020,"KZN434",764,null,null,null,null,null,null,null,null,null,null,null,null,null,null,null,null,null,null,"~"]
["SA36",2020,"KZN434",765,null,null,null,null,null,null,null,null,null,null,null,null,null,null,null,null,null,null,"~"]
["SA36",2020,"KZN434",766,null,null,null,null,null,null,null,null,null,null,null,null,null,null,null,null,null,null,"~"]
["SA36",2020,"KZN434",767,null,null,null,null,null,null,null,null,null,null,null,null,null,null,null,null,null,null,"~"]
["SA36",2020,"KZN434",768,null,null,null,null,null,null,null,null,null,null,null,null,null,null,null,null,null,null,"~"]
["SA36",2020,"KZN434",769,null,null,null,null,null,null,null,null,null,null,null,null,null,null,null,null,null,null,"~"]
["SA36",2020,"KZN434",770,null,null,null,null,null,null,null,null,null,null,null,null,null,null,null,null,null,null,"~"]
["SA36",2020,"KZN434",771,null,null,null,null,null,null,null,null,null,null,null,null,null,null,null,null,null,null,"~"]
["SA36",2020,"KZN434",772,null,null,null,null,null,null,null,null,null,null,null,null,null,null,null,null,null,null,"~"]
["SA36",2020,"KZN434",773,null,null,null,null,null,null,null,null,null,null,null,null,null,null,null,null,null,null,"~"]
["SA36",2020,"KZN434",774,null,null,null,null,null,null,null,null,null,null,null,null,null,null,null,null,null,null,"~"]
["SA36",2020,"KZN434",775,null,null,null,null,null,null,null,null,null,null,null,null,null,null,null,null,null,null,"~"]
["SA36",2020,"KZN434",776,null,null,null,null,null,null,null,null,null,null,null,null,null,null,null,null,null,null,"~"]
["SA36",2020,"KZN434",777,null,null,null,null,null,null,null,null,null,null,null,null,null,null,null,null,null,null,"~"]
["SA36",2020,"KZN434",778,null,null,null,null,null,null,null,null,null,null,null,null,null,null,null,null,null,null,"~"]
["SA36",2020,"KZN434",779,null,null,null,null,null,null,null,null,null,null,null,null,null,null,null,null,null,null,"~"]
["SA36",2020,"KZN434",780,null,null,null,null,null,null,null,null,null,null,null,null,null,null,null,null,null,null,"~"]
["SA36",2020,"KZN434",781,null,null,null,null,null,null,null,null,null,null,null,null,null,null,null,null,null,null,"~"]
["SA36",2020,"KZN434",782,null,null,null,null,null,null,null,null,null,null,null,null,null,null,null,null,null,null,"~"]
["SA36",2020,"KZN434",783,null,null,null,null,null,null,null,null,null,null,null,null,null,null,null,null,null,null,"~"]
["SA36",2020,"KZN434",784,null,null,null,null,null,null,null,null,null,null,null,null,null,null,null,null,null,null,"~"]
["SA36",2020,"KZN434",785,null,null,null,null,null,null,null,null,null,null,null,null,null,null,null,null,null,null,"~"]
["SA36",2020,"KZN434",786,null,null,null,null,null,null,null,null,null,null,null,null,null,null,null,null,null,null,"~"]
["SA36",2020,"KZN434",787,null,null,null,null,null,null,null,null,null,null,null,null,null,null,null,null,null,null,"~"]
["SA36",2020,"KZN434",788,null,null,null,null,null,null,null,null,null,null,null,null,null,null,null,null,null,null,"~"]
["SA36",2020,"KZN434",789,null,null,null,null,null,null,null,null,null,null,null,null,null,null,null,null,null,null,"~"]
["SA36",2020,"KZN434",790,null,null,null,null,null,null,null,null,null,null,null,null,null,null,null,null,null,null,"~"]
["SA36",2020,"KZN434",791,null,null,null,null,null,null,null,null,null,null,null,null,null,null,null,null,null,null,"~"]
["SA36",{"$f":"+MTREF","v":2020},{"$f":"LEFT(muni,(FIND(\" \",muni,1)-1))","v":"KZN434"},792,null,null,null,null,null,null,null,null,null,null,null,null,null,null,null,null,null,null,"~"]
["SA36",2020,"KZN434",793,null,null,null,null,null,null,null,null,null,null,null,null,null,null,null,null,null,null,"~"]
["SA36",2020,"KZN434",794,null,null,null,null,null,null,null,null,null,null,null,null,null,null,null,null,null,null,"~"]
["SA36",2020,"KZN434",795,null,null,null,null,null,null,null,null,null,null,null,null,null,null,null,null,null,null,"~"]
["SA36",2020,"KZN434",796,null,null,null,null,null,null,null,null,null,null,null,null,null,null,null,null,null,null,"~"]
["SA36",2020,"KZN434",797,null,null,null,null,null,null,null,null,null,null,null,null,null,null,null,null,null,null,"~"]
["SA36",2020,"KZN434",798,null,null,null,null,null,null,null,null,null,null,null,null,null,null,null,null,null,null,"~"]
["SA36",2020,"KZN434",799,null,null,null,null,null,null,null,null,null,null,null,null,null,null,null,null,null,null,"~"]
["SA36",2020,"KZN434",800,null,null,null,null,null,null,null,null,null,null,null,null,null,null,null,null,null,null,"~"]
["SA36",2020,"KZN434",801,null,null,null,null,null,null,null,null,null,null,null,null,null,null,null,null,null,null,"~"]
["SA36",2020,"KZN434",802,null,null,null,null,null,null,null,null,null,null,null,null,null,null,null,null,null,null,"~"]
["SA36",2020,"KZN434",803,null,null,null,null,null,null,null,null,null,null,null,null,null,null,null,null,null,null,"~"]
["SA36",2020,"KZN434",804,null,null,null,null,null,null,null,null,null,null,null,null,null,null,null,null,null,null,"~"]
["SA36",2020,"KZN434",805,null,null,null,null,null,null,null,null,null,null,null,null,null,null,null,null,null,null,"~"]
["SA36",2020,"KZN434",806,null,null,null,null,null,null,null,null,null,null,null,null,null,null,null,null,null,null,"~"]
["SA36",2020,"KZN434",807,null,null,null,null,null,null,null,null,null,null,null,null,null,null,null,null,null,null,"~"]
["SA36",2020,"KZN434",808,null,null,null,null,null,null,null,null,null,null,null,null,null,null,null,null,null,null,"~"]
["SA36",2020,"KZN434",809,null,null,null,null,null,null,null,null,null,null,null,null,null,null,null,null,null,null,"~"]
["SA36",2020,"KZN434",810,null,null,null,null,null,null,null,null,null,null,null,null,null,null,null,null,null,null,"~"]
["SA36",2020,"KZN434",811,null,null,null,null,null,null,null,null,null,null,null,null,null,null,null,null,null,null,"~"]
["SA36",2020,"KZN434",812,null,null,null,null,null,null,null,null,null,null,null,null,null,null,null,null,null,null,"~"]
["SA36",2020,"KZN434",813,null,null,null,null,null,null,null,null,null,null,null,null,null,null,null,null,null,null,"~"]
["SA36",2020,"KZN434",814,null,null,null,null,null,null,null,null,null,null,null,null,null,null,null,null,null,null,"~"]
["SA36",2020,"KZN434",815,null,null,null,null,null,null,null,null,null,null,null,null,null,null,null,null,null,null,"~"]
["SA36",2020,"KZN434",816,null,null,null,null,null,null,null,null,null,null,null,null,null,null,null,null,null,null,"~"]
["SA36",2020,"KZN434",817,null,null,null,null,null,null,null,null,null,null,null,null,null,null,null,null,null,null,"~"]
["SA36",2020,"KZN434",818,null,null,null,null,null,null,null,null,null,null,null,null,null,null,null,null,null,null,"~"]
["SA36",2020,"KZN434",819,null,null,null,null,null,null,null,null,null,null,null,null,null,null,null,null,null,null,"~"]
["SA36",2020,"KZN434",820,null,null,null,null,null,null,null,null,null,null,null,null,null,null,null,null,null,null,"~"]
["SA36",2020,"KZN434",821,null,null,null,null,null,null,null,null,null,null,null,null,null,null,null,null,null,null,"~"]
["SA36",2020,"KZN434",822,null,null,null,null,null,null,null,null,null,null,null,null,null,null,null,null,null,null,"~"]
["SA36",2020,"KZN434",823,null,null,null,null,null,null,null,null,null,null,null,null,null,null,null,null,null,null,"~"]
["SA36",2020,"KZN434",824,null,null,null,null,null,null,null,null,null,null,null,null,null,null,null,null,null,null,"~"]
["SA36",2020,"KZN434",825,null,null,null,null,null,null,null,null,null,null,null,null,null,null,null,null,null,null,"~"]
["SA36",2020,"KZN434",826,null,null,null,null,null,null,null,null,null,null,null,null,null,null,null,null,null,null,"~"]
["SA36",2020,"KZN434",827,null,null,null,null,null,null,null,null,null,null,null,null,null,null,null,null,null,null,"~"]
["SA36",2020,"KZN434",828,null,null,null,null,null,null,null,null,null,null,null,null,null,null,null,null,null,null,"~"]
["SA36",2020,"KZN434",829,null,null,null,null,null,null,null,null,null,null,null,null,null,null,null,null,null,null,"~"]
["SA36",2020,"KZN434",830,null,null,null,null,null,null,null,null,null,null,null,null,null,null,null,null,null,null,"~"]
["SA36",2020,"KZN434",831,null,null,null,null,null,null,null,null,null,null,null,null,null,null,null,null,null,null,"~"]
["SA36",2020,"KZN434",832,null,null,null,null,null,null,null,null,null,null,null,null,null,null,null,null,null,null,"~"]
["SA36",2020,"KZN434",833,null,null,null,null,null,null,null,null,null,null,null,null,null,null,null,null,null,null,"~"]
["SA36",2020,"KZN434",834,null,null,null,null,null,null,null,null,null,null,null,null,null,null,null,null,null,null,"~"]
["SA36",2020,"KZN434",835,null,null,null,null,null,null,null,null,null,null,null,null,null,null,null,null,null,null,"~"]
["SA36",2020,"KZN434",836,null,null,null,null,null,null,null,null,null,null,null,null,null,null,null,null,null,null,"~"]
["SA36",2020,"KZN434",837,null,null,null,null,null,null,null,null,null,null,null,null,null,null,null,null,null,null,"~"]
["SA36",2020,"KZN434",838,null,null,null,null,null,null,null,null,null,null,null,null,null,null,null,null,null,null,"~"]
["SA36",2020,"KZN434",839,null,null,null,null,null,null,null,null,null,null,null,null,null,null,null,null,null,null,"~"]
["SA36",2020,"KZN434",840,null,null,null,null,null,null,null,null,null,null,null,null,null,null,null,null,null,null,"~"]
["SA36",2020,"KZN434",841,null,null,null,null,null,null,null,null,null,null,null,null,null,null,null,null,null,null,"~"]
["SA36",2020,"KZN434",842,null,null,null,null,null,null,null,null,null,null,null,null,null,null,null,null,null,null,"~"]
["SA36",2020,"KZN434",843,null,null,null,null,null,null,null,null,null,null,null,null,null,null,null,null,null,null,"~"]
["SA36",2020,"KZN434",844,null,null,null,null,null,null,null,null,null,null,null,null,null,null,null,null,null,null,"~"]
["SA36",2020,"KZN434",845,null,null,null,null,null,null,null,null,null,null,null,null,null,null,null,null,null,null,"~"]
["SA36",2020,"KZN434",846,null,null,null,null,null,null,null,null,null,null,null,null,null,null,null,null,null,null,"~"]
["SA36",2020,"KZN434",847,null,null,null,null,null,null,null,null,null,null,null,null,null,null,null,null,null,null,"~"]
["SA36",2020,"KZN434",848,null,null,null,null,null,null,null,null,null,null,null,null,null,null,null,null,null,null,"~"]
["SA36",2020,"KZN434",849,null,null,null,null,null,null,null,null,null,null,null,null,null,null,null,null,null,null,"~"]
["SA36",2020,"KZN434",850,null,null,null,null,null,null,null,null,null,null,null,null,null,null,null,null,null,null,"~"]
["SA36",2020,"KZN434",851,null,null,null,null,null,null,null,null,null,null,null,null,null,null,null,null,null,null,"~"]
["SA36",2020,"KZN434",852,null,null,null,null,null,null,null,null,null,null,null,null,null,null,null,null,null,null,"~"]
["SA36",2020,"KZN434",853,null,null,null,null,null,null,null,null,null,null,null,null,null,null,null,null,null,null,"~"]
["SA36",2020,"KZN434",854,null,null,null,null,null,null,null,null,null,null,null,null,null,null,null,null,null,null,"~"]
["SA36",2020,"KZN434",855,null,null,null,null,null,null,null,null,null,null,null,null,null,null,null,null,null,null,"~"]
["SA36",{"$f":"+MTREF","v":2020},{"$f":"LEFT(muni,(FIND(\" \",muni,1)-1))","v":"KZN434"},856,null,null,null,null,null,null,null,null,null,null,null,null,null,null,null,null,null,null,"~"]
["SA36",2020,"KZN434",857,null,null,null,null,null,null,null,null,null,null,null,null,null,null,null,null,null,null,"~"]
["SA36",2020,"KZN434",858,null,null,null,null,null,null,null,null,null,null,null,null,null,null,null,null,null,null,"~"]
["SA36",2020,"KZN434",859,null,null,null,null,null,null,null,null,null,null,null,null,null,null,null,null,null,null,"~"]
["SA36",2020,"KZN434",860,null,null,null,null,null,null,null,null,null,null,null,null,null,null,null,null,null,null,"~"]
["SA36",2020,"KZN434",861,null,null,null,null,null,null,null,null,null,null,null,null,null,null,null,null,null,null,"~"]
["SA36",2020,"KZN434",862,null,null,null,null,null,null,null,null,null,null,null,null,null,null,null,null,null,null,"~"]
["SA36",2020,"KZN434",863,null,null,null,null,null,null,null,null,null,null,null,null,null,null,null,null,null,null,"~"]
["SA36",2020,"KZN434",864,null,null,null,null,null,null,null,null,null,null,null,null,null,null,null,null,null,null,"~"]
["SA36",2020,"KZN434",865,null,null,null,null,null,null,null,null,null,null,null,null,null,null,null,null,null,null,"~"]
["SA36",2020,"KZN434",866,null,null,null,null,null,null,null,null,null,null,null,null,null,null,null,null,null,null,"~"]
["SA36",2020,"KZN434",867,null,null,null,null,null,null,null,null,null,null,null,null,null,null,null,null,null,null,"~"]
["SA36",2020,"KZN434",868,null,null,null,null,null,null,null,null,null,null,null,null,null,null,null,null,null,null,"~"]
["SA36",2020,"KZN434",869,null,null,null,null,null,null,null,null,null,null,null,null,null,null,null,null,null,null,"~"]
["SA36",2020,"KZN434",870,null,null,null,null,null,null,null,null,null,null,null,null,null,null,null,null,null,null,"~"]
["SA36",2020,"KZN434",871,null,null,null,null,null,null,null,null,null,null,null,null,null,null,null,null,null,null,"~"]
["SA36",2020,"KZN434",872,null,null,null,null,null,null,null,null,null,null,null,null,null,null,null,null,null,null,"~"]
["SA36",2020,"KZN434",873,null,null,null,null,null,null,null,null,null,null,null,null,null,null,null,null,null,null,"~"]
["SA36",2020,"KZN434",874,null,null,null,null,null,null,null,null,null,null,null,null,null,null,null,null,null,null,"~"]
["SA36",2020,"KZN434",875,null,null,null,null,null,null,null,null,null,null,null,null,null,null,null,null,null,null,"~"]
["SA36",2020,"KZN434",876,null,null,null,null,null,null,null,null,null,null,null,null,null,null,null,null,null,null,"~"]
["SA36",2020,"KZN434",877,null,null,null,null,null,null,null,null,null,null,null,null,null,null,null,null,null,null,"~"]
["SA36",2020,"KZN434",878,null,null,null,null,null,null,null,null,null,null,null,null,null,null,null,null,null,null,"~"]
["SA36",2020,"KZN434",879,null,null,null,null,null,null,null,null,null,null,null,null,null,null,null,null,null,null,"~"]
["SA36",2020,"KZN434",880,null,null,null,null,null,null,null,null,null,null,null,null,null,null,null,null,null,null,"~"]
["SA36",2020,"KZN434",881,null,null,null,null,null,null,null,null,null,null,null,null,null,null,null,null,null,null,"~"]
["SA36",2020,"KZN434",882,null,null,null,null,null,null,null,null,null,null,null,null,null,null,null,null,null,null,"~"]
["SA36",2020,"KZN434",883,null,null,null,null,null,null,null,null,null,null,null,null,null,null,null,null,null,null,"~"]
["SA36",2020,"KZN434",884,null,null,null,null,null,null,null,null,null,null,null,null,null,null,null,null,null,null,"~"]
["SA36",2020,"KZN434",885,null,null,null,null,null,null,null,null,null,null,null,null,null,null,null,null,null,null,"~"]
["SA36",2020,"KZN434",886,null,null,null,null,null,null,null,null,null,null,null,null,null,null,null,null,null,null,"~"]
["SA36",2020,"KZN434",887,null,null,null,null,null,null,null,null,null,null,null,null,null,null,null,null,null,null,"~"]
["SA36",2020,"KZN434",888,null,null,null,null,null,null,null,null,null,null,null,null,null,null,null,null,null,null,"~"]
["SA36",2020,"KZN434",889,null,null,null,null,null,null,null,null,null,null,null,null,null,null,null,null,null,null,"~"]
["SA36",2020,"KZN434",890,null,null,null,null,null,null,null,null,null,null,null,null,null,null,null,null,null,null,"~"]
["SA36",2020,"KZN434",891,null,null,null,null,null,null,null,null,null,null,null,null,null,null,null,null,null,null,"~"]
["SA36",2020,"KZN434",892,null,null,null,null,null,null,null,null,null,null,null,null,null,null,null,null,null,null,"~"]
["SA36",2020,"KZN434",893,null,null,null,null,null,null,null,null,null,null,null,null,null,null,null,null,null,null,"~"]
["SA36",2020,"KZN434",894,null,null,null,null,null,null,null,null,null,null,null,null,null,null,null,null,null,null,"~"]
["SA36",2020,"KZN434",895,null,null,null,null,null,null,null,null,null,null,null,null,null,null,null,null,null,null,"~"]
["SA36",2020,"KZN434",896,null,null,null,null,null,null,null,null,null,null,null,null,null,null,null,null,null,null,"~"]
["SA36",2020,"KZN434",897,null,null,null,null,null,null,null,null,null,null,null,null,null,null,null,null,null,null,"~"]
["SA36",2020,"KZN434",898,null,null,null,null,null,null,null,null,null,null,null,null,null,null,null,null,null,null,"~"]
["SA36",2020,"KZN434",899,null,null,null,null,null,null,null,null,null,null,null,null,null,null,null,null,null,null,"~"]
["SA36",2020,"KZN434",900,null,null,null,null,null,null,null,null,null,null,null,null,null,null,null,null,null,null,"~"]
["SA36",2020,"KZN434",901,null,null,null,null,null,null,null,null,null,null,null,null,null,null,null,null,null,null,"~"]
["SA36",2020,"KZN434",902,null,null,null,null,null,null,null,null,null,null,null,null,null,null,null,null,null,null,"~"]
["SA36",2020,"KZN434",903,null,null,null,null,null,null,null,null,null,null,null,null,null,null,null,null,null,null,"~"]
["SA36",2020,"KZN434",904,null,null,null,null,null,null,null,null,null,null,null,null,null,null,null,null,null,null,"~"]
["SA36",2020,"KZN434",905,null,null,null,null,null,null,null,null,null,null,null,null,null,null,null,null,null,null,"~"]
["SA36",2020,"KZN434",906,null,null,null,null,null,null,null,null,null,null,null,null,null,null,null,null,null,null,"~"]
["SA36",2020,"KZN434",907,null,null,null,null,null,null,null,null,null,null,null,null,null,null,null,null,null,null,"~"]
["SA36",2020,"KZN434",908,null,null,null,null,null,null,null,null,null,null,null,null,null,null,null,null,null,null,"~"]
["SA36",2020,"KZN434",909,null,null,null,null,null,null,null,null,null,null,null,null,null,null,null,null,null,null,"~"]
["SA36",2020,"KZN434",910,null,null,null,null,null,null,null,null,null,null,null,null,null,null,null,null,null,null,"~"]
["SA36",2020,"KZN434",911,null,null,null,null,null,null,null,null,null,null,null,null,null,null,null,null,null,null,"~"]
["SA36",2020,"KZN434",912,null,null,null,null,null,null,null,null,null,null,null,null,null,null,null,null,null,null,"~"]
["SA36",2020,"KZN434",913,null,null,null,null,null,null,null,null,null,null,null,null,null,null,null,null,null,null,"~"]
["SA36",2020,"KZN434",914,null,null,null,null,null,null,null,null,null,null,null,null,null,null,null,null,null,null,"~"]
["SA36",2020,"KZN434",915,null,null,null,null,null,null,null,null,null,null,null,null,null,null,null,null,null,null,"~"]
["SA36",2020,"KZN434",916,null,null,null,null,null,null,null,null,null,null,null,null,null,null,null,null,null,null,"~"]
["SA36",2020,"KZN434",917,null,null,null,null,null,null,null,null,null,null,null,null,null,null,null,null,null,null,"~"]
["SA36",2020,"KZN434",918,null,null,null,null,null,null,null,null,null,null,null,null,null,null,null,null,null,null,"~"]
["SA36",2020,"KZN434",919,null,null,null,null,null,null,null,null,null,null,null,null,null,null,null,null,null,null,"~"]
["SA36",{"$f":"+MTREF","v":2020},{"$f":"LEFT(muni,(FIND(\" \",muni,1)-1))","v":"KZN434"},920,null,null,null,null,null,null,null,null,null,null,null,null,null,null,null,null,null,null,"~"]
["SA36",2020,"KZN434",921,null,null,null,null,null,null,null,null,null,null,null,null,null,null,null,null,null,null,"~"]
["SA36",2020,"KZN434",922,null,null,null,null,null,null,null,null,null,null,null,null,null,null,null,null,null,null,"~"]
["SA36",2020,"KZN434",923,null,null,null,null,null,null,null,null,null,null,null,null,null,null,null,null,null,null,"~"]
["SA36",2020,"KZN434",924,null,null,null,null,null,null,null,null,null,null,null,null,null,null,null,null,null,null,"~"]
["SA36",2020,"KZN434",925,null,null,null,null,null,null,null,null,null,null,null,null,null,null,null,null,null,null,"~"]
["SA36",2020,"KZN434",926,null,null,null,null,null,null,null,null,null,null,null,null,null,null,null,null,null,null,"~"]
["SA36",2020,"KZN434",927,null,null,null,null,null,null,null,null,null,null,null,null,null,null,null,null,null,null,"~"]
["SA36",2020,"KZN434",928,null,null,null,null,null,null,null,null,null,null,null,null,null,null,null,null,null,null,"~"]
["SA36",2020,"KZN434",929,null,null,null,null,null,null,null,null,null,null,null,null,null,null,null,null,null,null,"~"]
["SA36",2020,"KZN434",930,null,null,null,null,null,null,null,null,null,null,null,null,null,null,null,null,null,null,"~"]
["SA36",2020,"KZN434",931,null,null,null,null,null,null,null,null,null,null,null,null,null,null,null,null,null,null,"~"]
["SA36",2020,"KZN434",932,null,null,null,null,null,null,null,null,null,null,null,null,null,null,null,null,null,null,"~"]
["SA36",2020,"KZN434",933,null,null,null,null,null,null,null,null,null,null,null,null,null,null,null,null,null,null,"~"]
["SA36",2020,"KZN434",934,null,null,null,null,null,null,null,null,null,null,null,null,null,null,null,null,null,null,"~"]
["SA36",2020,"KZN434",935,null,null,null,null,null,null,null,null,null,null,null,null,null,null,null,null,null,null,"~"]
["SA36",2020,"KZN434",936,null,null,null,null,null,null,null,null,null,null,null,null,null,null,null,null,null,null,"~"]
["SA36",2020,"KZN434",937,null,null,null,null,null,null,null,null,null,null,null,null,null,null,null,null,null,null,"~"]
["SA36",2020,"KZN434",938,null,null,null,null,null,null,null,null,null,null,null,null,null,null,null,null,null,null,"~"]
["SA36",2020,"KZN434",939,null,null,null,null,null,null,null,null,null,null,null,null,null,null,null,null,null,null,"~"]
["SA36",2020,"KZN434",940,null,null,null,null,null,null,null,null,null,null,null,null,null,null,null,null,null,null,"~"]
["SA36",2020,"KZN434",941,null,null,null,null,null,null,null,null,null,null,null,null,null,null,null,null,null,null,"~"]
["SA36",2020,"KZN434",942,null,null,null,null,null,null,null,null,null,null,null,null,null,null,null,null,null,null,"~"]
["SA36",2020,"KZN434",943,null,null,null,null,null,null,null,null,null,null,null,null,null,null,null,null,null,null,"~"]
["SA36",2020,"KZN434",944,null,null,null,null,null,null,null,null,null,null,null,null,null,null,null,null,null,null,"~"]
["SA36",2020,"KZN434",945,null,null,null,null,null,null,null,null,null,null,null,null,null,null,null,null,null,null,"~"]
["SA36",2020,"KZN434",946,null,null,null,null,null,null,null,null,null,null,null,null,null,null,null,null,null,null,"~"]
["SA36",2020,"KZN434",947,null,null,null,null,null,null,null,null,null,null,null,null,null,null,null,null,null,null,"~"]
["SA36",2020,"KZN434",948,null,null,null,null,null,null,null,null,null,null,null,null,null,null,null,null,null,null,"~"]
["SA36",2020,"KZN434",949,null,null,null,null,null,null,null,null,null,null,null,null,null,null,null,null,null,null,"~"]
["SA36",2020,"KZN434",950,null,null,null,null,null,null,null,null,null,null,null,null,null,null,null,null,null,null,"~"]
["SA36",2020,"KZN434",951,null,null,null,null,null,null,null,null,null,null,null,null,null,null,null,null,null,null,"~"]
["SA36",2020,"KZN434",952,null,null,null,null,null,null,null,null,null,null,null,null,null,null,null,null,null,null,"~"]
["SA36",2020,"KZN434",953,null,null,null,null,null,null,null,null,null,null,null,null,null,null,null,null,null,null,"~"]
["SA36",2020,"KZN434",954,null,null,null,null,null,null,null,null,null,null,null,null,null,null,null,null,null,null,"~"]
["SA36",2020,"KZN434",955,null,null,null,null,null,null,null,null,null,null,null,null,null,null,null,null,null,null,"~"]
["SA36",2020,"KZN434",956,null,null,null,null,null,null,null,null,null,null,null,null,null,null,null,null,null,null,"~"]
["SA36",2020,"KZN434",957,null,null,null,null,null,null,null,null,null,null,null,null,null,null,null,null,null,null,"~"]
["SA36",2020,"KZN434",958,null,null,null,null,null,null,null,null,null,null,null,null,null,null,null,null,null,null,"~"]
["SA36",2020,"KZN434",959,null,null,null,null,null,null,null,null,null,null,null,null,null,null,null,null,null,null,"~"]
["SA36",2020,"KZN434",960,null,null,null,null,null,null,null,null,null,null,null,null,null,null,null,null,null,null,"~"]
["SA36",2020,"KZN434",961,null,null,null,null,null,null,null,null,null,null,null,null,null,null,null,null,null,null,"~"]
["SA36",2020,"KZN434",962,null,null,null,null,null,null,null,null,null,null,null,null,null,null,null,null,null,null,"~"]
["SA36",2020,"KZN434",963,null,null,null,null,null,null,null,null,null,null,null,null,null,null,null,null,null,null,"~"]
["SA36",2020,"KZN434",964,null,null,null,null,null,null,null,null,null,null,null,null,null,null,null,null,null,null,"~"]
["SA36",2020,"KZN434",965,null,null,null,null,null,null,null,null,null,null,null,null,null,null,null,null,null,null,"~"]
["SA36",2020,"KZN434",966,null,null,null,null,null,null,null,null,null,null,null,null,null,null,null,null,null,null,"~"]
["SA36",2020,"KZN434",967,null,null,null,null,null,null,null,null,null,null,null,null,null,null,null,null,null,null,"~"]
["SA36",2020,"KZN434",968,null,null,null,null,null,null,null,null,null,null,null,null,null,null,null,null,null,null,"~"]
["SA36",2020,"KZN434",969,null,null,null,null,null,null,null,null,null,null,null,null,null,null,null,null,null,null,"~"]
["SA36",2020,"KZN434",970,null,null,null,null,null,null,null,null,null,null,null,null,null,null,null,null,null,null,"~"]
["SA36",2020,"KZN434",971,null,null,null,null,null,null,null,null,null,null,null,null,null,null,null,null,null,null,"~"]
["SA36",2020,"KZN434",972,null,null,null,null,null,null,null,null,null,null,null,null,null,null,null,null,null,null,"~"]
["SA36",2020,"KZN434",973,null,null,null,null,null,null,null,null,null,null,null,null,null,null,null,null,null,null,"~"]
["SA36",2020,"KZN434",974,null,null,null,null,null,null,null,null,null,null,null,null,null,null,null,null,null,null,"~"]
["SA36",2020,"KZN434",975,null,null,null,null,null,null,null,null,null,null,null,null,null,null,null,null,null,null,"~"]
["SA36",2020,"KZN434",976,null,null,null,null,null,null,null,null,null,null,null,null,null,null,null,null,null,null,"~"]
["SA36",2020,"KZN434",977,null,null,null,null,null,null,null,null,null,null,null,null,null,null,null,null,null,null,"~"]
["SA36",2020,"KZN434",978,null,null,null,null,null,null,null,null,null,null,null,null,null,null,null,null,null,null,"~"]
["SA36",2020,"KZN434",979,null,null,null,null,null,null,null,null,null,null,null,null,null,null,null,null,null,null,"~"]
["SA36",2020,"KZN434",980,null,null,null,null,null,null,null,null,null,null,null,null,null,null,null,null,null,null,"~"]
["SA36",2020,"KZN434",981,null,null,null,null,null,null,null,null,null,null,null,null,null,null,null,null,null,null,"~"]
["SA36",2020,"KZN434",982,null,null,null,null,null,null,null,null,null,null,null,null,null,null,null,null,null,null,"~"]
["SA36",2020,"KZN434",983,null,null,null,null,null,null,null,null,null,null,null,null,null,null,null,null,null,null,"~"]
["SA36",{"$f":"+MTREF","v":2020},{"$f":"LEFT(muni,(FIND(\" \",muni,1)-1))","v":"KZN434"},984,null,null,null,null,null,null,null,null,null,null,null,null,null,null,null,null,null,null,"~"]
["SA36",2020,"KZN434",985,null,null,null,null,null,null,null,null,null,null,null,null,null,null,null,null,null,null,"~"]
["SA36",2020,"KZN434",986,null,null,null,null,null,null,null,null,null,null,null,null,null,null,null,null,null,null,"~"]
["SA36",2020,"KZN434",987,null,null,null,null,null,null,null,null,null,null,null,null,null,null,null,null,null,null,"~"]
["SA36",2020,"KZN434",988,null,null,null,null,null,null,null,null,null,null,null,null,null,null,null,null,null,null,"~"]
["SA36",2020,"KZN434",989,null,null,null,null,null,null,null,null,null,null,null,null,null,null,null,null,null,null,"~"]
["SA36",2020,"KZN434",990,null,null,null,null,null,null,null,null,null,null,null,null,null,null,null,null,null,null,"~"]
["SA36",2020,"KZN434",991,null,null,null,null,null,null,null,null,null,null,null,null,null,null,null,null,null,null,"~"]
["SA36",2020,"KZN434",992,null,null,null,null,null,null,null,null,null,null,null,null,null,null,null,null,null,null,"~"]
["SA36",2020,"KZN434",993,null,null,null,null,null,null,null,null,null,null,null,null,null,null,null,null,null,null,"~"]
["SA36",2020,"KZN434",994,null,null,null,null,null,null,null,null,null,null,null,null,null,null,null,null,null,null,"~"]
["SA36",2020,"KZN434",995,null,null,null,null,null,null,null,null,null,null,null,null,null,null,null,null,null,null,"~"]
["SA36",2020,"KZN434",996,null,null,null,null,null,null,null,null,null,null,null,null,null,null,null,null,null,null,"~"]
["SA36",2020,"KZN434",997,null,null,null,null,null,null,null,null,null,null,null,null,null,null,null,null,null,null,"~"]
["SA36",2020,"KZN434",998,null,null,null,null,null,null,null,null,null,null,null,null,null,null,null,null,null,null,"~"]
["SA36",2020,"KZN434",999,null,null,null,null,null,null,null,null,null,null,null,null,null,null,null,null,null,null,"~"]
["SA36",2020,"KZN434",1000,null,null,null,null,null,null,null,null,null,null,null,null,null,null,null,null,null,null,"~"]
["SA37",2020,"KZN434",1,null,null,null,null,null,null,null,null,null,null,null,null,null,null,null,null,null,null,"~"]
["SA37",2020,"KZN434",2,null,null,null,null,null,null,null,null,null,null,null,null,null,null,null,null,null,null,"~"]
["SA37",2020,"KZN434",3,null,null,null,null,null,null,null,null,null,null,null,null,null,null,null,null,null,null,"~"]
["SA37",2020,"KZN434",4,null,null,null,null,null,null,null,null,null,null,null,null,null,null,null,null,null,null,"~"]
["SA37",2020,"KZN434",5,null,null,null,null,null,null,null,null,null,null,null,null,null,null,null,null,null,null,"~"]
["SA37",2020,"KZN434",6,null,null,null,null,null,null,null,null,null,null,null,null,null,null,null,null,null,null,"~"]
["SA37",2020,"KZN434",7,null,null,null,null,null,null,null,null,null,null,null,null,null,null,null,null,null,null,"~"]
["SA37",2020,"KZN434",8,null,null,null,null,null,null,null,null,null,null,null,null,null,null,null,null,null,null,"~"]
["SA37",2020,"KZN434",9,null,null,null,null,null,null,null,null,null,null,null,null,null,null,null,null,null,null,"~"]
["SA37",2020,"KZN434",10,null,null,null,null,null,null,null,null,null,null,null,null,null,null,null,null,null,null,"~"]
["SA37",2020,"KZN434",11,null,null,null,null,null,null,null,null,null,null,null,null,null,null,null,null,null,null,"~"]
["SA37",2020,"KZN434",12,null,null,null,null,null,null,null,null,null,null,null,null,null,null,null,null,null,null,"~"]
["SA37",2020,"KZN434",13,null,null,null,null,null,null,null,null,null,null,null,null,null,null,null,null,null,null,"~"]
["SA37",2020,"KZN434",14,null,null,null,null,null,null,null,null,null,null,null,null,null,null,null,null,null,null,"~"]
["SA37",2020,"KZN434",15,null,null,null,null,null,null,null,null,null,null,null,null,null,null,null,null,null,null,"~"]
["SA37",2020,"KZN434",16,null,null,null,null,null,null,null,null,null,null,null,null,null,null,null,null,null,null,"~"]
["SA37",2020,"KZN434",17,null,null,null,null,null,null,null,null,null,null,null,null,null,null,null,null,null,null,"~"]
["SA37",2020,"KZN434",18,null,null,null,null,null,null,null,null,null,null,null,null,null,null,null,null,null,null,"~"]
["SA37",2020,"KZN434",19,null,null,null,null,null,null,null,null,null,null,null,null,null,null,null,null,null,null,"~"]
["SA37",2020,"KZN434",20,null,null,null,null,null,null,null,null,null,null,null,null,null,null,null,null,null,null,"~"]
["SA37",2020,"KZN434",21,null,null,null,null,null,null,null,null,null,null,null,null,null,null,null,null,null,null,"~"]
["SA37",2020,"KZN434",22,null,null,null,null,null,null,null,null,null,null,null,null,null,null,null,null,null,null,"~"]
["SA37",2020,"KZN434",23,null,null,null,null,null,null,null,null,null,null,null,null,null,null,null,null,null,null,"~"]
["SA37",2020,"KZN434",24,null,null,null,null,null,null,null,null,null,null,null,null,null,null,null,null,null,null,"~"]
["SA37",2020,"KZN434",25,null,null,null,null,null,null,null,null,null,null,null,null,null,null,null,null,null,null,"~"]
["SA37",2020,"KZN434",26,null,null,null,null,null,null,null,null,null,null,null,null,null,null,null,null,null,null,"~"]
["SA37",2020,"KZN434",27,null,null,null,null,null,null,null,null,null,null,null,null,null,null,null,null,null,null,"~"]
["SA37",2020,"KZN434",28,null,null,null,null,null,null,null,null,null,null,null,null,null,null,null,null,null,null,"~"]
["SA37",2020,"KZN434",29,null,null,null,null,null,null,null,null,null,null,null,null,null,null,null,null,null,null,"~"]
["SA37",2020,"KZN434",30,null,null,null,null,null,null,null,null,null,null,null,null,null,null,null,null,null,null,"~"]
["SA37",2020,"KZN434",31,null,null,null,null,null,null,null,null,null,null,null,null,null,null,null,null,null,null,"~"]
["SA37",2020,"KZN434",32,null,null,null,null,null,null,null,null,null,null,null,null,null,null,null,null,null,null,"~"]
["SA37",2020,"KZN434",33,null,null,null,null,null,null,null,null,null,null,null,null,null,null,null,null,null,null,"~"]
["SA37",2020,"KZN434",34,null,null,null,null,null,null,null,null,null,null,null,null,null,null,null,null,null,null,"~"]
["SA37",2020,"KZN434",35,null,null,null,null,null,null,null,null,null,null,null,null,null,null,null,null,null,null,"~"]
["SA37",2020,"KZN434",36,null,null,null,null,null,null,null,null,null,null,null,null,null,null,null,null,null,null,"~"]
["SA37",2020,"KZN434",37,null,null,null,null,null,null,null,null,null,null,null,null,null,null,null,null,null,null,"~"]
["SA37",2020,"KZN434",38,null,null,null,null,null,null,null,null,null,null,null,null,null,null,null,null,null,null,"~"]
["SA37",2020,"KZN434",39,null,null,null,null,null,null,null,null,null,null,null,null,null,null,null,null,null,null,"~"]
["SA37",2020,"KZN434",40,null,null,null,null,null,null,null,null,null,null,null,null,null,null,null,null,null,null,"~"]
["SA37",2020,"KZN434",41,null,null,null,null,null,null,null,null,null,null,null,null,null,null,null,null,null,null,"~"]
["SA37",2020,"KZN434",42,null,null,null,null,null,null,null,null,null,null,null,null,null,null,null,null,null,null,"~"]
["SA37",2020,"KZN434",43,null,null,null,null,null,null,null,null,null,null,null,null,null,null,null,null,null,null,"~"]
["SA37",2020,"KZN434",44,null,null,null,null,null,null,null,null,null,null,null,null,null,null,null,null,null,null,"~"]
["SA37",2020,"KZN434",45,null,null,null,null,null,null,null,null,null,null,null,null,null,null,null,null,null,null,"~"]
["SA37",2020,"KZN434",46,null,null,null,null,null,null,null,null,null,null,null,null,null,null,null,null,null,null,"~"]
["SA37",2020,"KZN434",47,null,null,null,null,null,null,null,null,null,null,null,null,null,null,null,null,null,null,"~"]
["SA37",{"$f":"+MTREF","v":2020},{"$f":"LEFT(muni,(FIND(\" \",muni,1)-1))","v":"KZN434"},48,null,null,null,null,null,null,null,null,null,null,null,null,null,null,null,null,null,null,"~"]
["SA37",2020,"KZN434",49,null,null,null,null,null,null,null,null,null,null,null,null,null,null,null,null,null,null,"~"]
["SA37",2020,"KZN434",50,null,null,null,null,null,null,null,null,null,null,null,null,null,null,null,null,null,null,"~"]
["SA37",2020,"KZN434",51,null,null,null,null,null,null,null,null,null,null,null,null,null,null,null,null,null,null,"~"]
["SA37",2020,"KZN434",52,null,null,null,null,null,null,null,null,null,null,null,null,null,null,null,null,null,null,"~"]
["SA37",2020,"KZN434",53,null,null,null,null,null,null,null,null,null,null,null,null,null,null,null,null,null,null,"~"]
["SA37",2020,"KZN434",54,null,null,null,null,null,null,null,null,null,null,null,null,null,null,null,null,null,null,"~"]
["SA37",2020,"KZN434",55,null,null,null,null,null,null,null,null,null,null,null,null,null,null,null,null,null,null,"~"]
["SA37",2020,"KZN434",56,null,null,null,null,null,null,null,null,null,null,null,null,null,null,null,null,null,null,"~"]
["SA37",2020,"KZN434",57,null,null,null,null,null,null,null,null,null,null,null,null,null,null,null,null,null,null,"~"]
["SA37",2020,"KZN434",58,null,null,null,null,null,null,null,null,null,null,null,null,null,null,null,null,null,null,"~"]
["SA37",2020,"KZN434",59,null,null,null,null,null,null,null,null,null,null,null,null,null,null,null,null,null,null,"~"]
["SA37",2020,"KZN434",60,null,null,null,null,null,null,null,null,null,null,null,null,null,null,null,null,null,null,"~"]
["SA37",2020,"KZN434",61,null,null,null,null,null,null,null,null,null,null,null,null,null,null,null,null,null,null,"~"]
["SA37",2020,"KZN434",62,null,null,null,null,null,null,null,null,null,null,null,null,null,null,null,null,null,null,"~"]
["SA37",2020,"KZN434",63,null,null,null,null,null,null,null,null,null,null,null,null,null,null,null,null,null,null,"~"]
["SA37",2020,"KZN434",64,null,null,null,null,null,null,null,null,null,null,null,null,null,null,null,null,null,null,"~"]
["SA37",2020,"KZN434",65,null,null,null,null,null,null,null,null,null,null,null,null,null,null,null,null,null,null,"~"]
["SA37",2020,"KZN434",66,null,null,null,null,null,null,null,null,null,null,null,null,null,null,null,null,null,null,"~"]
["SA37",2020,"KZN434",67,null,null,null,null,null,null,null,null,null,null,null,null,null,null,null,null,null,null,"~"]
["SA37",2020,"KZN434",68,null,null,null,null,null,null,null,null,null,null,null,null,null,null,null,null,null,null,"~"]
["SA37",2020,"KZN434",69,null,null,null,null,null,null,null,null,null,null,null,null,null,null,null,null,null,null,"~"]
["SA37",2020,"KZN434",70,null,null,null,null,null,null,null,null,null,null,null,null,null,null,null,null,null,null,"~"]
["SA37",2020,"KZN434",71,null,null,null,null,null,null,null,null,null,null,null,null,null,null,null,null,null,null,"~"]
["SA37",2020,"KZN434",72,null,null,null,null,null,null,null,null,null,null,null,null,null,null,null,null,null,null,"~"]
["SA37",2020,"KZN434",73,null,null,null,null,null,null,null,null,null,null,null,null,null,null,null,null,null,null,"~"]
["SA37",2020,"KZN434",74,null,null,null,null,null,null,null,null,null,null,null,null,null,null,null,null,null,null,"~"]
["SA37",2020,"KZN434",75,null,null,null,null,null,null,null,null,null,null,null,null,null,null,null,null,null,null,"~"]
["SA37",2020,"KZN434",76,null,null,null,null,null,null,null,null,null,null,null,null,null,null,null,null,null,null,"~"]
["SA37",2020,"KZN434",77,null,null,null,null,null,null,null,null,null,null,null,null,null,null,null,null,null,null,"~"]
["SA37",2020,"KZN434",78,null,null,null,null,null,null,null,null,null,null,null,null,null,null,null,null,null,null,"~"]
["SA37",2020,"KZN434",79,null,null,null,null,null,null,null,null,null,null,null,null,null,null,null,null,null,null,"~"]
["SA37",2020,"KZN434",80,null,null,null,null,null,null,null,null,null,null,null,null,null,null,null,null,null,null,"~"]
["SA37",2020,"KZN434",81,null,null,null,null,null,null,null,null,null,null,null,null,null,null,null,null,null,null,"~"]
["SA37",2020,"KZN434",82,null,null,null,null,null,null,null,null,null,null,null,null,null,null,null,null,null,null,"~"]
["SA37",2020,"KZN434",83,null,null,null,null,null,null,null,null,null,null,null,null,null,null,null,null,null,null,"~"]
["SA37",2020,"KZN434",84,null,null,null,null,null,null,null,null,null,null,null,null,null,null,null,null,null,null,"~"]
["SA37",2020,"KZN434",85,null,null,null,null,null,null,null,null,null,null,null,null,null,null,null,null,null,null,"~"]
["SA37",2020,"KZN434",86,null,null,null,null,null,null,null,null,null,null,null,null,null,null,null,null,null,null,"~"]
["SA37",2020,"KZN434",87,null,null,null,null,null,null,null,null,null,null,null,null,null,null,null,null,null,null,"~"]
["SA37",2020,"KZN434",88,null,null,null,null,null,null,null,null,null,null,null,null,null,null,null,null,null,null,"~"]
["SA37",2020,"KZN434",89,null,null,null,null,null,null,null,null,null,null,null,null,null,null,null,null,null,null,"~"]
["SA37",2020,"KZN434",90,null,null,null,null,null,null,null,null,null,null,null,null,null,null,null,null,null,null,"~"]
["SA37",2020,"KZN434",91,null,null,null,null,null,null,null,null,null,null,null,null,null,null,null,null,null,null,"~"]
["SA37",2020,"KZN434",92,null,null,null,null,null,null,null,null,null,null,null,null,null,null,null,null,null,null,"~"]
["SA37",2020,"KZN434",93,null,null,null,null,null,null,null,null,null,null,null,null,null,null,null,null,null,null,"~"]
["SA37",2020,"KZN434",94,null,null,null,null,null,null,null,null,null,null,null,null,null,null,null,null,null,null,"~"]
["SA37",2020,"KZN434",95,null,null,null,null,null,null,null,null,null,null,null,null,null,null,null,null,null,null,"~"]
["SA37",2020,"KZN434",96,null,null,null,null,null,null,null,null,null,null,null,null,null,null,null,null,null,null,"~"]
["SA37",2020,"KZN434",97,null,null,null,null,null,null,null,null,null,null,null,null,null,null,null,null,null,null,"~"]
["SA37",2020,"KZN434",98,null,null,null,null,null,null,null,null,null,null,null,null,null,null,null,null,null,null,"~"]
["SA37",2020,"KZN434",99,null,null,null,null,null,null,null,null,null,null,null,null,null,null,null,null,null,null,"~"]
["SA37",2020,"KZN434",100,null,null,null,null,null,null,null,null,null,null,null,null,null,null,null,null,null,null,"~"]
["SA37",2020,"KZN434",101,null,null,null,null,null,null,null,null,null,null,null,null,null,null,null,null,null,null,"~"]
["SA37",2020,"KZN434",102,null,null,null,null,null,null,null,null,null,null,null,null,null,null,null,null,null,null,"~"]
["SA37",2020,"KZN434",103,null,null,null,null,null,null,null,null,null,null,null,null,null,null,null,null,null,null,"~"]
["SA37",2020,"KZN434",104,null,null,null,null,null,null,null,null,null,null,null,null,null,null,null,null,null,null,"~"]
["SA37",2020,"KZN434",105,null,null,null,null,null,null,null,null,null,null,null,null,null,null,null,null,null,null,"~"]
["SA37",2020,"KZN434",106,null,null,null,null,null,null,null,null,null,null,null,null,null,null,null,null,null,null,"~"]
["SA37",2020,"KZN434",107,null,null,null,null,null,null,null,null,null,null,null,null,null,null,null,null,null,null,"~"]
["SA37",2020,"KZN434",108,null,null,null,null,null,null,null,null,null,null,null,null,null,null,null,null,null,null,"~"]
["SA37",2020,"KZN434",109,null,null,null,null,null,null,null,null,null,null,null,null,null,null,null,null,null,null,"~"]
["SA37",2020,"KZN434",110,null,null,null,null,null,null,null,null,null,null,null,null,null,null,null,null,null,null,"~"]
["SA37",2020,"KZN434",111,null,null,null,null,null,null,null,null,null,null,null,null,null,null,null,null,null,null,"~"]
["SA37",{"$f":"+MTREF","v":2020},{"$f":"LEFT(muni,(FIND(\" \",muni,1)-1))","v":"KZN434"},112,null,null,null,null,null,null,null,null,null,null,null,null,null,null,null,null,null,null,"~"]
["SA37",2020,"KZN434",113,null,null,null,null,null,null,null,null,null,null,null,null,null,null,null,null,null,null,"~"]
["SA37",2020,"KZN434",114,null,null,null,null,null,null,null,null,null,null,null,null,null,null,null,null,null,null,"~"]
["SA37",2020,"KZN434",115,null,null,null,null,null,null,null,null,null,null,null,null,null,null,null,null,null,null,"~"]
["SA37",2020,"KZN434",116,null,null,null,null,null,null,null,null,null,null,null,null,null,null,null,null,null,null,"~"]
["SA37",2020,"KZN434",117,null,null,null,null,null,null,null,null,null,null,null,null,null,null,null,null,null,null,"~"]
["SA37",2020,"KZN434",118,null,null,null,null,null,null,null,null,null,null,null,null,null,null,null,null,null,null,"~"]
["SA37",2020,"KZN434",119,null,null,null,null,null,null,null,null,null,null,null,null,null,null,null,null,null,null,"~"]
["SA37",2020,"KZN434",120,null,null,null,null,null,null,null,null,null,null,null,null,null,null,null,null,null,null,"~"]
["SA37",2020,"KZN434",121,null,null,null,null,null,null,null,null,null,null,null,null,null,null,null,null,null,null,"~"]
["SA37",2020,"KZN434",122,null,null,null,null,null,null,null,null,null,null,null,null,null,null,null,null,null,null,"~"]
["SA37",2020,"KZN434",123,null,null,null,null,null,null,null,null,null,null,null,null,null,null,null,null,null,null,"~"]
["SA37",2020,"KZN434",124,null,null,null,null,null,null,null,null,null,null,null,null,null,null,null,null,null,null,"~"]
["SA37",2020,"KZN434",125,null,null,null,null,null,null,null,null,null,null,null,null,null,null,null,null,null,null,"~"]
["SA37",2020,"KZN434",126,null,null,null,null,null,null,null,null,null,null,null,null,null,null,null,null,null,null,"~"]
["SA37",2020,"KZN434",127,null,null,null,null,null,null,null,null,null,null,null,null,null,null,null,null,null,null,"~"]
["SA37",2020,"KZN434",128,null,null,null,null,null,null,null,null,null,null,null,null,null,null,null,null,null,null,"~"]
["SA37",2020,"KZN434",129,null,null,null,null,null,null,null,null,null,null,null,null,null,null,null,null,null,null,"~"]
["SA37",2020,"KZN434",130,null,null,null,null,null,null,null,null,null,null,null,null,null,null,null,null,null,null,"~"]
["SA37",2020,"KZN434",131,null,null,null,null,null,null,null,null,null,null,null,null,null,null,null,null,null,null,"~"]
["SA37",2020,"KZN434",132,null,null,null,null,null,null,null,null,null,null,null,null,null,null,null,null,null,null,"~"]
["SA37",2020,"KZN434",133,null,null,null,null,null,null,null,null,null,null,null,null,null,null,null,null,null,null,"~"]
["SA37",2020,"KZN434",134,null,null,null,null,null,null,null,null,null,null,null,null,null,null,null,null,null,null,"~"]
["SA37",2020,"KZN434",135,null,null,null,null,null,null,null,null,null,null,null,null,null,null,null,null,null,null,"~"]
["SA37",2020,"KZN434",136,null,null,null,null,null,null,null,null,null,null,null,null,null,null,null,null,null,null,"~"]
["SA37",2020,"KZN434",137,null,null,null,null,null,null,null,null,null,null,null,null,null,null,null,null,null,null,"~"]
["SA37",2020,"KZN434",138,null,null,null,null,null,null,null,null,null,null,null,null,null,null,null,null,null,null,"~"]
["SA37",2020,"KZN434",139,null,null,null,null,null,null,null,null,null,null,null,null,null,null,null,null,null,null,"~"]
["SA37",2020,"KZN434",140,null,null,null,null,null,null,null,null,null,null,null,null,null,null,null,null,null,null,"~"]
["SA37",2020,"KZN434",141,null,null,null,null,null,null,null,null,null,null,null,null,null,null,null,null,null,null,"~"]
["SA37",2020,"KZN434",142,null,null,null,null,null,null,null,null,null,null,null,null,null,null,null,null,null,null,"~"]
["SA37",2020,"KZN434",143,null,null,null,null,null,null,null,null,null,null,null,null,null,null,null,null,null,null,"~"]
["SA37",2020,"KZN434",144,null,null,null,null,null,null,null,null,null,null,null,null,null,null,null,null,null,null,"~"]
["SA37",2020,"KZN434",145,null,null,null,null,null,null,null,null,null,null,null,null,null,null,null,null,null,null,"~"]
["SA37",2020,"KZN434",146,null,null,null,null,null,null,null,null,null,null,null,null,null,null,null,null,null,null,"~"]
["SA37",2020,"KZN434",147,null,null,null,null,null,null,null,null,null,null,null,null,null,null,null,null,null,null,"~"]
["SA37",2020,"KZN434",148,null,null,null,null,null,null,null,null,null,null,null,null,null,null,null,null,null,null,"~"]
["SA37",2020,"KZN434",149,null,null,null,null,null,null,null,null,null,null,null,null,null,null,null,null,null,null,"~"]
["SA37",2020,"KZN434",150,null,null,null,null,null,null,null,null,null,null,null,null,null,null,null,null,null,null,"~"]
["SA37",2020,"KZN434",151,null,null,null,null,null,null,null,null,null,null,null,null,null,null,null,null,null,null,"~"]
["SA37",2020,"KZN434",152,null,null,null,null,null,null,null,null,null,null,null,null,null,null,null,null,null,null,"~"]
["SA37",2020,"KZN434",153,null,null,null,null,null,null,null,null,null,null,null,null,null,null,null,null,null,null,"~"]
["SA37",2020,"KZN434",154,null,null,null,null,null,null,null,null,null,null,null,null,null,null,null,null,null,null,"~"]
["SA37",2020,"KZN434",155,null,null,null,null,null,null,null,null,null,null,null,null,null,null,null,null,null,null,"~"]
["SA37",2020,"KZN434",156,null,null,null,null,null,null,null,null,null,null,null,null,null,null,null,null,null,null,"~"]
["SA37",2020,"KZN434",157,null,null,null,null,null,null,null,null,null,null,null,null,null,null,null,null,null,null,"~"]
["SA37",2020,"KZN434",158,null,null,null,null,null,null,null,null,null,null,null,null,null,null,null,null,null,null,"~"]
["SA37",2020,"KZN434",159,null,null,null,null,null,null,null,null,null,null,null,null,null,null,null,null,null,null,"~"]
["SA37",2020,"KZN434",160,null,null,null,null,null,null,null,null,null,null,null,null,null,null,null,null,null,null,"~"]
["SA37",2020,"KZN434",161,null,null,null,null,null,null,null,null,null,null,null,null,null,null,null,null,null,null,"~"]
["SA37",2020,"KZN434",162,null,null,null,null,null,null,null,null,null,null,null,null,null,null,null,null,null,null,"~"]
["SA37",2020,"KZN434",163,null,null,null,null,null,null,null,null,null,null,null,null,null,null,null,null,null,null,"~"]
["SA37",2020,"KZN434",164,null,null,null,null,null,null,null,null,null,null,null,null,null,null,null,null,null,null,"~"]
["SA37",2020,"KZN434",165,null,null,null,null,null,null,null,null,null,null,null,null,null,null,null,null,null,null,"~"]
["SA37",2020,"KZN434",166,null,null,null,null,null,null,null,null,null,null,null,null,null,null,null,null,null,null,"~"]
["SA37",2020,"KZN434",167,null,null,null,null,null,null,null,null,null,null,null,null,null,null,null,null,null,null,"~"]
["SA37",2020,"KZN434",168,null,null,null,null,null,null,null,null,null,null,null,null,null,null,null,null,null,null,"~"]
["SA37",2020,"KZN434",169,null,null,null,null,null,null,null,null,null,null,null,null,null,null,null,null,null,null,"~"]
["SA37",2020,"KZN434",170,null,null,null,null,null,null,null,null,null,null,null,null,null,null,null,null,null,null,"~"]
["SA37",2020,"KZN434",171,null,null,null,null,null,null,null,null,null,null,null,null,null,null,null,null,null,null,"~"]
["SA37",2020,"KZN434",172,null,null,null,null,null,null,null,null,null,null,null,null,null,null,null,null,null,null,"~"]
["SA37",2020,"KZN434",173,null,null,null,null,null,null,null,null,null,null,null,null,null,null,null,null,null,null,"~"]
["SA37",2020,"KZN434",174,null,null,null,null,null,null,null,null,null,null,null,null,null,null,null,null,null,null,"~"]
["SA37",2020,"KZN434",175,null,null,null,null,null,null,null,null,null,null,null,null,null,null,null,null,null,null,"~"]
["SA37",{"$f":"+MTREF","v":2020},{"$f":"LEFT(muni,(FIND(\" \",muni,1)-1))","v":"KZN434"},176,null,null,null,null,null,null,null,null,null,null,null,null,null,null,null,null,null,null,"~"]
["SA37",2020,"KZN434",177,null,null,null,null,null,null,null,null,null,null,null,null,null,null,null,null,null,null,"~"]
["SA37",2020,"KZN434",178,null,null,null,null,null,null,null,null,null,null,null,null,null,null,null,null,null,null,"~"]
["SA37",2020,"KZN434",179,null,null,null,null,null,null,null,null,null,null,null,null,null,null,null,null,null,null,"~"]
["SA37",2020,"KZN434",180,null,null,null,null,null,null,null,null,null,null,null,null,null,null,null,null,null,null,"~"]
["SA37",2020,"KZN434",181,null,null,null,null,null,null,null,null,null,null,null,null,null,null,null,null,null,null,"~"]
["SA37",2020,"KZN434",182,null,null,null,null,null,null,null,null,null,null,null,null,null,null,null,null,null,null,"~"]
["SA37",2020,"KZN434",183,null,null,null,null,null,null,null,null,null,null,null,null,null,null,null,null,null,null,"~"]
["SA37",2020,"KZN434",184,null,null,null,null,null,null,null,null,null,null,null,null,null,null,null,null,null,null,"~"]
["SA37",2020,"KZN434",185,null,null,null,null,null,null,null,null,null,null,null,null,null,null,null,null,null,null,"~"]
["SA37",2020,"KZN434",186,null,null,null,null,null,null,null,null,null,null,null,null,null,null,null,null,null,null,"~"]
["SA37",2020,"KZN434",187,null,null,null,null,null,null,null,null,null,null,null,null,null,null,null,null,null,null,"~"]
["SA37",2020,"KZN434",188,null,null,null,null,null,null,null,null,null,null,null,null,null,null,null,null,null,null,"~"]
["SA37",2020,"KZN434",189,null,null,null,null,null,null,null,null,null,null,null,null,null,null,null,null,null,null,"~"]
["SA37",2020,"KZN434",190,null,null,null,null,null,null,null,null,null,null,null,null,null,null,null,null,null,null,"~"]
["SA37",2020,"KZN434",191,null,null,null,null,null,null,null,null,null,null,null,null,null,null,null,null,null,null,"~"]
["SA37",2020,"KZN434",192,null,null,null,null,null,null,null,null,null,null,null,null,null,null,null,null,null,null,"~"]
["SA37",2020,"KZN434",193,null,null,null,null,null,null,null,null,null,null,null,null,null,null,null,null,null,null,"~"]
["SA37",2020,"KZN434",194,null,null,null,null,null,null,null,null,null,null,null,null,null,null,null,null,null,null,"~"]
["SA37",2020,"KZN434",195,null,null,null,null,null,null,null,null,null,null,null,null,null,null,null,null,null,null,"~"]
["SA37",2020,"KZN434",196,null,null,null,null,null,null,null,null,null,null,null,null,null,null,null,null,null,null,"~"]
["SA37",2020,"KZN434",197,null,null,null,null,null,null,null,null,null,null,null,null,null,null,null,null,null,null,"~"]
["SA37",2020,"KZN434",198,null,null,null,null,null,null,null,null,null,null,null,null,null,null,null,null,null,null,"~"]
["SA37",2020,"KZN434",199,null,null,null,null,null,null,null,null,null,null,null,null,null,null,null,null,null,null,"~"]
["SA37",2020,"KZN434",200,null,null,null,null,null,null,null,null,null,null,null,null,null,null,null,null,null,null,"~"]
["SA37",2020,"KZN434",201,null,null,null,null,null,null,null,null,null,null,null,null,null,null,null,null,null,null,"~"]
["SA37",2020,"KZN434",202,null,null,null,null,null,null,null,null,null,null,null,null,null,null,null,null,null,null,"~"]
["SA37",2020,"KZN434",203,null,null,null,null,null,null,null,null,null,null,null,null,null,null,null,null,null,null,"~"]
["SA37",2020,"KZN434",204,null,null,null,null,null,null,null,null,null,null,null,null,null,null,null,null,null,null,"~"]
["SA37",2020,"KZN434",205,null,null,null,null,null,null,null,null,null,null,null,null,null,null,null,null,null,null,"~"]
["SA37",2020,"KZN434",206,null,null,null,null,null,null,null,null,null,null,null,null,null,null,null,null,null,null,"~"]
["SA37",2020,"KZN434",207,null,null,null,null,null,null,null,null,null,null,null,null,null,null,null,null,null,null,"~"]
["SA37",2020,"KZN434",208,null,null,null,null,null,null,null,null,null,null,null,null,null,null,null,null,null,null,"~"]
["SA37",2020,"KZN434",209,null,null,null,null,null,null,null,null,null,null,null,null,null,null,null,null,null,null,"~"]
["SA37",2020,"KZN434",210,null,null,null,null,null,null,null,null,null,null,null,null,null,null,null,null,null,null,"~"]
["SA37",2020,"KZN434",211,null,null,null,null,null,null,null,null,null,null,null,null,null,null,null,null,null,null,"~"]
["SA37",2020,"KZN434",212,null,null,null,null,null,null,null,null,null,null,null,null,null,null,null,null,null,null,"~"]
["SA37",2020,"KZN434",213,null,null,null,null,null,null,null,null,null,null,null,null,null,null,null,null,null,null,"~"]
["SA37",2020,"KZN434",214,null,null,null,null,null,null,null,null,null,null,null,null,null,null,null,null,null,null,"~"]
["SA37",2020,"KZN434",215,null,null,null,null,null,null,null,null,null,null,null,null,null,null,null,null,null,null,"~"]
["SA37",2020,"KZN434",216,null,null,null,null,null,null,null,null,null,null,null,null,null,null,null,null,null,null,"~"]
["SA37",2020,"KZN434",217,null,null,null,null,null,null,null,null,null,null,null,null,null,null,null,null,null,null,"~"]
["SA37",2020,"KZN434",218,null,null,null,null,null,null,null,null,null,null,null,null,null,null,null,null,null,null,"~"]
["SA37",2020,"KZN434",219,null,null,null,null,null,null,null,null,null,null,null,null,null,null,null,null,null,null,"~"]
["SA37",2020,"KZN434",220,null,null,null,null,null,null,null,null,null,null,null,null,null,null,null,null,null,null,"~"]
["SA37",2020,"KZN434",221,null,null,null,null,null,null,null,null,null,null,null,null,null,null,null,null,null,null,"~"]
["SA37",2020,"KZN434",222,null,null,null,null,null,null,null,null,null,null,null,null,null,null,null,null,null,null,"~"]
["SA37",2020,"KZN434",223,null,null,null,null,null,null,null,null,null,null,null,null,null,null,null,null,null,null,"~"]
["SA37",2020,"KZN434",224,null,null,null,null,null,null,null,null,null,null,null,null,null,null,null,null,null,null,"~"]
["SA37",2020,"KZN434",225,null,null,null,null,null,null,null,null,null,null,null,null,null,null,null,null,null,null,"~"]
["SA37",2020,"KZN434",226,null,null,null,null,null,null,null,null,null,null,null,null,null,null,null,null,null,null,"~"]
["SA37",2020,"KZN434",227,null,null,null,null,null,null,null,null,null,null,null,null,null,null,null,null,null,null,"~"]
["SA37",2020,"KZN434",228,null,null,null,null,null,null,null,null,null,null,null,null,null,null,null,null,null,null,"~"]
["SA37",2020,"KZN434",229,null,null,null,null,null,null,null,null,null,null,null,null,null,null,null,null,null,null,"~"]
["SA37",2020,"KZN434",230,null,null,null,null,null,null,null,null,null,null,null,null,null,null,null,null,null,null,"~"]
["SA37",2020,"KZN434",231,null,null,null,null,null,null,null,null,null,null,null,null,null,null,null,null,null,null,"~"]
["SA37",2020,"KZN434",232,null,null,null,null,null,null,null,null,null,null,null,null,null,null,null,null,null,null,"~"]
["SA37",2020,"KZN434",233,null,null,null,null,null,null,null,null,null,null,null,null,null,null,null,null,null,null,"~"]
["SA37",2020,"KZN434",234,null,null,null,null,null,null,null,null,null,null,null,null,null,null,null,null,null,null,"~"]
["SA37",2020,"KZN434",235,null,null,null,null,null,null,null,null,null,null,null,null,null,null,null,null,null,null,"~"]
["SA37",2020,"KZN434",236,null,null,null,null,null,null,null,null,null,null,null,null,null,null,null,null,null,null,"~"]
["SA37",2020,"KZN434",237,null,null,null,null,null,null,null,null,null,null,null,null,null,null,null,null,null,null,"~"]
["SA37",2020,"KZN434",238,null,null,null,null,null,null,null,null,null,null,null,null,null,null,null,null,null,null,"~"]
["SA37",2020,"KZN434",239,null,null,null,null,null,null,null,null,null,null,null,null,null,null,null,null,null,null,"~"]
["SA37",{"$f":"+MTREF","v":2020},{"$f":"LEFT(muni,(FIND(\" \",muni,1)-1))","v":"KZN434"},240,null,null,null,null,null,null,null,null,null,null,null,null,null,null,null,null,null,null,"~"]
["SA37",2020,"KZN434",241,null,null,null,null,null,null,null,null,null,null,null,null,null,null,null,null,null,null,"~"]
["SA37",2020,"KZN434",242,null,null,null,null,null,null,null,null,null,null,null,null,null,null,null,null,null,null,"~"]
["SA37",2020,"KZN434",243,null,null,null,null,null,null,null,null,null,null,null,null,null,null,null,null,null,null,"~"]
["SA37",2020,"KZN434",244,null,null,null,null,null,null,null,null,null,null,null,null,null,null,null,null,null,null,"~"]
["SA37",2020,"KZN434",245,null,null,null,null,null,null,null,null,null,null,null,null,null,null,null,null,null,null,"~"]
["SA37",2020,"KZN434",246,null,null,null,null,null,null,null,null,null,null,null,null,null,null,null,null,null,null,"~"]
["SA37",2020,"KZN434",247,null,null,null,null,null,null,null,null,null,null,null,null,null,null,null,null,null,null,"~"]
["SA37",2020,"KZN434",248,null,null,null,null,null,null,null,null,null,null,null,null,null,null,null,null,null,null,"~"]
["SA37",2020,"KZN434",249,null,null,null,null,null,null,null,null,null,null,null,null,null,null,null,null,null,null,"~"]
["SA37",2020,"KZN434",250,null,null,null,null,null,null,null,null,null,null,null,null,null,null,null,null,null,null,"~"]
["SA37",2020,"KZN434",251,null,null,null,null,null,null,null,null,null,null,null,null,null,null,null,null,null,null,"~"]
["SA37",2020,"KZN434",252,null,null,null,null,null,null,null,null,null,null,null,null,null,null,null,null,null,null,"~"]
["SA37",2020,"KZN434",253,null,null,null,null,null,null,null,null,null,null,null,null,null,null,null,null,null,null,"~"]
["SA37",2020,"KZN434",254,null,null,null,null,null,null,null,null,null,null,null,null,null,null,null,null,null,null,"~"]
["SA37",2020,"KZN434",255,null,null,null,null,null,null,null,null,null,null,null,null,null,null,null,null,null,null,"~"]
["SA37",2020,"KZN434",256,null,null,null,null,null,null,null,null,null,null,null,null,null,null,null,null,null,null,"~"]
["SA37",2020,"KZN434",257,null,null,null,null,null,null,null,null,null,null,null,null,null,null,null,null,null,null,"~"]
["SA37",2020,"KZN434",258,null,null,null,null,null,null,null,null,null,null,null,null,null,null,null,null,null,null,"~"]
["SA37",2020,"KZN434",259,null,null,null,null,null,null,null,null,null,null,null,null,null,null,null,null,null,null,"~"]
["SA37",2020,"KZN434",260,null,null,null,null,null,null,null,null,null,null,null,null,null,null,null,null,null,null,"~"]
["SA37",2020,"KZN434",261,null,null,null,null,null,null,null,null,null,null,null,null,null,null,null,null,null,null,"~"]
["SA37",2020,"KZN434",262,null,null,null,null,null,null,null,null,null,null,null,null,null,null,null,null,null,null,"~"]
["SA37",2020,"KZN434",263,null,null,null,null,null,null,null,null,null,null,null,null,null,null,null,null,null,null,"~"]
["SA37",2020,"KZN434",264,null,null,null,null,null,null,null,null,null,null,null,null,null,null,null,null,null,null,"~"]
["SA37",2020,"KZN434",265,null,null,null,null,null,null,null,null,null,null,null,null,null,null,null,null,null,null,"~"]
["SA37",2020,"KZN434",266,null,null,null,null,null,null,null,null,null,null,null,null,null,null,null,null,null,null,"~"]
["SA37",2020,"KZN434",267,null,null,null,null,null,null,null,null,null,null,null,null,null,null,null,null,null,null,"~"]
["SA37",2020,"KZN434",268,null,null,null,null,null,null,null,null,null,null,null,null,null,null,null,null,null,null,"~"]
["SA37",2020,"KZN434",269,null,null,null,null,null,null,null,null,null,null,null,null,null,null,null,null,null,null,"~"]
["SA37",2020,"KZN434",270,null,null,null,null,null,null,null,null,null,null,null,null,null,null,null,null,null,null,"~"]
["SA37",2020,"KZN434",271,null,null,null,null,null,null,null,null,null,null,null,null,null,null,null,null,null,null,"~"]
["SA37",2020,"KZN434",272,null,null,null,null,null,null,null,null,null,null,null,null,null,null,null,null,null,null,"~"]
["SA37",2020,"KZN434",273,null,null,null,null,null,null,null,null,null,null,null,null,null,null,null,null,null,null,"~"]
["SA37",2020,"KZN434",274,null,null,null,null,null,null,null,null,null,null,null,null,null,null,null,null,null,null,"~"]
["SA37",2020,"KZN434",275,null,null,null,null,null,null,null,null,null,null,null,null,null,null,null,null,null,null,"~"]
["SA37",2020,"KZN434",276,null,null,null,null,null,null,null,null,null,null,null,null,null,null,null,null,null,null,"~"]
["SA37",2020,"KZN434",277,null,null,null,null,null,null,null,null,null,null,null,null,null,null,null,null,null,null,"~"]
["SA37",2020,"KZN434",278,null,null,null,null,null,null,null,null,null,null,null,null,null,null,null,null,null,null,"~"]
["SA37",2020,"KZN434",279,null,null,null,null,null,null,null,null,null,null,null,null,null,null,null,null,null,null,"~"]
["SA37",2020,"KZN434",280,null,null,null,null,null,null,null,null,null,null,null,null,null,null,null,null,null,null,"~"]
["SA37",2020,"KZN434",281,null,null,null,null,null,null,null,null,null,null,null,null,null,null,null,null,null,null,"~"]
["SA37",2020,"KZN434",282,null,null,null,null,null,null,null,null,null,null,null,null,null,null,null,null,null,null,"~"]
["SA37",2020,"KZN434",283,null,null,null,null,null,null,null,null,null,null,null,null,null,null,null,null,null,null,"~"]
["SA37",2020,"KZN434",284,null,null,null,null,null,null,null,null,null,null,null,null,null,null,null,null,null,null,"~"]
["SA37",2020,"KZN434",285,null,null,null,null,null,null,null,null,null,null,null,null,null,null,null,null,null,null,"~"]
["SA37",2020,"KZN434",286,null,null,null,null,null,null,null,null,null,null,null,null,null,null,null,null,null,null,"~"]
["SA37",2020,"KZN434",287,null,null,null,null,null,null,null,null,null,null,null,null,null,null,null,null,null,null,"~"]
["SA37",2020,"KZN434",288,null,null,null,null,null,null,null,null,null,null,null,null,null,null,null,null,null,null,"~"]
["SA37",2020,"KZN434",289,null,null,null,null,null,null,null,null,null,null,null,null,null,null,null,null,null,null,"~"]
["SA37",2020,"KZN434",290,null,null,null,null,null,null,null,null,null,null,null,null,null,null,null,null,null,null,"~"]
["SA37",2020,"KZN434",291,null,null,null,null,null,null,null,null,null,null,null,null,null,null,null,null,null,null,"~"]
["SA37",2020,"KZN434",292,null,null,null,null,null,null,null,null,null,null,null,null,null,null,null,null,null,null,"~"]
["SA37",2020,"KZN434",293,null,null,null,null,null,null,null,null,null,null,null,null,null,null,null,null,null,null,"~"]
["SA37",2020,"KZN434",294,null,null,null,null,null,null,null,null,null,null,null,null,null,null,null,null,null,null,"~"]
["SA37",2020,"KZN434",295,null,null,null,null,null,null,null,null,null,null,null,null,null,null,null,null,null,null,"~"]
["SA37",2020,"KZN434",296,null,null,null,null,null,null,null,null,null,null,null,null,null,null,null,null,null,null,"~"]
["SA37",2020,"KZN434",297,null,null,null,null,null,null,null,null,null,null,null,null,null,null,null,null,null,null,"~"]
["SA37",2020,"KZN434",298,null,null,null,null,null,null,null,null,null,null,null,null,null,null,null,null,null,null,"~"]
["SA37",2020,"KZN434",299,null,null,null,null,null,null,null,null,null,null,null,null,null,null,null,null,null,null,"~"]
["SA37",2020,"KZN434",300,null,null,null,null,null,null,null,null,null,null,null,null,null,null,null,null,null,null,"~"]
["SA37",2020,"KZN434",301,null,null,null,null,null,null,null,null,null,null,null,null,null,null,null,null,null,null,"~"]
["SA37",2020,"KZN434",302,null,null,null,null,null,null,null,null,null,null,null,null,null,null,null,null,null,null,"~"]
["SA37",2020,"KZN434",303,null,null,null,null,null,null,null,null,null,null,null,null,null,null,null,null,null,null,"~"]
["SA37",{"$f":"+MTREF","v":2020},{"$f":"LEFT(muni,(FIND(\" \",muni,1)-1))","v":"KZN434"},304,null,null,null,null,null,null,null,null,null,null,null,null,null,null,null,null,null,null,"~"]
["SA37",2020,"KZN434",305,null,null,null,null,null,null,null,null,null,null,null,null,null,null,null,null,null,null,"~"]
["SA37",2020,"KZN434",306,null,null,null,null,null,null,null,null,null,null,null,null,null,null,null,null,null,null,"~"]
["SA37",2020,"KZN434",307,null,null,null,null,null,null,null,null,null,null,null,null,null,null,null,null,null,null,"~"]
["SA37",2020,"KZN434",308,null,null,null,null,null,null,null,null,null,null,null,null,null,null,null,null,null,null,"~"]
["SA37",2020,"KZN434",309,null,null,null,null,null,null,null,null,null,null,null,null,null,null,null,null,null,null,"~"]
["SA37",2020,"KZN434",310,null,null,null,null,null,null,null,null,null,null,null,null,null,null,null,null,null,null,"~"]
["SA37",2020,"KZN434",311,null,null,null,null,null,null,null,null,null,null,null,null,null,null,null,null,null,null,"~"]
["SA37",2020,"KZN434",312,null,null,null,null,null,null,null,null,null,null,null,null,null,null,null,null,null,null,"~"]
["SA37",2020,"KZN434",313,null,null,null,null,null,null,null,null,null,null,null,null,null,null,null,null,null,null,"~"]
["SA37",2020,"KZN434",314,null,null,null,null,null,null,null,null,null,null,null,null,null,null,null,null,null,null,"~"]
["SA37",2020,"KZN434",315,null,null,null,null,null,null,null,null,null,null,null,null,null,null,null,null,null,null,"~"]
["SA37",2020,"KZN434",316,null,null,null,null,null,null,null,null,null,null,null,null,null,null,null,null,null,null,"~"]
["SA37",2020,"KZN434",317,null,null,null,null,null,null,null,null,null,null,null,null,null,null,null,null,null,null,"~"]
["SA37",2020,"KZN434",318,null,null,null,null,null,null,null,null,null,null,null,null,null,null,null,null,null,null,"~"]
["SA37",2020,"KZN434",319,null,null,null,null,null,null,null,null,null,null,null,null,null,null,null,null,null,null,"~"]
["SA37",2020,"KZN434",320,null,null,null,null,null,null,null,null,null,null,null,null,null,null,null,null,null,null,"~"]
["SA37",2020,"KZN434",321,null,null,null,null,null,null,null,null,null,null,null,null,null,null,null,null,null,null,"~"]
["SA37",2020,"KZN434",322,null,null,null,null,null,null,null,null,null,null,null,null,null,null,null,null,null,null,"~"]
["SA37",2020,"KZN434",323,null,null,null,null,null,null,null,null,null,null,null,null,null,null,null,null,null,null,"~"]
["SA37",2020,"KZN434",324,null,null,null,null,null,null,null,null,null,null,null,null,null,null,null,null,null,null,"~"]
["SA37",2020,"KZN434",325,null,null,null,null,null,null,null,null,null,null,null,null,null,null,null,null,null,null,"~"]
["SA37",2020,"KZN434",326,null,null,null,null,null,null,null,null,null,null,null,null,null,null,null,null,null,null,"~"]
["SA37",2020,"KZN434",327,null,null,null,null,null,null,null,null,null,null,null,null,null,null,null,null,null,null,"~"]
["SA37",2020,"KZN434",328,null,null,null,null,null,null,null,null,null,null,null,null,null,null,null,null,null,null,"~"]
["SA37",2020,"KZN434",329,null,null,null,null,null,null,null,null,null,null,null,null,null,null,null,null,null,null,"~"]
["SA37",2020,"KZN434",330,null,null,null,null,null,null,null,null,null,null,null,null,null,null,null,null,null,null,"~"]
["SA37",2020,"KZN434",331,null,null,null,null,null,null,null,null,null,null,null,null,null,null,null,null,null,null,"~"]
["SA37",2020,"KZN434",332,null,null,null,null,null,null,null,null,null,null,null,null,null,null,null,null,null,null,"~"]
["SA37",2020,"KZN434",333,null,null,null,null,null,null,null,null,null,null,null,null,null,null,null,null,null,null,"~"]
["SA37",2020,"KZN434",334,null,null,null,null,null,null,null,null,null,null,null,null,null,null,null,null,null,null,"~"]
["SA37",2020,"KZN434",335,null,null,null,null,null,null,null,null,null,null,null,null,null,null,null,null,null,null,"~"]
["SA37",2020,"KZN434",336,null,null,null,null,null,null,null,null,null,null,null,null,null,null,null,null,null,null,"~"]
["SA37",2020,"KZN434",337,null,null,null,null,null,null,null,null,null,null,null,null,null,null,null,null,null,null,"~"]
["SA37",2020,"KZN434",338,null,null,null,null,null,null,null,null,null,null,null,null,null,null,null,null,null,null,"~"]
["SA37",2020,"KZN434",339,null,null,null,null,null,null,null,null,null,null,null,null,null,null,null,null,null,null,"~"]
["SA37",2020,"KZN434",340,null,null,null,null,null,null,null,null,null,null,null,null,null,null,null,null,null,null,"~"]
["SA37",2020,"KZN434",341,null,null,null,null,null,null,null,null,null,null,null,null,null,null,null,null,null,null,"~"]
["SA37",2020,"KZN434",342,null,null,null,null,null,null,null,null,null,null,null,null,null,null,null,null,null,null,"~"]
["SA37",2020,"KZN434",343,null,null,null,null,null,null,null,null,null,null,null,null,null,null,null,null,null,null,"~"]
["SA37",2020,"KZN434",344,null,null,null,null,null,null,null,null,null,null,null,null,null,null,null,null,null,null,"~"]
["SA37",2020,"KZN434",345,null,null,null,null,null,null,null,null,null,null,null,null,null,null,null,null,null,null,"~"]
["SA37",2020,"KZN434",346,null,null,null,null,null,null,null,null,null,null,null,null,null,null,null,null,null,null,"~"]
["SA37",2020,"KZN434",347,null,null,null,null,null,null,null,null,null,null,null,null,null,null,null,null,null,null,"~"]
["SA37",2020,"KZN434",348,null,null,null,null,null,null,null,null,null,null,null,null,null,null,null,null,null,null,"~"]
["SA37",2020,"KZN434",349,null,null,null,null,null,null,null,null,null,null,null,null,null,null,null,null,null,null,"~"]
["SA37",2020,"KZN434",350,null,null,null,null,null,null,null,null,null,null,null,null,null,null,null,null,null,null,"~"]
["SA37",2020,"KZN434",351,null,null,null,null,null,null,null,null,null,null,null,null,null,null,null,null,null,null,"~"]
["SA37",2020,"KZN434",352,null,null,null,null,null,null,null,null,null,null,null,null,null,null,null,null,null,null,"~"]
["SA37",2020,"KZN434",353,null,null,null,null,null,null,null,null,null,null,null,null,null,null,null,null,null,null,"~"]
["SA37",2020,"KZN434",354,null,null,null,null,null,null,null,null,null,null,null,null,null,null,null,null,null,null,"~"]
["SA37",2020,"KZN434",355,null,null,null,null,null,null,null,null,null,null,null,null,null,null,null,null,null,null,"~"]
["SA37",2020,"KZN434",356,null,null,null,null,null,null,null,null,null,null,null,null,null,null,null,null,null,null,"~"]
["SA37",2020,"KZN434",357,null,null,null,null,null,null,null,null,null,null,null,null,null,null,null,null,null,null,"~"]
["SA37",2020,"KZN434",358,null,null,null,null,null,null,null,null,null,null,null,null,null,null,null,null,null,null,"~"]
["SA37",2020,"KZN434",359,null,null,null,null,null,null,null,null,null,null,null,null,null,null,null,null,null,null,"~"]
["SA37",2020,"KZN434",360,null,null,null,null,null,null,null,null,null,null,null,null,null,null,null,null,null,null,"~"]
["SA37",2020,"KZN434",361,null,null,null,null,null,null,null,null,null,null,null,null,null,null,null,null,null,null,"~"]
["SA37",2020,"KZN434",362,null,null,null,null,null,null,null,null,null,null,null,null,null,null,null,null,null,null,"~"]
["SA37",2020,"KZN434",363,null,null,null,null,null,null,null,null,null,null,null,null,null,null,null,null,null,null,"~"]
["SA37",2020,"KZN434",364,null,null,null,null,null,null,null,null,null,null,null,null,null,null,null,null,null,null,"~"]
["SA37",2020,"KZN434",365,null,null,null,null,null,null,null,null,null,null,null,null,null,null,null,null,null,null,"~"]
["SA37",2020,"KZN434",366,null,null,null,null,null,null,null,null,null,null,null,null,null,null,null,null,null,null,"~"]
["SA37",2020,"KZN434",367,null,null,null,null,null,null,null,null,null,null,null,null,null,null,null,null,null,null,"~"]
["SA37",{"$f":"+MTREF","v":2020},{"$f":"LEFT(muni,(FIND(\" \",muni,1)-1))","v":"KZN434"},368,null,null,null,null,null,null,null,null,null,null,null,null,null,null,null,null,null,null,"~"]
["SA37",2020,"KZN434",369,null,null,null,null,null,null,null,null,null,null,null,null,null,null,null,null,null,null,"~"]
["SA37",2020,"KZN434",370,null,null,null,null,null,null,null,null,null,null,null,null,null,null,null,null,null,null,"~"]
["SA37",2020,"KZN434",371,null,null,null,null,null,null,null,null,null,null,null,null,null,null,null,null,null,null,"~"]
["SA37",2020,"KZN434",372,null,null,null,null,null,null,null,null,null,null,null,null,null,null,null,null,null,null,"~"]
["SA37",2020,"KZN434",373,null,null,null,null,null,null,null,null,null,null,null,null,null,null,null,null,null,null,"~"]
["SA37",2020,"KZN434",374,null,null,null,null,null,null,null,null,null,null,null,null,null,null,null,null,null,null,"~"]
["SA37",2020,"KZN434",375,null,null,null,null,null,null,null,null,null,null,null,null,null,null,null,null,null,null,"~"]
["SA37",2020,"KZN434",376,null,null,null,null,null,null,null,null,null,null,null,null,null,null,null,null,null,null,"~"]
["SA37",2020,"KZN434",377,null,null,null,null,null,null,null,null,null,null,null,null,null,null,null,null,null,null,"~"]
["SA37",2020,"KZN434",378,null,null,null,null,null,null,null,null,null,null,null,null,null,null,null,null,null,null,"~"]
["SA37",2020,"KZN434",379,null,null,null,null,null,null,null,null,null,null,null,null,null,null,null,null,null,null,"~"]
["SA37",2020,"KZN434",380,null,null,null,null,null,null,null,null,null,null,null,null,null,null,null,null,null,null,"~"]
["SA37",2020,"KZN434",381,null,null,null,null,null,null,null,null,null,null,null,null,null,null,null,null,null,null,"~"]
["SA37",2020,"KZN434",382,null,null,null,null,null,null,null,null,null,null,null,null,null,null,null,null,null,null,"~"]
["SA37",2020,"KZN434",383,null,null,null,null,null,null,null,null,null,null,null,null,null,null,null,null,null,null,"~"]
["SA37",2020,"KZN434",384,null,null,null,null,null,null,null,null,null,null,null,null,null,null,null,null,null,null,"~"]
["SA37",2020,"KZN434",385,null,null,null,null,null,null,null,null,null,null,null,null,null,null,null,null,null,null,"~"]
["SA37",2020,"KZN434",386,null,null,null,null,null,null,null,null,null,null,null,null,null,null,null,null,null,null,"~"]
["SA37",2020,"KZN434",387,null,null,null,null,null,null,null,null,null,null,null,null,null,null,null,null,null,null,"~"]
["SA37",2020,"KZN434",388,null,null,null,null,null,null,null,null,null,null,null,null,null,null,null,null,null,null,"~"]
["SA37",2020,"KZN434",389,null,null,null,null,null,null,null,null,null,null,null,null,null,null,null,null,null,null,"~"]
["SA37",2020,"KZN434",390,null,null,null,null,null,null,null,null,null,null,null,null,null,null,null,null,null,null,"~"]
["SA37",2020,"KZN434",391,null,null,null,null,null,null,null,null,null,null,null,null,null,null,null,null,null,null,"~"]
["SA37",2020,"KZN434",392,null,null,null,null,null,null,null,null,null,null,null,null,null,null,null,null,null,null,"~"]
["SA37",2020,"KZN434",393,null,null,null,null,null,null,null,null,null,null,null,null,null,null,null,null,null,null,"~"]
["SA37",2020,"KZN434",394,null,null,null,null,null,null,null,null,null,null,null,null,null,null,null,null,null,null,"~"]
["SA37",2020,"KZN434",395,null,null,null,null,null,null,null,null,null,null,null,null,null,null,null,null,null,null,"~"]
["SA37",2020,"KZN434",396,null,null,null,null,null,null,null,null,null,null,null,null,null,null,null,null,null,null,"~"]
["SA37",2020,"KZN434",397,null,null,null,null,null,null,null,null,null,null,null,null,null,null,null,null,null,null,"~"]
["SA37",2020,"KZN434",398,null,null,null,null,null,null,null,null,null,null,null,null,null,null,null,null,null,null,"~"]
["SA37",2020,"KZN434",399,null,null,null,null,null,null,null,null,null,null,null,null,null,null,null,null,null,null,"~"]
["SA37",2020,"KZN434",400,null,null,null,null,null,null,null,null,null,null,null,null,null,null,null,null,null,null,"~"]
["SA37",2020,"KZN434",401,null,null,null,null,null,null,null,null,null,null,null,null,null,null,null,null,null,null,"~"]
["SA37",2020,"KZN434",402,null,null,null,null,null,null,null,null,null,null,null,null,null,null,null,null,null,null,"~"]
["SA37",2020,"KZN434",403,null,null,null,null,null,null,null,null,null,null,null,null,null,null,null,null,null,null,"~"]
["SA37",2020,"KZN434",404,null,null,null,null,null,null,null,null,null,null,null,null,null,null,null,null,null,null,"~"]
["SA37",2020,"KZN434",405,null,null,null,null,null,null,null,null,null,null,null,null,null,null,null,null,null,null,"~"]
["SA37",2020,"KZN434",406,null,null,null,null,null,null,null,null,null,null,null,null,null,null,null,null,null,null,"~"]
["SA37",2020,"KZN434",407,null,null,null,null,null,null,null,null,null,null,null,null,null,null,null,null,null,null,"~"]
["SA37",2020,"KZN434",408,null,null,null,null,null,null,null,null,null,null,null,null,null,null,null,null,null,null,"~"]
["SA37",2020,"KZN434",409,null,null,null,null,null,null,null,null,null,null,null,null,null,null,null,null,null,null,"~"]
["SA37",2020,"KZN434",410,null,null,null,null,null,null,null,null,null,null,null,null,null,null,null,null,null,null,"~"]
["SA37",2020,"KZN434",411,null,null,null,null,null,null,null,null,null,null,null,null,null,null,null,null,null,null,"~"]
["SA37",2020,"KZN434",412,null,null,null,null,null,null,null,null,null,null,null,null,null,null,null,null,null,null,"~"]
["SA37",2020,"KZN434",413,null,null,null,null,null,null,null,null,null,null,null,null,null,null,null,null,null,null,"~"]
["SA37",2020,"KZN434",414,null,null,null,null,null,null,null,null,null,null,null,null,null,null,null,null,null,null,"~"]
["SA37",2020,"KZN434",415,null,null,null,null,null,null,null,null,null,null,null,null,null,null,null,null,null,null,"~"]
["SA37",2020,"KZN434",416,null,null,null,null,null,null,null,null,null,null,null,null,null,null,null,null,null,null,"~"]
["SA37",2020,"KZN434",417,null,null,null,null,null,null,null,null,null,null,null,null,null,null,null,null,null,null,"~"]
["SA37",2020,"KZN434",418,null,null,null,null,null,null,null,null,null,null,null,null,null,null,null,null,null,null,"~"]
["SA37",2020,"KZN434",419,null,null,null,null,null,null,null,null,null,null,null,null,null,null,null,null,null,null,"~"]
["SA37",2020,"KZN434",420,null,null,null,null,null,null,null,null,null,null,null,null,null,null,null,null,null,null,"~"]
["SA37",2020,"KZN434",421,null,null,null,null,null,null,null,null,null,null,null,null,null,null,null,null,null,null,"~"]
["SA37",2020,"KZN434",422,null,null,null,null,null,null,null,null,null,null,null,null,null,null,null,null,null,null,"~"]
["SA37",2020,"KZN434",423,null,null,null,null,null,null,null,null,null,null,null,null,null,null,null,null,null,null,"~"]
["SA37",2020,"KZN434",424,null,null,null,null,null,null,null,null,null,null,null,null,null,null,null,null,null,null,"~"]
["SA37",2020,"KZN434",425,null,null,null,null,null,null,null,null,null,null,null,null,null,null,null,null,null,null,"~"]
["SA37",2020,"KZN434",426,null,null,null,null,null,null,null,null,null,null,null,null,null,null,null,null,null,null,"~"]
["SA37",2020,"KZN434",427,null,null,null,null,null,null,null,null,null,null,null,null,null,null,null,null,null,null,"~"]
["SA37",2020,"KZN434",428,null,null,null,null,null,null,null,null,null,null,null,null,null,null,null,null,null,null,"~"]
["SA37",2020,"KZN434",429,null,null,null,null,null,null,null,null,null,null,null,null,null,null,null,null,null,null,"~"]
["SA37",2020,"KZN434",430,null,null,null,null,null,null,null,null,null,null,null,null,null,null,null,null,null,null,"~"]
["SA37",2020,"KZN434",431,null,null,null,null,null,null,null,null,null,null,null,null,null,null,null,null,null,null,"~"]
["SA37",{"$f":"+MTREF","v":2020},{"$f":"LEFT(muni,(FIND(\" \",muni,1)-1))","v":"KZN434"},432,null,null,null,null,null,null,null,null,null,null,null,null,null,null,null,null,null,null,"~"]
["SA37",2020,"KZN434",433,null,null,null,null,null,null,null,null,null,null,null,null,null,null,null,null,null,null,"~"]
["SA37",2020,"KZN434",434,null,null,null,null,null,null,null,null,null,null,null,null,null,null,null,null,null,null,"~"]
["SA37",2020,"KZN434",435,null,null,null,null,null,null,null,null,null,null,null,null,null,null,null,null,null,null,"~"]
["SA37",2020,"KZN434",436,null,null,null,null,null,null,null,null,null,null,null,null,null,null,null,null,null,null,"~"]
["SA37",2020,"KZN434",437,null,null,null,null,null,null,null,null,null,null,null,null,null,null,null,null,null,null,"~"]
["SA37",2020,"KZN434",438,null,null,null,null,null,null,null,null,null,null,null,null,null,null,null,null,null,null,"~"]
["SA37",2020,"KZN434",439,null,null,null,null,null,null,null,null,null,null,null,null,null,null,null,null,null,null,"~"]
["SA37",2020,"KZN434",440,null,null,null,null,null,null,null,null,null,null,null,null,null,null,null,null,null,null,"~"]
["SA37",2020,"KZN434",441,null,null,null,null,null,null,null,null,null,null,null,null,null,null,null,null,null,null,"~"]
["SA37",2020,"KZN434",442,null,null,null,null,null,null,null,null,null,null,null,null,null,null,null,null,null,null,"~"]
["SA37",2020,"KZN434",443,null,null,null,null,null,null,null,null,null,null,null,null,null,null,null,null,null,null,"~"]
["SA37",2020,"KZN434",444,null,null,null,null,null,null,null,null,null,null,null,null,null,null,null,null,null,null,"~"]
["SA37",2020,"KZN434",445,null,null,null,null,null,null,null,null,null,null,null,null,null,null,null,null,null,null,"~"]
["SA37",2020,"KZN434",446,null,null,null,null,null,null,null,null,null,null,null,null,null,null,null,null,null,null,"~"]
["SA37",2020,"KZN434",447,null,null,null,null,null,null,null,null,null,null,null,null,null,null,null,null,null,null,"~"]
["SA37",2020,"KZN434",448,null,null,null,null,null,null,null,null,null,null,null,null,null,null,null,null,null,null,"~"]
["SA37",2020,"KZN434",449,null,null,null,null,null,null,null,null,null,null,null,null,null,null,null,null,null,null,"~"]
["SA37",2020,"KZN434",450,null,null,null,null,null,null,null,null,null,null,null,null,null,null,null,null,null,null,"~"]
["SA37",2020,"KZN434",451,null,null,null,null,null,null,null,null,null,null,null,null,null,null,null,null,null,null,"~"]
["SA37",2020,"KZN434",452,null,null,null,null,null,null,null,null,null,null,null,null,null,null,null,null,null,null,"~"]
["SA37",2020,"KZN434",453,null,null,null,null,null,null,null,null,null,null,null,null,null,null,null,null,null,null,"~"]
["SA37",2020,"KZN434",454,null,null,null,null,null,null,null,null,null,null,null,null,null,null,null,null,null,null,"~"]
["SA37",2020,"KZN434",455,null,null,null,null,null,null,null,null,null,null,null,null,null,null,null,null,null,null,"~"]
["SA37",2020,"KZN434",456,null,null,null,null,null,null,null,null,null,null,null,null,null,null,null,null,null,null,"~"]
["SA37",2020,"KZN434",457,null,null,null,null,null,null,null,null,null,null,null,null,null,null,null,null,null,null,"~"]
["SA37",2020,"KZN434",458,null,null,null,null,null,null,null,null,null,null,null,null,null,null,null,null,null,null,"~"]
["SA37",2020,"KZN434",459,null,null,null,null,null,null,null,null,null,null,null,null,null,null,null,null,null,null,"~"]
["SA37",2020,"KZN434",460,null,null,null,null,null,null,null,null,null,null,null,null,null,null,null,null,null,null,"~"]
["SA37",2020,"KZN434",461,null,null,null,null,null,null,null,null,null,null,null,null,null,null,null,null,null,null,"~"]
["SA37",2020,"KZN434",462,null,null,null,null,null,null,null,null,null,null,null,null,null,null,null,null,null,null,"~"]
["SA37",2020,"KZN434",463,null,null,null,null,null,null,null,null,null,null,null,null,null,null,null,null,null,null,"~"]
["SA37",2020,"KZN434",464,null,null,null,null,null,null,null,null,null,null,null,null,null,null,null,null,null,null,"~"]
["SA37",2020,"KZN434",465,null,null,null,null,null,null,null,null,null,null,null,null,null,null,null,null,null,null,"~"]
["SA37",2020,"KZN434",466,null,null,null,null,null,null,null,null,null,null,null,null,null,null,null,null,null,null,"~"]
["SA37",2020,"KZN434",467,null,null,null,null,null,null,null,null,null,null,null,null,null,null,null,null,null,null,"~"]
["SA37",2020,"KZN434",468,null,null,null,null,null,null,null,null,null,null,null,null,null,null,null,null,null,null,"~"]
["SA37",2020,"KZN434",469,null,null,null,null,null,null,null,null,null,null,null,null,null,null,null,null,null,null,"~"]
["SA37",2020,"KZN434",470,null,null,null,null,null,null,null,null,null,null,null,null,null,null,null,null,null,null,"~"]
["SA37",2020,"KZN434",471,null,null,null,null,null,null,null,null,null,null,null,null,null,null,null,null,null,null,"~"]
["SA37",2020,"KZN434",472,null,null,null,null,null,null,null,null,null,null,null,null,null,null,null,null,null,null,"~"]
["SA37",2020,"KZN434",473,null,null,null,null,null,null,null,null,null,null,null,null,null,null,null,null,null,null,"~"]
["SA37",2020,"KZN434",474,null,null,null,null,null,null,null,null,null,null,null,null,null,null,null,null,null,null,"~"]
["SA37",2020,"KZN434",475,null,null,null,null,null,null,null,null,null,null,null,null,null,null,null,null,null,null,"~"]
["SA37",2020,"KZN434",476,null,null,null,null,null,null,null,null,null,null,null,null,null,null,null,null,null,null,"~"]
["SA37",2020,"KZN434",477,null,null,null,null,null,null,null,null,null,null,null,null,null,null,null,null,null,null,"~"]
["SA37",2020,"KZN434",478,null,null,null,null,null,null,null,null,null,null,null,null,null,null,null,null,null,null,"~"]
["SA37",2020,"KZN434",479,null,null,null,null,null,null,null,null,null,null,null,null,null,null,null,null,null,null,"~"]
["SA37",2020,"KZN434",480,null,null,null,null,null,null,null,null,null,null,null,null,null,null,null,null,null,null,"~"]
["SA37",2020,"KZN434",481,null,null,null,null,null,null,null,null,null,null,null,null,null,null,null,null,null,null,"~"]
["SA37",2020,"KZN434",482,null,null,null,null,null,null,null,null,null,null,null,null,null,null,null,null,null,null,"~"]
["SA37",2020,"KZN434",483,null,null,null,null,null,null,null,null,null,null,null,null,null,null,null,null,null,null,"~"]
["SA37",2020,"KZN434",484,null,null,null,null,null,null,null,null,null,null,null,null,null,null,null,null,null,null,"~"]
["SA37",2020,"KZN434",485,null,null,null,null,null,null,null,null,null,null,null,null,null,null,null,null,null,null,"~"]
["SA37",2020,"KZN434",486,null,null,null,null,null,null,null,null,null,null,null,null,null,null,null,null,null,null,"~"]
["SA37",2020,"KZN434",487,null,null,null,null,null,null,null,null,null,null,null,null,null,null,null,null,null,null,"~"]
["SA37",2020,"KZN434",488,null,null,null,null,null,null,null,null,null,null,null,null,null,null,null,null,null,null,"~"]
["SA37",2020,"KZN434",489,null,null,null,null,null,null,null,null,null,null,null,null,null,null,null,null,null,null,"~"]
["SA37",2020,"KZN434",490,null,null,null,null,null,null,null,null,null,null,null,null,null,null,null,null,null,null,"~"]
["SA37",2020,"KZN434",491,null,null,null,null,null,null,null,null,null,null,null,null,null,null,null,null,null,null,"~"]
["SA37",2020,"KZN434",492,null,null,null,null,null,null,null,null,null,null,null,null,null,null,null,null,null,null,"~"]
["SA37",2020,"KZN434",493,null,null,null,null,null,null,null,null,null,null,null,null,null,null,null,null,null,null,"~"]
["SA37",2020,"KZN434",494,null,null,null,null,null,null,null,null,null,null,null,null,null,null,null,null,null,null,"~"]
["SA37",2020,"KZN434",495,null,null,null,null,null,null,null,null,null,null,null,null,null,null,null,null,null,null,"~"]
["SA37",{"$f":"+MTREF","v":2020},{"$f":"LEFT(muni,(FIND(\" \",muni,1)-1))","v":"KZN434"},496,null,null,null,null,null,null,null,null,null,null,null,null,null,null,null,null,null,null,"~"]
["SA37",2020,"KZN434",497,null,null,null,null,null,null,null,null,null,null,null,null,null,null,null,null,null,null,"~"]
["SA37",2020,"KZN434",498,null,null,null,null,null,null,null,null,null,null,null,null,null,null,null,null,null,null,"~"]
["SA37",2020,"KZN434",499,null,null,null,null,null,null,null,null,null,null,null,null,null,null,null,null,null,null,"~"]
["SA37",2020,"KZN434",500,null,null,null,null,null,null,null,null,null,null,null,null,null,null,null,null,null,null,"~"]
["SA37",2020,"KZN434",501,null,null,null,null,null,null,null,null,null,null,null,null,null,null,null,null,null,null,"~"]
["SA37",2020,"KZN434",502,null,null,null,null,null,null,null,null,null,null,null,null,null,null,null,null,null,null,"~"]
["SA37",2020,"KZN434",503,null,null,null,null,null,null,null,null,null,null,null,null,null,null,null,null,null,null,"~"]
["SA37",2020,"KZN434",504,null,null,null,null,null,null,null,null,null,null,null,null,null,null,null,null,null,null,"~"]
["SA37",2020,"KZN434",505,null,null,null,null,null,null,null,null,null,null,null,null,null,null,null,null,null,null,"~"]
["SA37",2020,"KZN434",506,null,null,null,null,null,null,null,null,null,null,null,null,null,null,null,null,null,null,"~"]
["SA37",2020,"KZN434",507,null,null,null,null,null,null,null,null,null,null,null,null,null,null,null,null,null,null,"~"]
["SA37",2020,"KZN434",508,null,null,null,null,null,null,null,null,null,null,null,null,null,null,null,null,null,null,"~"]
["SA37",2020,"KZN434",509,null,null,null,null,null,null,null,null,null,null,null,null,null,null,null,null,null,null,"~"]
["SA37",2020,"KZN434",510,null,null,null,null,null,null,null,null,null,null,null,null,null,null,null,null,null,null,"~"]
["SA37",2020,"KZN434",511,null,null,null,null,null,null,null,null,null,null,null,null,null,null,null,null,null,null,"~"]
["SA37",2020,"KZN434",512,null,null,null,null,null,null,null,null,null,null,null,null,null,null,null,null,null,null,"~"]
["SA37",2020,"KZN434",513,null,null,null,null,null,null,null,null,null,null,null,null,null,null,null,null,null,null,"~"]
["SA37",2020,"KZN434",514,null,null,null,null,null,null,null,null,null,null,null,null,null,null,null,null,null,null,"~"]
["SA37",2020,"KZN434",515,null,null,null,null,null,null,null,null,null,null,null,null,null,null,null,null,null,null,"~"]
["SA37",2020,"KZN434",516,null,null,null,null,null,null,null,null,null,null,null,null,null,null,null,null,null,null,"~"]
["SA37",2020,"KZN434",517,null,null,null,null,null,null,null,null,null,null,null,null,null,null,null,null,null,null,"~"]
["SA37",2020,"KZN434",518,null,null,null,null,null,null,null,null,null,null,null,null,null,null,null,null,null,null,"~"]
["SA37",2020,"KZN434",519,null,null,null,null,null,null,null,null,null,null,null,null,null,null,null,null,null,null,"~"]
["SA37",2020,"KZN434",520,null,null,null,null,null,null,null,null,null,null,null,null,null,null,null,null,null,null,"~"]
["SA37",2020,"KZN434",521,null,null,null,null,null,null,null,null,null,null,null,null,null,null,null,null,null,null,"~"]
["SA37",2020,"KZN434",522,null,null,null,null,null,null,null,null,null,null,null,null,null,null,null,null,null,null,"~"]
["SA37",2020,"KZN434",523,null,null,null,null,null,null,null,null,null,null,null,null,null,null,null,null,null,null,"~"]
["SA37",2020,"KZN434",524,null,null,null,null,null,null,null,null,null,null,null,null,null,null,null,null,null,null,"~"]
["SA37",2020,"KZN434",525,null,null,null,null,null,null,null,null,null,null,null,null,null,null,null,null,null,null,"~"]
["SA37",2020,"KZN434",526,null,null,null,null,null,null,null,null,null,null,null,null,null,null,null,null,null,null,"~"]
["SA37",2020,"KZN434",527,null,null,null,null,null,null,null,null,null,null,null,null,null,null,null,null,null,null,"~"]
["SA37",2020,"KZN434",528,null,null,null,null,null,null,null,null,null,null,null,null,null,null,null,null,null,null,"~"]
["SA37",2020,"KZN434",529,null,null,null,null,null,null,null,null,null,null,null,null,null,null,null,null,null,null,"~"]
["SA37",2020,"KZN434",530,null,null,null,null,null,null,null,null,null,null,null,null,null,null,null,null,null,null,"~"]
["SA37",2020,"KZN434",531,null,null,null,null,null,null,null,null,null,null,null,null,null,null,null,null,null,null,"~"]
["SA37",2020,"KZN434",532,null,null,null,null,null,null,null,null,null,null,null,null,null,null,null,null,null,null,"~"]
["SA37",2020,"KZN434",533,null,null,null,null,null,null,null,null,null,null,null,null,null,null,null,null,null,null,"~"]
["SA37",2020,"KZN434",534,null,null,null,null,null,null,null,null,null,null,null,null,null,null,null,null,null,null,"~"]
["SA37",2020,"KZN434",535,null,null,null,null,null,null,null,null,null,null,null,null,null,null,null,null,null,null,"~"]
["SA37",2020,"KZN434",536,null,null,null,null,null,null,null,null,null,null,null,null,null,null,null,null,null,null,"~"]
["SA37",2020,"KZN434",537,null,null,null,null,null,null,null,null,null,null,null,null,null,null,null,null,null,null,"~"]
["SA37",2020,"KZN434",538,null,null,null,null,null,null,null,null,null,null,null,null,null,null,null,null,null,null,"~"]
["SA37",2020,"KZN434",539,null,null,null,null,null,null,null,null,null,null,null,null,null,null,null,null,null,null,"~"]
["SA37",2020,"KZN434",540,null,null,null,null,null,null,null,null,null,null,null,null,null,null,null,null,null,null,"~"]
["SA37",2020,"KZN434",541,null,null,null,null,null,null,null,null,null,null,null,null,null,null,null,null,null,null,"~"]
["SA37",2020,"KZN434",542,null,null,null,null,null,null,null,null,null,null,null,null,null,null,null,null,null,null,"~"]
["SA37",2020,"KZN434",543,null,null,null,null,null,null,null,null,null,null,null,null,null,null,null,null,null,null,"~"]
["SA37",2020,"KZN434",544,null,null,null,null,null,null,null,null,null,null,null,null,null,null,null,null,null,null,"~"]
["SA37",2020,"KZN434",545,null,null,null,null,null,null,null,null,null,null,null,null,null,null,null,null,null,null,"~"]
["SA37",2020,"KZN434",546,null,null,null,null,null,null,null,null,null,null,null,null,null,null,null,null,null,null,"~"]
["SA37",2020,"KZN434",547,null,null,null,null,null,null,null,null,null,null,null,null,null,null,null,null,null,null,"~"]
["SA37",2020,"KZN434",548,null,null,null,null,null,null,null,null,null,null,null,null,null,null,null,null,null,null,"~"]
["SA37",2020,"KZN434",549,null,null,null,null,null,null,null,null,null,null,null,null,null,null,null,null,null,null,"~"]
["SA37",2020,"KZN434",550,null,null,null,null,null,null,null,null,null,null,null,null,null,null,null,null,null,null,"~"]
["SA37",2020,"KZN434",551,null,null,null,null,null,null,null,null,null,null,null,null,null,null,null,null,null,null,"~"]
["SA37",2020,"KZN434",552,null,null,null,null,null,null,null,null,null,null,null,null,null,null,null,null,null,null,"~"]
["SA37",2020,"KZN434",553,null,null,null,null,null,null,null,null,null,null,null,null,null,null,null,null,null,null,"~"]
["SA37",2020,"KZN434",554,null,null,null,null,null,null,null,null,null,null,null,null,null,null,null,null,null,null,"~"]
["SA37",2020,"KZN434",555,null,null,null,null,null,null,null,null,null,null,null,null,null,null,null,null,null,null,"~"]
["SA37",2020,"KZN434",556,null,null,null,null,null,null,null,null,null,null,null,null,null,null,null,null,null,null,"~"]
["SA37",2020,"KZN434",557,null,null,null,null,null,null,null,null,null,null,null,null,null,null,null,null,null,null,"~"]
["SA37",2020,"KZN434",558,null,null,null,null,null,null,null,null,null,null,null,null,null,null,null,null,null,null,"~"]
["SA37",2020,"KZN434",559,null,null,null,null,null,null,null,null,null,null,null,null,null,null,null,null,null,null,"~"]
["SA37",{"$f":"+MTREF","v":2020},{"$f":"LEFT(muni,(FIND(\" \",muni,1)-1))","v":"KZN434"},560,null,null,null,null,null,null,null,null,null,null,null,null,null,null,null,null,null,null,"~"]
["SA37",2020,"KZN434",561,null,null,null,null,null,null,null,null,null,null,null,null,null,null,null,null,null,null,"~"]
["SA37",2020,"KZN434",562,null,null,null,null,null,null,null,null,null,null,null,null,null,null,null,null,null,null,"~"]
["SA37",2020,"KZN434",563,null,null,null,null,null,null,null,null,null,null,null,null,null,null,null,null,null,null,"~"]
["SA37",2020,"KZN434",564,null,null,null,null,null,null,null,null,null,null,null,null,null,null,null,null,null,null,"~"]
["SA37",2020,"KZN434",565,null,null,null,null,null,null,null,null,null,null,null,null,null,null,null,null,null,null,"~"]
["SA37",2020,"KZN434",566,null,null,null,null,null,null,null,null,null,null,null,null,null,null,null,null,null,null,"~"]
["SA37",2020,"KZN434",567,null,null,null,null,null,null,null,null,null,null,null,null,null,null,null,null,null,null,"~"]
["SA37",2020,"KZN434",568,null,null,null,null,null,null,null,null,null,null,null,null,null,null,null,null,null,null,"~"]
["SA37",2020,"KZN434",569,null,null,null,null,null,null,null,null,null,null,null,null,null,null,null,null,null,null,"~"]
["SA37",2020,"KZN434",570,null,null,null,null,null,null,null,null,null,null,null,null,null,null,null,null,null,null,"~"]
["SA37",2020,"KZN434",571,null,null,null,null,null,null,null,null,null,null,null,null,null,null,null,null,null,null,"~"]
["SA37",2020,"KZN434",572,null,null,null,null,null,null,null,null,null,null,null,null,null,null,null,null,null,null,"~"]
["SA37",2020,"KZN434",573,null,null,null,null,null,null,null,null,null,null,null,null,null,null,null,null,null,null,"~"]
["SA37",2020,"KZN434",574,null,null,null,null,null,null,null,null,null,null,null,null,null,null,null,null,null,null,"~"]
["SA37",2020,"KZN434",575,null,null,null,null,null,null,null,null,null,null,null,null,null,null,null,null,null,null,"~"]
["SA37",2020,"KZN434",576,null,null,null,null,null,null,null,null,null,null,null,null,null,null,null,null,null,null,"~"]
["SA37",2020,"KZN434",577,null,null,null,null,null,null,null,null,null,null,null,null,null,null,null,null,null,null,"~"]
["SA37",2020,"KZN434",578,null,null,null,null,null,null,null,null,null,null,null,null,null,null,null,null,null,null,"~"]
["SA37",2020,"KZN434",579,null,null,null,null,null,null,null,null,null,null,null,null,null,null,null,null,null,null,"~"]
["SA37",2020,"KZN434",580,null,null,null,null,null,null,null,null,null,null,null,null,null,null,null,null,null,null,"~"]
["SA37",2020,"KZN434",581,null,null,null,null,null,null,null,null,null,null,null,null,null,null,null,null,null,null,"~"]
["SA37",2020,"KZN434",582,null,null,null,null,null,null,null,null,null,null,null,null,null,null,null,null,null,null,"~"]
["SA37",2020,"KZN434",583,null,null,null,null,null,null,null,null,null,null,null,null,null,null,null,null,null,null,"~"]
["SA37",2020,"KZN434",584,null,null,null,null,null,null,null,null,null,null,null,null,null,null,null,null,null,null,"~"]
["SA37",2020,"KZN434",585,null,null,null,null,null,null,null,null,null,null,null,null,null,null,null,null,null,null,"~"]
["SA37",2020,"KZN434",586,null,null,null,null,null,null,null,null,null,null,null,null,null,null,null,null,null,null,"~"]
["SA37",2020,"KZN434",587,null,null,null,null,null,null,null,null,null,null,null,null,null,null,null,null,null,null,"~"]
["SA37",2020,"KZN434",588,null,null,null,null,null,null,null,null,null,null,null,null,null,null,null,null,null,null,"~"]
["SA37",2020,"KZN434",589,null,null,null,null,null,null,null,null,null,null,null,null,null,null,null,null,null,null,"~"]
["SA37",2020,"KZN434",590,null,null,null,null,null,null,null,null,null,null,null,null,null,null,null,null,null,null,"~"]
["SA37",2020,"KZN434",591,null,null,null,null,null,null,null,null,null,null,null,null,null,null,null,null,null,null,"~"]
["SA37",2020,"KZN434",592,null,null,null,null,null,null,null,null,null,null,null,null,null,null,null,null,null,null,"~"]
["SA37",2020,"KZN434",593,null,null,null,null,null,null,null,null,null,null,null,null,null,null,null,null,null,null,"~"]
["SA37",2020,"KZN434",594,null,null,null,null,null,null,null,null,null,null,null,null,null,null,null,null,null,null,"~"]
["SA37",2020,"KZN434",595,null,null,null,null,null,null,null,null,null,null,null,null,null,null,null,null,null,null,"~"]
["SA37",2020,"KZN434",596,null,null,null,null,null,null,null,null,null,null,null,null,null,null,null,null,null,null,"~"]
["SA37",2020,"KZN434",597,null,null,null,null,null,null,null,null,null,null,null,null,null,null,null,null,null,null,"~"]
["SA37",2020,"KZN434",598,null,null,null,null,null,null,null,null,null,null,null,null,null,null,null,null,null,null,"~"]
["SA37",2020,"KZN434",599,null,null,null,null,null,null,null,null,null,null,null,null,null,null,null,null,null,null,"~"]
["SA37",2020,"KZN434",600,null,null,null,null,null,null,null,null,null,null,null,null,null,null,null,null,null,null,"~"]
["SA37",2020,"KZN434",601,null,null,null,null,null,null,null,null,null,null,null,null,null,null,null,null,null,null,"~"]
["SA37",2020,"KZN434",602,null,null,null,null,null,null,null,null,null,null,null,null,null,null,null,null,null,null,"~"]
["SA37",2020,"KZN434",603,null,null,null,null,null,null,null,null,null,null,null,null,null,null,null,null,null,null,"~"]
["SA37",2020,"KZN434",604,null,null,null,null,null,null,null,null,null,null,null,null,null,null,null,null,null,null,"~"]
["SA37",2020,"KZN434",605,null,null,null,null,null,null,null,null,null,null,null,null,null,null,null,null,null,null,"~"]
["SA37",2020,"KZN434",606,null,null,null,null,null,null,null,null,null,null,null,null,null,null,null,null,null,null,"~"]
["SA37",2020,"KZN434",607,null,null,null,null,null,null,null,null,null,null,null,null,null,null,null,null,null,null,"~"]
["SA37",2020,"KZN434",608,null,null,null,null,null,null,null,null,null,null,null,null,null,null,null,null,null,null,"~"]
["SA37",2020,"KZN434",609,null,null,null,null,null,null,null,null,null,null,null,null,null,null,null,null,null,null,"~"]
["SA37",2020,"KZN434",610,null,null,null,null,null,null,null,null,null,null,null,null,null,null,null,null,null,null,"~"]
["SA37",2020,"KZN434",611,null,null,null,null,null,null,null,null,null,null,null,null,null,null,null,null,null,null,"~"]
["SA37",2020,"KZN434",612,null,null,null,null,null,null,null,null,null,null,null,null,null,null,null,null,null,null,"~"]
["SA37",2020,"KZN434",613,null,null,null,null,null,null,null,null,null,null,null,null,null,null,null,null,null,null,"~"]
["SA37",2020,"KZN434",614,null,null,null,null,null,null,null,null,null,null,null,null,null,null,null,null,null,null,"~"]
["SA37",2020,"KZN434",615,null,null,null,null,null,null,null,null,null,null,null,null,null,null,null,null,null,null,"~"]
["SA37",2020,"KZN434",616,null,null,null,null,null,null,null,null,null,null,null,null,null,null,null,null,null,null,"~"]
["SA37",2020,"KZN434",617,null,null,null,null,null,null,null,null,null,null,null,null,null,null,null,null,null,null,"~"]
["SA37",2020,"KZN434",618,null,null,null,null,null,null,null,null,null,null,null,null,null,null,null,null,null,null,"~"]
["SA37",2020,"KZN434",619,null,null,null,null,null,null,null,null,null,null,null,null,null,null,null,null,null,null,"~"]
["SA37",2020,"KZN434",620,null,null,null,null,null,null,null,null,null,null,null,null,null,null,null,null,null,null,"~"]
["SA37",2020,"KZN434",621,null,null,null,null,null,null,null,null,null,null,null,null,null,null,null,null,null,null,"~"]
["SA37",2020,"KZN434",622,null,null,null,null,null,null,null,null,null,null,null,null,null,null,null,null,null,null,"~"]
["SA37",2020,"KZN434",623,null,null,null,null,null,null,null,null,null,null,null,null,null,null,null,null,null,null,"~"]
["SA37",{"$f":"+MTREF","v":2020},{"$f":"LEFT(muni,(FIND(\" \",muni,1)-1))","v":"KZN434"},624,null,null,null,null,null,null,null,null,null,null,null,null,null,null,null,null,null,null,"~"]
["SA37",2020,"KZN434",625,null,null,null,null,null,null,null,null,null,null,null,null,null,null,null,null,null,null,"~"]
["SA37",2020,"KZN434",626,null,null,null,null,null,null,null,null,null,null,null,null,null,null,null,null,null,null,"~"]
["SA37",2020,"KZN434",627,null,null,null,null,null,null,null,null,null,null,null,null,null,null,null,null,null,null,"~"]
["SA37",2020,"KZN434",628,null,null,null,null,null,null,null,null,null,null,null,null,null,null,null,null,null,null,"~"]
["SA37",2020,"KZN434",629,null,null,null,null,null,null,null,null,null,null,null,null,null,null,null,null,null,null,"~"]
["SA37",2020,"KZN434",630,null,null,null,null,null,null,null,null,null,null,null,null,null,null,null,null,null,null,"~"]
["SA37",2020,"KZN434",631,null,null,null,null,null,null,null,null,null,null,null,null,null,null,null,null,null,null,"~"]
["SA37",2020,"KZN434",632,null,null,null,null,null,null,null,null,null,null,null,null,null,null,null,null,null,null,"~"]
["SA37",2020,"KZN434",633,null,null,null,null,null,null,null,null,null,null,null,null,null,null,null,null,null,null,"~"]
["SA37",2020,"KZN434",634,null,null,null,null,null,null,null,null,null,null,null,null,null,null,null,null,null,null,"~"]
["SA37",2020,"KZN434",635,null,null,null,null,null,null,null,null,null,null,null,null,null,null,null,null,null,null,"~"]
["SA37",2020,"KZN434",636,null,null,null,null,null,null,null,null,null,null,null,null,null,null,null,null,null,null,"~"]
["SA37",2020,"KZN434",637,null,null,null,null,null,null,null,null,null,null,null,null,null,null,null,null,null,null,"~"]
["SA37",2020,"KZN434",638,null,null,null,null,null,null,null,null,null,null,null,null,null,null,null,null,null,null,"~"]
["SA37",2020,"KZN434",639,null,null,null,null,null,null,null,null,null,null,null,null,null,null,null,null,null,null,"~"]
["SA37",2020,"KZN434",640,null,null,null,null,null,null,null,null,null,null,null,null,null,null,null,null,null,null,"~"]
["SA37",2020,"KZN434",641,null,null,null,null,null,null,null,null,null,null,null,null,null,null,null,null,null,null,"~"]
["SA37",2020,"KZN434",642,null,null,null,null,null,null,null,null,null,null,null,null,null,null,null,null,null,null,"~"]
["SA37",2020,"KZN434",643,null,null,null,null,null,null,null,null,null,null,null,null,null,null,null,null,null,null,"~"]
["SA37",2020,"KZN434",644,null,null,null,null,null,null,null,null,null,null,null,null,null,null,null,null,null,null,"~"]
["SA37",2020,"KZN434",645,null,null,null,null,null,null,null,null,null,null,null,null,null,null,null,null,null,null,"~"]
["SA37",2020,"KZN434",646,null,null,null,null,null,null,null,null,null,null,null,null,null,null,null,null,null,null,"~"]
["SA37",2020,"KZN434",647,null,null,null,null,null,null,null,null,null,null,null,null,null,null,null,null,null,null,"~"]
["SA37",2020,"KZN434",648,null,null,null,null,null,null,null,null,null,null,null,null,null,null,null,null,null,null,"~"]
["SA37",2020,"KZN434",649,null,null,null,null,null,null,null,null,null,null,null,null,null,null,null,null,null,null,"~"]
["SA37",2020,"KZN434",650,null,null,null,null,null,null,null,null,null,null,null,null,null,null,null,null,null,null,"~"]
["SA37",2020,"KZN434",651,null,null,null,null,null,null,null,null,null,null,null,null,null,null,null,null,null,null,"~"]
["SA37",2020,"KZN434",652,null,null,null,null,null,null,null,null,null,null,null,null,null,null,null,null,null,null,"~"]
["SA37",2020,"KZN434",653,null,null,null,null,null,null,null,null,null,null,null,null,null,null,null,null,null,null,"~"]
["SA37",2020,"KZN434",654,null,null,null,null,null,null,null,null,null,null,null,null,null,null,null,null,null,null,"~"]
["SA37",2020,"KZN434",655,null,null,null,null,null,null,null,null,null,null,null,null,null,null,null,null,null,null,"~"]
["SA37",2020,"KZN434",656,null,null,null,null,null,null,null,null,null,null,null,null,null,null,null,null,null,null,"~"]
["SA37",2020,"KZN434",657,null,null,null,null,null,null,null,null,null,null,null,null,null,null,null,null,null,null,"~"]
["SA37",2020,"KZN434",658,null,null,null,null,null,null,null,null,null,null,null,null,null,null,null,null,null,null,"~"]
["SA37",2020,"KZN434",659,null,null,null,null,null,null,null,null,null,null,null,null,null,null,null,null,null,null,"~"]
["SA37",2020,"KZN434",660,null,null,null,null,null,null,null,null,null,null,null,null,null,null,null,null,null,null,"~"]
["SA37",2020,"KZN434",661,null,null,null,null,null,null,null,null,null,null,null,null,null,null,null,null,null,null,"~"]
["SA37",2020,"KZN434",662,null,null,null,null,null,null,null,null,null,null,null,null,null,null,null,null,null,null,"~"]
["SA37",2020,"KZN434",663,null,null,null,null,null,null,null,null,null,null,null,null,null,null,null,null,null,null,"~"]
["SA37",2020,"KZN434",664,null,null,null,null,null,null,null,null,null,null,null,null,null,null,null,null,null,null,"~"]
["SA37",2020,"KZN434",665,null,null,null,null,null,null,null,null,null,null,null,null,null,null,null,null,null,null,"~"]
["SA37",2020,"KZN434",666,null,null,null,null,null,null,null,null,null,null,null,null,null,null,null,null,null,null,"~"]
["SA37",2020,"KZN434",667,null,null,null,null,null,null,null,null,null,null,null,null,null,null,null,null,null,null,"~"]
["SA37",2020,"KZN434",668,null,null,null,null,null,null,null,null,null,null,null,null,null,null,null,null,null,null,"~"]
["SA37",2020,"KZN434",669,null,null,null,null,null,null,null,null,null,null,null,null,null,null,null,null,null,null,"~"]
["SA37",2020,"KZN434",670,null,null,null,null,null,null,null,null,null,null,null,null,null,null,null,null,null,null,"~"]
["SA37",2020,"KZN434",671,null,null,null,null,null,null,null,null,null,null,null,null,null,null,null,null,null,null,"~"]
["SA37",2020,"KZN434",672,null,null,null,null,null,null,null,null,null,null,null,null,null,null,null,null,null,null,"~"]
["SA37",2020,"KZN434",673,null,null,null,null,null,null,null,null,null,null,null,null,null,null,null,null,null,null,"~"]
["SA37",2020,"KZN434",674,null,null,null,null,null,null,null,null,null,null,null,null,null,null,null,null,null,null,"~"]
["SA37",2020,"KZN434",675,null,null,null,null,null,null,null,null,null,null,null,null,null,null,null,null,null,null,"~"]
["SA37",2020,"KZN434",676,null,null,null,null,null,null,null,null,null,null,null,null,null,null,null,null,null,null,"~"]
["SA37",2020,"KZN434",677,null,null,null,null,null,null,null,null,null,null,null,null,null,null,null,null,null,null,"~"]
["SA37",2020,"KZN434",678,null,null,null,null,null,null,null,null,null,null,null,null,null,null,null,null,null,null,"~"]
["SA37",2020,"KZN434",679,null,null,null,null,null,null,null,null,null,null,null,null,null,null,null,null,null,null,"~"]
["SA37",2020,"KZN434",680,null,null,null,null,null,null,null,null,null,null,null,null,null,null,null,null,null,null,"~"]
["SA37",2020,"KZN434",681,null,null,null,null,null,null,null,null,null,null,null,null,null,null,null,null,null,null,"~"]
["SA37",2020,"KZN434",682,null,null,null,null,null,null,null,null,null,null,null,null,null,null,null,null,null,null,"~"]
["SA37",2020,"KZN434",683,null,null,null,null,null,null,null,null,null,null,null,null,null,null,null,null,null,null,"~"]
["SA37",2020,"KZN434",684,null,null,null,null,null,null,null,null,null,null,null,null,null,null,null,null,null,null,"~"]
["SA37",2020,"KZN434",685,null,null,null,null,null,null,null,null,null,null,null,null,null,null,null,null,null,null,"~"]
["SA37",2020,"KZN434",686,null,null,null,null,null,null,null,null,null,null,null,null,null,null,null,null,null,null,"~"]
["SA37",2020,"KZN434",687,null,null,null,null,null,null,null,null,null,null,null,null,null,null,null,null,null,null,"~"]
["SA37",{"$f":"+MTREF","v":2020},{"$f":"LEFT(muni,(FIND(\" \",muni,1)-1))","v":"KZN434"},688,null,null,null,null,null,null,null,null,null,null,null,null,null,null,null,null,null,null,"~"]
["SA37",2020,"KZN434",689,null,null,null,null,null,null,null,null,null,null,null,null,null,null,null,null,null,null,"~"]
["SA37",2020,"KZN434",690,null,null,null,null,null,null,null,null,null,null,null,null,null,null,null,null,null,null,"~"]
["SA37",2020,"KZN434",691,null,null,null,null,null,null,null,null,null,null,null,null,null,null,null,null,null,null,"~"]
["SA37",2020,"KZN434",692,null,null,null,null,null,null,null,null,null,null,null,null,null,null,null,null,null,null,"~"]
["SA37",2020,"KZN434",693,null,null,null,null,null,null,null,null,null,null,null,null,null,null,null,null,null,null,"~"]
["SA37",2020,"KZN434",694,null,null,null,null,null,null,null,null,null,null,null,null,null,null,null,null,null,null,"~"]
["SA37",2020,"KZN434",695,null,null,null,null,null,null,null,null,null,null,null,null,null,null,null,null,null,null,"~"]
["SA37",2020,"KZN434",696,null,null,null,null,null,null,null,null,null,null,null,null,null,null,null,null,null,null,"~"]
["SA37",2020,"KZN434",697,null,null,null,null,null,null,null,null,null,null,null,null,null,null,null,null,null,null,"~"]
["SA37",2020,"KZN434",698,null,null,null,null,null,null,null,null,null,null,null,null,null,null,null,null,null,null,"~"]
["SA37",2020,"KZN434",699,null,null,null,null,null,null,null,null,null,null,null,null,null,null,null,null,null,null,"~"]
["SA37",2020,"KZN434",700,null,null,null,null,null,null,null,null,null,null,null,null,null,null,null,null,null,null,"~"]
["SA37",2020,"KZN434",701,null,null,null,null,null,null,null,null,null,null,null,null,null,null,null,null,null,null,"~"]
["SA37",2020,"KZN434",702,null,null,null,null,null,null,null,null,null,null,null,null,null,null,null,null,null,null,"~"]
["SA37",2020,"KZN434",703,null,null,null,null,null,null,null,null,null,null,null,null,null,null,null,null,null,null,"~"]
["SA37",2020,"KZN434",704,null,null,null,null,null,null,null,null,null,null,null,null,null,null,null,null,null,null,"~"]
["SA37",2020,"KZN434",705,null,null,null,null,null,null,null,null,null,null,null,null,null,null,null,null,null,null,"~"]
["SA37",2020,"KZN434",706,null,null,null,null,null,null,null,null,null,null,null,null,null,null,null,null,null,null,"~"]
["SA37",2020,"KZN434",707,null,null,null,null,null,null,null,null,null,null,null,null,null,null,null,null,null,null,"~"]
["SA37",2020,"KZN434",708,null,null,null,null,null,null,null,null,null,null,null,null,null,null,null,null,null,null,"~"]
["SA37",2020,"KZN434",709,null,null,null,null,null,null,null,null,null,null,null,null,null,null,null,null,null,null,"~"]
["SA37",2020,"KZN434",710,null,null,null,null,null,null,null,null,null,null,null,null,null,null,null,null,null,null,"~"]
["SA37",2020,"KZN434",711,null,null,null,null,null,null,null,null,null,null,null,null,null,null,null,null,null,null,"~"]
["SA37",2020,"KZN434",712,null,null,null,null,null,null,null,null,null,null,null,null,null,null,null,null,null,null,"~"]
["SA37",2020,"KZN434",713,null,null,null,null,null,null,null,null,null,null,null,null,null,null,null,null,null,null,"~"]
["SA37",2020,"KZN434",714,null,null,null,null,null,null,null,null,null,null,null,null,null,null,null,null,null,null,"~"]
["SA37",2020,"KZN434",715,null,null,null,null,null,null,null,null,null,null,null,null,null,null,null,null,null,null,"~"]
["SA37",2020,"KZN434",716,null,null,null,null,null,null,null,null,null,null,null,null,null,null,null,null,null,null,"~"]
["SA37",2020,"KZN434",717,null,null,null,null,null,null,null,null,null,null,null,null,null,null,null,null,null,null,"~"]
["SA37",2020,"KZN434",718,null,null,null,null,null,null,null,null,null,null,null,null,null,null,null,null,null,null,"~"]
["SA37",2020,"KZN434",719,null,null,null,null,null,null,null,null,null,null,null,null,null,null,null,null,null,null,"~"]
["SA37",2020,"KZN434",720,null,null,null,null,null,null,null,null,null,null,null,null,null,null,null,null,null,null,"~"]
["SA37",2020,"KZN434",721,null,null,null,null,null,null,null,null,null,null,null,null,null,null,null,null,null,null,"~"]
["SA37",2020,"KZN434",722,null,null,null,null,null,null,null,null,null,null,null,null,null,null,null,null,null,null,"~"]
["SA37",2020,"KZN434",723,null,null,null,null,null,null,null,null,null,null,null,null,null,null,null,null,null,null,"~"]
["SA37",2020,"KZN434",724,null,null,null,null,null,null,null,null,null,null,null,null,null,null,null,null,null,null,"~"]
["SA37",2020,"KZN434",725,null,null,null,null,null,null,null,null,null,null,null,null,null,null,null,null,null,null,"~"]
["SA37",2020,"KZN434",726,null,null,null,null,null,null,null,null,null,null,null,null,null,null,null,null,null,null,"~"]
["SA37",2020,"KZN434",727,null,null,null,null,null,null,null,null,null,null,null,null,null,null,null,null,null,null,"~"]
["SA37",2020,"KZN434",728,null,null,null,null,null,null,null,null,null,null,null,null,null,null,null,null,null,null,"~"]
["SA37",2020,"KZN434",729,null,null,null,null,null,null,null,null,null,null,null,null,null,null,null,null,null,null,"~"]
["SA37",2020,"KZN434",730,null,null,null,null,null,null,null,null,null,null,null,null,null,null,null,null,null,null,"~"]
["SA37",2020,"KZN434",731,null,null,null,null,null,null,null,null,null,null,null,null,null,null,null,null,null,null,"~"]
["SA37",2020,"KZN434",732,null,null,null,null,null,null,null,null,null,null,null,null,null,null,null,null,null,null,"~"]
["SA37",2020,"KZN434",733,null,null,null,null,null,null,null,null,null,null,null,null,null,null,null,null,null,null,"~"]
["SA37",2020,"KZN434",734,null,null,null,null,null,null,null,null,null,null,null,null,null,null,null,null,null,null,"~"]
["SA37",2020,"KZN434",735,null,null,null,null,null,null,null,null,null,null,null,null,null,null,null,null,null,null,"~"]
["SA37",2020,"KZN434",736,null,null,null,null,null,null,null,null,null,null,null,null,null,null,null,null,null,null,"~"]
["SA37",2020,"KZN434",737,null,null,null,null,null,null,null,null,null,null,null,null,null,null,null,null,null,null,"~"]
["SA37",2020,"KZN434",738,null,null,null,null,null,null,null,null,null,null,null,null,null,null,null,null,null,null,"~"]
["SA37",2020,"KZN434",739,null,null,null,null,null,null,null,null,null,null,null,null,null,null,null,null,null,null,"~"]
["SA37",2020,"KZN434",740,null,null,null,null,null,null,null,null,null,null,null,null,null,null,null,null,null,null,"~"]
["SA37",2020,"KZN434",741,null,null,null,null,null,null,null,null,null,null,null,null,null,null,null,null,null,null,"~"]
["SA37",2020,"KZN434",742,null,null,null,null,null,null,null,null,null,null,null,null,null,null,null,null,null,null,"~"]
["SA37",2020,"KZN434",743,null,null,null,null,null,null,null,null,null,null,null,null,null,null,null,null,null,null,"~"]
["SA37",2020,"KZN434",744,null,null,null,null,null,null,null,null,null,null,null,null,null,null,null,null,null,null,"~"]
["SA37",2020,"KZN434",745,null,null,null,null,null,null,null,null,null,null,null,null,null,null,null,null,null,null,"~"]
["SA37",2020,"KZN434",746,null,null,null,null,null,null,null,null,null,null,null,null,null,null,null,null,null,null,"~"]
["SA37",2020,"KZN434",747,null,null,null,null,null,null,null,null,null,null,null,null,null,null,null,null,null,null,"~"]
["SA37",2020,"KZN434",748,null,null,null,null,null,null,null,null,null,null,null,null,null,null,null,null,null,null,"~"]
["SA37",2020,"KZN434",749,null,null,null,null,null,null,null,null,null,null,null,null,null,null,null,null,null,null,"~"]
["SA37",2020,"KZN434",750,null,null,null,null,null,null,null,null,null,null,null,null,null,null,null,null,null,null,"~"]
["SA37",2020,"KZN434",751,null,null,null,null,null,null,null,null,null,null,null,null,null,null,null,null,null,null,"~"]
["SA37",{"$f":"+MTREF","v":2020},{"$f":"LEFT(muni,(FIND(\" \",muni,1)-1))","v":"KZN434"},752,null,null,null,null,null,null,null,null,null,null,null,null,null,null,null,null,null,null,"~"]
["SA37",2020,"KZN434",753,null,null,null,null,null,null,null,null,null,null,null,null,null,null,null,null,null,null,"~"]
["SA37",2020,"KZN434",754,null,null,null,null,null,null,null,null,null,null,null,null,null,null,null,null,null,null,"~"]
["SA37",2020,"KZN434",755,null,null,null,null,null,null,null,null,null,null,null,null,null,null,null,null,null,null,"~"]
["SA37",2020,"KZN434",756,null,null,null,null,null,null,null,null,null,null,null,null,null,null,null,null,null,null,"~"]
["SA37",2020,"KZN434",757,null,null,null,null,null,null,null,null,null,null,null,null,null,null,null,null,null,null,"~"]
["SA37",2020,"KZN434",758,null,null,null,null,null,null,null,null,null,null,null,null,null,null,null,null,null,null,"~"]
["SA37",2020,"KZN434",759,null,null,null,null,null,null,null,null,null,null,null,null,null,null,null,null,null,null,"~"]
["SA37",2020,"KZN434",760,null,null,null,null,null,null,null,null,null,null,null,null,null,null,null,null,null,null,"~"]
["SA37",2020,"KZN434",761,null,null,null,null,null,null,null,null,null,null,null,null,null,null,null,null,null,null,"~"]
["SA37",2020,"KZN434",762,null,null,null,null,null,null,null,null,null,null,null,null,null,null,null,null,null,null,"~"]
["SA37",2020,"KZN434",763,null,null,null,null,null,null,null,null,null,null,null,null,null,null,null,null,null,null,"~"]
["SA37",2020,"KZN434",764,null,null,null,null,null,null,null,null,null,null,null,null,null,null,null,null,null,null,"~"]
["SA37",2020,"KZN434",765,null,null,null,null,null,null,null,null,null,null,null,null,null,null,null,null,null,null,"~"]
["SA37",2020,"KZN434",766,null,null,null,null,null,null,null,null,null,null,null,null,null,null,null,null,null,null,"~"]
["SA37",2020,"KZN434",767,null,null,null,null,null,null,null,null,null,null,null,null,null,null,null,null,null,null,"~"]
["SA37",2020,"KZN434",768,null,null,null,null,null,null,null,null,null,null,null,null,null,null,null,null,null,null,"~"]
["SA37",2020,"KZN434",769,null,null,null,null,null,null,null,null,null,null,null,null,null,null,null,null,null,null,"~"]
["SA37",2020,"KZN434",770,null,null,null,null,null,null,null,null,null,null,null,null,null,null,null,null,null,null,"~"]
["SA37",2020,"KZN434",771,null,null,null,null,null,null,null,null,null,null,null,null,null,null,null,null,null,null,"~"]
["SA37",2020,"KZN434",772,null,null,null,null,null,null,null,null,null,null,null,null,null,null,null,null,null,null,"~"]
["SA37",2020,"KZN434",773,null,null,null,null,null,null,null,null,null,null,null,null,null,null,null,null,null,null,"~"]
["SA37",2020,"KZN434",774,null,null,null,null,null,null,null,null,null,null,null,null,null,null,null,null,null,null,"~"]
["SA37",2020,"KZN434",775,null,null,null,null,null,null,null,null,null,null,null,null,null,null,null,null,null,null,"~"]
["SA37",2020,"KZN434",776,null,null,null,null,null,null,null,null,null,null,null,null,null,null,null,null,null,null,"~"]
["SA37",2020,"KZN434",777,null,null,null,null,null,null,null,null,null,null,null,null,null,null,null,null,null,null,"~"]
["SA37",2020,"KZN434",778,null,null,null,null,null,null,null,null,null,null,null,null,null,null,null,null,null,null,"~"]
["SA37",2020,"KZN434",779,null,null,null,null,null,null,null,null,null,null,null,null,null,null,null,null,null,null,"~"]
["SA37",2020,"KZN434",780,null,null,null,null,null,null,null,null,null,null,null,null,null,null,null,null,null,null,"~"]
["SA37",2020,"KZN434",781,null,null,null,null,null,null,null,null,null,null,null,null,null,null,null,null,null,null,"~"]
["SA37",2020,"KZN434",782,null,null,null,null,null,null,null,null,null,null,null,null,null,null,null,null,null,null,"~"]
["SA37",2020,"KZN434",783,null,null,null,null,null,null,null,null,null,null,null,null,null,null,null,null,null,null,"~"]
["SA37",2020,"KZN434",784,null,null,null,null,null,null,null,null,null,null,null,null,null,null,null,null,null,null,"~"]
["SA37",2020,"KZN434",785,null,null,null,null,null,null,null,null,null,null,null,null,null,null,null,null,null,null,"~"]
["SA37",2020,"KZN434",786,null,null,null,null,null,null,null,null,null,null,null,null,null,null,null,null,null,null,"~"]
["SA37",2020,"KZN434",787,null,null,null,null,null,null,null,null,null,null,null,null,null,null,null,null,null,null,"~"]
["SA37",2020,"KZN434",788,null,null,null,null,null,null,null,null,null,null,null,null,null,null,null,null,null,null,"~"]
["SA37",2020,"KZN434",789,null,null,null,null,null,null,null,null,null,null,null,null,null,null,null,null,null,null,"~"]
["SA37",2020,"KZN434",790,null,null,null,null,null,null,null,null,null,null,null,null,null,null,null,null,null,null,"~"]
["SA37",2020,"KZN434",791,null,null,null,null,null,null,null,null,null,null,null,null,null,null,null,null,null,null,"~"]
["SA37",2020,"KZN434",792,null,null,null,null,null,null,null,null,null,null,null,null,null,null,null,null,null,null,"~"]
["SA37",2020,"KZN434",793,null,null,null,null,null,null,null,null,null,null,null,null,null,null,null,null,null,null,"~"]
["SA37",2020,"KZN434",794,null,null,null,null,null,null,null,null,null,null,null,null,null,null,null,null,null,null,"~"]
["SA37",2020,"KZN434",795,null,null,null,null,null,null,null,null,null,null,null,null,null,null,null,null,null,null,"~"]
["SA37",2020,"KZN434",796,null,null,null,null,null,null,null,null,null,null,null,null,null,null,null,null,null,null,"~"]
["SA37",2020,"KZN434",797,null,null,null,null,null,null,null,null,null,null,null,null,null,null,null,null,null,null,"~"]
["SA37",2020,"KZN434",798,null,null,null,null,null,null,null,null,null,null,null,null,null,null,null,null,null,null,"~"]
["SA37",2020,"KZN434",799,null,null,null,null,null,null,null,null,null,null,null,null,null,null,null,null,null,null,"~"]
["SA37",2020,"KZN434",800,null,null,null,null,null,null,null,null,null,null,null,null,null,null,null,null,null,null,"~"]
["SA37",2020,"KZN434",801,null,null,null,null,null,null,null,null,null,null,null,null,null,null,null,null,null,null,"~"]
["SA37",2020,"KZN434",802,null,null,null,null,null,null,null,null,null,null,null,null,null,null,null,null,null,null,"~"]
["SA37",2020,"KZN434",803,null,null,null,null,null,null,null,null,null,null,null,null,null,null,null,null,null,null,"~"]
["SA37",2020,"KZN434",804,null,null,null,null,null,null,null,null,null,null,null,null,null,null,null,null,null,null,"~"]
["SA37",2020,"KZN434",805,null,null,null,null,null,null,null,null,null,null,null,null,null,null,null,null,null,null,"~"]
["SA37",2020,"KZN434",806,null,null,null,null,null,null,null,null,null,null,null,null,null,null,null,null,null,null,"~"]
["SA37",2020,"KZN434",807,null,null,null,null,null,null,null,null,null,null,null,null,null,null,null,null,null,null,"~"]
["SA37",2020,"KZN434",808,null,null,null,null,null,null,null,null,null,null,null,null,null,null,null,null,null,null,"~"]
["SA37",2020,"KZN434",809,null,null,null,null,null,null,null,null,null,null,null,null,null,null,null,null,null,null,"~"]
["SA37",2020,"KZN434",810,null,null,null,null,null,null,null,null,null,null,null,null,null,null,null,null,null,null,"~"]
["SA37",2020,"KZN434",811,null,null,null,null,null,null,null,null,null,null,null,null,null,null,null,null,null,null,"~"]
["SA37",2020,"KZN434",812,null,null,null,null,null,null,null,null,null,null,null,null,null,null,null,null,null,null,"~"]
["SA37",2020,"KZN434",813,null,null,null,null,null,null,null,null,null,null,null,null,null,null,null,null,null,null,"~"]
["SA37",2020,"KZN434",814,null,null,null,null,null,null,null,null,null,null,null,null,null,null,null,null,null,null,"~"]
["SA37",2020,"KZN434",815,null,null,null,null,null,null,null,null,null,null,null,null,null,null,null,null,null,null,"~"]
["SA37",{"$f":"+MTREF","v":2020},{"$f":"LEFT(muni,(FIND(\" \",muni,1)-1))","v":"KZN434"},816,null,null,null,null,null,null,null,null,null,null,null,null,null,null,null,null,null,null,"~"]
["SA37",2020,"KZN434",817,null,null,null,null,null,null,null,null,null,null,null,null,null,null,null,null,null,null,"~"]
["SA37",2020,"KZN434",818,null,null,null,null,null,null,null,null,null,null,null,null,null,null,null,null,null,null,"~"]
["SA37",2020,"KZN434",819,null,null,null,null,null,null,null,null,null,null,null,null,null,null,null,null,null,null,"~"]
["SA37",2020,"KZN434",820,null,null,null,null,null,null,null,null,null,null,null,null,null,null,null,null,null,null,"~"]
["SA37",2020,"KZN434",821,null,null,null,null,null,null,null,null,null,null,null,null,null,null,null,null,null,null,"~"]
["SA37",2020,"KZN434",822,null,null,null,null,null,null,null,null,null,null,null,null,null,null,null,null,null,null,"~"]
["SA37",2020,"KZN434",823,null,null,null,null,null,null,null,null,null,null,null,null,null,null,null,null,null,null,"~"]
["SA37",2020,"KZN434",824,null,null,null,null,null,null,null,null,null,null,null,null,null,null,null,null,null,null,"~"]
["SA37",2020,"KZN434",825,null,null,null,null,null,null,null,null,null,null,null,null,null,null,null,null,null,null,"~"]
["SA37",2020,"KZN434",826,null,null,null,null,null,null,null,null,null,null,null,null,null,null,null,null,null,null,"~"]
["SA37",2020,"KZN434",827,null,null,null,null,null,null,null,null,null,null,null,null,null,null,null,null,null,null,"~"]
["SA37",2020,"KZN434",828,null,null,null,null,null,null,null,null,null,null,null,null,null,null,null,null,null,null,"~"]
["SA37",2020,"KZN434",829,null,null,null,null,null,null,null,null,null,null,null,null,null,null,null,null,null,null,"~"]
["SA37",2020,"KZN434",830,null,null,null,null,null,null,null,null,null,null,null,null,null,null,null,null,null,null,"~"]
["SA37",2020,"KZN434",831,null,null,null,null,null,null,null,null,null,null,null,null,null,null,null,null,null,null,"~"]
["SA37",2020,"KZN434",832,null,null,null,null,null,null,null,null,null,null,null,null,null,null,null,null,null,null,"~"]
["SA37",2020,"KZN434",833,null,null,null,null,null,null,null,null,null,null,null,null,null,null,null,null,null,null,"~"]
["SA37",2020,"KZN434",834,null,null,null,null,null,null,null,null,null,null,null,null,null,null,null,null,null,null,"~"]
["SA37",2020,"KZN434",835,null,null,null,null,null,null,null,null,null,null,null,null,null,null,null,null,null,null,"~"]
["SA37",2020,"KZN434",836,null,null,null,null,null,null,null,null,null,null,null,null,null,null,null,null,null,null,"~"]
["SA37",2020,"KZN434",837,null,null,null,null,null,null,null,null,null,null,null,null,null,null,null,null,null,null,"~"]
["SA37",2020,"KZN434",838,null,null,null,null,null,null,null,null,null,null,null,null,null,null,null,null,null,null,"~"]
["SA37",2020,"KZN434",839,null,null,null,null,null,null,null,null,null,null,null,null,null,null,null,null,null,null,"~"]
["SA37",2020,"KZN434",840,null,null,null,null,null,null,null,null,null,null,null,null,null,null,null,null,null,null,"~"]
["SA37",2020,"KZN434",841,null,null,null,null,null,null,null,null,null,null,null,null,null,null,null,null,null,null,"~"]
["SA37",2020,"KZN434",842,null,null,null,null,null,null,null,null,null,null,null,null,null,null,null,null,null,null,"~"]
["SA37",2020,"KZN434",843,null,null,null,null,null,null,null,null,null,null,null,null,null,null,null,null,null,null,"~"]
["SA37",2020,"KZN434",844,null,null,null,null,null,null,null,null,null,null,null,null,null,null,null,null,null,null,"~"]
["SA37",2020,"KZN434",845,null,null,null,null,null,null,null,null,null,null,null,null,null,null,null,null,null,null,"~"]
["SA37",2020,"KZN434",846,null,null,null,null,null,null,null,null,null,null,null,null,null,null,null,null,null,null,"~"]
["SA37",2020,"KZN434",847,null,null,null,null,null,null,null,null,null,null,null,null,null,null,null,null,null,null,"~"]
["SA37",2020,"KZN434",848,null,null,null,null,null,null,null,null,null,null,null,null,null,null,null,null,null,null,"~"]
["SA37",2020,"KZN434",849,null,null,null,null,null,null,null,null,null,null,null,null,null,null,null,null,null,null,"~"]
["SA37",2020,"KZN434",850,null,null,null,null,null,null,null,null,null,null,null,null,null,null,null,null,null,null,"~"]
["SA37",2020,"KZN434",851,null,null,null,null,null,null,null,null,null,null,null,null,null,null,null,null,null,null,"~"]
["SA37",2020,"KZN434",852,null,null,null,null,null,null,null,null,null,null,null,null,null,null,null,null,null,null,"~"]
["SA37",2020,"KZN434",853,null,null,null,null,null,null,null,null,null,null,null,null,null,null,null,null,null,null,"~"]
["SA37",2020,"KZN434",854,null,null,null,null,null,null,null,null,null,null,null,null,null,null,null,null,null,null,"~"]
["SA37",2020,"KZN434",855,null,null,null,null,null,null,null,null,null,null,null,null,null,null,null,null,null,null,"~"]
["SA37",2020,"KZN434",856,null,null,null,null,null,null,null,null,null,null,null,null,null,null,null,null,null,null,"~"]
["SA37",2020,"KZN434",857,null,null,null,null,null,null,null,null,null,null,null,null,null,null,null,null,null,null,"~"]
["SA37",2020,"KZN434",858,null,null,null,null,null,null,null,null,null,null,null,null,null,null,null,null,null,null,"~"]
["SA37",2020,"KZN434",859,null,null,null,null,null,null,null,null,null,null,null,null,null,null,null,null,null,null,"~"]
["SA37",2020,"KZN434",860,null,null,null,null,null,null,null,null,null,null,null,null,null,null,null,null,null,null,"~"]
["SA37",2020,"KZN434",861,null,null,null,null,null,null,null,null,null,null,null,null,null,null,null,null,null,null,"~"]
["SA37",2020,"KZN434",862,null,null,null,null,null,null,null,null,null,null,null,null,null,null,null,null,null,null,"~"]
["SA37",2020,"KZN434",863,null,null,null,null,null,null,null,null,null,null,null,null,null,null,null,null,null,null,"~"]
["SA37",2020,"KZN434",864,null,null,null,null,null,null,null,null,null,null,null,null,null,null,null,null,null,null,"~"]
["SA37",2020,"KZN434",865,null,null,null,null,null,null,null,null,null,null,null,null,null,null,null,null,null,null,"~"]
["SA37",2020,"KZN434",866,null,null,null,null,null,null,null,null,null,null,null,null,null,null,null,null,null,null,"~"]
["SA37",2020,"KZN434",867,null,null,null,null,null,null,null,null,null,null,null,null,null,null,null,null,null,null,"~"]
["SA37",2020,"KZN434",868,null,null,null,null,null,null,null,null,null,null,null,null,null,null,null,null,null,null,"~"]
["SA37",2020,"KZN434",869,null,null,null,null,null,null,null,null,null,null,null,null,null,null,null,null,null,null,"~"]
["SA37",2020,"KZN434",870,null,null,null,null,null,null,null,null,null,null,null,null,null,null,null,null,null,null,"~"]
["SA37",2020,"KZN434",871,null,null,null,null,null,null,null,null,null,null,null,null,null,null,null,null,null,null,"~"]
["SA37",2020,"KZN434",872,null,null,null,null,null,null,null,null,null,null,null,null,null,null,null,null,null,null,"~"]
["SA37",2020,"KZN434",873,null,null,null,null,null,null,null,null,null,null,null,null,null,null,null,null,null,null,"~"]
["SA37",2020,"KZN434",874,null,null,null,null,null,null,null,null,null,null,null,null,null,null,null,null,null,null,"~"]
["SA37",2020,"KZN434",875,null,null,null,null,null,null,null,null,null,null,null,null,null,null,null,null,null,null,"~"]
["SA37",2020,"KZN434",876,null,null,null,null,null,null,null,null,null,null,null,null,null,null,null,null,null,null,"~"]
["SA37",2020,"KZN434",877,null,null,null,null,null,null,null,null,null,null,null,null,null,null,null,null,null,null,"~"]
["SA37",2020,"KZN434",878,null,null,null,null,null,null,null,null,null,null,null,null,null,null,null,null,null,null,"~"]
["SA37",2020,"KZN434",879,null,null,null,null,null,null,null,null,null,null,null,null,null,null,null,null,null,null,"~"]
["SA37",{"$f":"+MTREF","v":2020},{"$f":"LEFT(muni,(FIND(\" \",muni,1)-1))","v":"KZN434"},880,null,null,null,null,null,null,null,null,null,null,null,null,null,null,null,null,null,null,"~"]
["SA37",2020,"KZN434",881,null,null,null,null,null,null,null,null,null,null,null,null,null,null,null,null,null,null,"~"]
["SA37",2020,"KZN434",882,null,null,null,null,null,null,null,null,null,null,null,null,null,null,null,null,null,null,"~"]
["SA37",2020,"KZN434",883,null,null,null,null,null,null,null,null,null,null,null,null,null,null,null,null,null,null,"~"]
["SA37",2020,"KZN434",884,null,null,null,null,null,null,null,null,null,null,null,null,null,null,null,null,null,null,"~"]
["SA37",2020,"KZN434",885,null,null,null,null,null,null,null,null,null,null,null,null,null,null,null,null,null,null,"~"]
["SA37",2020,"KZN434",886,null,null,null,null,null,null,null,null,null,null,null,null,null,null,null,null,null,null,"~"]
["SA37",2020,"KZN434",887,null,null,null,null,null,null,null,null,null,null,null,null,null,null,null,null,null,null,"~"]
["SA37",2020,"KZN434",888,null,null,null,null,null,null,null,null,null,null,null,null,null,null,null,null,null,null,"~"]
["SA37",2020,"KZN434",889,null,null,null,null,null,null,null,null,null,null,null,null,null,null,null,null,null,null,"~"]
["SA37",2020,"KZN434",890,null,null,null,null,null,null,null,null,null,null,null,null,null,null,null,null,null,null,"~"]
["SA37",2020,"KZN434",891,null,null,null,null,null,null,null,null,null,null,null,null,null,null,null,null,null,null,"~"]
["SA37",2020,"KZN434",892,null,null,null,null,null,null,null,null,null,null,null,null,null,null,null,null,null,null,"~"]
["SA37",2020,"KZN434",893,null,null,null,null,null,null,null,null,null,null,null,null,null,null,null,null,null,null,"~"]
["SA37",2020,"KZN434",894,null,null,null,null,null,null,null,null,null,null,null,null,null,null,null,null,null,null,"~"]
["SA37",2020,"KZN434",895,null,null,null,null,null,null,null,null,null,null,null,null,null,null,null,null,null,null,"~"]
["SA37",2020,"KZN434",896,null,null,null,null,null,null,null,null,null,null,null,null,null,null,null,null,null,null,"~"]
["SA37",2020,"KZN434",897,null,null,null,null,null,null,null,null,null,null,null,null,null,null,null,null,null,null,"~"]
["SA37",2020,"KZN434",898,null,null,null,null,null,null,null,null,null,null,null,null,null,null,null,null,null,null,"~"]
["SA37",2020,"KZN434",899,null,null,null,null,null,null,null,null,null,null,null,null,null,null,null,null,null,null,"~"]
["SA37",2020,"KZN434",900,null,null,null,null,null,null,null,null,null,null,null,null,null,null,null,null,null,null,"~"]
["SA37",2020,"KZN434",901,null,null,null,null,null,null,null,null,null,null,null,null,null,null,null,null,null,null,"~"]
["SA37",2020,"KZN434",902,null,null,null,null,null,null,null,null,null,null,null,null,null,null,null,null,null,null,"~"]
["SA37",2020,"KZN434",903,null,null,null,null,null,null,null,null,null,null,null,null,null,null,null,null,null,null,"~"]
["SA37",2020,"KZN434",904,null,null,null,null,null,null,null,null,null,null,null,null,null,null,null,null,null,null,"~"]
["SA37",2020,"KZN434",905,null,null,null,null,null,null,null,null,null,null,null,null,null,null,null,null,null,null,"~"]
["SA37",2020,"KZN434",906,null,null,null,null,null,null,null,null,null,null,null,null,null,null,null,null,null,null,"~"]
["SA37",2020,"KZN434",907,null,null,null,null,null,null,null,null,null,null,null,null,null,null,null,null,null,null,"~"]
["SA37",2020,"KZN434",908,null,null,null,null,null,null,null,null,null,null,null,null,null,null,null,null,null,null,"~"]
["SA37",2020,"KZN434",909,null,null,null,null,null,null,null,null,null,null,null,null,null,null,null,null,null,null,"~"]
["SA37",2020,"KZN434",910,null,null,null,null,null,null,null,null,null,null,null,null,null,null,null,null,null,null,"~"]
["SA37",2020,"KZN434",911,null,null,null,null,null,null,null,null,null,null,null,null,null,null,null,null,null,null,"~"]
["SA37",2020,"KZN434",912,null,null,null,null,null,null,null,null,null,null,null,null,null,null,null,null,null,null,"~"]
["SA37",2020,"KZN434",913,null,null,null,null,null,null,null,null,null,null,null,null,null,null,null,null,null,null,"~"]
["SA37",2020,"KZN434",914,null,null,null,null,null,null,null,null,null,null,null,null,null,null,null,null,null,null,"~"]
["SA37",2020,"KZN434",915,null,null,null,null,null,null,null,null,null,null,null,null,null,null,null,null,null,null,"~"]
["SA37",2020,"KZN434",916,null,null,null,null,null,null,null,null,null,null,null,null,null,null,null,null,null,null,"~"]
["SA37",2020,"KZN434",917,null,null,null,null,null,null,null,null,null,null,null,null,null,null,null,null,null,null,"~"]
["SA37",2020,"KZN434",918,null,null,null,null,null,null,null,null,null,null,null,null,null,null,null,null,null,null,"~"]
["SA37",2020,"KZN434",919,null,null,null,null,null,null,null,null,null,null,null,null,null,null,null,null,null,null,"~"]
["SA37",2020,"KZN434",920,null,null,null,null,null,null,null,null,null,null,null,null,null,null,null,null,null,null,"~"]
["SA37",2020,"KZN434",921,null,null,null,null,null,null,null,null,null,null,null,null,null,null,null,null,null,null,"~"]
["SA37",2020,"KZN434",922,null,null,null,null,null,null,null,null,null,null,null,null,null,null,null,null,null,null,"~"]
["SA37",2020,"KZN434",923,null,null,null,null,null,null,null,null,null,null,null,null,null,null,null,null,null,null,"~"]
["SA37",2020,"KZN434",924,null,null,null,null,null,null,null,null,null,null,null,null,null,null,null,null,null,null,"~"]
["SA37",2020,"KZN434",925,null,null,null,null,null,null,null,null,null,null,null,null,null,null,null,null,null,null,"~"]
["SA37",2020,"KZN434",926,null,null,null,null,null,null,null,null,null,null,null,null,null,null,null,null,null,null,"~"]
["SA37",2020,"KZN434",927,null,null,null,null,null,null,null,null,null,null,null,null,null,null,null,null,null,null,"~"]
["SA37",2020,"KZN434",928,null,null,null,null,null,null,null,null,null,null,null,null,null,null,null,null,null,null,"~"]
["SA37",2020,"KZN434",929,null,null,null,null,null,null,null,null,null,null,null,null,null,null,null,null,null,null,"~"]
["SA37",2020,"KZN434",930,null,null,null,null,null,null,null,null,null,null,null,null,null,null,null,null,null,null,"~"]
["SA37",2020,"KZN434",931,null,null,null,null,null,null,null,null,null,null,null,null,null,null,null,null,null,null,"~"]
["SA37",2020,"KZN434",932,null,null,null,null,null,null,null,null,null,null,null,null,null,null,null,null,null,null,"~"]
["SA37",2020,"KZN434",933,null,null,null,null,null,null,null,null,null,null,null,null,null,null,null,null,null,null,"~"]
["SA37",2020,"KZN434",934,null,null,null,null,null,null,null,null,null,null,null,null,null,null,null,null,null,null,"~"]
["SA37",2020,"KZN434",935,null,null,null,null,null,null,null,null,null,null,null,null,null,null,null,null,null,null,"~"]
["SA37",2020,"KZN434",936,null,null,null,null,null,null,null,null,null,null,null,null,null,null,null,null,null,null,"~"]
["SA37",2020,"KZN434",937,null,null,null,null,null,null,null,null,null,null,null,null,null,null,null,null,null,null,"~"]
["SA37",2020,"KZN434",938,null,null,null,null,null,null,null,null,null,null,null,null,null,null,null,null,null,null,"~"]
["SA37",2020,"KZN434",939,null,null,null,null,null,null,null,null,null,null,null,null,null,null,null,null,null,null,"~"]
["SA37",2020,"KZN434",940,null,null,null,null,null,null,null,null,null,null,null,null,null,null,null,null,null,null,"~"]
["SA37",2020,"KZN434",941,null,null,null,null,null,null,null,null,null,null,null,null,null,null,null,null,null,null,"~"]
["SA37",2020,"KZN434",942,null,null,null,null,null,null,null,null,null,null,null,null,null,null,null,null,null,null,"~"]
["SA37",2020,"KZN434",943,null,null,null,null,null,null,null,null,null,null,null,null,null,null,null,null,null,null,"~"]
["SA37",{"$f":"+MTREF","v":2020},{"$f":"LEFT(muni,(FIND(\" \",muni,1)-1))","v":"KZN434"},944,null,null,null,null,null,null,null,null,null,null,null,null,null,null,null,null,null,null,"~"]
["SA37",2020,"KZN434",945,null,null,null,null,null,null,null,null,null,null,null,null,null,null,null,null,null,null,"~"]
["SA37",2020,"KZN434",946,null,null,null,null,null,null,null,null,null,null,null,null,null,null,null,null,null,null,"~"]
["SA37",2020,"KZN434",947,null,null,null,null,null,null,null,null,null,null,null,null,null,null,null,null,null,null,"~"]
["SA37",2020,"KZN434",948,null,null,null,null,null,null,null,null,null,null,null,null,null,null,null,null,null,null,"~"]
["SA37",2020,"KZN434",949,null,null,null,null,null,null,null,null,null,null,null,null,null,null,null,null,null,null,"~"]
["SA37",2020,"KZN434",950,null,null,null,null,null,null,null,null,null,null,null,null,null,null,null,null,null,null,"~"]
["SA37",2020,"KZN434",951,null,null,null,null,null,null,null,null,null,null,null,null,null,null,null,null,null,null,"~"]
["SA37",2020,"KZN434",952,null,null,null,null,null,null,null,null,null,null,null,null,null,null,null,null,null,null,"~"]
["SA37",2020,"KZN434",953,null,null,null,null,null,null,null,null,null,null,null,null,null,null,null,null,null,null,"~"]
["SA37",2020,"KZN434",954,null,null,null,null,null,null,null,null,null,null,null,null,null,null,null,null,null,null,"~"]
["SA37",2020,"KZN434",955,null,null,null,null,null,null,null,null,null,null,null,null,null,null,null,null,null,null,"~"]
["SA37",2020,"KZN434",956,null,null,null,null,null,null,null,null,null,null,null,null,null,null,null,null,null,null,"~"]
["SA37",2020,"KZN434",957,null,null,null,null,null,null,null,null,null,null,null,null,null,null,null,null,null,null,"~"]
["SA37",2020,"KZN434",958,null,null,null,null,null,null,null,null,null,null,null,null,null,null,null,null,null,null,"~"]
["SA37",2020,"KZN434",959,null,null,null,null,null,null,null,null,null,null,null,null,null,null,null,null,null,null,"~"]
["SA37",2020,"KZN434",960,null,null,null,null,null,null,null,null,null,null,null,null,null,null,null,null,null,null,"~"]
["SA37",2020,"KZN434",961,null,null,null,null,null,null,null,null,null,null,null,null,null,null,null,null,null,null,"~"]
["SA37",2020,"KZN434",962,null,null,null,null,null,null,null,null,null,null,null,null,null,null,null,null,null,null,"~"]
["SA37",2020,"KZN434",963,null,null,null,null,null,null,null,null,null,null,null,null,null,null,null,null,null,null,"~"]
["SA37",2020,"KZN434",964,null,null,null,null,null,null,null,null,null,null,null,null,null,null,null,null,null,null,"~"]
["SA37",2020,"KZN434",965,null,null,null,null,null,null,null,null,null,null,null,null,null,null,null,null,null,null,"~"]
["SA37",2020,"KZN434",966,null,null,null,null,null,null,null,null,null,null,null,null,null,null,null,null,null,null,"~"]
["SA37",2020,"KZN434",967,null,null,null,null,null,null,null,null,null,null,null,null,null,null,null,null,null,null,"~"]
["SA37",2020,"KZN434",968,null,null,null,null,null,null,null,null,null,null,null,null,null,null,null,null,null,null,"~"]
["SA37",2020,"KZN434",969,null,null,null,null,null,null,null,null,null,null,null,null,null,null,null,null,null,null,"~"]
["SA37",2020,"KZN434",970,null,null,null,null,null,null,null,null,null,null,null,null,null,null,null,null,null,null,"~"]
["SA37",2020,"KZN434",971,null,null,null,null,null,null,null,null,null,null,null,null,null,null,null,null,null,null,"~"]
["SA37",2020,"KZN434",972,null,null,null,null,null,null,null,null,null,null,null,null,null,null,null,null,null,null,"~"]
["SA37",2020,"KZN434",973,null,null,null,null,null,null,null,null,null,null,null,null,null,null,null,null,null,null,"~"]
["SA37",2020,"KZN434",974,null,null,null,null,null,null,null,null,null,null,null,null,null,null,null,null,null,null,"~"]
["SA37",2020,"KZN434",975,null,null,null,null,null,null,null,null,null,null,null,null,null,null,null,null,null,null,"~"]
["SA37",2020,"KZN434",976,null,null,null,null,null,null,null,null,null,null,null,null,null,null,null,null,null,null,"~"]
["SA37",2020,"KZN434",977,null,null,null,null,null,null,null,null,null,null,null,null,null,null,null,null,null,null,"~"]
["SA37",2020,"KZN434",978,null,null,null,null,null,null,null,null,null,null,null,null,null,null,null,null,null,null,"~"]
["SA37",2020,"KZN434",979,null,null,null,null,null,null,null,null,null,null,null,null,null,null,null,null,null,null,"~"]
["SA37",2020,"KZN434",980,null,null,null,null,null,null,null,null,null,null,null,null,null,null,null,null,null,null,"~"]
["SA37",2020,"KZN434",981,null,null,null,null,null,null,null,null,null,null,null,null,null,null,null,null,null,null,"~"]
["SA37",2020,"KZN434",982,null,null,null,null,null,null,null,null,null,null,null,null,null,null,null,null,null,null,"~"]
["SA37",2020,"KZN434",983,null,null,null,null,null,null,null,null,null,null,null,null,null,null,null,null,null,null,"~"]
["SA37",2020,"KZN434",984,null,null,null,null,null,null,null,null,null,null,null,null,null,null,null,null,null,null,"~"]
["SA37",2020,"KZN434",985,null,null,null,null,null,null,null,null,null,null,null,null,null,null,null,null,null,null,"~"]
["SA37",2020,"KZN434",986,null,null,null,null,null,null,null,null,null,null,null,null,null,null,null,null,null,null,"~"]
["SA37",2020,"KZN434",987,null,null,null,null,null,null,null,null,null,null,null,null,null,null,null,null,null,null,"~"]
["SA37",2020,"KZN434",988,null,null,null,null,null,null,null,null,null,null,null,null,null,null,null,null,null,null,"~"]
["SA37",2020,"KZN434",989,null,null,null,null,null,null,null,null,null,null,null,null,null,null,null,null,null,null,"~"]
["SA37",2020,"KZN434",990,null,null,null,null,null,null,null,null,null,null,null,null,null,null,null,null,null,null,"~"]
["SA37",2020,"KZN434",991,null,null,null,null,null,null,null,null,null,null,null,null,null,null,null,null,null,null,"~"]
["SA37",2020,"KZN434",992,null,null,null,null,null,null,null,null,null,null,null,null,null,null,null,null,null,null,"~"]
["SA37",2020,"KZN434",993,null,null,null,null,null,null,null,null,null,null,null,null,null,null,null,null,null,null,"~"]
["SA37",2020,"KZN434",994,null,null,null,null,null,null,null,null,null,null,null,null,null,null,null,null,null,null,"~"]
["SA37",2020,"KZN434",995,null,null,null,null,null,null,null,null,null,null,null,null,null,null,null,null,null,null,"~"]
["SA37",2020,"KZN434",996,null,null,null,null,null,null,null,null,null,null,null,null,null,null,null,null,null,null,"~"]
["SA37",2020,"KZN434",997,null,null,null,null,null,null,null,null,null,null,null,null,null,null,null,null,null,null,"~"]
["SA37",2020,"KZN434",998,null,null,null,null,null,null,null,null,null,null,null,null,null,null,null,null,null,null,"~"]
["SA37",2020,"KZN434",999,null,null,null,null,null,null,null,null,null,null,null,null,null,null,null,null,null,null,"~"]
["SA37",2020,"KZN434",1000,null,null,null,null,null,null,null,null,null,null,null,null,null,null,null,null,null,null,"~"]
["CONTACT",2020,"KZN434",1,null,null,null,null,null,null,null,null,null,null,null,null,null,null,null,null,null,null,"~"]
["CONTACT",2020,"KZN434",2,null,null,null,null,null,null,null,null,null,null,null,null,null,null,null,null,null,null,"~"]
["CONTACT",2020,"KZN434",3,null,null,null,null,null,null,null,null,null,null,null,null,null,null,null,null,null,null,"~"]
["CONTACT",2020,"KZN434",4,null,null,null,null,null,null,null,null,null,null,null,null,null,null,null,null,null,null,"~"]
["CONTACT",2020,"KZN434",5,null,null,null,null,null,null,null,null,null,null,null,null,null,null,null,null,null,null,"~"]
["CONTACT",2020,"KZN434",6,null,null,null,null,null,null,null,null,null,null,null,null,null,null,null,null,null,null,"~"]
["CONTACT",2020,"KZN434",7,null,null,null,null,null,null,null,null,null,null,null,null,null,null,null,null,null,null,"~"]
["CONTACT",{"$f":"+MTREF","v":2020},{"$f":"LEFT(muni,(FIND(\" \",muni,1)-1))","v":"KZN434"},8,null,null,null,null,null,null,null,null,null,null,null,null,null,null,null,null,null,null,"~"]
["CONTACT",2020,"KZN434",9,null,null,null,null,null,null,null,null,null,null,null,null,null,null,null,null,null,null,"~"]
["CONTACT",2020,"KZN434",10,null,null,null,null,null,null,null,null,null,null,null,null,null,null,null,null,null,null,"~"]
["CONTACT",2020,"KZN434",11,null,null,null,null,null,null,null,null,null,null,null,null,null,null,null,null,null,null,"~"]
["CONTACT",2020,"KZN434",12,null,null,null,null,null,null,null,null,null,null,null,null,null,null,null,null,null,null,"~"]
["CONTACT",2020,"KZN434",13,null,null,null,null,null,null,null,null,null,null,null,null,null,null,null,null,null,null,"~"]
["CONTACT",2020,"KZN434",14,null,null,null,null,null,null,null,null,null,null,null,null,null,null,null,null,null,null,"~"]
["CONTACT",2020,"KZN434",15,null,null,null,null,null,null,null,null,null,null,null,null,null,null,null,null,null,null,"~"]
["CONTACT",2020,"KZN434",16,null,null,null,null,null,null,null,null,null,null,null,null,null,null,null,null,null,null,"~"]
["CONTACT",2020,"KZN434",17,null,null,null,null,null,null,null,null,null,null,null,null,null,null,null,null,null,null,"~"]
["CONTACT",2020,"KZN434",18,null,null,null,null,null,null,null,null,null,null,null,null,null,null,null,null,null,null,"~"]
["CONTACT",2020,"KZN434",19,null,null,null,null,null,null,null,null,null,null,null,null,null,null,null,null,null,null,"~"]
["CONTACT",2020,"KZN434",20,null,null,null,null,null,null,null,null,null,null,null,null,null,null,null,null,null,null,"~"]
["CONTACT",2020,"KZN434",21,null,null,null,null,null,null,null,null,null,null,null,null,null,null,null,null,null,null,"~"]
["CONTACT",2020,"KZN434",22,null,null,null,null,null,null,null,null,null,null,null,null,null,null,null,null,null,null,"~"]
["CONTACT",2020,"KZN434",23,null,null,null,null,null,null,null,null,null,null,null,null,null,null,null,null,null,null,"~"]
["CONTACT",2020,"KZN434",24,null,null,null,null,null,null,null,null,null,null,null,null,null,null,null,null,null,null,"~"]
["CONTACT",2020,"KZN434",25,null,null,null,null,null,null,null,null,null,null,null,null,null,null,null,null,null,null,"~"]
["CONTACT",2020,"KZN434",26,null,null,null,null,null,null,null,null,null,null,null,null,null,null,null,null,null,null,"~"]
["CONTACT",2020,"KZN434",27,null,null,null,null,null,null,null,null,null,null,null,null,null,null,null,null,null,null,"~"]
["CONTACT",2020,"KZN434",28,null,null,null,null,null,null,null,null,null,null,null,null,null,null,null,null,null,null,"~"]
["CONTACT",2020,"KZN434",29,null,null,null,null,null,null,null,null,null,null,null,null,null,null,null,null,null,null,"~"]
["CONTACT",2020,"KZN434",30,null,null,null,null,null,null,null,null,null,null,null,null,null,null,null,null,null,null,"~"]
["CONTACT",2020,"KZN434",31,null,null,null,null,null,null,null,null,null,null,null,null,null,null,null,null,null,null,"~"]
["CONTACT",2020,"KZN434",32,null,null,null,null,null,null,null,null,null,null,null,null,null,null,null,null,null,null,"~"]
["CONTACT",2020,"KZN434",33,null,null,null,null,null,null,null,null,null,null,null,null,null,null,null,null,null,null,"~"]
["CONTACT",2020,"KZN434",34,null,null,null,null,null,null,null,null,null,null,null,null,null,null,null,null,null,null,"~"]
["CONTACT",2020,"KZN434",35,null,null,null,null,null,null,null,null,null,null,null,null,null,null,null,null,null,null,"~"]
["CONTACT",2020,"KZN434",36,null,null,null,null,null,null,null,null,null,null,null,null,null,null,null,null,null,null,"~"]
["CONTACT",2020,"KZN434",37,null,null,null,null,null,null,null,null,null,null,null,null,null,null,null,null,null,null,"~"]
["CONTACT",2020,"KZN434",38,null,null,null,null,null,null,null,null,null,null,null,null,null,null,null,null,null,null,"~"]
["CONTACT",2020,"KZN434",39,null,null,null,null,null,null,null,null,null,null,null,null,null,null,null,null,null,null,"~"]
["CONTACT",2020,"KZN434",40,null,null,null,null,null,null,null,null,null,null,null,null,null,null,null,null,null,null,"~"]
["CONTACT",2020,"KZN434",41,null,null,null,null,null,null,null,null,null,null,null,null,null,null,null,null,null,null,"~"]
["CONTACT",2020,"KZN434",42,null,null,null,null,null,null,null,null,null,null,null,null,null,null,null,null,null,null,"~"]
["CONTACT",2020,"KZN434",43,null,null,null,null,null,null,null,null,null,null,null,null,null,null,null,null,null,null,"~"]
["CONTACT",2020,"KZN434",44,null,null,null,null,null,null,null,null,null,null,null,null,null,null,null,null,null,null,"~"]
["CONTACT",2020,"KZN434",45,null,null,null,null,null,null,null,null,null,null,null,null,null,null,null,null,null,null,"~"]
["CONTACT",2020,"KZN434",46,null,null,null,null,null,null,null,null,null,null,null,null,null,null,null,null,null,null,"~"]
["CONTACT",2020,"KZN434",47,null,null,null,null,null,null,null,null,null,null,null,null,null,null,null,null,null,null,"~"]
["CONTACT",2020,"KZN434",48,null,null,null,null,null,null,null,null,null,null,null,null,null,null,null,null,null,null,"~"]
["CONTACT",2020,"KZN434",49,null,null,null,null,null,null,null,null,null,null,null,null,null,null,null,null,null,null,"~"]
["CONTACT",2020,"KZN434",50,null,null,null,null,null,null,null,null,null,null,null,null,null,null,null,null,null,null,"~"]
["CONTACT",2020,"KZN434",51,null,null,null,null,null,null,null,null,null,null,null,null,null,null,null,null,null,null,"~"]
["CONTACT",2020,"KZN434",52,null,null,null,null,null,null,null,null,null,null,null,null,null,null,null,null,null,null,"~"]
["CONTACT",2020,"KZN434",53,null,null,null,null,null,null,null,null,null,null,null,null,null,null,null,null,null,null,"~"]
["CONTACT",2020,"KZN434",54,null,null,null,null,null,null,null,null,null,null,null,null,null,null,null,null,null,null,"~"]
["CONTACT",2020,"KZN434",55,null,null,null,null,null,null,null,null,null,null,null,null,null,null,null,null,null,null,"~"]
["CONTACT",2020,"KZN434",56,null,null,null,null,null,null,null,null,null,null,null,null,null,null,null,null,null,null,"~"]
["CONTACT",2020,"KZN434",57,null,null,null,null,null,null,null,null,null,null,null,null,null,null,null,null,null,null,"~"]
["CONTACT",2020,"KZN434",58,null,null,null,null,null,null,null,null,null,null,null,null,null,null,null,null,null,null,"~"]
["CONTACT",2020,"KZN434",59,null,null,null,null,null,null,null,null,null,null,null,null,null,null,null,null,null,null,"~"]
["CONTACT",2020,"KZN434",60,null,null,null,null,null,null,null,null,null,null,null,null,null,null,null,null,null,null,"~"]
["CONTACT",2020,"KZN434",61,null,null,null,null,null,null,null,null,null,null,null,null,null,null,null,null,null,null,"~"]
["CONTACT",2020,"KZN434",62,null,null,null,null,null,null,null,null,null,null,null,null,null,null,null,null,null,null,"~"]
["CONTACT",2020,"KZN434",63,null,null,null,null,null,null,null,null,null,null,null,null,null,null,null,null,null,null,"~"]
["CONTACT",2020,"KZN434",64,null,null,null,null,null,null,null,null,null,null,null,null,null,null,null,null,null,null,"~"]
["CONTACT",2020,"KZN434",65,null,null,null,null,null,null,null,null,null,null,null,null,null,null,null,null,null,null,"~"]
["CONTACT",2020,"KZN434",66,null,null,null,null,null,null,null,null,null,null,null,null,null,null,null,null,null,null,"~"]
["CONTACT",2020,"KZN434",67,null,null,null,null,null,null,null,null,null,null,null,null,null,null,null,null,null,null,"~"]
["CONTACT",2020,"KZN434",68,null,null,null,null,null,null,null,null,null,null,null,null,null,null,null,null,null,null,"~"]
["CONTACT",2020,"KZN434",69,null,null,null,null,null,null,null,null,null,null,null,null,null,null,null,null,null,null,"~"]
["CONTACT",2020,"KZN434",70,null,null,null,null,null,null,null,null,null,null,null,null,null,null,null,null,null,null,"~"]
["CONTACT",2020,"KZN434",71,null,null,null,null,null,null,null,null,null,null,null,null,null,null,null,null,null,null,"~"]
["CONTACT",{"$f":"+MTREF","v":2020},{"$f":"LEFT(muni,(FIND(\" \",muni,1)-1))","v":"KZN434"},72,null,null,null,null,null,null,null,null,null,null,null,null,null,null,null,null,null,null,"~"]
["CONTACT",2020,"KZN434",73,null,null,null,null,null,null,null,null,null,null,null,null,null,null,null,null,null,null,"~"]
["CONTACT",2020,"KZN434",74,null,null,null,null,null,null,null,null,null,null,null,null,null,null,null,null,null,null,"~"]
["CONTACT",2020,"KZN434",75,null,null,null,null,null,null,null,null,null,null,null,null,null,null,null,null,null,null,"~"]
["CONTACT",2020,"KZN434",76,null,null,null,null,null,null,null,null,null,null,null,null,null,null,null,null,null,null,"~"]
["CONTACT",2020,"KZN434",77,null,null,null,null,null,null,null,null,null,null,null,null,null,null,null,null,null,null,"~"]
["CONTACT",2020,"KZN434",78,null,null,null,null,null,null,null,null,null,null,null,null,null,null,null,null,null,null,"~"]
["CONTACT",2020,"KZN434",79,null,null,null,null,null,null,null,null,null,null,null,null,null,null,null,null,null,null,"~"]
["CONTACT",2020,"KZN434",80,null,null,null,null,null,null,null,null,null,null,null,null,null,null,null,null,null,null,"~"]
["CONTACT",2020,"KZN434",81,null,null,null,null,null,null,null,null,null,null,null,null,null,null,null,null,null,null,"~"]
["CONTACT",2020,"KZN434",82,null,null,null,null,null,null,null,null,null,null,null,null,null,null,null,null,null,null,"~"]
["CONTACT",2020,"KZN434",83,null,null,null,null,null,null,null,null,null,null,null,null,null,null,null,null,null,null,"~"]
["CONTACT",2020,"KZN434",84,null,null,null,null,null,null,null,null,null,null,null,null,null,null,null,null,null,null,"~"]
["CONTACT",2020,"KZN434",85,null,null,null,null,null,null,null,null,null,null,null,null,null,null,null,null,null,null,"~"]
["CONTACT",2020,"KZN434",86,null,null,null,null,null,null,null,null,null,null,null,null,null,null,null,null,null,null,"~"]
["CONTACT",2020,"KZN434",87,null,null,null,null,null,null,null,null,null,null,null,null,null,null,null,null,null,null,"~"]
["CONTACT",2020,"KZN434",88,null,null,null,null,null,null,null,null,null,null,null,null,null,null,null,null,null,null,"~"]
["CONTACT",2020,"KZN434",89,null,null,null,null,null,null,null,null,null,null,null,null,null,null,null,null,null,null,"~"]
["CONTACT",2020,"KZN434",90,null,null,null,null,null,null,null,null,null,null,null,null,null,null,null,null,null,null,"~"]
["CONTACT",2020,"KZN434",91,null,null,null,null,null,null,null,null,null,null,null,null,null,null,null,null,null,null,"~"]
["CONTACT",2020,"KZN434",92,null,null,null,null,null,null,null,null,null,null,null,null,null,null,null,null,null,null,"~"]
["CONTACT",2020,"KZN434",93,null,null,null,null,null,null,null,null,null,null,null,null,null,null,null,null,null,null,"~"]
["CONTACT",2020,"KZN434",94,null,null,null,null,null,null,null,null,null,null,null,null,null,null,null,null,null,null,"~"]
["CONTACT",2020,"KZN434",95,null,null,null,null,null,null,null,null,null,null,null,null,null,null,null,null,null,null,"~"]
["CONTACT",2020,"KZN434",96,null,null,null,null,null,null,null,null,null,null,null,null,null,null,null,null,null,null,"~"]
["CONTACT",2020,"KZN434",97,null,null,null,null,null,null,null,null,null,null,null,null,null,null,null,null,null,null,"~"]
["CONTACT",2020,"KZN434",98,null,null,null,null,null,null,null,null,null,null,null,null,null,null,null,null,null,null,"~"]
["CONTACT",2020,"KZN434",99,null,null,null,null,null,null,null,null,null,null,null,null,null,null,null,null,null,null,"~"]
["CONTACT",2020,"KZN434",100,null,null,null,null,null,null,null,null,null,null,null,null,null,null,null,null,null,null,"~"]
["CONTACT",2020,"KZN434",101,null,null,null,null,null,null,null,null,null,null,null,null,null,null,null,null,null,null,"~"]
["CONTACT",2020,"KZN434",102,null,null,null,null,null,null,null,null,null,null,null,null,null,null,null,null,null,null,"~"]
["CONTACT",2020,"KZN434",103,null,null,null,null,null,null,null,null,null,null,null,null,null,null,null,null,null,null,"~"]
["CONTACT",2020,"KZN434",104,null,null,null,null,null,null,null,null,null,null,null,null,null,null,null,null,null,null,"~"]
["CONTACT",2020,"KZN434",105,null,null,null,null,null,null,null,null,null,null,null,null,null,null,null,null,null,null,"~"]
["CONTACT",2020,"KZN434",106,null,null,null,null,null,null,null,null,null,null,null,null,null,null,null,null,null,null,"~"]
["CONTACT",2020,"KZN434",107,null,null,null,null,null,null,null,null,null,null,null,null,null,null,null,null,null,null,"~"]
["CONTACT",2020,"KZN434",108,null,null,null,null,null,null,null,null,null,null,null,null,null,null,null,null,null,null,"~"]
["CONTACT",2020,"KZN434",109,null,null,null,null,null,null,null,null,null,null,null,null,null,null,null,null,null,null,"~"]
["CONTACT",2020,"KZN434",110,null,null,null,null,null,null,null,null,null,null,null,null,null,null,null,null,null,null,"~"]
["CONTACT",2020,"KZN434",111,null,null,null,null,null,null,null,null,null,null,null,null,null,null,null,null,null,null,"~"]
["CONTACT",2020,"KZN434",112,null,null,null,null,null,null,null,null,null,null,null,null,null,null,null,null,null,null,"~"]
["CONTACT",2020,"KZN434",113,null,null,null,null,null,null,null,null,null,null,null,null,null,null,null,null,null,null,"~"]
["CONTACT",2020,"KZN434",114,null,null,null,null,null,null,null,null,null,null,null,null,null,null,null,null,null,null,"~"]
["CONTACT",2020,"KZN434",115,null,null,null,null,null,null,null,null,null,null,null,null,null,null,null,null,null,null,"~"]
["CONTACT",2020,"KZN434",116,null,null,null,null,null,null,null,null,null,null,null,null,null,null,null,null,null,null,"~"]
["CONTACT",2020,"KZN434",117,null,null,null,null,null,null,null,null,null,null,null,null,null,null,null,null,null,null,"~"]
["CONTACT",2020,"KZN434",118,null,null,null,null,null,null,null,null,null,null,null,null,null,null,null,null,null,null,"~"]
["CONTACT",2020,"KZN434",119,null,null,null,null,null,null,null,null,null,null,null,null,null,null,null,null,null,null,"~"]
["CONTACT",2020,"KZN434",120,null,null,null,null,null,null,null,null,null,null,null,null,null,null,null,null,null,null,"~"]
["CONTACT",2020,"KZN434",121,null,null,null,null,null,null,null,null,null,null,null,null,null,null,null,null,null,null,"~"]
["CONTACT",2020,"KZN434",122,null,null,null,null,null,null,null,null,null,null,null,null,null,null,null,null,null,null,"~"]
["CONTACT",2020,"KZN434",123,null,null,null,null,null,null,null,null,null,null,null,null,null,null,null,null,null,null,"~"]
["CONTACT",2020,"KZN434",124,null,null,null,null,null,null,null,null,null,null,null,null,null,null,null,null,null,null,"~"]
["CONTACT",2020,"KZN434",125,null,null,null,null,null,null,null,null,null,null,null,null,null,null,null,null,null,null,"~"]
["CONTACT",2020,"KZN434",126,null,null,null,null,null,null,null,null,null,null,null,null,null,null,null,null,null,null,"~"]
["CONTACT",2020,"KZN434",127,null,null,null,null,null,null,null,null,null,null,null,null,null,null,null,null,null,null,"~"]
["CONTACT",2020,"KZN434",128,null,null,null,null,null,null,null,null,null,null,null,null,null,null,null,null,null,null,"~"]
["CONTACT",2020,"KZN434",129,null,null,null,null,null,null,null,null,null,null,null,null,null,null,null,null,null,null,"~"]
["CONTACT",2020,"KZN434",130,null,null,null,null,null,null,null,null,null,null,null,null,null,null,null,null,null,null,"~"]
["CONTACT",2020,"KZN434",131,null,null,null,null,null,null,null,null,null,null,null,null,null,null,null,null,null,null,"~"]
["CONTACT",2020,"KZN434",132,null,null,null,null,null,null,null,null,null,null,null,null,null,null,null,null,null,null,"~"]
["CONTACT",2020,"KZN434",133,null,null,null,null,null,null,null,null,null,null,null,null,null,null,null,null,null,null,"~"]
["CONTACT",2020,"KZN434",134,null,null,null,null,null,null,null,null,null,null,null,null,null,null,null,null,null,null,"~"]
["CONTACT",2020,"KZN434",135,null,null,null,null,null,null,null,null,null,null,null,null,null,null,null,null,null,null,"~"]
["CONTACT",2020,"KZN434",136,null,null,null,null,null,null,null,null,null,null,null,null,null,null,null,null,null,null,"~"]
["CONTACT",2020,"KZN434",137,null,null,null,null,null,null,null,null,null,null,null,null,null,null,null,null,null,null,"~"]
["CONTACT",2020,"KZN434",138,null,null,null,null,null,null,null,null,null,null,null,null,null,null,null,null,null,null,"~"]
["SA25",2020,"KZN434",0,1,"Revenue By Source",null,null,null,null,null,null,null,null,null,null,null,null,null,null,null,null,"~"]
["SA25",2020,"KZN434",0,2,"Property rates",null,null,null,null,null,null,null,null,null,null,null,null,null,null,null,null,"~"]
["SA25",2020,"KZN434",0,3,"Property rates - penalties & collection charges",null,null,null,null,null,null,null,null,null,null,null,null,null,null,null,null,"~"]
["SA25",2020,"KZN434",0,4,"Service charges - electricity revenue",null,null,null,null,null,null,null,null,null,null,null,null,null,null,null,null,"~"]
["SA25",2020,"KZN434",0,5,"Service charges - water revenue",null,null,null,null,null,null,null,null,null,null,null,null,null,null,null,null,"~"]
["SA25",2020,"KZN434",0,6,"Service charges - sanitation revenue",null,null,null,null,null,null,null,null,null,null,null,null,null,null,null,null,"~"]
["SA25",2020,"KZN434",0,7,"Service charges - refuse revenue",null,null,null,null,null,null,null,null,null,null,null,null,null,null,null,null,"~"]
["SA25",2020,"KZN434",0,8,"Service charges - other",null,null,null,null,null,null,null,null,null,null,null,null,null,null,null,null,"~"]
["SA25",2020,"KZN434",0,9,"Rental of facilities and equipment",null,null,null,null,null,null,null,null,null,null,null,null,null,null,null,null,"~"]
["SA25",2020,"KZN434",0,10,"Interest earned - external investments",null,null,null,null,null,null,null,null,null,null,null,null,null,null,null,null,"~"]
["SA25",2020,"KZN434",0,11,"Interest earned - outstanding debtors",null,null,null,null,null,null,null,null,null,null,null,null,null,null,null,null,"~"]
["SA25",2020,"KZN434",0,12,"Dividends received",null,null,null,null,null,null,null,null,null,null,null,null,null,null,null,null,"~"]
["SA25",2020,"KZN434",0,13,"Fines",null,null,null,null,null,null,null,null,null,null,null,null,null,null,null,null,"~"]
["SA25",2020,"KZN434",0,14,"Licences and permits",null,null,null,null,null,null,null,null,null,null,null,null,null,null,null,null,"~"]
["SA25",2020,"KZN434",0,15,"Agency services",null,null,null,null,null,null,null,null,null,null,null,null,null,null,null,null,"~"]
["SA25",2020,"KZN434",0,16,"Transfers recognised - operational",null,null,null,null,null,null,null,null,null,null,null,null,null,null,null,null,"~"]
["SA25",2020,"KZN434",0,17,"Other revenue",null,null,null,null,null,null,null,null,null,null,null,null,null,null,null,null,"~"]
["SA25",2020,"KZN434",0,18,"Gains on disposal of PPE",null,null,null,null,null,null,null,null,null,null,null,null,null,null,null,null,"~"]
["SA25",2020,"KZN434",0,19,"Total Revenue (excluding capital transfers and contributions)",null,null,null,null,null,null,null,null,null,null,null,null,null,null,null,null,"~"]
["SA25",2020,"KZN434",0,20,null,null,null,null,null,null,null,null,null,null,null,null,null,null,null,null,null,"~"]
["SA25",2020,"KZN434",0,21,"Expenditure By Type",null,null,null,null,null,null,null,null,null,null,null,null,null,null,null,null,"~"]
["SA25",2020,"KZN434",0,22,"Employee related costs",null,null,null,null,null,null,null,null,null,null,null,null,null,null,null,null,"~"]
["SA25",2020,"KZN434",0,23,"Remuneration of councillors",null,null,null,null,null,null,null,null,null,null,null,null,null,null,null,null,"~"]
["SA25",2020,"KZN434",0,24,"Debt impairment",null,null,null,null,null,null,null,null,null,null,null,null,null,null,null,null,"~"]
["SA25",2020,"KZN434",0,25,"Depreciation & asset impairment",null,null,null,null,null,null,null,null,null,null,null,null,null,null,null,null,"~"]
["SA25",2020,"KZN434",0,26,"Finance charges",null,null,null,null,null,null,null,null,null,null,null,null,null,null,null,null,"~"]
["SA25",2020,"KZN434",0,27,"Bulk purchases",null,null,null,null,null,null,null,null,null,null,null,null,null,null,null,null,"~"]
["SA25",2020,"KZN434",0,28,"Other materials",null,null,null,null,null,null,null,null,null,null,null,null,null,null,null,null,"~"]
["SA25",2020,"KZN434",0,29,"Contracted services",null,null,null,null,null,null,null,null,null,null,null,null,null,null,null,null,"~"]
["SA25",2020,"KZN434",0,30,"Transfers and grants",null,null,null,null,null,null,null,null,null,null,null,null,null,null,null,null,"~"]
["SA25",2020,"KZN434",0,31,"Other expenditure",null,null,null,null,null,null,null,null,null,null,null,null,null,null,null,null,"~"]
["SA25",2020,"KZN434",0,32,"Loss on disposal of PPE",null,null,null,null,null,null,null,null,null,null,null,null,null,null,null,null,"~"]
["SA25",2020,"KZN434",0,33,"Total Expenditure",null,null,null,null,null,null,null,null,null,null,null,null,null,null,null,null,"~"]
["SA25",2020,"KZN434",0,34,null,null,null,null,null,null,null,null,null,null,null,null,null,null,null,null,null,"~"]
["SA25",2020,"KZN434",0,35,"Surplus/(Deficit)",null,null,null,null,null,null,null,null,null,null,null,null,null,null,null,null,"~"]
["SA25",{"$f":"+MTREF","v":2020},{"$f":"LEFT(muni,(FIND(\" \",muni,1)-1))","v":"KZN434"},0,36,"Transfers recognised - capital",null,null,null,null,null,null,null,null,null,null,null,null,null,null,null,null,"~"]
["SA25",2020,"KZN434",0,37,"Contributions recognised - capital",null,null,null,null,null,null,null,null,null,null,null,null,null,null,null,null,"~"]
["SA25",2020,"KZN434",0,38,"Contributed assets",null,null,null,null,null,null,null,null,null,null,null,null,null,null,null,null,"~"]
["SA25",2020,"KZN434",0,39,"Surplus/(Deficit) after capital transfers & contributions",null,null,null,null,null,null,null,null,null,null,null,null,null,null,null,null,"~"]
["SA25",2020,"KZN434",0,40,"Taxation",null,null,null,null,null,null,null,null,null,null,null,null,null,null,null,null,"~"]
["SA25",2020,"KZN434",0,41,"Attributable to minorities",null,null,null,null,null,null,null,null,null,null,null,null,null,null,null,null,"~"]
["SA25",2020,"KZN434",0,44,"Share of surplus/ (deficit) of associate",null,null,null,null,null,null,null,null,null,null,null,null,null,null,null,null,"~"]
["SA27",2020,"KZN434",null,null,"Revenue - Standard",null,null,null,null,null,null,null,null,null,null,null,null,null,null,null,null,"~"]
["SA27",2020,"KZN434",null,null,"Governance and administration",null,null,null,null,null,null,null,null,null,null,null,null,null,null,null,null,"~"]
["SA27",2020,"KZN434",1,11,"Executive and council",null,null,null,null,null,null,null,null,null,null,null,null,null,null,null,null,"~"]
["SA27",2020,"KZN434",1,12,"Budget and treasury office",null,null,null,null,null,null,null,null,null,null,null,null,null,null,null,null,"~"]
["SA27",2020,"KZN434",1,13,"Corporate services",null,null,null,null,null,null,null,null,null,null,null,null,null,null,null,null,"~"]
["SA27",2020,"KZN434",null,null,"Community and public safety",null,null,null,null,null,null,null,null,null,null,null,null,null,null,null,null,"~"]
["SA27",2020,"KZN434",1,21,"Community and social services",null,null,null,null,null,null,null,null,null,null,null,null,null,null,null,null,"~"]
["SA27",2020,"KZN434",1,22,"Sport and recreation",null,null,null,null,null,null,null,null,null,null,null,null,null,null,null,null,"~"]
["SA27",2020,"KZN434",1,23,"Public safety",null,null,null,null,null,null,null,null,null,null,null,null,null,null,null,null,"~"]
["SA27",2020,"KZN434",1,24,"Housing",null,null,null,null,null,null,null,null,null,null,null,null,null,null,null,null,"~"]
["SA27",2020,"KZN434",1,25,"Health",null,null,null,null,null,null,null,null,null,null,null,null,null,null,null,null,"~"]
["SA27",2020,"KZN434",null,null,"Economic and environmental services",null,null,null,null,null,null,null,null,null,null,null,null,null,null,null,null,"~"]
["SA27",2020,"KZN434",1,31,"Planning and development",null,null,null,null,null,null,null,null,null,null,null,null,null,null,null,null,"~"]
["SA27",2020,"KZN434",1,32,"Road transport",null,null,null,null,null,null,null,null,null,null,null,null,null,null,null,null,"~"]
["SA27",2020,"KZN434",1,33,"Environmental protection",null,null,null,null,null,null,null,null,null,null,null,null,null,null,null,null,"~"]
["SA27",2020,"KZN434",null,null,"Trading services",null,null,null,null,null,null,null,null,null,null,null,null,null,null,null,null,"~"]
["SA27",2020,"KZN434",1,41,"Electricity",null,null,null,null,null,null,null,null,null,null,null,null,null,null,null,null,"~"]
["SA27",2020,"KZN434",1,42,"Water",null,null,null,null,null,null,null,null,null,null,null,null,null,null,null,null,"~"]
["SA27",2020,"KZN434",1,43,"Waste water management",null,null,null,null,null,null,null,null,null,null,null,null,null,null,null,null,"~"]
["SA27",2020,"KZN434",1,44,"Waste management",null,null,null,null,null,null,null,null,null,null,null,null,null,null,null,null,"~"]
["SA27",2020,"KZN434",1,45,"Other",null,null,null,null,null,null,null,null,null,null,null,null,null,null,null,null,"~"]
["SA27",2020,"KZN434",null,null,"Total Revenue - Standard",null,null,null,null,null,null,null,null,null,null,null,null,null,null,null,null,"~"]
["SA27",2020,"KZN434",null,null,null,null,null,null,null,null,null,null,null,null,null,null,null,null,null,null,null,"~"]
["SA27",2020,"KZN434",null,null,"Expenditure - Standard",null,null,null,null,null,null,null,null,null,null,null,null,null,null,null,null,"~"]
["SA27",2020,"KZN434",null,null,"Governance and administration",null,null,null,null,null,null,null,null,null,null,null,null,null,null,null,null,"~"]
["SA27",2020,"KZN434",2,11,"Executive and council",null,null,null,null,null,null,null,null,null,null,null,null,null,null,null,null,"~"]
["SA27",2020,"KZN434",2,12,"Budget and treasury office",null,null,null,null,null,null,null,null,null,null,null,null,null,null,null,null,"~"]
["SA27",2020,"KZN434",2,13,"Corporate services",null,null,null,null,null,null,null,null,null,null,null,null,null,null,null,null,"~"]
["SA27",2020,"KZN434",null,null,"Community and public safety",null,null,null,null,null,null,null,null,null,null,null,null,null,null,null,null,"~"]
["SA27",2020,"KZN434",2,21,"Community and social services",null,null,null,null,null,null,null,null,null,null,null,null,null,null,null,null,"~"]
["SA27",2020,"KZN434",2,22,"Sport and recreation",null,null,null,null,null,null,null,null,null,null,null,null,null,null,null,null,"~"]
["SA27",2020,"KZN434",2,23,"Public safety",null,null,null,null,null,null,null,null,null,null,null,null,null,null,null,null,"~"]
["SA27",2020,"KZN434",2,24,"Housing",null,null,null,null,null,null,null,null,null,null,null,null,null,null,null,null,"~"]
["SA27",2020,"KZN434",2,25,"Health",null,null,null,null,null,null,null,null,null,null,null,null,null,null,null,null,"~"]
["SA27",2020,"KZN434",null,null,"Economic and environmental services",null,null,null,null,null,null,null,null,null,null,null,null,null,null,null,null,"~"]
["SA27",2020,"KZN434",2,31,"Planning and development",null,null,null,null,null,null,null,null,null,null,null,null,null,null,null,null,"~"]
["SA27",2020,"KZN434",2,32,"Road transport",null,null,null,null,null,null,null,null,null,null,null,null,null,null,null,null,"~"]
["SA27",2020,"KZN434",2,33,"Environmental protection",null,null,null,null,null,null,null,null,null,null,null,null,null,null,null,null,"~"]
["SA27",2020,"KZN434",null,null,"Trading services",null,null,null,null,null,null,null,null,null,null,null,null,null,null,null,null,"~"]
["SA27",2020,"KZN434",2,41,"Electricity",null,null,null,null,null,null,null,null,null,null,null,null,null,null,null,null,"~"]
["SA27",2020,"KZN434",2,42,"Water",null,null,null,null,null,null,null,null,null,null,null,null,null,null,null,null,"~"]
["SA27",2020,"KZN434",2,43,"Waste water management",null,null,null,null,null,null,null,null,null,null,null,null,null,null,null,null,"~"]
["SA27",2020,"KZN434",2,44,"Waste management",null,null,null,null,null,null,null,null,null,null,null,null,null,null,null,null,"~"]
["SA27",2020,"KZN434",2,45,"Other",null,null,null,null,null,null,null,null,null,null,null,null,null,null,null,null,"~"]
["SA27",2020,"KZN434",null,null,"Total Expenditure - Standard",null,null,null,null,null,null,null,null,null,null,null,null,null,null,null,null,"~"]
["SA29",2020,"KZN434",null,null,"Capital Expenditure - Standard",null,null,null,null,null,null,null,null,null,null,null,null,null,null,null,null,"~"]
["SA29",2020,"KZN434",null,null,"Governance and administration",null,null,null,null,null,null,null,null,null,null,null,null,null,null,null,null,"~"]
["SA29",2020,"KZN434",1,11,"Executive and council",null,null,null,null,null,null,null,null,null,null,null,null,null,null,null,null,"~"]
["SA29",2020,"KZN434",1,12,"Budget and treasury office",null,null,null,null,null,null,null,null,null,null,null,null,null,null,null,null,"~"]
["SA29",2020,"KZN434",1,13,"Corporate services",null,null,null,null,null,null,null,null,null,null,null,null,null,null,null,null,"~"]
["SA29",2020,"KZN434",null,null,"Community and public safety",null,null,null,null,null,null,null,null,null,null,null,null,null,null,null,null,"~"]
["SA29",2020,"KZN434",1,21,"Community and social services",null,null,null,null,null,null,null,null,null,null,null,null,null,null,null,null,"~"]
["SA29",2020,"KZN434",1,22,"Sport and recreation",null,null,null,null,null,null,null,null,null,null,null,null,null,null,null,null,"~"]
["SA29",2020,"KZN434",1,23,"Public safety",null,null,null,null,null,null,null,null,null,null,null,null,null,null,null,null,"~"]
["SA29",2020,"KZN434",1,24,"Housing",null,null,null,null,null,null,null,null,null,null,null,null,null,null,null,null,"~"]
["SA29",2020,"KZN434",1,25,"Health",null,null,null,null,null,null,null,null,null,null,null,null,null,null,null,null,"~"]
["SA29",2020,"KZN434",null,null,"Economic and environmental services",null,null,null,null,null,null,null,null,null,null,null,null,null,null,null,null,"~"]
["SA29",{"$f":"+MTREF","v":2020},{"$f":"LEFT(muni,(FIND(\" \",muni,1)-1))","v":"KZN434"},1,31,"Planning and development",null,null,null,null,null,null,null,null,null,null,null,null,null,null,null,null,"~"]
["SA29",2020,"KZN434",1,32,"Road transport",null,null,null,null,null,null,null,null,null,null,null,null,null,null,null,null,"~"]
["SA29",2020,"KZN434",1,33,"Environmental protection",null,null,null,null,null,null,null,null,null,null,null,null,null,null,null,null,"~"]
["SA29",2020,"KZN434",null,null,"Trading services",null,null,null,null,null,null,null,null,null,null,null,null,null,null,null,null,"~"]
["SA29",2020,"KZN434",1,41,"Electricity",null,null,null,null,null,null,null,null,null,null,null,null,null,null,null,null,"~"]
["SA29",2020,"KZN434",1,42,"Water",null,null,null,null,null,null,null,null,null,null,null,null,null,null,null,null,"~"]
["SA29",2020,"KZN434",1,43,"Waste water management",null,null,null,null,null,null,null,null,null,null,null,null,null,null,null,null,"~"]
["SA29",2020,"KZN434",1,44,"Waste management",null,null,null,null,null,null,null,null,null,null,null,null,null,null,null,null,"~"]
["SA29",2020,"KZN434",1,45,"Other",null,null,null,null,null,null,null,null,null,null,null,null,null,null,null,null,"~"]
["SA29",2020,"KZN434",null,null,"Total Capital Expenditure - Standard",null,null,null,null,null,null,null,null,null,null,null,null,null,null,null,null,"~"]
["SA29",2020,"KZN434",null,null,null,null,null,null,null,null,null,null,null,null,null,null,null,null,null,null,null,"~"]
["SA29",2020,"KZN434",2,50,"Funded by:",null,null,null,null,null,null,null,null,null,null,null,null,null,null,null,null,"~"]
["SA29",2020,"KZN434",2,51,"National Government",null,null,null,null,null,null,null,null,null,null,null,null,null,null,null,null,"~"]
["SA29",2020,"KZN434",2,52,"Provincial Government",null,null,null,null,null,null,null,null,null,null,null,null,null,null,null,null,"~"]
["SA29",2020,"KZN434",2,53,"District Municipality",null,null,null,null,null,null,null,null,null,null,null,null,null,null,null,null,"~"]
["SA29",2020,"KZN434",2,54,"Other transfers and grants",null,null,null,null,null,null,null,null,null,null,null,null,null,null,null,null,"~"]
["SA29",2020,"KZN434",2,55,"Transfers recognised - capital",null,null,null,null,null,null,null,null,null,null,null,null,null,null,null,null,"~"]
["SA29",2020,"KZN434",2,56,"Public contributions & donations",null,null,null,null,null,null,null,null,null,null,null,null,null,null,null,null,"~"]
["SA29",2020,"KZN434",2,57,"Borrowing",null,null,null,null,null,null,null,null,null,null,null,null,null,null,null,null,"~"]
["SA29",2020,"KZN434",2,58,"Internally generated funds",null,null,null,null,null,null,null,null,null,null,null,null,null,null,null,null,"~"]
["SA29",2020,"KZN434",2,59,"Total Capital Funding",null,null,null,null,null,null,null,null,null,null,null,null,null,null,null,null,"~"]